Workbook

Sheet Portal Siga Brasil
A1: Programa | B1: Descrição Programa | C1: Ação | D1: Descrição Ação | E1: GND / Órgão | F1: Tipo | G1: Categoria | H1: 2002 | I1: 2003 | J1: 2004 | K1: 2005 | L1: 2006 | M1: 2007 | N1: 2008 | O1: 2009 | P1: 2010 | Q1: 2011 | R1: 2012 | S1: 2013 | T1: 2014 | U1: 2015
A2: 0084 | B2: ARRECADAÇÃO DE RECEITAS PREVIDENCIÁRIAS | C2: 2596 | D2: ORIENTAÇÃO TÉCNICA ÀS EMPRESAS E AOS SEGURADOS DA PREVIDÊNCIA SOCIAL | E2: 3,4,5 | F2: RGPS | G2: Administrativos | H2: 2389075.4 | I2: 2076809.9 | J2: 149017.35 | K2: 28.58 | L2: 0 | M2: 0 | N2: 0 | O2: 0 | P2: 0 | Q2: 0 | R2: 0 | S2: 0 | T2: 0 | U2: 0
A3: 1079 | B3: EDUCAÇÃO PREVIDENCIÁRIA | C3: 4641 | D3: PUBLICIDADE DE UTILIDADE PÚBLICA | E3: 3,4,5 | F3: RGPS | G3: Administrativos | H3: 0 | I3: 0 | J3: 2000000 | K3: 82049.1 | L3: 0 | M3: 0 | N3: 0 | O3: 0 | P3: 0 | Q3: 0 | R3: 0 | S3: 0 | T3: 0 | U3: 0
A4: 1079 | B4: EDUCAÇÃO PREVIDENCIÁRIA | C4: 2282 | D4: FORMAÇÃO DE DISSEMINADORES EXTERNOS DAS INFORMAÇÕES PREVIDENCIÁRIAS | E4: 3,4,5 | F4: RGPS | G4: Administrativos | H4: 0 | I4: 0 | J4: 279079.21 | K4: 244178.05 | L4: 34542.66 | M4: 78277.72 | N4: 129732.52 | O4: 222258.71 | P4: 322409.32 | Q4: 296265.95 | R4: 241583.3 | S4: 793 | T4: 0 | U4: 0
A5: 1079 | B5: EDUCAÇÃO PREVIDENCIÁRIA | C5: 2272 | D5: GESTÃO E ADMINISTRAÇÃO DO PROGRAMA | E5: 3,4,5 | F5: RGPS | G5: Administrativos | H5: 0 | I5: 0 | J5: 171420.95 | K5: 60491.8 | L5: 26312.89 | M5: 57521.03 | N5: 113341.81 | O5: 144789.79 | P5: 510324.37 | Q5: 321447.23 | R5: 44.78 | S5: 0 | T5: 0 | U5: 0
A6: 1079 | B6: EDUCAÇÃO PREVIDENCIÁRIA | C6: 2284 | D6: PROMOÇÃO DE AÇÕES DE CONSCIENTIZAÇÃO E INFORMAÇÃO | E6: 3,4,5 | F6: RGPS | G6: Administrativos | H6: 0 | I6: 0 | J6: 977116.14 | K6: 1033810.3 | L6: 167626.3 | M6: 167983.16 | N6: 427948.83 | O6: 705467.67 | P6: 733008.33 | Q6: 562152.85 | R6: 307184.19 | S6: 617.4 | T6: 0 | U6: 0
A7: 0087 | B7: GESTÃO DA POLÍTICA DE PREVIDÊNCIA SOCIAL | C7: 2272 | D7: GESTÃO E ADMINISTRAÇÃO DO PROGRAMA | E7: 3,4,5 | F7: RGPS | G7: Administrativos | H7: 0 | I7: 0 | J7: 385613.85 | K7: 14403898 | L7: 4493363.5 | M7: 8154494 | N7: 4059683.2 | O7: 8669305.3 | P7: 4419656.9 | Q7: 15793476 | R7: 5141202.6 | S7: 214943.14 | T7: 0 | U7: 0
A8: 0087 | B8: GESTÃO DA POLÍTICA DE PREVIDÊNCIA SOCIAL | C8: 4593 | D8: FORMULAÇÃO DE POLÍTICAS NA ÁREA DE PREVIDÊNCIA SOCIAL | E8: 3,4,5 | F8: RGPS | G8: Administrativos | H8: 1908832.7 | I8: 1423161.2 | J8: 2569966.9 | K8: 678584.55 | L8: 535394.18 | M8: 1075248.1 | N8: 465136 | O8: 0 | P8: 0 | Q8: 0 | R8: 0 | S8: 0 | T8: 0 | U8: 0
A9: 0087 | B9: GESTÃO DA POLÍTICA DE PREVIDÊNCIA SOCIAL | C9: 1480 | D9: ESTUDO PARA REFORMULAÇÃO DO SEGURO ACIDENTE DE TRABALHO | E9: 3,4,5 | F9: RGPS | G9: Administrativos | H9: 33621 | I9: 0 | J9: 0 | K9: 0 | L9: 0 | M9: 0 | N9: 0 | O9: 0 | P9: 0 | Q9: 0 | R9: 0 | S9: 0 | T9: 0 | U9: 0
A10: 0087 | B10: GESTÃO DA POLÍTICA DE PREVIDÊNCIA SOCIAL | C10: 2308 | D10: GESTÃO DE INFORMAÇÕES SOBRE POLÍTICAS DE PREVIDÊNCIA SOCIAL | E10: 3,4,5 | F10: RGPS | G10: Administrativos | H10: 0 | I10: 0 | J10: 300000 | K10: 0 | L10: 0 | M10: 0 | N10: 0 | O10: 0 | P10: 0 | Q10: 0 | R10: 0 | S10: 0 | T10: 0 | U10: 0
A11: 0087 | B11: GESTÃO DA POLÍTICA DE PREVIDÊNCIA SOCIAL | C11: 5645 | D11: IMPLANTAÇÃO DO SISTEMA INTEGRADO DE INFORMAÇÕES PREVIDENCIÁRIAS - SIPREV | E11: 3,4,5 | F11: RGPS | G11: Administrativos | H11: 3046757 | I11: 0 | J11: 572000 | K11: 0 | L11: 0 | M11: 0 | N11: 0 | O11: 0 | P11: 0 | Q11: 0 | R11: 0 | S11: 0 | T11: 0 | U11: 0
A12: 0087 | B12: GESTÃO DA POLÍTICA DE PREVIDÊNCIA SOCIAL | C12: 2304 | D12: ESTUDOS E PESQUISAS NO ÂMBITO DO REGIME GERAL DE PREVIDÊNCIA SOCIAL | E12: 3,4,5 | F12: RGPS | G12: Administrativos | H12: 0 | I12: 0 | J12: 169987.33 | K12: 111501.3 | L12: 177764.88 | M12: 289162 | N12: 455644.6 | O12: 780923.49 | P12: 784728.23 | Q12: 87592.98 | R12: 0 | S12: 0 | T12: 0 | U12: 0
A13: 0087 | B13: GESTÃO DA POLÍTICA DE PREVIDÊNCIA SOCIAL | C13: 4641 | D13: PUBLICIDADE DE UTILIDADE PÚBLICA | E13: 3,4,5 | F13: RGPS | G13: Administrativos | H13: 0 | I13: 0 | J13: 0 | K13: 5092151.5 | L13: 988615.21 | M13: 3711916 | N13: 7543519 | O13: 10979860 | P13: 8826542.6 | Q13: 16612151 | R13: 11371124 | S13: 0 | T13: 0 | U13: 0
... A82: 0085 | B82: QUALIDADE DOS SERVIÇOS PREVIDENCIÁRIOS | C82: 4405 | D82: SERVIÇOS INTERATIVOS DA PREVIDÊNCIA SOCIAL- PREVFONE/PREVNET/PREVFÁCIL | E82: 3,4,5 | F82: RGPS | G82: Administrativos | H82: 2989257.1 | I82: 3389265.9 | J82: 3571478.3 | K82: 4419516.2 | L82: 5498678.1 | M82: 3828633.9 | N82: 71425825 | O82: 77068768 | P82: 92512037 | Q82: 94074991 | R82: 12405745 | S82: 0 | T82: 0 | U82: 0
A83: 1279 | B83: ANÁLISE E DIFUSÃO DA POLÍTICA EXTERNA BRASILEIRA | C83: 09HB | D83: CONTRIBUIÇÃO DA UNIÃO, DE SUAS AUTARQUIAS E FUNDAÇÕES PARA O CUSTEIO DO REGIME DE PREVIDÊNCIA DOS SERVIDORES PÚBLICOS FEDERAIS | E83: 1 | F83: RPPS | G83: Civis | H83: 0 | I83: 0 | J83: 0 | K83: 0 | L83: 0 | M83: 0 | N83: 0 | O83: 0 | P83: 0 | Q83: 86161.28 | R83: 0 | S83: 0 | T83: 0 | U83: 0
A84: 0750 | B84: APOIO ADMINISTRATIVO | C84: 09HB | D84: CONTRIBUIÇÃO DA UNIÃO, DE SUAS AUTARQUIAS E FUNDAÇÕES PARA O CUSTEIO DO REGIME DE PREVIDÊNCIA DOS SERVIDORES PÚBLICOS FEDERAIS | E84: 26000 | F84: RPPS | G84: Civis | H84: 0 | I84: 0 | J84: 0 | K84: 0 | L84: 0 | M84: 0 | N84: 0 | O84: 0 | P84: 1340.92 | Q84: 670.46 | R84: 0 | S84: 0 | T84: 0 | U84: 0
A85: 0750 | B85: APOIO ADMINISTRATIVO | C85: 09HB | D85: CONTRIBUIÇÃO DA UNIÃO, DE SUAS AUTARQUIAS E FUNDAÇÕES PARA O CUSTEIO DO REGIME DE PREVIDÊNCIA DOS SERVIDORES PÚBLICOS FEDERAIS | E85: 1 | F85: RPPS | G85: Civis | H85: 0 | I85: 0 | J85: 0 | K85: 397267.2 | L85: 3968.82 | M85: 32981.74 | N85: 239032.9 | O85: 67397.84 | P85: 2670.64 | Q85: 10557.66 | R85: 0 | S85: 0 | T85: 0 | U85: 0
A86: 1073 | B86: BRASIL UNIVERSITÁRIO | C86: 09HB | D86: CONTRIBUIÇÃO DA UNIÃO, DE SUAS AUTARQUIAS E FUNDAÇÕES PARA O CUSTEIO DO REGIME DE PREVIDÊNCIA DOS SERVIDORES PÚBLICOS FEDERAIS | E86: 26000 | F86: RPPS | G86: Civis | H86: 0 | I86: 0 | J86: 0 | K86: 23790491 | L86: 2803986 | M86: 5270241.6 | N86: 13022010 | O86: 2260498.4 | P86: 983548.14 | Q86: 3996241 | R86: 0 | S86: 0 | T86: 0 | U86: 0
A87: 1163 | B87: BRASIL: DESTINO TURÍSTICO INTERNACIONAL | C87: 09HB | D87: CONTRIBUIÇÃO DA UNIÃO, DE SUAS AUTARQUIAS E FUNDAÇÕES PARA O CUSTEIO DO REGIME DE PREVIDÊNCIA DOS SERVIDORES PÚBLICOS FEDERAIS | E87: 1 | F87: RPPS | G87: Civis | H87: 0 | I87: 0 | J87: 0 | K87: 0 | L87: 0 | M87: 4608.37 | N87: 41177.27 | O87: 14825.17 | P87: 11933.03 | Q87: 11090.19 | R87: 0 | S87: 0 | T87: 0 | U87: 0
A88: 0550 | B88: CONTROLE EXTERNO | C88: 20AK | D88: CONTRIBUIÇÃO DA UNIÃO, DE SUAS AUTARQUIAS E FUNDAÇÕES PARA O CUSTEIO DO REGIME DE PREVIDÊNCIA DOS SERVIDORES PÚBLICOS FEDERAIS DECORRENTE DA CRIAÇÃO E/OU PROVIMENTO DE CARGOS E FUNÇÕES E REESTRUTURAÇÃO DE CARGOS E CARREIRAS E REVISÃO DE REMUNERAÇÕES | E88: 1 | F88: RPPS | G88: Civis | H88: 0 | I88: 0 | J88: 0 | K88: 0 | L88: 0 | M88: 0 | N88: 0 | O88: 2226.72 | P88: 1015.52 | Q88: 0 | R88: 0 | S88: 0 | T88: 0 | U88: 0
A89: 0550 | B89: CONTROLE EXTERNO | C89: 09HB | D89: CONTRIBUIÇÃO DA UNIÃO, DE SUAS AUTARQUIAS E FUNDAÇÕES PARA O CUSTEIO DO REGIME DE PREVIDÊNCIA DOS SERVIDORES PÚBLICOS FEDERAIS | E89: 1 | F89: RPPS | G89: Civis | H89: 0 | I89: 0 | J89: 0 | K89: 0 | L89: 0 | M89: 0 | N89: 7693.88 | O89: 11540.82 | P89: 37475.08 | Q89: 0 | R89: 0 | S89: 0 | T89: 0 | U89: 0
A90: 0581 | B90: DEFESA DA ORDEM JURÍDICA | C90: 09HB | D90: CONTRIBUIÇÃO DA UNIÃO, DE SUAS AUTARQUIAS E FUNDAÇÕES PARA O CUSTEIO DO REGIME DE PREVIDÊNCIA DOS SERVIDORES PÚBLICOS FEDERAIS | E90: 1 | F90: RPPS | G90: Civis | H90: 0 | I90: 0 | J90: 0 | K90: 0 | L90: 0 | M90: 70617.9 | N90: 42468.08 | O90: 41765.96 | P90: 27771.38 | Q90: 33376.26 | R90: 15183.78 | S90: 0 | T90: 0 | U90: 0
A91: 1030 | B91: DEMOCRATIZAÇÃO DO ACESSO À INFORMAÇÃO ARQUIVÍSTICA GOVERNAMENTAL | C91: 09HB | D91: CONTRIBUIÇÃO DA UNIÃO, DE SUAS AUTARQUIAS E FUNDAÇÕES PARA O CUSTEIO DO REGIME DE PREVIDÊNCIA DOS SERVIDORES PÚBLICOS FEDERAIS | E91: 1 | F91: RPPS | G91: Civis | H91: 0 | I91: 0 | J91: 0 | K91: 0 | L91: 0 | M91: 0 | N91: 77760.52 | O91: 0 | P91: 0 | Q91: 0 | R91: 0 | S91: 0 | T91: 0 | U91: 0
A92: 1374 | B92: DESENVOLVIMENTO DA EDUCAÇÃO ESPECIAL | C92: 09HB | D92: CONTRIBUIÇÃO DA UNIÃO, DE SUAS AUTARQUIAS E FUNDAÇÕES PARA O CUSTEIO DO REGIME DE PREVIDÊNCIA DOS SERVIDORES PÚBLICOS FEDERAIS | E92: 26000 | F92: RPPS | G92: Civis | H92: 0 | I92: 0 | J92: 0 | K92: 640998.35 | L92: 0 | M92: 0 | N92: 0 | O92: 0 | P92: 0 | Q92: 0 | R92: 0 | S92: 0 | T92: 0 | U92: 0
A93: 1062 | B93: DESENVOLVIMENTO DA EDUCAÇÃO PROFISSIONAL E TECNOLÓGICA | C93: 09HB | D93: CONTRIBUIÇÃO DA UNIÃO, DE SUAS AUTARQUIAS E FUNDAÇÕES PARA O CUSTEIO DO REGIME DE PREVIDÊNCIA DOS SERVIDORES PÚBLICOS FEDERAIS | E93: 26000 | F93: RPPS | G93: Civis | H93: 0 | I93: 0 | J93: 0 | K93: 4603727.1 | L93: 5423102 | M93: 3394303.4 | N93: 5151609.2 | O93: 199975.2 | P93: 5710.14 | Q93: 18131.11 | R93: 0 | S93: 0 | T93: 0 | U93: 0
A94: 1376 | B94: DESENVOLVIMENTO DO ENSINO FUNDAMENTAL | C94: 09HB | D94: CONTRIBUIÇÃO DA UNIÃO, DE SUAS AUTARQUIAS E FUNDAÇÕES PARA O CUSTEIO DO REGIME DE PREVIDÊNCIA DOS SERVIDORES PÚBLICOS FEDERAIS | E94: 26000 | F94: RPPS | G94: Civis | H94: 0 | I94: 0 | J94: 0 | K94: 0 | L94: 2562366.4 | M94: 5643754 | N94: 0 | O94: 0 | P94: 0 | Q94: 0 | R94: 0 | S94: 0 | T94: 0 | U94: 0
A95: 1378 | B95: DESENVOLVIMENTO DO ENSINO MEDIO | C95: 09HB | D95: CONTRIBUIÇÃO DA UNIÃO, DE SUAS AUTARQUIAS E FUNDAÇÕES PARA O CUSTEIO DO REGIME DE PREVIDÊNCIA DOS SERVIDORES PÚBLICOS FEDERAIS | E95: 26000 | F95: RPPS | G95: Civis | H95: 0 | I95: 0 | J95: 0 | K95: 8679806.8 | L95: 0 | M95: 0 | N95: 0 | O95: 0 | P95: 0 | Q95: 0 | R95: 0 | S95: 0 | T95: 0 | U95: 0
A96: 0570 | B96: GESTÃO DO PROCESSO ELEITORAL | C96: 09HB | D96: CONTRIBUIÇÃO DA UNIÃO, DE SUAS AUTARQUIAS E FUNDAÇÕES PARA O CUSTEIO DO REGIME DE PREVIDÊNCIA DOS SERVIDORES PÚBLICOS FEDERAIS | E96: 1 | F96: RPPS | G96: Civis | H96: 0 | I96: 0 | J96: 0 | K96: 0 | L96: 11992.66 | M96: 13837.31 | N96: 162666.88 | O96: 718785.7 | P96: 1804.56 | Q96: 0 | R96: 7834.66 | S96: 2659.54 | T96: 0 | U96: 0
A97: 0088 | B97: INDENIZAÇÕES E PENSÕES ESPECIAIS DE RESPONSABILIDADE DA UNIÃO | C97: 0536 | D97: PAGAMENTO DE BENEFÍCIOS DE LEGISLAÇÃO ESPECIAL | E97: 1 | F97: RPPS | G97: Civis | H97: 6.3062311e+08 | I97: 6.7399268e+08 | J97: 6.8771415e+08 | K97: 7.4578765e+08 | L97: 6.9801515e+08 | M97: 8.5363983e+08 | N97: 4.3533676e+08 | O97: 3.3381047e+08 | P97: 3.0862424e+08 | Q97: 3.0570563e+08 | R97: 24819603 | S97: 0 | T97: 0 | U97: 0
A98: 0088 | B98: INDENIZAÇÕES E PENSÕES ESPECIAIS DE RESPONSABILIDADE DA UNIÃO | C98: 009K | D98: COMPLEMENTAÇÃO DE APOSENTADORIAS E PENSÕES DA RFFSA | E98: 1 | F98: RPPS | G98: Civis | H98: 0 | I98: 0 | J98: 0 | K98: 0 | L98: 0 | M98: 0 | N98: 5.7685149e+08 | O98: 6.3855155e+08 | P98: 5.8794698e+08 | Q98: 5.937377e+08 | R98: 42713883 | S98: 0 | T98: 0 | U98: 0
A99: 0641 | B99: INTELIGÊNCIA FEDERAL | C99: 09HB | D99: CONTRIBUIÇÃO DA UNIÃO, DE SUAS AUTARQUIAS E FUNDAÇÕES PARA O CUSTEIO DO REGIME DE PREVIDÊNCIA DOS SERVIDORES PÚBLICOS FEDERAIS | E99: 1 | F99: RPPS | G99: Civis | H99: 0 | I99: 0 | J99: 0 | K99: 0 | L99: 71138.58 | M99: 163534.08 | N99: 517.99 | O99: 0 | P99: 0 | Q99: 0 | R99: 0 | S99: 0 | T99: 0 | U99: 0
A100: 0391 | B100: MINERAÇÃO E DESENVOLVIMENTO SUSTENTÁVEL | C100: 09HB | D100: CONTRIBUIÇÃO DA UNIÃO, DE SUAS AUTARQUIAS E FUNDAÇÕES PARA O CUSTEIO DO REGIME DE PREVIDÊNCIA DOS SERVIDORES PÚBLICOS FEDERAIS | E100: 1 | F100: RPPS | G100: Civis | H100: 0 | I100: 0 | J100: 0 | K100: 0 | L100: 0 | M100: 0 | N100: 12551884 | O100: 0 | P100: 0 | Q100: 0 | R100: 0 | S100: 0 | T100: 0 | U100: 0
A101: 0464 | B101: NACIONAL DE ATIVIDADES ESPACIAIS - PNAE | C101: 09HB | D101: CONTRIBUIÇÃO DA UNIÃO, DE SUAS AUTARQUIAS E FUNDAÇÕES PARA O CUSTEIO DO REGIME DE PREVIDÊNCIA DOS SERVIDORES PÚBLICOS FEDERAIS | E101: 1 | F101: RPPS | G101: Civis | H101: 0 | I101: 0 | J101: 0 | K101: 170000 | L101: 0 | M101: 0 | N101: 0 | O101: 0 | P101: 0 | Q101: 0 | R101: 0 | S101: 0 | T101: 0 | U101: 0
A102: 0901 | B102: OPERAÇÕES ESPECIAIS: CUMPRIMENTO DE SENTENÇAS JUDICIAIS | C102: 00DI | D102: CUMPRIMENTO DE SENTENÇAS JUDICIAIS DECORRENTE DE DÍVIDA PARA COM OS PLANOS DE BENEFÍCIOS PREVIDENCIÁRIOS E ASSISTENCIAL - NÚCLEOS | E102: 1 | F102: RPPS | G102: Civis | H102: 0 | I102: 0 | J102: 0 | K102: 0 | L102: 0 | M102: 0 | N102: 0 | O102: 0 | P102: 11150429 | Q102: 12309076 | R102: 12486569 | S102: 13279639 | T102: 0 | U102: 0
A103: 0901 | B103: OPERAÇÕES ESPECIAIS: CUMPRIMENTO DE SENTENÇAS JUDICIAIS | C103: 00FB | D103: PAGAMENTO DE PASSIVOS JUDICIAIS/ADMINISTRATIVOS (JUROS URV, PARCELA AUTÔNOMA DE EQUIVALÊNCIA E ADICIONAL POR TEMPO DE SERVIÇO) – APOSENTADORIAS E PENSÕES | E103: 1 | F103: RPPS | G103: Civis | H103: 0 | I103: 0 | J103: 0 | K103: 0 | L103: 0 | M103: 0 | N103: 0 | O103: 0 | P103: 37970862 | Q103: 549788.94 | R103: 0 | S103: 0 | T103: 0 | U103: 0
A104: 0901 | B104: OPERAÇÕES ESPECIAIS: CUMPRIMENTO DE SENTENÇAS JUDICIAIS | C104: 00G5 | D104: CONTRIBUIÇÃO DA UNIÃO, DE SUAS AUTARQUIAS E FUNDAÇÕES PARA O CUSTEIO DO REGIME DE PREVIDÊNCIA DOS SERVIDORES PÚBLICOS FEDERAIS DECORRENTE DO PAGAMENTO DE PRECATÓRIOS E REQUISIÇÕES DE PEQUENO VALOR | E104: 26000 | F104: RPPS | G104: Civis | H104: 0 | I104: 0 | J104: 0 | K104: 0 | L104: 0 | M104: 0 | N104: 0 | O104: 0 | P104: 0 | Q104: 0 | R104: 29074 | S104: 0 | T104: 0 | U104: 0
A105: 0904 | B105: OPERAÇÕES ESPECIAIS: OUTRAS TRANSFERÊNCIAS | C105: 0042 | D105: PESSOAL INATIVO E PENSIONISTAS DO SISTEMA EDUCACIONAL DO DISTRITO FEDERAL | E105: 1 | F105: RPPS | G105: Civis | H105: 381574032 | I105: 0 | J105: 0 | K105: 0 | L105: 0 | M105: 0 | N105: 0 | O105: 0 | P105: 0 | Q105: 0 | R105: 0 | S105: 0 | T105: 0 | U105: 0
A106: 0904 | B106: OPERAÇÕES ESPECIAIS: OUTRAS TRANSFERÊNCIAS | C106: 0043 | D106: PESSOAL INATIVO E PENSIONISTAS DO SISTEMA DE SAÚDE DO DISTRITO FEDERAL | E106: 1 | F106: RPPS | G106: Civis | H106: 157118719 | I106: 0 | J106: 0 | K106: 0 | L106: 0 | M106: 0 | N106: 0 | O106: 0 | P106: 0 | Q106: 0 | R106: 0 | S106: 0 | T106: 0 | U106: 0
A107: 0909 | B107: OPERAÇÕES ESPECIAIS: OUTROS ENCARGOS ESPECIAIS | C107: 0536 | D107: PAGAMENTO DE BENEFÍCIOS DE LEGISLAÇÃO ESPECIAL | E107: 1 | F107: RPPS | G107: Civis | H107: 0 | I107: 0 | J107: 0 | K107: 0 | L107: 0 | M107: 0 | N107: 0 | O107: 0 | P107: 0 | Q107: 0 | R107: 3.363614e+08 | S107: 3.8122553e+08 | T107: 3.9810929e+08 | U107: 3.2674307e+08
A108: 0909 | B108: OPERAÇÕES ESPECIAIS: OUTROS ENCARGOS ESPECIAIS | C108: 00H7 | D108: CONTRIBUIÇÃO DA UNIÃO PARA O CUSTEIO DO REGIME DE PREVIDÊNCIA DOS SERVIDORES PÚBLICOS FEDERAIS DECORRENTE DA CRIAÇÃO E/OU PROVIMENTO DE CARGOS E FUNÇÕES E REESTRUTURAÇÃO DE CARGOS E CARREIRAS E REVISÃO DE REMUNERAÇÕES | E108: 26000 | F108: RPPS | G108: Civis | H108: 0 | I108: 0 | J108: 0 | K108: 0 | L108: 0 | M108: 0 | N108: 0 | O108: 0 | P108: 0 | Q108: 0 | R108: 228649.91 | S108: 0 | T108: 0 | U108: 0
...

Sheet RGPS_Resumo
B2: Tabela - Evolução da quantidade (em milhares) e valor (em R$) de benefícios previdenciários emitidos até 1 SM e de sua proporção em relação aos benefícios totais
D3: 2002 | E3: 2003 | F3: 2004 | G3: 2005 | H3: 2006 | I3: 2007 | J3: 2008 | K3: 2009 | L3: 2010 | M3: 2011 | N3: 2012 | O3: 2013 | P3: 2014 | Q3: 2015
B4: Quantidade (em mil) | C4: Até 1SM | D4: =RGPS_Quantidade_Dezembro_Cálc!AD26 -> 11687.795 | E4: =RGPS_Quantidade_Dezembro_Cálc!AE26 -> 11894.937 | F4: =RGPS_Quantidade_Dezembro_Cálc!AF26 -> 12366.24 | G4: =RGPS_Quantidade_Dezembro_Cálc!AG26 -> 12958.119 | H4: =RGPS_Quantidade_Dezembro_Cálc!AH26 -> 13562.187 | I4: =RGPS_Quantidade_Dezembro_Cálc!AI26 -> 14010.026 | J4: =RGPS_Quantidade_Dezembro_Cálc!AJ26 -> 14520.822 | K4: =RGPS_Quantidade_Dezembro_Cálc!AK26 -> 15173.955 | ... P4: =RGPS_Quantidade_Dezembro_Cálc!AP26 -> 17895.841 | Q4: =('Beps 2015'!E6+'Beps 2015'!E3)/1000 -> 18152.51
D5: =D4/D8 -> 0.61929751 | E5: =E4/E8 -> 0.60933225 | F5: =F4/F8 -> 0.60272381 | G5: =G4/G8 -> 0.6124414 | H5: =H4/H8 -> 0.62657699 | I5: =I4/I8 -> 0.63490705 | J5: =J4/J8 -> 0.63754352 | K5: =K4/K8 -> 0.64475374 | ... Q5: =Q4/Q8 -> 0.641968
C6: Acima de 1SM | D6: =RGPS_Quantidade_Dezembro_Cálc!AD27 -> 7184.871 | E6: =RGPS_Quantidade_Dezembro_Cálc!AE27 -> 7626.329 | F6: =RGPS_Quantidade_Dezembro_Cálc!AF27 -> 8151.018 | G6: =RGPS_Quantidade_Dezembro_Cálc!AG27 -> 8200.018 | H6: =RGPS_Quantidade_Dezembro_Cálc!AH27 -> 8082.698 | I6: =RGPS_Quantidade_Dezembro_Cálc!AI27 -> 8056.237 | J6: =RGPS_Quantidade_Dezembro_Cálc!AJ27 -> 8255.383 | K6: =RGPS_Quantidade_Dezembro_Cálc!AK27 -> 8360.542 | ... P6: =RGPS_Quantidade_Dezembro_Cálc!AP27 -> 9923.132 | Q6: =('Beps 2015'!E7+'Beps 2015'!E4)/1000 -> 10123.837
D7: =D6/D8 -> 0.38070249 | E7: =E6/E8 -> 0.39066775 | F7: =F6/F8 -> 0.39727619 | G7: =G6/G8 -> 0.3875586 | H7: =H6/H8 -> 0.37342301 | I7: =I6/I8 -> 0.36509295 | J7: =J6/J8 -> 0.36245648 | K7: =K6/K8 -> 0.35524626 | ... Q7: =Q6/Q8 -> 0.358032
C8: Total | D8: =SUM(D4,D6) -> 18872.666 | E8: =SUM(E4,E6) -> 19521.266 | F8: =SUM(F4,F6) -> 20517.258 | G8: =SUM(G4,G6) -> 21158.137 | H8: =SUM(H4,H6) -> 21644.885 | I8: =SUM(I4,I6) -> 22066.263 | J8: =SUM(J4,J6) -> 22776.205 | K8: =SUM(K4,K6) -> 23534.497 | ... P8: =SUM(P4,P6) -> 27818.973 | Q8: =('Beps 2015'!E5+'Beps 2015'!E8)/1000 -> 28276.347
B9: Valor (R$ bi) | C9: Até 1SM | D9: ='RGPS_Valor Acumulado'!AD66/1000 -> 28.210586 | E9: ='RGPS_Valor Acumulado'!AE66/1000 -> 34.032174 | F9: ='RGPS_Valor Acumulado'!AF66/1000 -> 38.813532 | G9: ='RGPS_Valor Acumulado'!AG66/1000 -> 45.504418 | H9: ='RGPS_Valor Acumulado'!AH66/1000 -> 54.433724 | I9: ='RGPS_Valor Acumulado'!AI66/1000 -> 60.998874 | J9: ='RGPS_Valor Acumulado'!AJ66/1000 -> 68.694405 | K9: ='RGPS_Valor Acumulado'!AK66/1000 -> 81.342691 | ... P9: ='RGPS_Valor Acumulado'!AP66/1000 -> 148.46057 | Q9: =SUM('Beps 2015'!Q4:Q5,'Beps 2015'!Q7:Q8)/1000000000 -> 168.51462
D10: =D9/D13 -> 0.33714862 | E10: =E9/E13 -> 0.33247292 | F10: =F9/F13 -> 0.32600657 | G10: =G9/G13 -> 0.34214455 | H10: =H9/H13 -> 0.37149683 | I10: =I9/I13 -> 0.38311497 | J10: =J9/J13 -> 0.39238561 | K10: =K9/K13 -> 0.40866089 | ... Q10: =Q9/Q13 -> 0.44320967
C11: Acima de 1SM | D11: ='RGPS_Valor Acumulado'!AD27/1000 -> 55.46345 | E11: ='RGPS_Valor Acumulado'!AE27/1000 -> 68.328565 | F11: ='RGPS_Valor Acumulado'!AF27/1000 -> 80.243983 | G11: ='RGPS_Valor Acumulado'!AG27/1000 -> 87.493222 | H11: ='RGPS_Valor Acumulado'!AH27/1000 -> 92.091683 | I11: ='RGPS_Valor Acumulado'!AI27/1000 -> 98.219321 | J11: ='RGPS_Valor Acumulado'!AJ27/1000 -> 106.37421 | K11: ='RGPS_Valor Acumulado'!AK27/1000 -> 117.70423 | ... P11: ='RGPS_Valor Acumulado'!AP27/1000 -> 194.82891 | Q11: =('Beps 2015'!Q3+'Beps 2015'!Q6-SUM('Beps 2015'!Q4:Q5,'Beps 2015'!Q7:Q8))/1000000000 -> 211.6996
D12: =D11/D13 -> 0.66285138 | E12: =E11/E13 -> 0.66752708 | F12: =F11/F13 -> 0.67399343 | G12: =G11/G13 -> 0.65785545 | H12: =H11/H13 -> 0.62850317 | I12: =I11/I13 -> 0.61688503 | J12: =J11/J13 -> 0.60761439 | K12: =K11/K13 -> 0.59133911 | ... Q12: =Q11/Q13 -> 0.55679033
C13: Total | D13: =SUM(D9,D11) -> 83.674036 | E13: =SUM(E9,E11) -> 102.36074 | F13: =SUM(F9,F11) -> 119.05752 | G13: =SUM(G9,G11) -> 132.99764 | H13: =SUM(H9,H11) -> 146.52541 | I13: =SUM(I9,I11) -> 159.21819 | J13: =SUM(J9,J11) -> 175.06862 | K13: =SUM(K9,K11) -> 199.04692 | ... P13: =SUM(P9,P11) -> 343.28948 | Q13: ='Beps 2015'!P9/1000000000 -> 380.21422
B14: Fonte: AEPS (vários anos) até 2014; BEPS (vários meses) e cálculos próprios para 2015.
C17: Tabela - Evolução da quantidade (em milhares) de benefícios emitidos até 1 SM e de sua proporção em relação aos benefícios totais: Clientela Rural
D18: 2002 | E18: 2003 | F18: 2004 | G18: 2005 | H18: 2006 | I18: 2007 | J18: 2008 | K18: 2009 | L18: 2010 | M18: 2011 | N18: 2012 | O18: 2013 | P18: 2014
C19: Aposentadoria por TC | D19: =RGPS_Quantidade_Dezembro_Cálc!Q5 -> 1.857 | E19: =RGPS_Quantidade_Dezembro_Cálc!R5 -> 1.91 | F19: =RGPS_Quantidade_Dezembro_Cálc!S5 -> 2.15 | G19: =RGPS_Quantidade_Dezembro_Cálc!T5 -> 2.999 | H19: =RGPS_Quantidade_Dezembro_Cálc!U5 -> 4.097 | I19: =RGPS_Quantidade_Dezembro_Cálc!V5 -> 4.904 | J19: =RGPS_Quantidade_Dezembro_Cálc!W5 -> 5.881 | K19: =RGPS_Quantidade_Dezembro_Cálc!X5 -> 7.431 | ... P19: =RGPS_Quantidade_Dezembro_Cálc!AC5 -> 12.355
C20: Parcela até 1 S.M. | D20: =RGPS_Quantidade_Dezembro_Cálc!Q5/RGPS_Quantidade_Dezembro_Cálc!Q4 -> 0.28277752 | E20: =RGPS_Quantidade_Dezembro_Cálc!R5/RGPS_Quantidade_Dezembro_Cálc!R4 -> 0.27529547 | F20: =RGPS_Quantidade_Dezembro_Cálc!S5/RGPS_Quantidade_Dezembro_Cálc!S4 -> 0.28141361 | G20: =RGPS_Quantidade_Dezembro_Cálc!T5/RGPS_Quantidade_Dezembro_Cálc!T4 -> 0.33288933 | H20: =RGPS_Quantidade_Dezembro_Cálc!U5/RGPS_Quantidade_Dezembro_Cálc!U4 -> 0.39160772 | I20: =RGPS_Quantidade_Dezembro_Cálc!V5/RGPS_Quantidade_Dezembro_Cálc!V4 -> 0.4307422 | J20: =RGPS_Quantidade_Dezembro_Cálc!W5/RGPS_Quantidade_Dezembro_Cálc!W4 -> 0.46515859 | K20: =RGPS_Quantidade_Dezembro_Cálc!X5/RGPS_Quantidade_Dezembro_Cálc!X4 -> 0.52220661 | ... P20: =RGPS_Quantidade_Dezembro_Cálc!AC5/RGPS_Quantidade_Dezembro_Cálc!AC4 -> 0.63316763
C21: Aposentadoria por Idade | D21: =RGPS_Quantidade_Dezembro_Cálc!Q8 -> 4264.091 | E21: =RGPS_Quantidade_Dezembro_Cálc!R8 -> 4378.185 | F21: =RGPS_Quantidade_Dezembro_Cálc!S8 -> 4496.071 | G21: =RGPS_Quantidade_Dezembro_Cálc!T8 -> 4626.286 | H21: =RGPS_Quantidade_Dezembro_Cálc!U8 -> 4773.834 | I21: =RGPS_Quantidade_Dezembro_Cálc!V8 -> 4928.976 | J21: =RGPS_Quantidade_Dezembro_Cálc!W8 -> 5106.546 | K21: =RGPS_Quantidade_Dezembro_Cálc!X8 -> 5300.949 | ... P21: =RGPS_Quantidade_Dezembro_Cálc!AC8 -> 6119.196
C22: Parcela até 1 S.M. | D22: =RGPS_Quantidade_Dezembro_Cálc!Q8/RGPS_Quantidade_Dezembro_Cálc!Q7 -> 0.99446665 | E22: =RGPS_Quantidade_Dezembro_Cálc!R8/RGPS_Quantidade_Dezembro_Cálc!R7 -> 0.99423739 | F22: =RGPS_Quantidade_Dezembro_Cálc!S8/RGPS_Quantidade_Dezembro_Cálc!S7 -> 0.99497123 | G22: =RGPS_Quantidade_Dezembro_Cálc!T8/RGPS_Quantidade_Dezembro_Cálc!T7 -> 0.99545681 | H22: =RGPS_Quantidade_Dezembro_Cálc!U8/RGPS_Quantidade_Dezembro_Cálc!U7 -> 0.99601393 | I22: =RGPS_Quantidade_Dezembro_Cálc!V8/RGPS_Quantidade_Dezembro_Cálc!V7 -> 0.99619488 | J22: =RGPS_Quantidade_Dezembro_Cálc!W8/RGPS_Quantidade_Dezembro_Cálc!W7 -> 0.99632068 | K22: =RGPS_Quantidade_Dezembro_Cálc!X8/RGPS_Quantidade_Dezembro_Cálc!X7 -> 0.99655255 | ... P22: =RGPS_Quantidade_Dezembro_Cálc!AC8/RGPS_Quantidade_Dezembro_Cálc!AC7 -> 0.99654307
C23: Aposentadoria por Invalidez | D23: =RGPS_Quantidade_Dezembro_Cálc!Q11 -> 406.4 | E23: =RGPS_Quantidade_Dezembro_Cálc!R11 -> 408.37 | F23: =RGPS_Quantidade_Dezembro_Cálc!S11 -> 412.618 | G23: =RGPS_Quantidade_Dezembro_Cálc!T11 -> 426.801 | H23: =RGPS_Quantidade_Dezembro_Cálc!U11 -> 430.496 | I23: =RGPS_Quantidade_Dezembro_Cálc!V11 -> 424.578 | J23: =RGPS_Quantidade_Dezembro_Cálc!W11 -> 427.042 | K23: =RGPS_Quantidade_Dezembro_Cálc!X11 -> 429.691 | ... P23: =RGPS_Quantidade_Dezembro_Cálc!AC11 -> 455.195
C24: Parcela até 1 S.M. | D24: =RGPS_Quantidade_Dezembro_Cálc!Q11/RGPS_Quantidade_Dezembro_Cálc!Q10 -> 0.95672379 | E24: =RGPS_Quantidade_Dezembro_Cálc!R11/RGPS_Quantidade_Dezembro_Cálc!R10 -> 0.95026562 | F24: =RGPS_Quantidade_Dezembro_Cálc!S11/RGPS_Quantidade_Dezembro_Cálc!S10 -> 0.94952066 | G24: =RGPS_Quantidade_Dezembro_Cálc!T11/RGPS_Quantidade_Dezembro_Cálc!T10 -> 0.95466685 | H24: =RGPS_Quantidade_Dezembro_Cálc!U11/RGPS_Quantidade_Dezembro_Cálc!U10 -> 0.9625206 | I24: =RGPS_Quantidade_Dezembro_Cálc!V11/RGPS_Quantidade_Dezembro_Cálc!V10 -> 0.96573356 | J24: =RGPS_Quantidade_Dezembro_Cálc!W11/RGPS_Quantidade_Dezembro_Cálc!W10 -> 0.9687556 | K24: =RGPS_Quantidade_Dezembro_Cálc!X11/RGPS_Quantidade_Dezembro_Cálc!X10 -> 0.97242659 | ... P24: =RGPS_Quantidade_Dezembro_Cálc!AC11/RGPS_Quantidade_Dezembro_Cálc!AC10 -> 0.98088207
C25: Pensão por Morte | D25: =RGPS_Quantidade_Dezembro_Cálc!Q14 -> 1672.7 | E25: =RGPS_Quantidade_Dezembro_Cálc!R14 -> 1715.245 | F25: =RGPS_Quantidade_Dezembro_Cálc!S14 -> 1764.09 | G25: =RGPS_Quantidade_Dezembro_Cálc!T14 -> 1815.713 | H25: =RGPS_Quantidade_Dezembro_Cálc!U14 -> 1864.298 | I25: =RGPS_Quantidade_Dezembro_Cálc!V14 -> 1919.299 | J25: =RGPS_Quantidade_Dezembro_Cálc!W14 -> 1978.753 | K25: =RGPS_Quantidade_Dezembro_Cálc!X14 -> 2035.754 | ... P25: =RGPS_Quantidade_Dezembro_Cálc!AC14 -> 2286.523
C26: Parcela até 1 S.M. | D26: =RGPS_Quantidade_Dezembro_Cálc!Q14/RGPS_Quantidade_Dezembro_Cálc!Q13 -> 0.98352925 | E26: =RGPS_Quantidade_Dezembro_Cálc!R14/RGPS_Quantidade_Dezembro_Cálc!R13 -> 0.9820581 | F26: =RGPS_Quantidade_Dezembro_Cálc!S14/RGPS_Quantidade_Dezembro_Cálc!S13 -> 0.98234377 | G26: =RGPS_Quantidade_Dezembro_Cálc!T14/RGPS_Quantidade_Dezembro_Cálc!T13 -> 0.98538085 | H26: =RGPS_Quantidade_Dezembro_Cálc!U14/RGPS_Quantidade_Dezembro_Cálc!U13 -> 0.98754693 | I26: =RGPS_Quantidade_Dezembro_Cálc!V14/RGPS_Quantidade_Dezembro_Cálc!V13 -> 0.98869539 | J26: =RGPS_Quantidade_Dezembro_Cálc!W14/RGPS_Quantidade_Dezembro_Cálc!W13 -> 0.9891846 | K26: =RGPS_Quantidade_Dezembro_Cálc!X14/RGPS_Quantidade_Dezembro_Cálc!X13 -> 0.98996831 | ... P26: =RGPS_Quantidade_Dezembro_Cálc!AC14/RGPS_Quantidade_Dezembro_Cálc!AC13 -> 0.99139341
C27: Auxílio-Doença | D27: =RGPS_Quantidade_Dezembro_Cálc!Q17 -> 107.456 | E27: =RGPS_Quantidade_Dezembro_Cálc!R17 -> 130.929 | F27: =RGPS_Quantidade_Dezembro_Cálc!S17 -> 149.459 | G27: =RGPS_Quantidade_Dezembro_Cálc!T17 -> 149.398 | H27: =RGPS_Quantidade_Dezembro_Cálc!U17 -> 134.523 | I27: =RGPS_Quantidade_Dezembro_Cálc!V17 -> 126.488 | J27: =RGPS_Quantidade_Dezembro_Cálc!W17 -> 125.967 | K27: =RGPS_Quantidade_Dezembro_Cálc!X17 -> 128.115 | ... P27: =RGPS_Quantidade_Dezembro_Cálc!AC17 -> 200.424
C28: Parcela até 1 S.M. | D28: =RGPS_Quantidade_Dezembro_Cálc!Q17/RGPS_Quantidade_Dezembro_Cálc!Q16 -> 0.87542669 | E28: =RGPS_Quantidade_Dezembro_Cálc!R17/RGPS_Quantidade_Dezembro_Cálc!R16 -> 0.90873063 | F28: =RGPS_Quantidade_Dezembro_Cálc!S17/RGPS_Quantidade_Dezembro_Cálc!S16 -> 0.92856477 | G28: =RGPS_Quantidade_Dezembro_Cálc!T17/RGPS_Quantidade_Dezembro_Cálc!T16 -> 0.95329798 | H28: =RGPS_Quantidade_Dezembro_Cálc!U17/RGPS_Quantidade_Dezembro_Cálc!U16 -> 0.97378117 | I28: =RGPS_Quantidade_Dezembro_Cálc!V17/RGPS_Quantidade_Dezembro_Cálc!V16 -> 0.98380649 | J28: =RGPS_Quantidade_Dezembro_Cálc!W17/RGPS_Quantidade_Dezembro_Cálc!W16 -> 0.99107796 | K28: =RGPS_Quantidade_Dezembro_Cálc!X17/RGPS_Quantidade_Dezembro_Cálc!X16 -> 0.99407967 | ... P28: =RGPS_Quantidade_Dezembro_Cálc!AC17/RGPS_Quantidade_Dezembro_Cálc!AC16 -> 0.99791379
C29: Auxílio-Acidente | D29: =RGPS_Quantidade_Dezembro_Cálc!Q20 -> 6.436 | E29: =RGPS_Quantidade_Dezembro_Cálc!R20 -> 7.189 | F29: =RGPS_Quantidade_Dezembro_Cálc!S20 -> 8.026 | G29: =RGPS_Quantidade_Dezembro_Cálc!T20 -> 9.091 | H29: =RGPS_Quantidade_Dezembro_Cálc!U20 -> 10.802 | I29: =RGPS_Quantidade_Dezembro_Cálc!V20 -> 11.897 | J29: =RGPS_Quantidade_Dezembro_Cálc!W20 -> 13.061 | K29: =RGPS_Quantidade_Dezembro_Cálc!X20 -> 14.28 | ... P29: =RGPS_Quantidade_Dezembro_Cálc!AC20 -> 20.356
C30: Parcela até 1 S.M. | D30: =RGPS_Quantidade_Dezembro_Cálc!Q20/RGPS_Quantidade_Dezembro_Cálc!Q19 -> 0.94772493 | E30: =RGPS_Quantidade_Dezembro_Cálc!R20/RGPS_Quantidade_Dezembro_Cálc!R19 -> 0.94966975 | F30: =RGPS_Quantidade_Dezembro_Cálc!S20/RGPS_Quantidade_Dezembro_Cálc!S19 -> 0.95479419 | G30: =RGPS_Quantidade_Dezembro_Cálc!T20/RGPS_Quantidade_Dezembro_Cálc!T19 -> 0.96466469 | H30: =RGPS_Quantidade_Dezembro_Cálc!U20/RGPS_Quantidade_Dezembro_Cálc!U19 -> 0.97773353 | I30: =RGPS_Quantidade_Dezembro_Cálc!V20/RGPS_Quantidade_Dezembro_Cálc!V19 -> 0.98297943 | J30: =RGPS_Quantidade_Dezembro_Cálc!W20/RGPS_Quantidade_Dezembro_Cálc!W19 -> 0.98618242 | K30: =RGPS_Quantidade_Dezembro_Cálc!X20/RGPS_Quantidade_Dezembro_Cálc!X19 -> 0.98946785 | ... P30: =RGPS_Quantidade_Dezembro_Cálc!AC20/RGPS_Quantidade_Dezembro_Cálc!AC19 -> 0.9943823
C31: Outros | D31: =RGPS_Quantidade_Dezembro_Cálc!Q23 -> 25.465 | E31: =RGPS_Quantidade_Dezembro_Cálc!R23 -> 21.765 | F31: =RGPS_Quantidade_Dezembro_Cálc!S23 -> 21.175 | G31: =RGPS_Quantidade_Dezembro_Cálc!T23 -> 18.04 | H31: =RGPS_Quantidade_Dezembro_Cálc!U23 -> 17.306 | I31: =RGPS_Quantidade_Dezembro_Cálc!V23 -> 16.097 | J31: =RGPS_Quantidade_Dezembro_Cálc!W23 -> 18.606 | K31: =RGPS_Quantidade_Dezembro_Cálc!X23 -> 20.494 | ... P31: =RGPS_Quantidade_Dezembro_Cálc!AC23 -> 15.97
C32: Parcela até 1 S.M. | D32: =RGPS_Quantidade_Dezembro_Cálc!Q23/RGPS_Quantidade_Dezembro_Cálc!Q22 -> 0.97507275 | E32: =RGPS_Quantidade_Dezembro_Cálc!R23/RGPS_Quantidade_Dezembro_Cálc!R22 -> 0.98235241 | F32: =RGPS_Quantidade_Dezembro_Cálc!S23/RGPS_Quantidade_Dezembro_Cálc!S22 -> 0.98064187 | G32: =RGPS_Quantidade_Dezembro_Cálc!T23/RGPS_Quantidade_Dezembro_Cálc!T22 -> 0.97640182 | H32: =RGPS_Quantidade_Dezembro_Cálc!U23/RGPS_Quantidade_Dezembro_Cálc!U22 -> 0.9799547 | I32: =RGPS_Quantidade_Dezembro_Cálc!V23/RGPS_Quantidade_Dezembro_Cálc!V22 -> 0.97770894 | J32: =RGPS_Quantidade_Dezembro_Cálc!W23/RGPS_Quantidade_Dezembro_Cálc!W22 -> 0.9823135 | K32: =RGPS_Quantidade_Dezembro_Cálc!X23/RGPS_Quantidade_Dezembro_Cálc!X22 -> 0.98372774 | ... P32: =RGPS_Quantidade_Dezembro_Cálc!AC23/RGPS_Quantidade_Dezembro_Cálc!AC22 -> 0.99143283
C33: Total | D33: =RGPS_Quantidade_Dezembro_Cálc!Q26 -> 6484.405 | E33: =RGPS_Quantidade_Dezembro_Cálc!R26 -> 6663.593 | F33: =RGPS_Quantidade_Dezembro_Cálc!S26 -> 6853.589 | G33: =RGPS_Quantidade_Dezembro_Cálc!T26 -> 7048.328 | H33: =RGPS_Quantidade_Dezembro_Cálc!U26 -> 7235.356 | I33: =RGPS_Quantidade_Dezembro_Cálc!V26 -> 7432.239 | J33: =RGPS_Quantidade_Dezembro_Cálc!W26 -> 7675.856 | K33: =RGPS_Quantidade_Dezembro_Cálc!X26 -> 7936.714 | ... P33: =RGPS_Quantidade_Dezembro_Cálc!AC26 -> 9110.019
C34: Parcela até 1 S.M. | D34: =RGPS_Quantidade_Dezembro_Cálc!Q26/RGPS_Quantidade_Dezembro_Cálc!Q25 -> 0.98614135 | E34: =RGPS_Quantidade_Dezembro_Cálc!R26/RGPS_Quantidade_Dezembro_Cálc!R25 -> 0.9856469 | F34: =RGPS_Quantidade_Dezembro_Cálc!S26/RGPS_Quantidade_Dezembro_Cálc!S25 -> 0.9864484 | G34: =RGPS_Quantidade_Dezembro_Cálc!T26/RGPS_Quantidade_Dezembro_Cálc!T25 -> 0.98844202 | H34: =RGPS_Quantidade_Dezembro_Cálc!U26/RGPS_Quantidade_Dezembro_Cálc!U25 -> 0.99042287 | I34: =RGPS_Quantidade_Dezembro_Cálc!V26/RGPS_Quantidade_Dezembro_Cálc!V25 -> 0.99133371 | J34: =RGPS_Quantidade_Dezembro_Cálc!W26/RGPS_Quantidade_Dezembro_Cálc!W25 -> 0.99190028 | K34: =RGPS_Quantidade_Dezembro_Cálc!X26/RGPS_Quantidade_Dezembro_Cálc!X25 -> 0.99259572 | ... P34: =RGPS_Quantidade_Dezembro_Cálc!AC26/RGPS_Quantidade_Dezembro_Cálc!AC25 -> 0.99369761
C35: Fonte: AEPS (vários anos) e BEPS (2014-2015).
C37: Tabela - Evolução da quantidade (em milhares) de benefícios emitidos até 1 SM e de sua proporção em relação aos benefícios totais: Clientela Urbana
D38: 2002 | E38: 2003 | F38: 2004 | G38: 2005 | H38: 2006 | I38: 2007 | J38: 2008 | K38: 2009 | L38: 2010 | M38: 2011 | N38: 2012 | O38: 2013 | P38: 2014
C39: Aposentadoria por TC | D39: =RGPS_Quantidade_Dezembro_Cálc!D5 -> 362.39 | E39: =RGPS_Quantidade_Dezembro_Cálc!E5 -> 368.89 | F39: =RGPS_Quantidade_Dezembro_Cálc!F5 -> 393.759 | G39: =RGPS_Quantidade_Dezembro_Cálc!G5 -> 446.773 | H39: =RGPS_Quantidade_Dezembro_Cálc!H5 -> 526.185 | I39: =RGPS_Quantidade_Dezembro_Cálc!I5 -> 585.507 | J39: =RGPS_Quantidade_Dezembro_Cálc!J5 -> 654.826 | K39: =RGPS_Quantidade_Dezembro_Cálc!K5 -> 751.726 | ... P39: =RGPS_Quantidade_Dezembro_Cálc!P5 -> 1107.891
C40: Parcela até 1 S.M. | D40: =RGPS_Quantidade_Dezembro_Cálc!D5/RGPS_Quantidade_Dezembro_Cálc!D4 -> 0.10374678 | E40: =RGPS_Quantidade_Dezembro_Cálc!E5/RGPS_Quantidade_Dezembro_Cálc!E4 -> 0.10395435 | F40: =RGPS_Quantidade_Dezembro_Cálc!F5/RGPS_Quantidade_Dezembro_Cálc!F4 -> 0.10771395 | G40: =RGPS_Quantidade_Dezembro_Cálc!G5/RGPS_Quantidade_Dezembro_Cálc!G4 -> 0.12093397 | H40: =RGPS_Quantidade_Dezembro_Cálc!H5/RGPS_Quantidade_Dezembro_Cálc!H4 -> 0.13915846 | I40: =RGPS_Quantidade_Dezembro_Cálc!I5/RGPS_Quantidade_Dezembro_Cálc!I4 -> 0.14890993 | J40: =RGPS_Quantidade_Dezembro_Cálc!J5/RGPS_Quantidade_Dezembro_Cálc!J4 -> 0.15950634 | K40: =RGPS_Quantidade_Dezembro_Cálc!K5/RGPS_Quantidade_Dezembro_Cálc!K4 -> 0.17471643 | ... P40: =RGPS_Quantidade_Dezembro_Cálc!P5/RGPS_Quantidade_Dezembro_Cálc!P4 -> 0.21161543
C41: Aposentadoria por Idade | D41: =RGPS_Quantidade_Dezembro_Cálc!D8 -> 922.396 | E41: =RGPS_Quantidade_Dezembro_Cálc!E8 -> 977.358 | F41: =RGPS_Quantidade_Dezembro_Cálc!F8 -> 1104.334 | G41: =RGPS_Quantidade_Dezembro_Cálc!G8 -> 1213.204 | H41: =RGPS_Quantidade_Dezembro_Cálc!H8 -> 1335.901 | I41: =RGPS_Quantidade_Dezembro_Cálc!I8 -> 1440.025 | J41: =RGPS_Quantidade_Dezembro_Cálc!J8 -> 1550.455 | K41: =RGPS_Quantidade_Dezembro_Cálc!K8 -> 1697.817 | ... P41: =RGPS_Quantidade_Dezembro_Cálc!P8 -> 2347.387
C42: Parcela até 1 S.M. | D42: =RGPS_Quantidade_Dezembro_Cálc!D8/RGPS_Quantidade_Dezembro_Cálc!D7 -> 0.55819093 | E42: =RGPS_Quantidade_Dezembro_Cálc!E8/RGPS_Quantidade_Dezembro_Cálc!E7 -> 0.55333103 | F42: =RGPS_Quantidade_Dezembro_Cálc!F8/RGPS_Quantidade_Dezembro_Cálc!F7 -> 0.57269496 | G42: =RGPS_Quantidade_Dezembro_Cálc!G8/RGPS_Quantidade_Dezembro_Cálc!G7 -> 0.59776759 | H42: =RGPS_Quantidade_Dezembro_Cálc!H8/RGPS_Quantidade_Dezembro_Cálc!H7 -> 0.62938553 | I42: =RGPS_Quantidade_Dezembro_Cálc!I8/RGPS_Quantidade_Dezembro_Cálc!I7 -> 0.64444432 | J42: =RGPS_Quantidade_Dezembro_Cálc!J8/RGPS_Quantidade_Dezembro_Cálc!J7 -> 0.65290893 | K42: =RGPS_Quantidade_Dezembro_Cálc!K8/RGPS_Quantidade_Dezembro_Cálc!K7 -> 0.66905643 | ... P42: =RGPS_Quantidade_Dezembro_Cálc!P8/RGPS_Quantidade_Dezembro_Cálc!P7 -> 0.69691135
C43: Aposentadoria por Invalidez | D43: =RGPS_Quantidade_Dezembro_Cálc!D11 -> 1310.882 | E43: =RGPS_Quantidade_Dezembro_Cálc!E11 -> 1279.436 | F43: =RGPS_Quantidade_Dezembro_Cálc!F11 -> 1290.836 | G43: =RGPS_Quantidade_Dezembro_Cálc!G11 -> 1371.382 | H43: =RGPS_Quantidade_Dezembro_Cálc!H11 -> 1436.211 | I43: =RGPS_Quantidade_Dezembro_Cálc!I11 -> 1464.691 | J43: =RGPS_Quantidade_Dezembro_Cálc!J11 -> 1492.906 | K43: =RGPS_Quantidade_Dezembro_Cálc!K11 -> 1532.581 | ... P43: =RGPS_Quantidade_Dezembro_Cálc!P11 -> 1597.215
C44: Parcela até 1 S.M. | D44: =RGPS_Quantidade_Dezembro_Cálc!D11/RGPS_Quantidade_Dezembro_Cálc!D10 -> 0.64073892 | E44: =RGPS_Quantidade_Dezembro_Cálc!E11/RGPS_Quantidade_Dezembro_Cálc!E10 -> 0.60432024 | F44: =RGPS_Quantidade_Dezembro_Cálc!F11/RGPS_Quantidade_Dezembro_Cálc!F10 -> 0.5802162 | G44: =RGPS_Quantidade_Dezembro_Cálc!G11/RGPS_Quantidade_Dezembro_Cálc!G10 -> 0.57858629 | H44: =RGPS_Quantidade_Dezembro_Cálc!H11/RGPS_Quantidade_Dezembro_Cálc!H10 -> 0.58876429 | I44: =RGPS_Quantidade_Dezembro_Cálc!I11/RGPS_Quantidade_Dezembro_Cálc!I10 -> 0.5948851 | J44: =RGPS_Quantidade_Dezembro_Cálc!J11/RGPS_Quantidade_Dezembro_Cálc!J10 -> 0.58595059 | K44: =RGPS_Quantidade_Dezembro_Cálc!K11/RGPS_Quantidade_Dezembro_Cálc!K10 -> 0.58484498 | ... P44: =RGPS_Quantidade_Dezembro_Cálc!P11/RGPS_Quantidade_Dezembro_Cálc!P10 -> 0.54907737
...

Sheet Beps 2014
E2: -2.5803919e+09 | F2: -2.6004769e+09 | G2: -2.6093784e+09 | H2: -2.6290745e+09 | I2: -2.7201392e+09 | J2: -1.6124891e+09 | K2: -1.6540448e+09 | L2: 1.2104583e+10 | M2: 2.6450235e+10 | N2: 2.6718253e+10 | O2: 1.1478039e+10 | P2: 2.6682601e+10
E3: 0 | F3: 0 | G3: 0 | H3: 0 | I3: 0 | J3: 0 | K3: 0 | L3: 0 | M3: 0 | N3: 0 | O3: 0 | P3: 0
B4: BEPS 2014
E5: 41640 | F5: 41671 | G5: 41699 | H5: 41730 | I5: 41760 | J5: 41791 | K5: 41821 | L5: 41852 | M5: 41883 | N5: 41913 | O5: 41944 | P5: 41974
B6: Total | C6: Quantidade | D6: Total | E6: 26971009 | F6: 26980501 | G6: 27075646 | H6: 27218596 | I6: 27252239 | J6: 27326879 | K6: 27433536 | L6: 27462439 | M6: 27556461 | N6: 27725361 | O6: 27756971 | P6: 27818973
D7: Até1 | E7: 17536343 | F7: 17538448 | G7: 17585112 | H7: 17651841 | I7: 17667752 | J7: 17704036 | K7: 17749669 | L7: 17728011 | M7: 17792202 | N7: 17861082 | O7: 17843924 | P7: 17895841
D8: Mais de 1 | E8: 9434666 | F8: 9442053 | G8: 9490534 | H8: 9566755 | I8: 9584487 | J8: 9622843 | K8: 9683867 | L8: 9734428 | M8: 9764259 | N8: 9864279 | O8: 9913047 | P8: 9923132
C9: Valor | D9: Total | E9: 2.5845845e+10 | F9: 2.5845308e+10 | G9: 2.594737e+10 | H9: 2.6091948e+10 | I9: 2.6047399e+10 | J9: 2.6245762e+10 | K9: 2.6334429e+10 | L9: 4.0166434e+10 | M9: 2.6450235e+10 | N9: 2.6718253e+10 | O9: 4.0913891e+10 | P9: 2.6682601e+10
D10: Até1 | E10: 1.2439324e+10 | F10: 1.2440834e+10 | G10: 1.2474252e+10 | H10: 1.2522016e+10 | I10: 1.2533412e+10 | J10: 1.2559422e+10 | K10: 1.2592145e+10 | L10: 1.2589062e+10 | O10: 1.2672433e+10
D11: Mais de 1 | E11: 1.5986913e+10 | F11: 1.6004951e+10 | G11: 1.6082497e+10 | H11: 1.6199006e+10 | I11: 1.6234126e+10 | J11: 1.5298829e+10 | K11: 1.5396329e+10 | L11: 1.5472789e+10 | O11: 1.6763418e+10
B12: URBANA | C12: Quantidade | D12: Total | E12: 18016167 | F12: 18020092 | G12: 18091751 | H12: 18206163 | I12: 18225622 | J12: 18275859 | K12: 18355879 | L12: 18376142 | M12: 18446904 | N12: 18584209 | O12: 18605877 | P12: 18651175
D13: Até1 | E13: 8636780 | F13: 8633462 | G13: 8656893 | H13: 8695346 | I13: 8697223 | J13: 8709273 | K13: 8728551 | L13: 8698480 | M13: 8739644 | N13: 8777259 | O13: 8750413 | P13: 8785822
D14: Mais de 1 | E14: 9379387 | F14: 9386630 | G14: 9434858 | H14: 9510817 | I14: 9528399 | J14: 9566586 | K14: 9627328 | L14: 9677662 | M14: 9707260 | N14: 9806950 | O14: 9855464 | P14: 9865353
C15: Valor | D15: Total | E15: 2.1946332e+10 | F15: 2.1961903e+10 | G15: 2.2055953e+10 | H15: 2.2199618e+10 | I15: 2.2235922e+10 | J15: 2.1309079e+10 | K15: 2.1420101e+10 | L15: 2.1486975e+10 | O15: 2.2814178e+10
D16: Até1 | E16: 6.0227067e+09 | F16: 6.0203638e+09 | G16: 6.0371345e+09 | H16: 6.0645612e+09 | I16: 6.0658704e+09 | J16: 6.0744803e+09 | K16: 6.0882765e+09 | L16: 6.0788883e+09 | O16: 6.1162971e+09
D17: Mais de 1 | E17: 1.5923626e+10 | F17: 1.5941539e+10 | G17: 1.6018819e+10 | H17: 1.6135057e+10 | I17: 1.6170052e+10 | J17: 1.5234599e+10 | K17: 1.5331824e+10 | L17: 1.5408086e+10 | O17: 1.6697881e+10
B18: Rural | C18: Quantidade | D18: Total | E18: 8954842 | F18: 8960409 | G18: 8983895 | H18: 9012433 | I18: 9026617 | J18: 9051020 | K18: 9077657 | L18: 9086297 | M18: 9109557 | N18: 9141152 | O18: 9151094 | P18: 9167798
D19: Até1 | E19: 8899563 | F19: 8904986 | G19: 8928219 | H19: 8956495 | I19: 8970529 | J19: 8994763 | K19: 9021118 | L19: 9029531 | M19: 9052558 | N19: 9083823 | O19: 9093511 | P19: 9110019
D20: Mais de 1 | E20: 55279 | F20: 55423 | G20: 55676 | H20: 55938 | I20: 56088 | J20: 56257 | K20: 56539 | L20: 56766 | M20: 56999 | N20: 57329 | O20: 57583 | P20: 57779
C21: Valor | D21: Total | E21: 6.479905e+09 | F21: 6.4838819e+09 | G21: 6.5007951e+09 | H21: 6.521404e+09 | I21: 6.5316156e+09 | J21: 6.5491721e+09 | K21: 6.5683734e+09 | L21: 6.5748762e+09 | O21: 6.6216729e+09
D22: Até1 | E22: 6.4166173e+09 | F22: 6.4204701e+09 | G22: 6.4371172e+09 | H22: 6.4574549e+09 | I22: 6.4675415e+09 | J22: 6.484942e+09 | K22: 6.5038684e+09 | L22: 6.510174e+09 | O22: 6.5561359e+09
D23: Mais de 1 | E23: 63287758 | F23: 63411797 | G23: 63677980 | H23: 63949114 | I23: 64074027 | J23: 64230131 | K23: 64504992 | L23: 64702191 | O23: 65536981

Sheet Beps 2015
P1: Contas Gasto Total | S1: Gasto Social
E2: 42339 | K2: 2015 | P2: Valor Meses com Informação | Q2: Valor Todos os meses (2015) | S2: Gasto por Faixa de Renda | T2: Gasto social em nov/15 | U2: % do Gasto que é social nov/15 | V2: Gasto Social
B3: Qte | C3: Rural | D3: 1SM | E3: =SUM(P16:P17) -> 9190388 | I3: Rural | J3: 1SM | K3: =L3*K5 -> 1.419946e+11 | L3: 0.99050725 | M3: Valor (projeções) | N3: urbana | O3: TOTAL | P3: =SUM(E22:P22) -> 1.2221824e+11 | Q3: =P3*$P$9/SUM($P$3,$P$6) -> 2.9301584e+11 | R3: TOTAL > 1 SM | S3: =Q3-SUM(Q4:Q5) -> 2.1086978e+11 | T3: =(O12-SUM(O13:O14))*788 -> 7864169080 | U3: =T3/(O22-SUM(O23:O24)) -> 0.48577924 | V3: =U3*S3 -> 1.0243616e+11
D4: Demais | E4: =E5-E3 -> 102809.57 | J4: Demais | K4: =K5-K3 -> 1.3608371e+09 | O4: < 1 | P4: =SUM(E23:P23) -> 1.4209137e+09 | Q4: =P4*$P$9/SUM($P$3,$P$6) -> 3.4066126e+09 | R4: < 1 | S4: =Q4 -> 3.4066126e+09 | T4: =O23 -> 2.8229023e+08 | U4: =T4/O23 -> 1 | V4: =U4*S4 -> 3.4066126e+09
D5: Total | E5: =P15 -> 9293197.6 | H5: Valor | J5: Total | K5: 1.4335544e+11 | O5: = 1 | P5: =SUM(E24:P24) -> 32842580776 | Q5: =P5*$P$9/SUM($P$3,$P$6) -> 7.8739444e+10 | R5: = 1 | S5: =Q5 -> 7.8739444e+10 | T5: =O24 -> 6538229848 | U5: =T5/O24 -> 1 | V5: =U5*S5 -> 7.8739444e+10
C6: Urbana | D6: 1SM | E6: =SUM(P13:P14) -> 8962122 | I6: Urbana | J6: 1SM | K6: =L6*K8 -> 6.5521727e+10 | L6: 0.27662781 | N6: rural | O6: TOTAL | P6: =SUM(E25:P25) -> 3.6370844e+10 | Q6: =P6*$P$9/SUM($P$3,$P$6) -> 8.7198384e+10 | R6: TOTAL > 1 SM | S6: =Q6-SUM(Q7:Q8) -> 8.2982014e+08 | T6: =(O15-SUM(O16:O17))*788 -> 45101180 | U6: =T6/(O25-SUM(O26:O27)) -> 0.64448696 | V6: =U6*S6 -> 5.3480826e+08
D7: Demais | E7: =E8-E6 -> 10021027 | J7: Demais | K7: =K8-K6 -> 1.7133706e+11 | O7: < 1 | P7: =SUM(E26:P26) -> 1.3108306e+08 | Q7: =P7*$P$9/SUM($P$3,$P$6) -> 3.1426906e+08 | R7: < 1 | S7: =Q7 -> 3.1426906e+08 | T7: =O26 -> 26475343 | U7: =T7/O26 -> 1 | V7: =U7*S7 -> 3.1426906e+08
D8: Total | E8: =P12 -> 18983149 | J8: Total | K8: 2.3685878e+11 | O8: = 1 | P8: =SUM(E27:P27) -> 35893638764 | Q8: =P8*$P$9/SUM($P$3,$P$6) -> 8.6054295e+10 | R8: = 1 | S8: =Q8 -> 8.6054295e+10 | T8: =O27 -> 7184796456 | U8: =T8/O27 -> 1 | V8: =U8*S8 -> 8.6054295e+10
M9: Total | P9: =SUM(E28:P28) -> 3.8021422e+11 | Q9: =SUM(Q3,Q6) -> 3.8021422e+11 | S9: =SUM(S3:S8) -> 3.8021422e+11 | T9: =SUM(T3:T8) -> 2.1941062e+10 | U9: =T9/(O22+O25) -> 0.72435354 | V9: =SUM(V3:V8) -> 2.7148559e+11
Q10: 0.014512301 | R10: Contas para fazer dez/15 certo. O Boletim está colocando uma quantidade errada (quantidade de novembro)
B11: 2015- tabela 13 do BEPS de cada mês de 2014 - coluna: Benefícios do RGPS | E11: 42005 | F11: 42036 | G11: 42064 | H11: 42095 | I11: 42125 | J11: 42156 | K11: 42186 | L11: 42217 | M11: 42248 | N11: 42278 | O11: 42309 | P11: 42339 | S11: 42005 | T11: 42036 | U11: 42064 | V11: 42095 | W11: 42125 | X11: 42156 | Y11: 42186 | Z11: 42217 | AA11: 42248 | AB11: 42278 | AC11: 42309
B12: Qte | C12: urbana | D12: TOTAL | E12: 18654755 | F12: 18663692 | G12: 18693630 | H12: 18820704 | I12: 18850320 | J12: 18944114 | K12: 18981553 | L12: 18962537 | M12: 18905598 | N12: 18892435 | O12: 18942032 | P12: =R12*P18 -> 18983149 | R12: =AVERAGE(S12:AC12) -> 0.67134377 | S12: =E12/E$18 -> 0.67037671 | T12: =F12/F$18 -> 0.67020635 | U12: =G12/G$18 -> 0.67040084 | V12: =H12/H$18 -> 0.67121181 | W12: =I12/I$18 -> 0.67124628 | X12: =J12/J$18 -> 0.67171087 | Y12: =K12/K$18 -> 0.67189466 | Z12: =L12/L$18 -> 0.67202472 | ... AC12: =O12/O$18 -> 0.67194976
D13: < 1 | E13: 685352 | F13: 685575 | G13: 685881 | H13: 687903 | I13: 688325 | J13: 690107 | K13: 690850 | L13: 689356 | M13: 663823 | N13: 687110 | O13: 664876 | P13: 664876 | Q13: =SUM(P13:P14)/P12 -> 0.47210933 | R13: =AVERAGE(S13:AC13) -> 0.036271703 | S13: =E13/E12 -> 0.03673873 | T13: =F13/F12 -> 0.036733086 | U13: =G13/G12 -> 0.036690627 | V13: =H13/H12 -> 0.036550333 | W13: =I13/I12 -> 0.036515295 | X13: =J13/J12 -> 0.036428571 | Y13: =K13/K12 -> 0.036395863 | Z13: =L13/L12 -> 0.036353574 | ... AC13: =O13/O12 -> 0.035100564
D14: = 1 | E14: 8300454 | F14: 8301710 | G14: 8307230 | H14: 8354294 | I14: 8364570 | J14: 8398284 | K14: 8401709 | L14: 8367557 | M14: 8304660 | N14: 8285179 | O14: 8297246 | P14: 8297246 | R14: =AVERAGE(S14:AC14) -> 0.44225722 | S14: =E14/E12 -> 0.44495111 | T14: =F14/F12 -> 0.44480535 | U14: =G14/G12 -> 0.44438828 | V14: =H14/H12 -> 0.4438885 | W14: =I14/I12 -> 0.44373623 | X14: =J14/J12 -> 0.44331891 | Y14: =K14/K12 -> 0.44262495 | Z14: =L14/L12 -> 0.4412678 | ... AC14: =O14/O12 -> 0.43803358
C15: rural | D15: TOTAL | E15: 9172517 | F15: 9183988 | G15: 9190628 | H15: 9219184 | I15: 9232249 | J15: 9258666 | K15: 9269234 | L15: 9254486 | M15: 9234140 | N15: 9224969 | O15: 9247623 | P15: =R15*P18 -> 9293197.6 | R15: =AVERAGE(S15:AC15) -> 0.32865623 | S15: =E15/E$18 -> 0.32962329 | T15: =F15/F$18 -> 0.32979365 | U15: =G15/G$18 -> 0.32959916 | V15: =H15/H$18 -> 0.32878819 | W15: =I15/I$18 -> 0.32875372 | X15: =J15/J$18 -> 0.32828913 | Y15: =K15/K$18 -> 0.32810534 | Z15: =L15/L$18 -> 0.32797528 | ... AC15: =O15/O$18 -> 0.32805024
D16: < 1 | E16: 71278 | F16: 71417 | G16: 71787 | H16: 72268 | I16: 72451 | J16: 72813 | K16: 72999 | L16: 72936 | M16: 72638 | N16: 72588 | O16: 72626 | P16: 72626 | Q16: =SUM(P16:P17)/P15 -> 0.98893712 | R16: =AVERAGE(S16:AC16) -> 0.0078412428 | S16: =E16/E15 -> 0.0077708223 | T16: =F16/F15 -> 0.0077762514 | U16: =G16/G15 -> 0.0078108917 | V16: =H16/H15 -> 0.0078388716 | W16: =I16/I15 -> 0.0078476003 | X16: =J16/J15 -> 0.0078643079 | Y16: =K16/K15 -> 0.007875408 | Z16: =L16/L15 -> 0.0078811508 | ... AC16: =O16/O15 -> 0.0078534776
D17: = 1 | E17: 9045916 | F17: 9057029 | G17: 9063173 | H17: 9090910 | I17: 9103650 | J17: 9129467 | K17: 9139696 | L17: 9124977 | M17: 9104695 | N17: 9095537 | O17: 9117762 | P17: 9117762 | R17: =AVERAGE(S17:AC17) -> 0.98605889 | S17: =E17/E15 -> 0.98619779 | T17: =F17/F15 -> 0.98617605 | U17: =G17/G15 -> 0.98613207 | V17: =H17/H15 -> 0.98608619 | W17: =I17/I15 -> 0.98607067 | X17: =J17/J15 -> 0.98604561 | Y17: =K17/K15 -> 0.98602495 | Z17: =L17/L15 -> 0.98600581 | ... AC17: =O17/O15 -> 0.98595736
E18: {=TRANSPOSE(D31:D42)} -> 27827272 | F18: 27847680 | G18: 27884258 | H18: 28039888 | I18: 28082569 | J18: 28202780 | K18: 28250787 | L18: 28217023 | M18: 28139738 | N18: 28117404 | O18: 28189655 | P18: 28276347
E19: =E18-SUM(E15,E12) -> 0 | F19: =F18-SUM(F15,F12) -> 0 | G19: =G18-SUM(G15,G12) -> 0 | H19: =H18-SUM(H15,H12) -> 0 | I19: =I18-SUM(I15,I12) -> 0 | J19: =J18-SUM(J15,J12) -> 0 | K19: =K18-SUM(K15,K12) -> 0 | L19: =L18-SUM(L15,L12) -> 0 | ... P19: =P18-SUM(P15,P12) -> 0
B21: 2015- tabela 13 do BEPS de cada mês de 2014 - coluna: Benefícios do RGPS | E21: 42005 | F21: 42036 | G21: 42064 | H21: 42095 | I21: 42125 | J21: 42156 | K21: 42186 | L21: 42217 | M21: 42248 | N21: 42278 | O21: 42309 | P21: 42339
B22: Valor (projeções) | C22: urbana | D22: TOTAL | G22: 2.4490283e+10 | K22: 2.489547e+10 | L22: 2.4903935e+10 | M22: 2.4919262e+10 | O22: 2.3009291e+10
D23: < 1 | G23: 2.8374021e+08 | K23: 2.8689474e+08 | L23: 2.8645919e+08 | M23: 2.8152929e+08 | O23: 2.8229023e+08
D24: = 1 | G24: 6546097240 | K24: 6620546692 | L24: 6593634916 | M24: 6544072080 | O24: 6538229848
C25: rural | D25: TOTAL | G25: 7.2358245e+09 | K25: 7.2974485e+09 | L25: 7.2858432e+09 | M25: 7.2704756e+09 | O25: 7.2812518e+09
D26: < 1 | G26: 25758877 | K26: 26193149 | L26: 26171686 | M26: 26484005 | O26: 26475343
D27: = 1 | G27: 7141780324 | K27: 7202080448 | L27: 7190481876 | M27: 7174499660 | O27: 7184796456
C28: TOTAL | E28: {=TRANSPOSE(E31:E42)} -> 2.8815604e+10 | F28: 2.8794914e+10 | G28: 2.8861471e+10 | H28: 2.903762e+10 | I28: 2.9094167e+10 | J28: 2.9227795e+10 | K28: 2.9273134e+10 | L28: 2.9242758e+10 | M28: 4.4565355e+10 | N28: 2.9159204e+10 | O28: 4.4907123e+10 | P28: 2.9235079e+10
D30: Qte | E30: valor
B31: 2015 | C31: Janeiro | D31: 27827272 | E31: 2.8815604e+10 | L31: 42064 | M31: 42186 | N31: 42217 | O31: 42248 | P31: 42309
C32: Fevereiro | D32: 27847680 | E32: 2.8794914e+10 | I32: Valor (projeções) | J32: urbana | K32: TOTAL | L32: 2.4490283e+10 | M32: 2.489547e+10 | N32: 2.4903935e+10 | O32: 2.4919262e+10 | P32: 2.3009291e+10
C33: Março | D33: 27884258 | E33: 2.8861471e+10 | K33: < 1 | L33: 2.8374021e+08 | M33: 2.8689474e+08 | N33: 2.8645919e+08 | O33: 2.8152929e+08 | P33: 2.8229023e+08 | R33: =SUM(L33:L34)/L32 -> 0.27887949 | S33: =SUM(M33:M34)/M32 -> 0.27745776 | T33: =SUM(N33:N34)/N32 -> 0.27626534 | U33: =SUM(O33:O34)/O32 -> 0.27390865
C34: Abril | D34: 28039888 | E34: 2.903762e+10 | K34: = 1 | L34: 6546097240 | M34: 6620546692 | N34: 6593634916 | O34: 6544072080 | P34: 6538229848
C35: Maio | D35: 28082569 | E35: 2.9094167e+10 | J35: rural | K35: TOTAL | L35: 7.2358245e+09 | M35: 7.2974485e+09 | N35: 7.2858432e+09 | O35: 7.2704756e+09 | P35: 7.2812518e+09
C36: Junho | D36: 28202780 | E36: 2.9227795e+10 | K36: < 1 | L36: 25758877 | M36: 26193149 | N36: 26171686 | O36: 26484005 | P36: 26475343 | R36: =SUM(L36:L37)/L35 -> 0.99056288 | S36: =SUM(M36:M37)/M35 -> 0.99052067 | T36: =SUM(N36:N37)/N35 -> 0.99050355 | U36: =SUM(O36:O37)/O35 -> 0.9904419
C37: Julho | D37: 28250787 | E37: 2.9273134e+10 | K37: = 1 | L37: 7141780324 | M37: 7202080448 | N37: 7190481876 | O37: 7174499660 | P37: 7184796456
C38: Agosto | D38: 28217023 | E38: 2.9242758e+10
C39: Setembro | D39: 28139738 | E39: 4.4565355e+10 | K39: =AVERAGE(R33:U33) -> 0.27662781
C40: Outubro | D40: 28117404 | E40: 2.9159204e+10 | K40: =AVERAGE(R36:U36) -> 0.99050725
C41: Novembro (1) | D41: 28189655 | E41: 4.4907123e+10
C42: Dezembro | D42: 28276347 | E42: 2.9235079e+10
...

Sheet RGPS_Valor_Dezembro
A1: Coluna | B1: Clientela | C1: Ano
A2: Classe/Grupos de Espécies | B2: Faixa de Valor | C2: Urbana | D2: Urbana | E2: Urbana | F2: Urbana | G2: Urbana | H2: Urbana | I2: Urbana | J2: Urbana | K2: Urbana | L2: Urbana | M2: Urbana | N2: Urbana | O2: Rural | P2: Rural | Q2: Rural | R2: Rural | S2: Rural | T2: Rural | U2: Rural | V2: Rural | W2: Rural | X2: Rural | Y2: Rural | Z2: Rural | AA2: Total | AB2: Total | AC2: Total | AD2: Total | AE2: Total | AF2: Total | AG2: Total | AH2: Total | AI2: Total | AJ2: Total | AK2: Total | AL2: Total
C3: 2002 | D3: 2003 | E3: 2004 | F3: 2005 | G3: 2006 | H3: 2007 | I3: 2008 | J3: 2009 | K3: 2010 | L3: 2011 | M3: 2012 | N3: 2013 | O3: 2002 | P3: 2003 | Q3: 2004 | R3: 2005 | S3: 2006 | T3: 2007 | U3: 2008 | V3: 2009 | W3: 2010 | X3: 2011 | Y3: 2012 | Z3: 2013 | AA3: 2002 | AB3: 2003 | AC3: 2004 | AD3: 2005 | AE3: 2006 | AF3: 2007 | AG3: 2008 | AH3: 2009 | AI3: 2010 | AJ3: 2011 | AK3: 2012 | AL3: 2013
A4: BENEFÍCIOS DO RGPS | B4: Total | C4: 5.5386038e+09 | D4: 6939743878 | E4: 7955597102 | F4: 8978429770 | G4: 9.9360209e+09 | H4: 1.0651258e+10 | I4: 1.1737979e+10 | J4: 1.3100364e+10 | K4: 1.4837852e+10 | L4: 1.6458415e+10 | M4: 1.8514522e+10 | N4: 2.0790808e+10 | O4: 1.3281487e+09 | P4: 1638538010 | Q4: 1823082394 | R4: 2154402242 | S4: 2.5687485e+09 | T4: 2.8591832e+09 | U4: 3.2204649e+09 | V4: 3.7244034e+09 | W4: 4.2111621e+09 | X4: 4.6160679e+09 | Y4: 5.4118681e+09 | Z4: 6.0683903e+09 | AA4: 6.8667525e+09 | AB4: 8578281888 | AC4: 9778679496 | AD4: 11132832012 | AE4: 1.2504769e+10 | AF4: 1.3510441e+10 | AG4: 1.4958444e+10 | AH4: 1.6824767e+10 | AI4: 1.9049014e+10 | AJ4: 2.1074483e+10 | AK4: 2.3926391e+10 | AL4: 2.6859199e+10
B5: Abaixo de 1 | C5: 45080928 | D5: 54326696 | E5: 60361610 | F5: 72791425 | G5: 90274928 | H5: 1.0103668e+08 | I5: 1.146295e+08 | J5: 1.3517246e+08 | K5: 1.5333448e+08 | L5: 1.6917093e+08 | M5: 2.0479683e+08 | N5: 2.3327051e+08 | O5: 2212277.4 | P5: 2968163 | Q5: 3601667 | R5: 4623464 | S5: 6105413 | T5: 7362813.3 | U5: 8605182.6 | V5: 10734007 | W5: 12729833 | X5: 14618346 | Y5: 17854378 | Z5: 20862186 | AA5: 47293206 | AB5: 57294859 | AC5: 63963277 | AD5: 77414889 | AE5: 96380341 | AF5: 1.0839949e+08 | AG5: 1.2323469e+08 | AH5: 1.4590647e+08 | AI5: 1.6606431e+08 | AJ5: 1.8378927e+08 | AK5: 2.2265121e+08 | AL5: 2.541327e+08
B6: Igual a 1 | C6: 950272400 | D6: 1147365600 | E6: 1313731380 | F6: 1628582100 | G6: 2034992750 | H6: 2300196620 | I6: 2614735720 | J6: 3100017825 | K6: 3497048070 | L6: 3801658400 | M6: 4719517056 | N6: 5352609312 | O6: 1292227200 | P6: 1593018240 | Q6: 1774333340 | R6: 2104683600 | S6: 2519292300 | T6: 2808515020 | U6: 3166999460 | V6: 3667233195 | W6: 4146929850 | X6: 4545316350 | Y6: 5337717880 | Z6: 5986682370 | AA6: 2242499600 | AB6: 2740383840 | AC6: 3088064720 | AD6: 3733265700 | AE6: 4554285050 | AF6: 5108711640 | AG6: 5781735180 | AH6: 6767251020 | AI6: 7643977920 | AJ6: 8346974750 | AK6: 10057234936 | AL6: 11339291682
B7: Acima de 1 Até 2 | C7: 7.0995624e+08 | D7: 914314793 | E7: 1073722600 | F7: 1314319893 | G7: 1.6122796e+09 | H7: 1.7835222e+09 | I7: 2.0452343e+09 | J7: 2.3989832e+09 | K7: 2.8333087e+09 | L7: 3.1873056e+09 | M7: 3.7831357e+09 | N7: 4.3937391e+09 | O7: 17510454 | P7: 22509980 | Q7: 23759494 | R7: 24614569 | S7: 25049854 | T7: 25677317 | U7: 27395997 | V7: 29356927 | W7: 33022813 | X7: 36472234 | Y7: 38135418 | Z7: 42683532 | AA7: 7.2746669e+08 | AB7: 936824773 | AC7: 1097482094 | AD7: 1338934462 | AE7: 1.6373295e+09 | AF7: 1.8091996e+09 | AG7: 2.0726303e+09 | AH7: 2.4283401e+09 | AI7: 2.8663315e+09 | AJ7: 3.2237778e+09 | AK7: 3.8212711e+09 | AL7: 4.4364227e+09
B8: Acima de 2 Até 3 | C8: 7.0659325e+08 | D8: 899807608 | E8: 1070702379 | F8: 1281133331 | G8: 1.5313745e+09 | H8: 1.6976161e+09 | I8: 1.9257454e+09 | J8: 2.238392e+09 | K8: 2.5774918e+09 | L8: 2.874133e+09 | M8: 3.5508257e+09 | N8: 4.0708237e+09 | O8: 7659217.6 | P8: 9504062 | Q8: 10331033 | R8: 10292490 | S8: 9661303.7 | T8: 9581907.9 | U8: 9744138.5 | V8: 9852332.7 | W8: 10558646 | X8: 11334370 | Y8: 11028020 | Z8: 11235314 | AA8: 7.1425247e+08 | AB8: 909311670 | AC8: 1081033412 | AD8: 1291425821 | AE8: 1.5410358e+09 | AF8: 1.707198e+09 | AG8: 1.9354895e+09 | AH8: 2.2482444e+09 | AI8: 2.5880505e+09 | AJ8: 2.8854674e+09 | AK8: 3.5618537e+09 | AL8: 4.0820591e+09
B9: Acima de 3 Até 4 | C9: 6.9112245e+08 | D9: 873647550 | E9: 1025224581 | F9: 1236330187 | G9: 1.6248302e+09 | H9: 1.8406293e+09 | I9: 2.0842652e+09 | J9: 2.42755e+09 | K9: 2.7535859e+09 | L9: 3.0617509e+09 | M9: 3.3170678e+09 | N9: 3.7431392e+09 | O9: 3856386 | P9: 4792409 | Q9: 5130414 | R9: 4931676 | S9: 4479329.4 | T9: 4267187 | U9: 4181741 | V9: 3983923.2 | W9: 4336156.7 | X9: 4509304.7 | Y9: 4599546.5 | Z9: 4599313.3 | AA9: 6.9497883e+08 | AB9: 878439959 | AC9: 1030354995 | AD9: 1241261863 | AE9: 1.6293095e+09 | AF9: 1.8448965e+09 | AG9: 2.088447e+09 | AH9: 2.4315339e+09 | AI9: 2.757922e+09 | AJ9: 3.0662602e+09 | AK9: 3.3216674e+09 | AL9: 3.7477385e+09
B10: Acima de 4 Até 5 | C10: 8.3838678e+08 | D10: 1039196891 | E10: 1190374997 | F10: 1387521338 | G10: 1.4203154e+09 | H10: 1.527118e+09 | I10: 1.6739169e+09 | J10: 1.9864968e+09 | K10: 2.1570861e+09 | L10: 2.2584154e+09 | M10: 2.1617311e+09 | N10: 2.2349633e+09 | O10: 2143545.1 | P10: 2587186 | Q10: 2736956 | R10: 2548579 | S10: 2336442.7 | T10: 2440340.2 | U10: 2440200.7 | V10: 2797129.2 | W10: 3094089 | X10: 3143555 | Y10: 2202175.4 | Z10: 2055590.7 | AA10: 8.4053033e+08 | AB10: 1041784077 | AC10: 1193111953 | AD10: 1390069917 | AE10: 1.4226518e+09 | AF10: 1.5295583e+09 | AG10: 1.6763571e+09 | AH10: 1.9892939e+09 | AI10: 2.1601801e+09 | AJ10: 2.261559e+09 | AK10: 2.1639332e+09 | AL10: 2.2370189e+09
B11: Acima de 5 Até 6 | C11: 7.0413725e+08 | D11: 879861465 | E11: 953328142 | F11: 1066754954 | G11: 1.1803937e+09 | H11: 1.1392315e+09 | I11: 1.0269405e+09 | J11: 6.260082e+08 | K11: 6.8278401e+08 | L11: 8.8828399e+08 | M11: 6.3226481e+08 | N11: 6.3793105e+08 | O11: 1421687.9 | P11: 1760280 | Q11: 1738382 | R11: 1788121 | S11: 1564147.5 | T11: 1238323.8 | U11: 999452.78 | V11: 378332.51 | W11: 403360.35 | X11: 550387.83 | Y11: 271380.81 | Z11: 244839.76 | AA11: 7.0555893e+08 | AB11: 881621745 | AC11: 955066524 | AD11: 1068543075 | AE11: 1.1819578e+09 | AF11: 1.1404699e+09 | AG11: 1.0279399e+09 | AH11: 6.2638653e+08 | AI11: 6.8318737e+08 | AJ11: 8.8883438e+08 | AK11: 6.3253619e+08 | AL11: 6.3817589e+08
B12: Acima de 6 Até 7 | C12: 5.3501758e+08 | D12: 667297140 | E12: 868500678 | F12: 811336786 | G12: 3.4281202e+08 | H12: 1.7712655e+08 | I12: 1.6755874e+08 | J12: 1.2934314e+08 | K12: 1.250913e+08 | L12: 1.5670429e+08 | M12: 87619042 | N12: 65862975 | O12: 828583.72 | P12: 1031149 | Q12: 1207215 | R12: 837779 | S12: 229244.43 | T12: 74148.43 | U12: 79704.48 | V12: 56628.1 | W12: 75625.21 | X12: 115006.72 | Y12: 50340.9 | Z12: 22272.05 | AA12: 5.3584617e+08 | AB12: 668328289 | AC12: 869707893 | AD12: 812174565 | AE12: 3.4304127e+08 | AF12: 1.772007e+08 | AG12: 1.6763844e+08 | AH12: 1.2939976e+08 | AI12: 1.2516692e+08 | AJ12: 1.568193e+08 | AK12: 87669382 | AL12: 65885247
B13: Acima de 7 Até 8 | C13: 2.6673522e+08 | D13: 377300174 | E13: 294115585 | F13: 103673280 | G13: 43731223 | H13: 34245268 | I13: 36049345 | J13: 11319176 | K13: 10757414 | L13: 10711017 | M13: 12719032 | N13: 14727790 | O13: 263559.9 | P13: 341710 | Q13: 216054 | R13: 58064 | S13: 21184.31 | T13: 19848.06 | U13: 15591.51 | V13: 10895.83 | W13: 11757.06 | X13: 8338.3 | Y13: 8961.48 | Z13: 4880.85 | AA13: 2.6699878e+08 | AB13: 377641884 | AC13: 294331639 | AD13: 103731344 | AE13: 43752407 | AF13: 34265116 | AG13: 36064936 | AH13: 11330072 | AI13: 10769171 | AJ13: 10719355 | AK13: 12727993 | AL13: 14732670
B14: Acima de 8 Até 9 | C14: 20898195 | D14: 23056573 | E14: 40122550 | F14: 22325330 | G14: 11079987 | H14: 9256932.3 | I14: 10899747 | J14: 12563438 | K14: 12796359 | L14: 11823495 | M14: 12049161 | N14: 10399486 | O14: 10186.54 | P14: 12084 | Q14: 19454 | R14: 17753 | S14: 2801.81 | T14: 6342.02 | U14: 3447.17 | V14: 0 | W14: 0 | X14: 0 | Y14: 0 | Z14: 0 | AA14: 20908382 | AB14: 23068657 | AC14: 40142004 | AD14: 22343083 | AE14: 11082789 | AF14: 9263274.3 | AG14: 10903194 | AH14: 12563438 | AI14: 12796359 | AJ14: 11823495 | AK14: 12049161 | AL14: 10399486
B15: Acima de 9 Até 10 | C15: 12391888 | D15: 13118830 | E15: 15415148 | F15: 10260577 | G15: 7602053.1 | H15: 10396795 | I15: 8230873.9 | J15: 5340273.8 | K15: 5644109.9 | L15: 8316597.5 | M15: 3647866.6 | N15: 3612136.3 | O15: 1840.43 | P15: 2203 | Q15: 0 | R15: 0 | S15: 6455.4 | T15: 0 | U15: 0 | V15: 0 | W15: 0 | X15: 0 | Y15: 0 | Z15: 0 | AA15: 12393729 | AB15: 13121033 | AC15: 15415148 | AD15: 10260577 | AE15: 7608508.5 | AF15: 10396795 | AG15: 8230873.9 | AH15: 5340273.8 | AI15: 5644109.9 | AJ15: 8316597.5 | AK15: 3647866.6 | AL15: 3612136.3
B16: Acima de 10 Até 20 | C16: 39100617 | D16: 35397702 | E16: 35639158 | F16: 28696172 | G16: 26688739 | H16: 21248279 | I16: 20547408 | J16: 20367428 | K16: 20834131 | L16: 21847772 | M16: 21636559 | N16: 22325884 | O16: 13777.32 | P16: 10544 | Q16: 8385 | R16: 6147 | S16: 0 | T16: 0 | U16: 0 | V16: 0 | W16: 0 | X16: 0 | Y16: 0 | Z16: 0 | AA16: 39114394 | AB16: 35408246 | AC16: 35647543 | AD16: 28702319 | AE16: 26688739 | AF16: 21248279 | AG16: 20547408 | AH16: 20367428 | AI16: 20834131 | AJ16: 21847772 | AK16: 21636559 | AL16: 22325884
... B18: Acima de 50 | C18: 2516850.4 | D18: 3133753 | E18: 3239420 | F18: 4241863 | G18: 2606640.7 | H18: 2205520.9 | I18: 2114409.1 | J18: 1875862.2 | K18: 1637662.2 | L18: 85279.58 | M18: 90464.57 | N18: 96073.36 | O18: 0 | P18: 0 | Q18: 0 | R18: 0 | S18: 0 | T18: 0 | U18: 0 | V18: 0 | W18: 0 | X18: 0 | Y18: 0 | Z18: 0 | AA18: 2516850.4 | AB18: 3133753 | AC18: 3239420 | AD18: 4241863 | AE18: 2606640.7 | AF18: 2205520.9 | AG18: 2114409.1 | AH18: 1875862.2 | AI18: 1637662.2 | AJ18: 85279.58 | AK18: 90464.57 | AL18: 96073.36
A19: Tempo de Contribuição | B19: Total | C19: 2.508062e+09 | D19: 3051128786 | E19: 3356744290 | F19: 3640883266 | G19: 3.9349715e+09 | H19: 4.2474868e+09 | I19: 4.664677e+09 | J19: 5.1866815e+09 | K19: 5.8070705e+09 | L19: 6.4580294e+09 | M19: 7.1641959e+09 | N19: 7.9549786e+09 | O19: 2949152.7 | P19: 3730033 | Q19: 4312062 | R19: 5210948 | S19: 6294700.3 | T19: 7056751.4 | U19: 8137582.5 | V19: 9631514.6 | W19: 11117676 | X19: 12481536 | Y19: 14265809 | Z19: 16120279 | AA19: 2.5110112e+09 | AB19: 3054858819 | AC19: 3361056352 | AD19: 3646094214 | AE19: 3.9412662e+09 | AF19: 4.2545436e+09 | AG19: 4.6728146e+09 | AH19: 5.196313e+09 | AI19: 5.8181882e+09 | AJ19: 6.4705109e+09 | AK19: 7.1784618e+09 | AL19: 7.9710989e+09
B20: Abaixo de 1 | C20: 3766990.1 | D20: 4811711 | E20: 5443846 | F20: 6980966 | G20: 9395524.9 | H20: 9879142.9 | I20: 12043992 | J20: 14811152 | K20: 16614852 | L20: 17741291 | M20: 20917333 | N20: 22973002 | O20: 1509.37 | P20: 2354 | Q20: 3745 | R20: 4994 | S20: 6527.15 | T20: 7760.31 | U20: 8626.46 | V20: 12808.27 | W20: 14504.1 | X20: 15500.34 | Y20: 17852.66 | Z20: 22013.75 | AA20: 3768499.5 | AB20: 4814065 | AC20: 5447591 | AD20: 6985960 | AE20: 9402052 | AF20: 9886903.3 | AG20: 12052618 | AH20: 14823960 | AI20: 16629356 | AJ20: 17756791 | AK20: 20935186 | AL20: 22995016
