Workbook

Sheet Summary
A2: Annex
A4: 1. | B4: Central Government Primary Balance
A5: 1.1. | B5: Central Government Fiscal Balance - Monthly
A6: 1.2. | B6: Central Government Primary Revenue - Brazil - Monthly
A7: 1.3. | B7: Dividends - Brazil - Monthly
A8: 1.4. | B8: Central Government Primary Expenditure - Brazil - Monthly
A9: 1.5. | B9: Federal Government Investment by Government Agency - Brazil - Monthly
A10: 1.6. | B10: Central Government Transfers and Primary Expenditures, according to the "value paid" method - Brazil - Monthly
A11: 1.7. | B11: Central Government Transfers and Primary Expenses, by Branch, according to the "value paid" method - Brazil - Monthly
A13: 2. | B13: National Treasury and Central Bank Relationship
A14: 2.1. | B14: National Treasury and Central Bank Relationship - Brazil - Monthly
A15: 2.2. | B15: National Treasury and Central Bank Relationship - Brazil - Annual
A17: 3. | B17: National Treasury's Net Debt
... A26: 4.6. | B26: Central Government Transfers and Primary Expenses, by Branch, according to the "value paid" method - Brazil - Annual

Sheet 1.1
A2: Table 1.1. Central Government Fiscal Balance - Brazil - Monthly
A3: R$ Million - Constant Prices
B5: 35431 | C5: 35462 | D5: 35490 | E5: 35521 | F5: 35551 | G5: 35582 | H5: 35612 | I5: 35643 | J5: 35674 | K5: 35704 | L5: 35735 | M5: 35765 | N5: 35796 | O5: 35827 | P5: 35855 | Q5: 35886 | R5: 35916 | S5: 35947 | T5: 35977 | U5: 36008 | V5: 36039 | W5: 36069 | X5: 36100 | Y5: 36130 | Z5: 36161 | AA5: 36192 | AB5: 36220 | AC5: 36251 | AD5: 36281 | AE5: 36312 | AF5: 36342 | AG5: 36373 | AH5: 36404 | AI5: 36434 | AJ5: 36465 | AK5: 36495 | AL5: 36526 | AM5: 36557 | AN5: 36586 | AO5: 36617 | AP5: 36647 | AQ5: 36678 | AR5: 36708 | AS5: 36739 | AT5: 36770 | AU5: 36800 | AV5: 36831 | AW5: 36861 | AX5: 36892 | AY5: 36923 | AZ5: 36951 | BA5: 36982 | BB5: 37012 | BC5: 37043 | BD5: 37073 | BE5: 37104 | BF5: 37135 | BG5: 37165 | BH5: 37196 | BI5: 37226 | BJ5: 37257 | BK5: 37288 | BL5: 37316 | BM5: 37347 | BN5: 37377 | BO5: 37408 | BP5: 37438 | BQ5: 37469 | BR5: 37500 | BS5: 37530 | BT5: 37561 | BU5: 37591 | BV5: 37622 | BW5: 37653 | BX5: 37681 | BY5: 37712 | BZ5: 37742 | CA5: 37773 | CB5: 37803 | CC5: 37834 | CD5: 37865 | CE5: 37895 | CF5: 37926 | CG5: 37956 | CH5: 37987 | CI5: 38018 | CJ5: 38047 | CK5: 38078 | CL5: 38108 | CM5: 38139 | CN5: 38169 | CO5: 38200 | CP5: 38231 | CQ5: 38261 | CR5: 38292 | CS5: 38322 | CT5: 38353 | CU5: 38384 | CV5: 38412 | CW5: 38443 | CX5: 38473 | CY5: 38504 | CZ5: 38534 | DA5: 38565 | DB5: 38596 | DC5: 38626 | DD5: 38657 | DE5: 38687 | DF5: 38718 | DG5: 38749 | DH5: 38777 | DI5: 38808 | DJ5: 38838 | DK5: 38869 | DL5: 38899 | DM5: 38930 | DN5: 38961 | DO5: 38991 | DP5: 39022 | DQ5: 39052 | DR5: 39083 | DS5: 39114 | DT5: 39142 | DU5: 39173 | DV5: 39203 | DW5: 39234 | DX5: 39264 | DY5: 39295 | DZ5: 39326 | EA5: 39356 | EB5: 39387 | EC5: 39417 | ED5: 39448 | EE5: 39479 | EF5: 39508 | EG5: 39539 | EH5: 39569 | EI5: 39600 | EJ5: 39630 | EK5: 39661 | EL5: 39692 | EM5: 39722 | EN5: 39753 | EO5: 39783 | EP5: 39814 | EQ5: 39845 | ER5: 39873 | ES5: 39904 | ET5: 39934 | EU5: 39965 | EV5: 39995 | EW5: 40026 | EX5: 40057 | EY5: 40087 | EZ5: 40118 | FA5: 40148 | FB5: 40179 | FC5: 40210 | FD5: 40238 | FE5: 40269 | FF5: 40299 | FG5: 40330 | FH5: 40360 | FI5: 40391 | FJ5: 40422 | FK5: 40452 | FL5: 40483 | FM5: 40513 | FN5: 40544 | FO5: 40575 | FP5: 40603 | FQ5: 40634 | FR5: 40664 | FS5: 40695 | FT5: 40725 | FU5: 40756 | FV5: 40787 | FW5: 40817 | FX5: 40848 | FY5: 40878 | FZ5: 40909 | GA5: 40940 | GB5: 40969 | GC5: 41000 | GD5: 41030 | GE5: 41061 | GF5: 41091 | GG5: 41122 | GH5: 41153 | GI5: 41183 | GJ5: 41214 | GK5: 41244 | GL5: 41275 | GM5: 41306 | GN5: 41334 | GO5: 41365 | GP5: 41395 | GQ5: 41426 | GR5: 41456 | GS5: 41487 | GT5: 41518 | GU5: 41548 | GV5: 41579 | GW5: 41609 | GX5: 41640 | GY5: 41671 | GZ5: 41699 | HA5: 41730 | HB5: 41760 | HC5: 41791 | HD5: 41821 | HE5: 41852 | HF5: 41883 | HG5: 41913 | HH5: 41944 | HI5: 41974 | HJ5: 42005 | HK5: 42036 | HL5: 42064 | HM5: 42095 | HN5: 42125 | HO5: 42156 | HP5: 42186 | HQ5: 42217 | HR5: 42248 | HS5: 42278 | HT5: 42309 | HU5: 42339 | HV5: 42370 | HW5: 42401 | HX5: 42430 | HY5: 42461 | HZ5: 42491 | IA5: 42522 | IB5: 42552 | IC5: 42583 | ID5: 42614 | IE5: 42644 | IF5: 42675 | IG5: 42705 | IH5: 42736 | II5: 42767 | IJ5: 42795 | IK5: 42826 | IL5: 42856 | IM5: 42887 | IN5: 42917 | IO5: 42948 | IP5: 42979 | IQ5: 43009 | IR5: 43040 | IS5: 43070 | IT5: 43101 | IU5: 43132 | IV5: 43160 | IW5: 43191 | IX5: 43221 | IY5: 43252 | IZ5: 43282 | JA5: 43313 | JB5: 43344 | JC5: 43374 | JD5: 43405 | JE5: 43435 | JF5: 43466
A6: I. TOTAL REVENUE | B6: 12290.484 | C6: 11596.254 | D6: 13069.057 | E6: 13388.172 | F6: 12508.213 | G6: 11824.057 | H6: 13248.001 | I6: 13393.354 | J6: 12771.906 | K6: 13497.085 | L6: 12991.687 | M6: 18434.105 | N6: 15390.441 | O6: 13199.191 | P6: 17814.424 | Q6: 15669.7 | R6: 13517.952 | S6: 12474.794 | T6: 13744.353 | U6: 20363.909 | V6: 13435.943 | W6: 13112.173 | X6: 14546.424 | Y6: 20246.9 | Z6: 14994.903 | AA6: 16084.53 | AB6: 19747.916 | AC6: 16224.478 | AD6: 14513.201 | AE6: 17662.848 | AF6: 17926.318 | AG6: 17648.376 | AH6: 18096.124 | AI6: 16474.549 | AJ6: 17142.227 | AK6: 22868.06 | AL6: 18304.835 | AM6: 17018.082 | AN6: 20072.894 | AO6: 18995.277 | AP6: 19185.126 | AQ6: 18199.04 | AR6: 18559.048 | AS6: 20688.92 | AT6: 18747.605 | AU6: 19885.95 | AV6: 20029.44 | AW6: 25365.708 | AX6: 22546.738 | AY6: 18331.664 | AZ6: 21516.402 | BA6: 24456.011 | BB6: 23303.697 | BC6: 20797.11 | BD6: 21867.607 | BE6: 22460.779 | BF6: 21085.187 | BG6: 23373.299 | BH6: 22064.582 | BI6: 28638.105 | BJ6: 29078.863 | BK6: 23843.325 | BL6: 23280.391 | BM6: 26673.469 | BN6: 24789.003 | BO6: 22182.33 | BP6: 27003.655 | BQ6: 23982.41 | BR6: 28905.434 | BS6: 29822.452 | BT6: 26797.561 | BU6: 33697.561 | BV6: 32258.519 | BW6: 27572.609 | BX6: 26120.967 | BY6: 31994.296 | BZ6: 29444.974 | CA6: 24988.332 | CB6: 29460.65 | CC6: 28122.313 | CD6: 28050.116 | CE6: 31624.766 | CF6: 29664.785 | CG6: 36829.208 | CH6: 34632.5 | CI6: 31399.798 | CJ6: 32900.907 | CK6: 34848.379 | CL6: 32861.316 | CM6: 33267.73 | CN6: 34778.624 | CO6: 33470.974 | CP6: 34334.325 | CQ6: 35722.52 | CR6: 33368.289 | CS6: 47407.928 | CT6: 41412.105 | CU6: 35160.139 | CV6: 38227.214 | CW6: 42748.11 | CX6: 36882.83 | CY6: 40391.302 | CZ6: 40143.886 | DA6: 39225.79 | DB6: 36668.92 | DC6: 41383.682 | DD6: 39794.638 | DE6: 55783.464 | DF6: 45585.442 | DG6: 38550.593 | DH6: 41432.674 | DI6: 48874.16 | DJ6: 42131.859 | DK6: 44353.491 | DL6: 44796.296 | DM6: 45376.109 | DN6: 44712.147 | DO6: 46777.864 | DP6: 42681.753 | DQ6: 57537.618 | DR6: 52093.745 | DS6: 43127.756 | DT6: 47648.263 | DU6: 54958.305 | DV6: 48187.953 | DW6: 49421.99 | DX6: 50863.169 | DY6: 48634.867 | DZ6: 49283.747 | EA6: 54653.427 | EB6: 52487.532 | EC6: 66991.355 | ED6: 64545.568 | EE6: 50047.844 | EF6: 55599.705 | EG6: 63467.324 | EH6: 54766.788 | EI6: 56135.189 | EJ6: 62779.103 | EK6: 58383.007 | EL6: 59933.158 | EM6: 65600.868 | EN6: 55170.446 | EO6: 69186.897 | EP6: 62791.355 | EQ6: 48239.107 | ER6: 55817.283 | ES6: 62786.123 | ET6: 56247.831 | EU6: 54943.453 | EV6: 60234.258 | EW6: 60716.919 | EX6: 53401.356 | EY6: 69305.853 | EZ6: 74135.969 | FA6: 79505.439 | FB6: 73822.771 | FC6: 56999.169 | FD6: 62456.098 | FE6: 78472.781 | FF6: 65405.097 | FG6: 61370.249 | FH6: 68463.714 | FI6: 69713.76 | FJ6: 139092.65 | FK6: 73969.603 | FL6: 70985.556 | FM6: 97779.919 | FN6: 90785.19 | FO6: 66784.324 | FP6: 73339.439 | FQ6: 89169.095 | FR6: 75397.315 | FS6: 83500.125 | FT6: 89954 | FU6: 74778.152 | FV6: 78294.849 | FW6: 86529.709 | FX6: 79551.09 | FY6: 100186.79 | FZ6: 102285.44 | GA6: 77571.624 | GB6: 82909.854 | GC6: 96629.196 | GD6: 81415.149 | GE6: 79856.632 | GF6: 88113.713 | GG6: 81574.329 | GH6: 81245.74 | GI6: 90875.404 | GJ6: 82889.758 | GK6: 114522.58 | GL6: 117231.15 | GM6: 75977.85 | GN6: 79833.712 | GO6: 104232.9 | GP6: 92325.533 | GQ6: 90290.35 | GR6: 97276.981 | GS6: 89012.851 | GT6: 86769.244 | GU6: 100162.16 | GV6: 126264.51 | GW6: 119606 | GX6: 124779.07 | GY6: 86868.539 | GZ6: 93683.935 | HA6: 111991.81 | HB6: 90108.715 | HC6: 92902.944 | HD6: 101007.01 | HE6: 99751.784 | HF6: 91517.476 | HG6: 105862.72 | HH6: 102342.49 | HI6: 120657.64 | HJ6: 125392.55 | HK6: 91616.477 | HL6: 97291.898 | HM6: 117360.15 | HN6: 97056.762 | HO6: 97932.589 | HP6: 105300.7 | HQ6: 95442.489 | HR6: 95523.556 | HS6: 102986.88 | HT6: 92022.587 | HU6: 129862.7 | HV6: 141198.86 | HW6: 89605.957 | HX6: 98189.558 | HY6: 119424.24 | HZ6: 96498.939 | IA6: 100328.42 | IB6: 107885.29 | IC6: 91314.542 | ID6: 93654.621 | IE6: 147880.3 | IF6: 100316.87 | IG6: 128655.27 | IH6: 137374.76 | II6: 93960.838 | IJ6: 102839.34 | IK6: 126024.62 | IL6: 99325.81 | IM6: 104759.3 | IN6: 108508.36 | IO6: 109667.91 | IP6: 103934.36 | IQ6: 120262.86 | IR6: 124797.17 | IS6: 151626.31 | IT6: 156155.86 | IU6: 106063.8 | IV6: 107353.14 | IW6: 139236.34 | IX6: 112763.09 | IY6: 108892.44 | IZ6: 126374.92 | JA6: 114954.47 | JB6: 111617.07 | JC6: 132018.21 | JD6: 124243.03 | JE6: 144565.76 | JF6: 160970.33
A7: I.1 - Revenues Collected by the Federal Revenue Office | B7: 7771.6863 | C7: 7412.7678 | D7: 8772.0905 | E7: 9102.3866 | F7: 8007.4372 | G7: 7705.8809 | H7: 8486.7799 | I7: 7696.9248 | J7: 8172.1177 | K7: 8948.6853 | L7: 8542.9045 | M7: 11091.33 | N7: 10906.728 | O7: 9024.2133 | P7: 10507.18 | Q7: 9697.2334 | R7: 8287.8722 | S7: 7781.8275 | T7: 9314.9829 | U7: 9491.7671 | V7: 9043.5348 | W7: 8605.6748 | X7: 8271.4698 | Y7: 10819.928 | Z7: 9686.2348 | AA7: 11581.96 | AB7: 11670.066 | AC7: 10843.194 | AD7: 9262.8038 | AE7: 9868.6089 | AF7: 12249.197 | AG7: 9509.3871 | AH7: 12560.933 | AI7: 11415.368 | AJ7: 11963.382 | AK7: 13704.108 | AL7: 12893.568 | AM7: 11871.598 | AN7: 14312.878 | AO7: 12697.542 | AP7: 12235.119 | AQ7: 11978.423 | AR7: 12138.307 | AS7: 11867.723 | AT7: 12766.476 | AU7: 13655.787 | AV7: 14115.759 | AW7: 15654.543 | AX7: 16203.272 | AY7: 12283.355 | AZ7: 14080.357 | BA7: 15601.024 | BB7: 15115.359 | BC7: 13997.948 | BD7: 14883.506 | BE7: 14610.351 | BF7: 14451.715 | BG7: 16318.638 | BH7: 14833.531 | BI7: 16839.117 | BJ7: 21250.406 | BK7: 16353.331 | BL7: 16290.028 | BM7: 18131.549 | BN7: 16997.049 | BO7: 15272.611 | BP7: 18439.437 | BQ7: 16274.954 | BR7: 20958.21 | BS7: 20751.866 | BT7: 18960.996 | BU7: 20220.356 | BV7: 22907.977 | BW7: 19049.989 | BX7: 18623.026 | BY7: 21929.696 | BZ7: 20838.1 | CA7: 17025.452 | CB7: 20122.689 | CC7: 18134.039 | CD7: 19160.063 | CE7: 21544.91 | CF7: 21025.265 | CG7: 22508.152 | CH7: 25357.925 | CI7: 21364.384 | CJ7: 22639.512 | CK7: 24358.041 | CL7: 22585.301 | CM7: 22843.858 | CN7: 23605.702 | CO7: 22993.409 | CP7: 24504.519 | CQ7: 24012.858 | CR7: 22481.257 | CS7: 30060.902 | CT7: 29018.539 | CU7: 23898.406 | CV7: 26391.28 | CW7: 29007.925 | CX7: 25410.389 | CY7: 29095.889 | CZ7: 26771.007 | DA7: 27094.102 | DB7: 25187.273 | DC7: 27853.585 | DD7: 27912.276 | DE7: 35428.961 | DF7: 30836.371 | DG7: 26241.917 | DH7: 27943.142 | DI7: 31545.485 | DJ7: 27090.931 | DK7: 31483.075 | DL7: 29074.428 | DM7: 28767.558 | DN7: 30355.148 | DO7: 30982.924 | DP7: 28648.321 | DQ7: 36219.87 | DR7: 35299.189 | DS7: 29696.521 | DT7: 32463.908 | DU7: 36179.457 | DV7: 32325.661 | DW7: 34976.307 | DX7: 34136.018 | DY7: 32796.163 | DZ7: 33616.75 | EA7: 37234.861 | EB7: 36488.647 | EC7: 42295.958 | ED7: 45373.439 | EE7: 33736.658 | EF7: 36314.426 | EG7: 41915.981 | EH7: 35045.898 | EI7: 38269.499 | EJ7: 41154.888 | EK7: 36159.4 | EL7: 38043.075 | EM7: 43789.245 | EN7: 36321.03 | EO7: 40213.505 | EP7: 43707.409 | EQ7: 29546.962 | ER7: 36444.656 | ES7: 39700.211 | ET7: 32614.583 | EU7: 35330.325 | EV7: 37519.003 | EW7: 34273.427 | EX7: 33545.247 | EY7: 47220.879 | EZ7: 45687.038 | FA7: 40549.591 | FB7: 51039.169 | FC7: 34895.204 | FD7: 40195.167 | FE7: 48385.159 | FF7: 40814.579 | FG7: 39798.154 | FH7: 43132.03 | FI7: 40284.663 | FJ7: 42098.048 | FK7: 48974.568 | FL7: 44409.883 | FM7: 57179.368 | FN7: 64268.63 | FO7: 41481.896 | FP7: 47936.001 | FQ7: 57040.586 | FR7: 46984.577 | FS7: 55375.488 | FT7: 58882.914 | FU7: 47350.341 | FV7: 47661.108 | FW7: 56813.248 | FX7: 49723.674 | FY7: 55376.469 | FZ7: 70756.048 | GA7: 47235.198 | GB7: 53773.52 | GC7: 60615.535 | GD7: 49266.298 | GE7: 50780.748 | GF7: 52475.285 | GG7: 46155.49 | GH7: 48287.279 | GI7: 56794.74 | GJ7: 52195.154 | GK7: 59199.761 | GL7: 82031.039 | GM7: 46878.597 | GN7: 48986.819 | GO7: 64526.193 | GP7: 56932.11 | GQ7: 52520.075 | GR7: 58238.138 | GS7: 51067.536 | GT7: 51733.303 | GU7: 63086.562 | GV7: 76213.129 | GW7: 67979.866 | GX7: 85770.328 | GY7: 50833.059 | GZ7: 55221.588 | HA7: 69101.399 | HB7: 54984.688 | HC7: 56481.43 | HD7: 60303.1 | HE7: 58376.287 | HF7: 54349.141 | HG7: 65763.912 | HH7: 65071.222 | HI7: 62921.853 | HJ7: 86134.025 | HK7: 57037.75 | HL7: 60722.169 | HM7: 73039.403 | HN7: 56679.167 | HO7: 60689.855 | HP7: 64635.389 | HQ7: 57580.316 | HR7: 59476.23 | HS7: 66182.63 | HT7: 57377.698 | HU7: 65582.549 | HV7: 90815.411 | HW7: 53768.33 | HX7: 61374.199 | HY7: 75906.303 | HZ7: 58819.319 | IA7: 58375.156 | IB7: 67156.612 | IC7: 53930.337 | ID7: 57535.146 | IE7: 110249.79 | IF7: 61267.311 | IG7: 70553.94 | IH7: 96735.665 | II7: 56986.605 | IJ7: 62449.209 | IK7: 77406.307 | IL7: 60515.875 | IM7: 63952.568 | IN7: 66039.949 | IO7: 62755.383 | IP7: 65027.423 | IQ7: 75509.432 | IR7: 71145.284 | IS7: 77039.835 | IT7: 109849.01 | IU7: 67269.783 | IV7: 67867.793 | IW7: 85259.162 | IX7: 67065.161 | IY7: 67058.861 | IZ7: 76342.008 | JA7: 65785.326 | JB7: 67411.44 | JC7: 79177.243 | JD7: 74142.625 | JE7: 77824.012 | JF7: 109200.74
A8: I.1.1 Import Tax | B8: 308.33311 | C8: 373.71706 | D8: 392.20992 | E8: 425.32219 | F8: 382.67832 | G8: 423.25847 | H8: 451.1364 | I8: 445.56038 | J8: 456.30074 | K8: 488.58216 | L8: 491.1326 | M8: 497.02493 | N8: 510.74404 | O8: 412.0967 | P8: 556.83886 | Q8: 543.17575 | R8: 527.1613 | S8: 547.44252 | T8: 602.00114 | U8: 532.44559 | V8: 620.24541 | W8: 581.04622 | X8: 552.07907 | Y8: 545.67627 | Z8: 459.69656 | AA8: 524.97507 | AB8: 684.20228 | AC8: 596.1893 | AD8: 588.30449 | AE8: 687.77204 | AF8: 648.83242 | AG8: 745.04714 | AH8: 689.66095 | AI8: 750.45919 | AJ8: 785.93787 | AK8: 699.97149 | AL8: 564.01964 | AM8: 572.38053 | AN8: 621.06952 | AO8: 571.48816 | AP8: 704.64091 | AQ8: 694.71792 | AR8: 691.91805 | AS8: 813.65247 | AT8: 777.17495 | AU8: 830.5139 | AV8: 870.97199 | AW8: 785.42817 | AX8: 720.28601 | AY8: 593.4848 | AZ8: 850.10195 | BA8: 757.56662 | BB8: 868.84656 | BC8: 795.64561 | BD8: 835.81517 | BE8: 886.00159 | BF8: 717.56231 | BG8: 823.27165 | BH8: 690.93674 | BI8: 539.50975 | BJ8: 563.57786 | BK8: 503.75606 | BL8: 545.21682 | BM8: 570.17522 | BN8: 577.46376 | BO8: 573.19011 | BP8: 777.65351 | BQ8: 754.52316 | BR8: 733.20006 | BS8: 884.33803 | BT8: 763.15797 | BU8: 710.31395 | BV8: 731.50852 | BW8: 734.81578 | BX8: 701.24851 | BY8: 674.92833 | BZ8: 620.93683 | CA8: 589.1802 | CB8: 672.08057 | CC8: 633.48025 | CD8: 741.46547 | CE8: 701.12613 | CF8: 672.26346 | CG8: 661.71561 | CH8: 620.78783 | CI8: 527.20425 | CJ8: 764.90433 | CK8: 748.09621 | CL8: 688.62952 | CM8: 828.06175 | CN8: 836.52218 | CO8: 856.72372 | CP8: 850.15277 | CQ8: 799.91472 | CR8: 889.26001 | CS8: 784.96568 | CT8: 748.44103 | CU8: 646.7925 | CV8: 796.17101 | CW8: 716.3685 | CX8: 737.28362 | CY8: 737.81349 | CZ8: 738.96101 | DA8: 833.50579 | DB8: 756.44453 | DC8: 740.94389 | DD8: 783.69215 | DE8: 783.52887 | DF8: 817.55027 | DG8: 662.41867 | DH8: 757.9011 | DI8: 686.18905 | DJ8: 835.17587 | DK8: 781.85496 | DL8: 791.69191 | DM8: 1134.4068 | DN8: 828.88347 | DO8: 853.07193 | DP8: 964.74085 | DQ8: 864.43183 | DR8: 923.15452 | DS8: 802.70137 | DT8: 1004.6615 | DU8: 896.47207 | DV8: 1004.9299 | DW8: 904.94604 | DX8: 990.3818 | DY8: 1174.9104 | DZ8: 1034.8511 | EA8: 1236.9918 | EB8: 1197.4174 | EC8: 1044.9068 | ED8: 1243.08 | EE8: 1175.0917 | EF8: 1164.6173 | EG8: 1232.4847 | EH8: 1301.282 | EI8: 1314.4885 | EJ8: 1364.7204 | EK8: 1444.8062 | EL8: 1655.7517 | EM8: 1891.655 | EN8: 1748.7689 | EO8: 1634.5279 | EP8: 1447.2379 | EQ8: 1225.0099 | ER8: 1608.2962 | ES8: 1183.1212 | ET8: 1149.1375 | EU8: 1064.9257 | EV8: 1240.1649 | EW8: 1285.282 | EX8: 1373.3632 | EY8: 1436.1651 | EZ8: 1532.6777 | FA8: 1422.5236 | FB8: 1438.8909 | FC8: 1375.0999 | FD8: 1740.8756 | FE8: 1493.3212 | FF8: 1666.9667 | FG8: 1733.9189 | FH8: 1802.295 | FI8: 1979.775 | FJ8: 1955.7759 | FK8: 1913.003 | FL8: 2077.5483 | FM8: 1915.8761 | FN8: 1871.3438 | FO8: 1887.8285 | FP8: 2119.4857 | FQ8: 1894.0187 | FR8: 2161.1029 | FS8: 2060.0457 | FT8: 2181.3038 | FU8: 2458.9999 | FV8: 2382.0731 | FW8: 2425.3533 | FX8: 2735.8468 | FY8: 2503.2552 | FZ8: 2334.6203 | GA8: 2167.7379 | GB8: 2415.3537 | GC8: 2240.6693 | GD8: 2733.3472 | GE8: 2534.4131 | GF8: 2717.9631 | GG8: 2961.0333 | GH8: 2505.376 | GI8: 3067.0575 | GJ8: 2747.8152 | GK8: 2642.167 | GL8: 2972.0117 | GM8: 2392.4996 | GN8: 2817.2796 | GO8: 2997.576 | GP8: 2806.6697 | GQ8: 2908.8519 | GR8: 3405.6237 | GS8: 3462.826 | GT8: 3198.3315 | GU8: 3622.7627 | GV8: 3065.1229 | GW8: 3489.1594 | GX8: 3423.3527 | GY8: 3078.9227 | GZ8: 3056.8057 | HA8: 2948.2502 | HB8: 2951.5909 | HC8: 2667.4638 | HD8: 2987.8744 | HE8: 2910.7958 | HF8: 3123.3148 | HG8: 3371.2538 | HH8: 3083.7906 | HI8: 2959.8618 | HJ8: 3329.7679 | HK8: 2952.2854 | HL8: 3887.2883 | HM8: 3274.9193 | HN8: 2905.3805 | HO8: 3164.4276 | HP8: 3465.4352 | HQ8: 3323.5369 | HR8: 3589.8219 | HS8: 3489.9494 | HT8: 2888.6103 | HU8: 2670.8572 | HV8: 2972.506 | HW8: 2696.2481 | HX8: 2820.8813 | HY8: 2315.185 | HZ8: 2567.7578 | IA8: 2495.3312 | IB8: 2372.2961 | IC8: 2792.8148 | ID8: 2586.151 | IE8: 2569.6496 | IF8: 2646.628 | IG8: 2555.0289 | IH8: 2595.1665 | II8: 2057.297 | IJ8: 2693.1808 | IK8: 2253.2993 | IL8: 2645.3869 | IM8: 2697.6128 | IN8: 2720.2355 | IO8: 2995.792 | IP8: 2918.8173 | IQ8: 3074.2986 | IR8: 3152.5966 | IS8: 2622.8061 | IT8: 3242.612 | IU8: 2833.6077 | IV8: 3174.9998 | IW8: 3155.8294 | IX8: 3220.4185 | IY8: 3584.8934 | IZ8: 3842.4404 | JA8: 3933.2113 | JB8: 3529.8635 | JC8: 3944.1963 | JD8: 3442.9683 | JE8: 2773.3121 | JF8: 3842.0702
A9: I.1.2 Industrialized Products Tax (IPI) | B9: 1154.2698 | C9: 1370.3499 | D9: 1333.5902 | E9: 1359.2842 | F9: 1361.4987 | G9: 1404.9834 | H9: 1307.0942 | I9: 1414.2828 | J9: 1496.7968 | K9: 1398.1782 | L9: 1506.5236 | M9: 1445.8872 | N9: 1194.9652 | O9: 1429.5954 | P9: 1289.0359 | Q9: 1384.5818 | R9: 1382.4197 | S9: 1405.8067 | T9: 1301.05 | U9: 1255.7582 | V9: 1281.3768 | W9: 1262.7125 | X9: 1329.2215 | Y9: 1307.5069 | Z9: 1217.2943 | AA9: 1289.2901 | AB9: 1275.1841 | AC9: 1248.1855 | AD9: 1223.1962 | AE9: 1242.5536 | AF9: 1246.8257 | AG9: 1309.2686 | AH9: 1310.2128 | AI9: 1527.964 | AJ9: 1551.4678 | AK9: 1643.2454 | AL9: 1102.1221 | AM9: 1381.1319 | AN9: 1202.0231 | AO9: 1531.1469 | AP9: 1365.4762 | AQ9: 1466.621 | AR9: 1429.6731 | AS9: 1491.2479 | AT9: 1603.5612 | AU9: 1660.5975 | AV9: 1633.5415 | AW9: 1833.3491 | AX9: 1446.8588 | AY9: 1470.8996 | AZ9: 1407.0148 | BA9: 1677.0304 | BB9: 1645.0764 | BC9: 1920.2519 | BD9: 1565.0152 | BE9: 1524.929 | BF9: 1507.4556 | BG9: 1569.1782 | BH9: 1546.3873 | BI9: 1659.3538 | BJ9: 1352.0731 | BK9: 1454.91 | BL9: 1451.3846 | BM9: 1611.1402 | BN9: 1508.4151 | BO9: 1504.6386 | BP9: 1549.3524 | BQ9: 1503.2246 | BR9: 1591.4961 | BS9: 1611.9286 | BT9: 1571.2425 | BU9: 1913.0596 | BV9: 1343.4083 | BW9: 1661.0591 | BX9: 1477.1019 | BY9: 1480.3747 | BZ9: 1394.0124 | CA9: 1348.0995 | CB9: 1322.4195 | CC9: 1422.0906 | CD9: 1383.4351 | CE9: 1487.7289 | CF9: 1665.1802 | CG9: 1889.8777 | CH9: 1313.7353 | CI9: 1643.2111 | CJ9: 1613.7106 | CK9: 1786.2865 | CL9: 1736.3533 | CM9: 1757.0113 | CN9: 1864.9174 | CO9: 1986.5708 | CP9: 1929.5311 | CQ9: 1640.9671 | CR9: 1975.4405 | CS9: 2046.6001 | CT9: 2032.0223 | CU9: 1574.2633 | CV9: 2004.606 | CW9: 2101.7235 | CX9: 1846.2946 | CY9: 1736.8504 | CZ9: 1837.2365 | DA9: 2072.8487 | DB9: 2124.5071 | DC9: 2207.5634 | DD9: 2347.9343 | DE9: 2565.7223 | DF9: 2139.3834 | DG9: 1986.5224 | DH9: 1876.242 | DI9: 2115.0639 | DJ9: 2001.375 | DK9: 2113.6146 | DL9: 2121.279 | DM9: 2314.3605 | DN9: 2678.1745 | DO9: 2354.592 | DP9: 2466.6306 | DQ9: 3217.8785 | DR9: 2294.2564 | DS9: 2200.5177 | DT9: 2093.901 | DU9: 2485.1527 | DV9: 2416.0929 | DW9: 2661.1776 | DX9: 2532.9848 | DY9: 2769.8037 | DZ9: 3001.8312 | EA9: 3092.899 | EB9: 3053.74 | EC9: 3273.317 | ED9: 2802.9695 | EE9: 2779.3471 | EF9: 2921.9258 | EG9: 3100.0625 | EH9: 3135.0994 | EI9: 2863.1485 | EJ9: 3341.8091 | EK9: 3239.8408 | EL9: 3417.7426 | EM9: 3557.4102 | EN9: 3174.4368 | EO9: 3027.3318 | EP9: 2371.2164 | EQ9: 1905.7517 | ER9: 2129.5708 | ES9: 2103.2933 | ET9: 1869.4302 | EU9: 2242.3254 | EV9: 2154.4876 | EW9: 2149.8675 | EX9: 2457.2337 | EY9: 2512.5665 | EZ9: 3125.4816 | FA9: 3065.1439 | FB9: 2686.6355 | FC9: 2509.6112 | FD9: 2651.8042 | FE9: 2909.8297 | FF9: 2712.4316 | FG9: 3237.0674 | FH9: 3017.8638 | FI9: 3336.095 | FJ9: 3141.9493 | FK9: 3493.337 | FL9: 3747.1035 | FM9: 4110.0873 | FN9: 3966.4365 | FO9: 2816.2911 | FP9: 3441.9778 | FQ9: 3248.3237 | FR9: 3547.838 | FS9: 2818.1003 | FT9: 3913.5844 | FU9: 3041.1711 | FV9: 4005.0461 | FW9: 4597.2727 | FX9: 4495.0958 | FY9: 1580.2689 | FZ9: 4172.8789 | GA9: 3295.4218 | GB9: 3258.7106 | GC9: 4156.7113 | GD9: 4021.3075 | GE9: 3141.6366 | GF9: 3412.2927 | GG9: 3637.1828 | GH9: 3744.3551 | GI9: 3687.2434 | GJ9: 3893.3364 | GK9: 4059.1287 | GL9: 4336.2325 | GM9: 2667.2607 | GN9: 2373.9741 | GO9: 3818.1478 | GP9: 3565.6181 | GQ9: 3803.1891 | GR9: 3884.3974 | GS9: 3576.3787 | GT9: 3890.5927 | GU9: 4217.4138 | GV9: 4053.1524 | GW9: 3891.0169 | GX9: 4732.6922 | GY9: 3423.6694 | GZ9: 3698.6313 | HA9: 3821.6929 | HB9: 4061.7969 | HC9: 4044.6347 | HD9: 3963.3274 | HE9: 3824.5368 | HF9: 4199.8473 | HG9: 4691.5574 | HH9: 4507.381 | HI9: 5176.4403 | HJ9: 5116.3922 | HK9: 3320.858 | HL9: 3716.016 | HM9: 3985.8832 | HN9: 3996.3294 | HO9: 3654.18 | HP9: 3901.3066 | HQ9: 3914.5803 | HR9: 4417.2643 | HS9: 4250.6279 | HT9: 3979.6476 | HU9: 4333.237 | HV9: 3988.8599 | HW9: 3176.1452 | HX9: 3486.0011 | HY9: 3496.6904 | HZ9: 3159.8496 | IA9: 3106.3737 | IB9: 3120.7461 | IC9: 3388.9277 | ID9: 3552.3049 | IE9: 4018.7839 | IF9: 3718.4561 | IG9: 4080.8501 | IH9: 3738.3341 | II9: 3220.7868 | IJ9: 3328.514 | IK9: 3681.7536 | IL9: 3548.9288 | IM9: 3486.0529 | IN9: 4027.4898 | IO9: 3754.5671 | IP9: 4334.2274 | IQ9: 4898.3914 | IR9: 5079.4685 | IS9: 4933.9886 | IT9: 5269.3669 | IU9: 4089.1824 | IV9: 4316.3289 | IW9: 4654.7742 | IX9: 4834.4431 | IY9: 4110.5671 | IZ9: 4531.1471 | JA9: 4473.319 | JB9: 4646.8057 | JC9: 4821.8418 | JD9: 4846.1852 | JE9: 4833.3615 | JF9: 4189.4951
A10: I.1.3 Income tax (IR) | B10: 3078.6464 | C10: 2289.4818 | D10: 3109.7138 | E10: 3362.6832 | F10: 2629.7057 | G10: 2172.5274 | H10: 2775.5194 | I10: 2159.3157 | J10: 2394.3238 | K10: 2957.9443 | L10: 2572.6664 | M10: 4517.4761 | N10: 5012.6352 | O10: 3459.7957 | P10: 4680.9593 | Q10: 3798.6548 | R10: 2777.9971 | S10: 2228.9696 | T10: 3571.6332 | U10: 3343.0776 | V10: 3407.3326 | W10: 3035.8049 | X10: 2915.1927 | Y10: 4679.4044 | Z10: 4153.5494 | AA10: 4753.7561 | AB10: 5274.5985 | AC10: 4478.765 | AD10: 3454.4778 | AE10: 3053.0222 | AF10: 3314.4475 | AG10: 2611.1622 | AH10: 4512.7691 | AI10: 3413.7555 | AJ10: 3179.4061 | AK10: 5290.8423 | AL10: 4710.9018 | AM10: 4073.5347 | AN10: 5548.0902 | AO10: 4596.3128 | AP10: 4031.2608 | AQ10: 3428.5252 | AR10: 3793.1465 | AS10: 3071.6037 | AT10: 3939.3937 | AU10: 4090.8549 | AV10: 4162.1536 | AW10: 5796.844 | AX10: 6101.6444 | AY10: 3852.1024 | AZ10: 4779.8542 | BA10: 5613.2245 | BB10: 4991.4973 | BC10: 4106.5099 | BD10: 4665.3943 | BE10: 4301.4886 | BF10: 4650.8841 | BG10: 5639.5152 | BH10: 4655.9205 | BI10: 6688.6055 | BJ10: 9685.9994 | BK10: 6019.284 | BL10: 6201.1359 | BM10: 7465.8068 | BN10: 6201.1346 | BO10: 4750.5708 | BP10: 6001.2074 | BQ10: 4258.1852 | BR10: 7771.819 | BS10: 7359.6954 | BT10: 5999.4359 | BU10: 7258.8883 | BV10: 8693.9765 | BW10: 6838.0975 | BX10: 6412.0196 | BY10: 8886.7015 | BZ10: 8135.1093 | CA10: 4843.6763 | CB10: 6909.4187 | CC10: 5674.3277 | CD10: 6169.4364 | CE10: 7352.6591 | CF10: 6693.7009 | CG10: 7015.3928 | CH10: 9767.7485 | CI10: 7384.3033 | CJ10: 7798.322 | CK10: 9113.0675 | CL10: 6585.7092 | CM10: 5875.2512 | CN10: 7046.961 | CO10: 6189.9288 | CP10: 7259.7529 | CQ10: 7276.7068 | CR10: 5913.7718 | CS10: 11901.136 | CT10: 10078.435 | CU10: 7931.2893 | CV10: 9366.9616 | CW10: 10926.457 | CX10: 8441.8414 | CY10: 11351.129 | CZ10: 8302.96 | DA10: 8571.6451 | DB10: 6854.8886 | DC10: 9000.3903 | DD10: 8938.3947 | DE10: 15521.192 | DF10: 10625.785 | DG10: 9127.3453 | DH10: 10255.939 | DI10: 12711.491 | DJ10: 9069.0003 | DK10: 12804.415 | DL10: 9884.6936 | DM10: 9084.7365 | DN10: 9227.5855 | DO10: 9977.0151 | DP10: 8398.8388 | DQ10: 14668.179 | DR10: 12649.888 | DS10: 10527.756 | DT10: 12463.483 | DU10: 14478.405 | DV10: 11062.716 | DW10: 13393.175 | DX10: 11661.421 | DY10: 9983.3806 | DZ10: 9765.6895 | EA10: 12673.759 | EB10: 11977.294 | EC10: 17376.782 | ED10: 19848.104 | EE10: 12494.945 | EF10: 15147.55 | EG10: 17788.675 | EH10: 12969.939 | EI10: 13943.967 | EJ10: 16126.301 | EK10: 12234.769 | EL10: 12991.074 | EM10: 16069.54 | EN10: 12238.592 | EO10: 17395.968 | EP10: 20837.404 | EQ10: 11421.399 | ER10: 15663.507 | ES10: 17572.919 | ET10: 12035.579 | EU10: 14741.413 | EV10: 14430.345 | EW10: 11227.582 | EX10: 12020.562 | EY10: 18909.327 | EZ10: 14654.612 | FA10: 15281.136 | FB10: 21701.534 | FC10: 11423.273 | FD10: 15064.432 | FE10: 20952.553 | FF10: 14355.125 | FG10: 13296.107 | FH10: 15217.251 | FI10: 13741.403 | FJ10: 13585.17 | FK10: 16948.816 | FL10: 15243.104 | FM10: 23143.636 | FN10: 29479.791 | FO10: 14057.499 | FP10: 17940.027 | FQ10: 25671.43 | FR10: 17222.678 | FS10: 18862.312 | FT10: 20886.032 | FU10: 13911.959 | FV10: 14730.824 | FW10: 22452.866 | FX10: 16725.913 | FY10: 23858.481 | FZ10: 32336.584 | GA10: 16538.955 | GB10: 21050.496 | GC10: 27458.409 | GD10: 17132.409 | GE10: 19049.84 | GF10: 19115.601 | GG10: 13921.794 | GH10: 15352.51 | GI10: 21104.778 | GJ10: 19573.241 | GK10: 24018.706 | GL10: 37743.95 | GM10: 17402.696 | GN10: 19009.798 | GO10: 28287.473 | GP10: 21067.255 | GQ10: 18838.626 | GR10: 21327.336 | GS10: 16408.09 | GT10: 17002.908 | GU10: 24066.848 | GV10: 20400.709 | GW10: 31036.615 | GX10: 39672.028 | GY10: 18067.702 | GZ10: 21157.581 | HA10: 31418.348 | HB10: 20575.444 | HC10: 21344.227 | HD10: 22651.306 | HE10: 19893.244 | HF10: 17197.563 | HG10: 23859.97 | HH10: 21170.436 | HI10: 28676.485 | HJ10: 38949.225 | HK10: 20597.639 | HL10: 24304.93 | HM10: 32671.188 | HN10: 23430.655 | HO10: 24061.079 | HP10: 23273.093 | HQ10: 17973.516 | HR10: 20558.203 | HS10: 25551.81 | HT10: 19468.493 | HU10: 29602.625 | HV10: 42663.939 | HW10: 19850.779 | HX10: 23232.056 | HY10: 36032.108 | HZ10: 22726.011 | IA10: 24890.349 | IB10: 26065.583 | IC10: 18935.27 | ID10: 20690.956 | IE10: 49355.802 | IF10: 23862.352 | IG10: 32810.043 | IH10: 46727.364 | II10: 23576.075 | IJ10: 25721.56 | IK10: 38001.529 | IL10: 23707.704 | IM10: 27284.28 | IN10: 27248.821 | IO10: 21728.795 | IP10: 20427.498 | IQ10: 29629.187 | IR10: 22441.05 | IS10: 33347.049 | IT10: 50018.312 | IU10: 25240.103 | IV10: 27226.162 | IW10: 38939.246 | IX10: 28175.749 | IY10: 25418.043 | IZ10: 29605.025 | JA10: 20079.352 | JB10: 23398.379 | JC10: 29630.959 | JD10: 28405.499 | JE10: 36620.437 | JF10: 55042.833
A11: I.1.4 Tax on Credit Operations, Exchange and Insurance (IOF) | B11: 286.14658 | C11: 224.96925 | D11: 248.65518 | E11: 292.27562 | F11: 312.0756 | G11: 341.44264 | H11: 401.24826 | I11: 346.66533 | J11: 349.1086 | K11: 405.07523 | L11: 275.93473 | M11: 300.42981 | N11: 339.2486 | O11: 344.51977 | P11: 325.52037 | Q11: 380.9291 | R11: 344.74412 | S11: 319.93961 | T11: 333.40007 | U11: 218.80991 | V11: 250.16542 | W11: 231.5168 | X11: 200.31148 | Y11: 244.74448 | Z11: 226.78056 | AA11: 530.83853 | AB11: 634.60764 | AC11: 563.50692 | AD11: 612.35867 | AE11: 639.31536 | AF11: 325.44491 | AG11: 271.83076 | AH11: 320.74689 | AI11: 267.48209 | AJ11: 218.86243 | AK11: 265.02789 | AL11: 204.68861 | AM11: 244.51584 | AN11: 248.31165 | AO11: 212.54731 | AP11: 260.09453 | AQ11: 310.1872 | AR11: 246.20611 | AS11: 294.66856 | AT11: 242.37518 | AU11: 257.8475 | AV11: 312.391 | AW11: 291.58684 | AX11: 323.883 | AY11: 213.35368 | AZ11: 317.32384 | BA11: 267.14534 | BB11: 329.09797 | BC11: 281.89623 | BD11: 284.97292 | BE11: 336.19005 | BF11: 283.9188 | BG11: 339.15923 | BH11: 296.9258 | BI11: 304.20139 | BJ11: 342.131 | BK11: 290.04322 | BL11: 319.4238 | BM11: 306.07554 | BN11: 360.16588 | BO11: 340.79463 | BP11: 362.04513 | BQ11: 318.90842 | BR11: 332.98104 | BS11: 372.94384 | BT11: 324.46336 | BU11: 350.60453 | BV11: 374.57102 | BW11: 336.4202 | BX11: 323.18006 | BY11: 402.6764 | BZ11: 340.1233 | CA11: 348.2294 | CB11: 423.97512 | CC11: 346.40507 | CD11: 359.10327 | CE11: 424.32837 | CF11: 366.05149 | CG11: 404.79711 | CH11: 439.35088 | CI11: 382.51669 | CJ11: 457.68698 | CK11: 373.16894 | CL11: 395.73931 | CM11: 488.86545 | CN11: 415.91587 | CO11: 422.8805 | CP11: 488.99342 | CQ11: 409.8756 | CR11: 422.95066 | CS11: 554.01596 | CT11: 450.84614 | CU11: 423.14567 | CV11: 542.20431 | CW11: 462.5603 | CX11: 502.55133 | CY11: 553.5976 | CZ11: 496.14335 | DA11: 592.84019 | DB11: 474.1783 | DC11: 482.66425 | DD11: 564.47372 | DE11: 552.5657 | DF11: 494.67685 | DG11: 526.62418 | DH11: 489.14202 | DI11: 581.50493 | DJ11: 527.90877 | DK11: 579.15772 | DL11: 579.70121 | DM11: 557.62744 | DN11: 625.02571 | DO11: 585.72157 | DP11: 575.53572 | DQ11: 670.80177 | DR11: 587.29013 | DS11: 570.4747 | DT11: 608.29775 | DU11: 632.08915 | DV11: 604.10061 | DW11: 661.79979 | DX11: 658.89168 | DY11: 670.7947 | DZ11: 684.41373 | EA11: 668.56012 | EB11: 689.08993 | EC11: 819.23587 | ED11: 1161.4899 | EE11: 1649.2027 | EF11: 1667.1093 | EG11: 1702.8926 | EH11: 1674.5247 | EI11: 1805.0535 | EJ11: 1646.0619 | EK11: 1903.225 | EL11: 1812.7482 | EM11: 1726.7854 | EN11: 1749.3265 | EO11: 1841.8485 | EP11: 1494.2273 | EQ11: 1462.0471 | ER11: 1296.6986 | ES11: 1429.7155 | ET11: 1453.1905 | EU11: 1508.7291 | EV11: 1630.8506 | EW11: 1575.0362 | EX11: 1457.7728 | EY11: 1593.118 | EZ11: 2247.8424 | FA11: 2144.2034 | FB11: 1963.8237 | FC11: 1897.1924 | FD11: 1920.6653 | FE11: 2107.041 | FF11: 2136.9392 | FG11: 2174.6059 | FH11: 2175.0984 | FI11: 2291.6292 | FJ11: 2211.0627 | FK11: 2884.0382 | FL11: 2344.9094 | FM11: 2469.1396 | FN11: 2375.9588 | FO11: 2225.9441 | FP11: 1995.5651 | FQ11: 2809.0317 | FR11: 2676.2581 | FS11: 2828.3789 | FT11: 2849.8156 | FU11: 2915.871 | FV11: 2721.7318 | FW11: 2860.2534 | FX11: 2670.7704 | FY11: 3013.7931 | FZ11: 2934.96 | GA11: 2457.9112 | GB11: 2590.4768 | GC11: 2820.4004 | GD11: 2567.4983 | GE11: 2694.8415 | GF11: 2526.3334 | GG11: 2372.2574 | GH11: 2491.2481 | GI11: 2359.3683 | GJ11: 2480.9188 | GK11: 2726.8182 | GL11: 2243.7491 | GM11: 2445.3004 | GN11: 2356.5252 | GO11: 2647.4372 | GP11: 2516.342 | GQ11: 2595.5501 | GR11: 2412.5393 | GS11: 2299.651 | GT11: 2490.6546 | GU11: 2208.085 | GV11: 2407.1176 | GW11: 3019.6758 | GX11: 2204.4586 | GY11: 2454.0405 | GZ11: 2205.7595 | HA11: 2465.3231 | HB11: 2378.7369 | HC11: 2591.8732 | HD11: 2481.3226 | HE11: 2638.2306 | HF11: 2555.3712 | HG11: 2514.8065 | HH11: 2810.0443 | HI11: 2592.981 | HJ11: 2447.4124 | HK11: 2855.2178 | HL11: 2762.1796 | HM11: 2891.2678 | HN11: 2897.187 | HO11: 3156.4933 | HP11: 2946.5882 | HQ11: 3019.6477 | HR11: 2827.9858 | HS11: 2983.1252 | HT11: 3023.3655 | HU11: 3059.2572 | HV11: 3127.8024 | HW11: 2657.6093 | HX11: 2604.3414 | HY11: 2885.2924 | HZ11: 2800.2277 | IA11: 2740.5711 | IB11: 2882.5804 | IC11: 2696.3417 | ID11: 2764.1679 | IE11: 2737.7628 | IF11: 2751.3589 | IG11: 3134.3509 | IH11: 2879.7031 | II11: 2817.768 | IJ11: 2395.5624 | IK11: 3375.9538 | IL11: 2681.8583 | IM11: 2918.6657 | IN11: 2976.5835 | IO11: 2803.676 | IP11: 2883.4397 | IQ11: 2838.7136 | IR11: 3109.0903 | IS11: 3302.5005 | IT11: 2968.7816 | IU11: 2909.514 | IV11: 2785.5101 | IW11: 3155.2025 | IX11: 2852.3253 | IY11: 3238.7245 | IZ11: 3050.3404 | JA11: 3027.8008 | JB11: 3196.5239 | JC11: 3023.0379 | JD11: 2829.4269 | JE11: 3748.9386 | JF11: 2922.2044
A12: I.1.5 Contribution to Social Security Financing (COFINS) | B12: 1609.8398 | C12: 1484.1272 | D12: 1433.1085 | E12: 1535.0041 | F12: 1581.3016 | G12: 1615.697 | H12: 1561.7879 | I12: 1592.6949 | J12: 1670.1104 | K12: 1651.784 | L12: 1674.9041 | M12: 1702.6106 | N12: 1615.2498 | O12: 1437.4496 | P12: 1403.5725 | Q12: 1547.9628 | R12: 1586.8561 | S12: 1568.9625 | T12: 1538.6354 | U12: 1778.3165 | V12: 1555.7041 | W12: 1558.2185 | X12: 1542.4364 | Y12: 1564.022 | Z12: 1608.018 | AA12: 1363.8948 | AB12: 2309.7777 | AC12: 2637.9645 | AD12: 2338.1781 | AE12: 2756.373 | AF12: 3867.4161 | AG12: 2716.6486 | AH12: 3004.6631 | AI12: 2903.8314 | AJ12: 3618.2188 | AK12: 2944.7535 | AL12: 3401.2216 | AM12: 2752.0863 | AN12: 2962.3599 | AO12: 2968.3107 | AP12: 3010.6593 | AQ12: 3243.1219 | AR12: 3142.2871 | AS12: 3371.8213 | AT12: 3600.281 | AU12: 3506.0524 | AV12: 4062.019 | AW12: 3803.1025 | AX12: 3989.2739 | AY12: 3555.1129 | AZ12: 3391.6602 | BA12: 3841.8624 | BB12: 3736.2958 | BC12: 3682.4197 | BD12: 3869.2118 | BE12: 3948.2358 | BF12: 4019.7583 | BG12: 3892.7918 | BH12: 4221.7205 | BI12: 3969.8106 | BJ12: 4304.5524 | BK12: 3591.3993 | BL12: 3491.8447 | BM12: 3806.5457 | BN12: 3935.7643 | BO12: 4134.1838 | BP12: 4109.2212 | BQ12: 4661.1183 | BR12: 4988.585 | BS12: 4895.497 | BT12: 5296.5542 | BU12: 4852.4519 | BV12: 5258.694 | BW12: 4422.8138 | BX12: 4518.7235 | BY12: 4568.7174 | BZ12: 4618.4745 | CA12: 4797.4719 | CB12: 4643.1411 | CC12: 4803.6623 | CD12: 4990.4337 | CE12: 5462.503 | CF12: 5699.8579 | CG12: 5620.7163 | CH12: 5817.3345 | CI12: 5359.8072 | CJ12: 5664.258 | CK12: 5976.2003 | CL12: 7016.1955 | CM12: 7333.4462 | CN12: 6584.3547 | CO12: 7222.789 | CP12: 6937.4671 | CQ12: 6783.659 | CR12: 6926.8535 | CS12: 7166.6377 | CT12: 7657.7585 | CU12: 6327.016 | CV12: 6398.4021 | CW12: 7088.1514 | CX12: 6990.5902 | CY12: 7177.5906 | CZ12: 7111.6451 | DA12: 7221.3254 | DB12: 7700.0136 | DC12: 7395.8305 | DD12: 7576.1605 | DE12: 7936.8147 | DF12: 8120.6962 | DG12: 6768.3503 | DH12: 6810.4641 | DI12: 7062.7887 | DJ12: 7202.5169 | DK12: 7470.8825 | DL12: 7067.6772 | DM12: 7973.8755 | DN12: 8336.7609 | DO12: 8187.3656 | DP12: 8192.5393 | DQ12: 8287.2984 | DR12: 8716.4591 | DS12: 7350.337 | DT12: 7528.1637 | DU12: 8407.1692 | DV12: 8240.1946 | DW12: 8710.6584 | DX12: 8241.7254 | DY12: 8845.8322 | DZ12: 9177.9252 | EA12: 8941.576 | EB12: 9543.3347 | EC12: 9492.2088 | ED12: 10308.553 | EE12: 9193.6725 | EF12: 9018.0638 | EG12: 10010.401 | EH12: 9541.3242 | EI12: 10463.003 | EJ12: 10340.75 | EK12: 10491.981 | EL12: 11066.036 | EM12: 11112.934 | EN12: 10667.141 | EO12: 9710.0489 | EP12: 9150.2613 | EQ12: 7631.2264 | ER12: 8210.9691 | ES12: 9461.4978 | ET12: 9014.3851 | EU12: 9433.5113 | EV12: 9834.6363 | EW12: 9830.2955 | EX12: 10425.144 | EY12: 11418.96 | EZ12: 12185.982 | FA12: 12360.281 | FB12: 11754.752 | FC12: 10115.898 | FD12: 10469.193 | FE12: 11425.312 | FF12: 11387.021 | FG12: 11705.424 | FH12: 11356.086 | FI12: 11391.787 | FJ12: 12466.314 | FK12: 13183.991 | FL12: 12744.565 | FM12: 13231.988 | FN12: 13569.903 | FO12: 12176.736 | FP12: 12782.897 | FQ12: 13015.57 | FR12: 12592.949 | FS12: 13834.472 | FT12: 13573.094 | FU12: 14256.696 | FV12: 13556.487 | FW12: 13722.97 | FX12: 13393.334 | FY12: 14513.249 | FZ12: 14626.447 | GA12: 12808.752 | GB12: 13272.4 | GC12: 14190.849 | GD12: 13892.109 | GE12: 14561.614 | GF12: 14527.543 | GG12: 15064.367 | GH12: 15329.089 | GI12: 15519.114 | GJ12: 15228.392 | GK12: 16137.112 | GL12: 17602.105 | GM12: 13333.958 | GN12: 14758.092 | GO12: 15735.9 | GP12: 16988.224 | GQ12: 15090.7 | GR12: 15809.23 | GS12: 16037.959 | GT12: 15798.111 | GU12: 15841.979 | GV12: 17221.476 | GW12: 28595.453 | GX12: 17464.625 | GY12: 15085.779 | GZ12: 15491.559 | HA12: 16172.356 | HB12: 15807.108 | HC12: 16390.761 | HD12: 15794.51 | HE12: 16306.924 | HF12: 16440.581 | HG12: 17103.675 | HH12: 18449.984 | HI12: 18234.537 | HJ12: 18398.402 | HK12: 16487.108 | HL12: 15433.055 | HM12: 17346.787 | HN12: 16435.691 | HO12: 16064.14 | HP12: 16876.197 | HQ12: 16954.295 | HR12: 17667.284 | HS12: 16772.223 | HT12: 17353.701 | HU12: 16944.792 | HV12: 18955.011 | HW12: 15527.639 | HX12: 16773.151 | HY12: 16804.984 | HZ12: 17997.002 | IA12: 16744.139 | IB12: 17990.292 | IC12: 16323.817 | ID12: 16254.625 | IE12: 16957.191 | IF12: 17245.783 | IG12: 17104.991 | IH12: 18853.884 | II12: 15587.537 | IJ12: 16054.327 | IK12: 17123.54 | IL12: 16886.105 | IM12: 17006.655 | IN12: 16204.544 | IO12: 18301.953 | IP12: 19412.808 | IQ12: 19643.482 | IR12: 40570.268 | IS12: 20114.285 | IT12: 23457.782 | IU12: 18957.894 | IV12: 17913.716 | IW12: 20278.046 | IX12: 21538.477 | IY12: 19434.957 | IZ12: 20064.806 | JA12: 22738.552 | JB12: 19988.615 | JC12: 22500.843 | JD12: 22077.879 | JE12: 22514.464 | JF12: 20243.06
A13: I.1.6 Contribution to the Social Integration Program and Civil Service Asset Formation Program (PIS/Pasep) | B13: 633.52791 | C13: 593.81305 | D13: 548.66684 | E13: 590.17023 | F13: 608.18087 | G13: 609.43274 | H13: 602.17615 | I13: 627.44176 | J13: 650.45497 | K13: 645.21166 | L13: 698.08665 | M13: 775.21188 | N13: 652.59278 | O13: 567.04375 | P13: 592.41761 | Q13: 634.12534 | R13: 588.91646 | S13: 597.441 | T13: 593.24546 | U13: 730.92297 | V13: 608.96577 | W13: 635.39972 | X13: 618.21667 | Y13: 662.7369 | Z13: 664.3209 | AA13: 1873.8691 | AB13: 631.11072 | AC13: 703.86227 | AD13: 612.66521 | AE13: 702.38459 | AF13: 808.42149 | AG13: 690.23298 | AH13: 800.82405 | AI13: 769.08683 | AJ13: 773.24755 | AK13: 747.4259 | AL13: 856.99766 | AM13: 695.06651 | AN13: 731.64843 | AO13: 755.68725 | AP13: 757.57387 | AQ13: 1066.5937 | AR13: 792.98378 | AS13: 813.07957 | AT13: 860.24427 | AU13: 854.74938 | AV13: 909.40871 | AW13: 931.77227 | AX13: 987.89535 | AY13: 878.57287 | AZ13: 845.26696 | BA13: 941.8477 | BB13: 901.15073 | BC13: 960.77149 | BD13: 930.3195 | BE13: 950.1396 | BF13: 928.14385 | BG13: 941.84939 | BH13: 986.41955 | BI13: 1075.656 | BJ13: 1058.7407 | BK13: 880.61444 | BL13: 839.94969 | BM13: 920.96505 | BN13: 968.30807 | BO13: 1022.8509 | BP13: 1047.025 | BQ13: 1091.7273 | BR13: 1221.7304 | BS13: 1246.9529 | BT13: 1260.0713 | BU13: 1217.9134 | BV13: 1628.7946 | BW13: 1279.6121 | BX13: 1301.9851 | BY13: 1321.1417 | BZ13: 1437.0198 | CA13: 1417.7741 | CB13: 1366.1208 | CC13: 1419.0017 | CD13: 1242.8119 | CE13: 1469.684 | CF13: 1568.2783 | CG13: 1605.833 | CH13: 1731.9666 | CI13: 1568.9887 | CJ13: 1416.8104 | CK13: 1458.1628 | CL13: 1695.1829 | CM13: 1749.6831 | CN13: 1615.3838 | CO13: 1687.7959 | CP13: 1715.9412 | CQ13: 1653.1386 | CR13: 1686.8278 | CS13: 1788.2549 | CT13: 1924.2119 | CU13: 1644.971 | CV13: 1587.1556 | CW13: 1742.767 | CX13: 1723.5329 | CY13: 1801.5069 | CZ13: 1919.1003 | DA13: 1799.0031 | DB13: 1910.8915 | DC13: 1652.4619 | DD13: 1841.6003 | DE13: 2038.1623 | DF13: 2113.2976 | DG13: 1796.4999 | DH13: 1881.8777 | DI13: 1921.4025 | DJ13: 1986.4304 | DK13: 1989.8785 | DL13: 1988.316 | DM13: 2007.0769 | DN13: 2148.548 | DO13: 2096.457 | DP13: 2103.7319 | DQ13: 2159.7682 | DR13: 2374.8106 | DS13: 1932.2442 | DT13: 1989.7612 | DU13: 2162.4066 | DV13: 2087.6231 | DW13: 2172.4815 | DX13: 2166.5674 | DY13: 2254.7528 | DZ13: 2306.4759 | EA13: 2281.0534 | EB13: 2474.5587 | EC13: 2429.6907 | ED13: 2656.4914 | EE13: 2444.3657 | EF13: 2329.6868 | EG13: 2495.7951 | EH13: 2480.9252 | EI13: 2681.5946 | EJ13: 2694.9082 | EK13: 2652.3525 | EL13: 2906.041 | EM13: 2850.6973 | EN13: 2791.5666 | EO13: 2531.344 | EP13: 2530.1287 | EQ13: 2122.0812 | ER13: 2310.6315 | ES13: 2553.8487 | ET13: 2469.6409 | EU13: 2500.3608 | EV13: 2504.4177 | EW13: 2555.2475 | EX13: 2824.3116 | EY13: 3150.2432 | EZ13: 3095.8227 | FA13: 3106.4737 | FB13: 3068.4437 | FC13: 2609.1702 | FD13: 2774.3498 | FE13: 3011.3115 | FF13: 3013.468 | FG13: 2988.0023 | FH13: 2996.6914 | FI13: 2946.9466 | FJ13: 3293.868 | FK13: 3356.2531 | FL13: 3288.0183 | FM13: 7447.8784 | FN13: 3588.4284 | FO13: 3306.6692 | FP13: 3358.0188 | FQ13: 3437.9052 | FR13: 3383.8144 | FS13: 3550.2975 | FT13: 3578.7732 | FU13: 3609.3129 | FV13: 3542.8266 | FW13: 3534.8722 | FX13: 3431.4721 | FY13: 3779.7438 | FZ13: 3995.9895 | GA13: 3594.0634 | GB13: 3635.763 | GC13: 3653.9549 | GD13: 3766.5569 | GE13: 3895.9814 | GF13: 3804.5696 | GG13: 3944.7652 | GH13: 3997.6147 | GI13: 3943.362 | GJ13: 3981.2315 | GK13: 4193.5822 | GL13: 4659.5831 | GM13: 3700.4767 | GN13: 3991.3179 | GO13: 4118.6723 | GP13: 4219.0406 | GQ13: 4032.7525 | GR13: 4134.4967 | GS13: 4167.1875 | GT13: 4228.1123 | GU13: 4261.0539 | GV13: 4148.211 | GW13: 6377.0939 | GX13: 4783.2327 | GY13: 4190.2811 | GZ13: 4250.8158 | HA13: 4205.0322 | HB13: 4100.9153 | HC13: 4366.2967 | HD13: 4069.3813 | HE13: 4217.2599 | HF13: 4314.5636 | HG13: 4457.0421 | HH13: 4801.5701 | HI13: 4787.1292 | HJ13: 4955.6886 | HK13: 4366.347 | HL13: 4110.7871 | HM13: 4508.1831 | HN13: 4412.5081 | HO13: 4381.5406 | HP13: 4394.0736 | HQ13: 4398.2403 | HR13: 4858.0248 | HS13: 4117.3949 | HT13: 4631.4279 | HU13: 4414.1648 | HV13: 5125.9635 | HW13: 4365.4962 | HX13: 4518.4646 | HY13: 4391.5547 | HZ13: 4609.1883 | IA13: 4388.113 | IB13: 4548.8493 | IC13: 4286.1115 | ID13: 4396.5984 | IE13: 4396.383 | IF13: 4313.8275 | IG13: 4554.188 | IH13: 5242.2913 | II13: 4369.7198 | IJ13: 4407.9917 | IK13: 4656.5988 | IL13: 4493.7392 | IM13: 4316.216 | IN13: 4385.3796 | IO13: 4831.8063 | IP13: 5012.751 | IQ13: 5055.1855 | IR13: 10538.557 | IS13: 5250.3922 | IT13: 6440.34 | IU13: 5115.3187 | IV13: 4952.4923 | IW13: 5399.5039 | IX13: 5568.5166 | IY13: 5077.0416 | IZ13: 5252.7097 | JA13: 5734.1301 | JB13: 5361.0597 | JC13: 5615.305 | JD13: 5826.7948 | JE13: 5781.5936 | JF13: 5622.8726
A14: I.1.7 Social Contribution on Net Corporate Profits (CSLL) | B14: 566.5246 | C14: 487.84079 | D14: 1075.9044 | E14: 811.20736 | F14: 479.33566 | G14: 498.9015 | H14: 572.13378 | I14: 471.95966 | J14: 522.62379 | K14: 606.19046 | L14: 606.70254 | M14: 989.49197 | N14: 714.61073 | O14: 702.27486 | P14: 998.07399 | Q14: 581.09354 | R14: 383.52076 | S14: 428.17352 | T14: 583.6273 | U14: 944.90771 | V14: 414.17262 | W14: 602.15866 | X14: 393.66905 | Y14: 933.86234 | Z14: 659.96125 | AA14: 1120.808 | AB14: 801.45423 | AC14: 557.64767 | AD14: 381.45165 | AE14: 464.3334 | AF14: 834.74409 | AG14: 294.52472 | AH14: 485.23412 | AI14: 539.84945 | AJ14: 680.69944 | AK14: 449.55294 | AL14: 634.39051 | AM14: 885.40169 | AN14: 1450.2407 | AO14: 793.10649 | AP14: 516.60369 | AQ14: 514.25565 | AR14: 887.03523 | AS14: 643.15534 | AT14: 546.809 | AU14: 952.19607 | AV14: 601.59569 | AW14: 817.95787 | AX14: 1004.3367 | AY14: 674.79441 | AZ14: 838.92446 | BA14: 874.42204 | BB14: 610.42509 | BC14: 629.37664 | BD14: 970.24697 | BE14: 642.81783 | BF14: 617.51351 | BG14: 1036.0742 | BH14: 708.0132 | BI14: 708.47407 | BJ14: 1704.5619 | BK14: 789.02854 | BL14: 957.02629 | BM14: 1050.3989 | BN14: 678.03923 | BO14: 652.45269 | BP14: 1705.9384 | BQ14: 1128.4185 | BR14: 1438.3281 | BS14: 1292.3681 | BT14: 1005.4711 | BU14: 895.06607 | BV14: 1690.0255 | BW14: 1210.0536 | BX14: 1201.922 | BY14: 1554.6636 | BZ14: 1594.4558 | CA14: 1038.4699 | CB14: 1399.0984 | CC14: 982.62266 | CD14: 1113.3871 | CE14: 1287.8427 | CF14: 1324.7874 | CG14: 1757.5778 | CH14: 2289.2069 | CI14: 1574.5496 | CJ14: 1601.6419 | CK14: 1835.6254 | CL14: 1229.0066 | CM14: 1221.7036 | CN14: 2137.9742 | CO14: 1370.7422 | CP14: 1453.5346 | CQ14: 2142.3508 | CR14: 1326.6162 | CS14: 1712.65 | CT14: 2730.3887 | CU14: 1994.6865 | CV14: 1898.4144 | CW14: 2608.6248 | CX14: 1618.158 | CY14: 1784.5384 | CZ14: 2578.8768 | DA14: 1938.8344 | DB14: 1922.724 | DC14: 2899.5576 | DD14: 1874.5533 | DE14: 1993.7234 | DF14: 3071.524 | DG14: 2147.3161 | DH14: 2263.2452 | DI14: 2790.548 | DJ14: 1948.0217 | DK14: 2101.7801 | DL14: 2786.1767 | DM14: 1903.6835 | DN14: 2252.7901 | DO14: 2878.5644 | DP14: 1977.2915 | DQ14: 1902.6383 | DR14: 3474.8624 | DS14: 2510.7314 | DT14: 2930.4006 | DU14: 3038.0642 | DV14: 2052.4169 | DW14: 2243.9805 | DX14: 3458.7146 | DY14: 2558.6242 | DZ14: 2506.4271 | EA14: 3818.3568 | EB14: 2921.1113 | EC14: 2957.5823 | ED14: 5263.9556 | EE14: 2806.5881 | EF14: 3049.2367 | EG14: 4391.5349 | EH14: 2707.4596 | EI14: 4361.2367 | EJ14: 4600.8327 | EK14: 3288.5473 | EL14: 2970.3828 | EM14: 5383.7721 | EN14: 2874.1726 | EO14: 2915.5114 | EP14: 5180.1399 | EQ14: 3222.7644 | ER14: 4615.6644 | ES14: 4421.4291 | ET14: 2945.4113 | EU14: 2832.0001 | EV14: 4390.8383 | EW14: 2664.7331 | EX14: 3468.3205 | EY14: 4787.144 | EZ14: 3895.2895 | FA14: 2626.3481 | FB14: 6351.401 | FC14: 2922.1089 | FD14: 3443.1107 | FE14: 4961.0603 | FF14: 2955.1341 | FG14: 2699.0169 | FH14: 4706.2242 | FI14: 3271.4499 | FJ14: 2867.3193 | FK14: 5012.4516 | FL14: 3047.0511 | FM14: 4133.9485 | FN14: 8039.6459 | FO14: 3344.3477 | FP14: 4323.1806 | FQ14: 5414.9173 | FR14: 3232.7454 | FS14: 3471.2205 | FT14: 11583.825 | FU14: 3668.0364 | FV14: 3000.4998 | FW14: 5843.6976 | FX14: 3581.0979 | FY14: 3458.3815 | FZ14: 8963.5771 | GA14: 4756.4981 | GB14: 5179.03 | GC14: 5080.9814 | GD14: 2972.9913 | GE14: 3457.6532 | GF14: 5790.4321 | GG14: 3296.3048 | GH14: 3831.0168 | GI14: 6061.899 | GJ14: 3408.2104 | GK14: 3742.9412 | GL14: 11289.674 | GM14: 4229.1611 | GN14: 3483.3052 | GO14: 5793.6493 | GP14: 4830.2273 | GQ14: 3042.238 | GR14: 6207.85 | GS14: 3740.0687 | GT14: 3448.6553 | GU14: 7377.8185 | GV14: 3492.6155 | GW14: 7315.4078 | GX14: 11696.35 | GY14: 3523.6197 | GZ14: 4244.427 | HA14: 6870.9889 | HB14: 3830.2671 | HC14: 4051.808 | HD14: 6465.6903 | HE14: 4927.6351 | HF14: 3663.193 | HG14: 6736.1992 | HH14: 4916.3694 | HI14: 3881.517 | HJ14: 11281.336 | HK14: 4741.7293 | HL14: 5054.7579 | HM14: 6191.2103 | HN14: 3516.3013 | HO14: 3517.0108 | HP14: 6094.2277 | HQ14: 3155.6009 | HR14: 3256.4415 | HS14: 6360.7038 | HT14: 3496.1728 | HU14: 3753.0731 | HV14: 12316.345 | HW14: 3905.6163 | HX14: 5690.4495 | HY14: 7826.8099 | HZ14: 4286.2833 | IA14: 3415.6223 | IB14: 7989.3918 | IC14: 3462.275 | ID14: 4035.5616 | IE14: 6844.6415 | IF14: 4287.4007 | IG14: 4082.8677 | IH14: 14472.513 | II14: 4507.4174 | IJ14: 5489.7011 | IK14: 6906.3646 | IL14: 3444.4565 | IM14: 3857.1449 | IN14: 6565.8448 | IO14: 4454.4004 | IP14: 4441.8079 | IQ14: 7129.9684 | IR14: 9565.5984 | IS14: 4815.3852 | IT14: 15170.145 | IU14: 5443.4256 | IV14: 5460.0806 | IW14: 7237.6995 | IX14: 5137.3397 | IY14: 4088.6706 | IZ14: 7991.7421 | JA14: 5051.7984 | JB14: 5052.9389 | JC14: 7290.3201 | JD14: 5380.1845 | JE14: 5244.8305 | JF14: 14726.462
A15: I.1.8 Provisional Contribution on Financial Operations (CPMF) | B15: 0 | C15: 517.02353 | D15: 566.18172 | E15: 668.49842 | F15: 594.38239 | G15: 575.47174 | H15: 756.63713 | I15: 581.04767 | J15: 577.63895 | K15: 718.54236 | L15: 654.10315 | M15: 699.83305 | N15: 740.71939 | O15: 595.18276 | P15: 579.60433 | Q15: 733.48924 | R15: 624.44952 | S15: 608.87004 | T15: 744.16292 | U15: 639.83472 | V15: 817.8792 | W15: 632.05329 | X15: 604.80808 | Y15: 796.99912 | Z15: 637.63556 | AA15: 62.556773 | AB15: 0.481884 | AC15: 0.258262 | AD15: 0.041987 | AE15: 243.36553 | AF15: 1143.0512 | AG15: 803.48272 | AH15: 1288.6533 | AI15: 1111.0743 | AJ15: 1075.2899 | AK15: 1590.0306 | AL15: 1178.3698 | AM15: 1125.9282 | AN15: 1399.9638 | AO15: 1135.075 | AP15: 1446.6608 | AQ15: 1124.577 | AR15: 1031.8047 | AS15: 1210.8481 | AT15: 975.91067 | AU15: 1366.8866 | AV15: 1346.6046 | AW15: 1201.9486 | AX15: 1323.0866 | AY15: 785.07317 | AZ15: 1377.583 | BA15: 1325.0815 | BB15: 1738.1233 | BC15: 1362.4567 | BD15: 1437.4398 | BE15: 1714.2201 | BF15: 1351.3725 | BG15: 1762.2232 | BH15: 1428.3768 | BI15: 1591.7767 | BJ15: 1859.707 | BK15: 1359.1411 | BL15: 1470.435 | BM15: 1426.0485 | BN15: 1780.5866 | BO15: 1435.5053 | BP15: 1899.8044 | BQ15: 1569.4038 | BR15: 1652.8535 | BS15: 2066.7075 | BT15: 1713.1185 | BU15: 2133.6484 | BV15: 2152.5641 | BW15: 1744.1923 | BX15: 1794.9623 | BY15: 2064.8517 | BZ15: 1860.688 | CA15: 1652.402 | CB15: 2198.8898 | CC15: 1675.1631 | CD15: 1730.4683 | CE15: 2180.1422 | CF15: 1835.6446 | CG15: 2155.1595 | CH15: 2242.5885 | CI15: 1800.8211 | CJ15: 2268.6482 | CK15: 1868.0558 | CL15: 2050.9614 | CM15: 2393.1848 | CN15: 2050.2364 | CO15: 2098.4317 | CP15: 2495.9119 | CQ15: 2100.713 | CR15: 2102.4025 | CS15: 2960.6717 | CT15: 2194.6567 | CU15: 2251.0394 | CV15: 2629.2219 | CW15: 2163.0321 | CX15: 2362.3881 | CY15: 2692.06 | CZ15: 2407.6149 | DA15: 2660.0756 | DB15: 1979.9593 | DC15: 2214.7229 | DD15: 2741.5281 | DE15: 2710.6789 | DF15: 2407.4018 | DG15: 2309.1527 | DH15: 2655.6344 | DI15: 2667.2467 | DJ15: 2470.1285 | DK15: 2597.0858 | DL15: 2784.7004 | DM15: 2605.2516 | DN15: 2828.8264 | DO15: 2766.0011 | DP15: 2755.4938 | DQ15: 3298.8685 | DR15: 2908.9116 | DS15: 2716.7027 | DT15: 2782.6757 | DU15: 3059.039 | DV15: 2790.3471 | DW15: 3094.3293 | DX15: 3210.437 | DY15: 2992.7615 | DZ15: 3131.159 | EA15: 2995.8218 | EB15: 3155.4379 | EC15: 3682.0228 | ED15: 867.65252 | EE15: 34.294812 | EF15: 7.782111 | EG15: -8.83785 | EH15: 74.434779 | EI15: 38.512365 | EJ15: 26.580675 | EK15: 19.635901 | EL15: 16.756856 | EM15: 10.28676 | EN15: 12.942766 | EO15: 9.4313431 | EP15: 13.720694 | EQ15: 9.0938643 | ER15: 38.881359 | ES15: -2.8043204 | ET15: 4.5561532 | EU15: 6.0532898 | EV15: 39.863215 | EW15: 34.039095 | EX15: 39.719415 | EY15: -1.7798645 | EZ15: 86.86397 | FA15: -176.68918 | FB15: -49.26857 | FC15: 13.21951 | FD15: 4.132233 | FE15: -22.772982 | FF15: -2.529335 | FG15: 8.144144 | FH15: 19.145874 | FI15: 9.030457 | FJ15: 0.780789 | FK15: 14.856195 | FL15: 17.396993 | FM15: 11.484864 | FN15: 5.088141 | FO15: 10.252129 | FP15: 10.43076 | FQ15: 9.648457 | FR15: 6.988607 | FS15: 4.216304 | FT15: -4.139701 | FU15: 26.357799 | FV15: 8.0382725 | FW15: 1.3010515 | FX15: 23.155057 | FY15: -25.055673 | FZ15: 8.3418157 | GA15: 9.3967934 | GB15: 2.9533553 | GC15: 14.703074 | GD15: 8.0470493 | GE15: 41.126485 | GF15: -371.91477 | GG15: -1.2969467 | GH15: 3.3603253 | GI15: 10.82796 | GJ15: -46.83998 | GK15: 46.327164 | GL15: 3.1931382 | GM15: 7.9414926 | GN15: -209.71431 | GO15: 11.113697 | GP15: -79.991143 | GQ15: 8.4602488 | GR15: 1.0437264 | GS15: 7.6539995 | GT15: 7.2189364 | GU15: 3.2143228 | GV15: -1.5837736 | GW15: 36.172126 | GX15: 0.16311585 | GY15: 0.06294921 | GZ15: 0.07152221 | HA15: 0.12964306 | HB15: 0.34391876 | HC15: 0.06292121 | HD15: 0.12501399 | HE15: 4.6652089 | HF15: 0.13035953 | HG15: 0.58621292 | HH15: 2.1478257 | HI15: 0.02952382 | HJ15: 0.1698484 | HK15: 0.04074717 | HL15: 0.03525881 | HM15: 0.02794209 | HN15: 0.03406638 | HO15: 0.547819 | HP15: 0.02423382 | HQ15: 0.03149448 | HR15: 0.02664393 | HS15: 15.682725 | HT15: 0.03239787 | HU15: 1.4323893 | HV15: 0 | HW15: 0 | HX15: 0 | HY15: 0 | HZ15: 0 | IA15: 0 | IB15: 0 | IC15: 0 | ID15: 0 | IE15: 0 | IF15: 0 | IG15: 0 | IH15: 0 | II15: 0 | IJ15: 0 | IK15: 0 | IL15: 0 | IM15: 0 | IN15: 0 | IO15: 0 | IP15: 0 | IQ15: 0 | IR15: 0 | IS15: 0 | IT15: 0 | IU15: 0 | IV15: 0 | IW15: 0 | IX15: 0 | IY15: 0 | IZ15: 0 | JA15: 0 | JB15: 0 | JC15: 0 | JD15: 0 | JE15: 0 | JF15: 0
A16: I.1.9 Contribution on Intervention in the Economic Domain (CIDE) - Fuels | B16: 0 | C16: 0 | D16: 0 | E16: 0 | F16: 0 | G16: 0 | H16: 0 | I16: 0 | J16: 0 | K16: 0 | L16: 0 | M16: 0 | N16: 0 | O16: 0 | P16: 0 | Q16: 0 | R16: 0 | S16: 0 | T16: 0 | U16: 0 | V16: 0 | W16: 0 | X16: 0 | Y16: 0 | Z16: 0 | AA16: 0 | AB16: 0 | AC16: 0 | AD16: 0 | AE16: 0 | AF16: 0 | AG16: 0 | AH16: 0 | AI16: 0 | AJ16: 0 | AK16: 0 | AL16: 0 | AM16: 0 | AN16: 0 | AO16: 0 | AP16: 0 | AQ16: 0 | AR16: 0 | AS16: 0 | AT16: 0 | AU16: 0 | AV16: 0 | AW16: 0 | AX16: 0 | AY16: 0 | AZ16: 0 | BA16: 0 | BB16: 0 | BC16: 0 | BD16: 0 | BE16: 0 | BF16: 0 | BG16: 0 | BH16: 0 | BI16: 0 | BJ16: 60.772734 | BK16: 746.10086 | BL16: 737.46629 | BM16: 679.54417 | BN16: 683.00185 | BO16: 568.55864 | BP16: 684.73583 | BQ16: 643.8554 | BR16: 631.59218 | BS16: 608.17297 | BT16: 661.26535 | BU16: 535.86849 | BV16: 667.81097 | BW16: 545.24145 | BX16: 530.49292 | BY16: 599.6365 | BZ16: 505.42455 | CA16: 681.43085 | CB16: 628.56028 | CC16: 626.53627 | CD16: 752.74078 | CE16: 596.92851 | CF16: 644.23182 | CG16: 716.70233 | CH16: 649.21077 | CI16: 689.76082 | CJ16: 570.26731 | CK16: 706.37189 | CL16: 657.93724 | CM16: 596.76218 | CN16: 590.90726 | CO16: 636.39302 | CP16: 670.14339 | CQ16: 707.6937 | CR16: 630.36542 | CS16: 562.79823 | CT16: 649.80353 | CU16: 607.86341 | CV16: 593.66592 | CW16: 673.21145 | CX16: 637.58377 | CY16: 643.5037 | CZ16: 626.81638 | DA16: 651.30486 | DB16: 671.86618 | DC16: 627.63372 | DD16: 638.06644 | DE16: 658.35803 | DF16: 627.24494 | DG16: 590.8704 | DH16: 570.5924 | DI16: 706.55401 | DJ16: 647.69982 | DK16: 640.84135 | DL16: 634.01539 | DM16: 637.73256 | DN16: 701.97383 | DO16: 692.72834 | DP16: 702.09442 | DQ16: 670.23657 | DR16: 687.29913 | DS16: 617.69882 | DT16: 568.10207 | DU16: 669.4854 | DV16: 644.2123 | DW16: 694.9545 | DX16: 684.67244 | DY16: 649.39408 | DZ16: 695.36013 | EA16: 636.93593 | EB16: 735.86007 | EC16: 659.01002 | ED16: 663.26253 | EE16: 679.21669 | EF16: 642.40048 | EG16: 631.73777 | EH16: 660.55872 | EI16: 305.78898 | EJ16: 365.84566 | EK16: 416.11641 | EL16: 408.89316 | EM16: 410.53982 | EN16: 395.34422 | EO16: 364.30088 | EP16: 29.838183 | EQ16: 37.231858 | ER16: 54.613696 | ES16: 340.88669 | ET16: 359.56186 | EU16: 387.43742 | EV16: 533.5144 | EW16: 607.8864 | EX16: 610.45903 | EY16: 675.56565 | EZ16: 645.1368 | FA16: 632.39685 | FB16: 690.38071 | FC16: 680.188 | FD16: 589.44229 | FE16: 562.70054 | FF16: 530.76732 | FG16: 581.81957 | FH16: 682.00532 | FI16: 700.0195 | FJ16: 683.85456 | FK16: 703.85344 | FL16: 693.10208 | FM16: 660.92478 | FN16: 727.0812 | FO16: 674.67513 | FP16: 656.89178 | FQ16: 888.46941 | FR16: 797.52326 | FS16: 746.67039 | FT16: 796.73885 | FU16: 848.50296 | FV16: 913.74755 | FW16: 836.54932 | FX16: 645.6927 | FY16: 430.97402 | FZ16: 421.9407 | GA16: 400.73559 | GB16: 436.73304 | GC16: 466.08195 | GD16: 468.11997 | GE16: 448.51527 | GF16: 224.14866 | GG16: 2.7418314 | GH16: 1.1277107 | GI16: 4.5351506 | GJ16: 0.20512771 | GK16: 2.7516222 | GL16: 0.80685306 | GM16: 0.58508421 | GN16: 238.18155 | GO16: -3.5317342 | GP16: 1.3401642 | GQ16: 0.76930197 | GR16: 10.188485 | GS16: 252.01592 | GT16: 96.337399 | GU16: 4.8263443 | GV16: 123.2406 | GW16: 24.721602 | GX16: 0.81078567 | GY16: 0.74186218 | GZ16: 0.74650127 | HA16: 2.1417199 | HB16: 0.80308468 | HC16: 0.64382396 | HD16: 13.741934 | HE16: 0.71840533 | HF16: 0.71985691 | HG16: 0.69434966 | HH16: 6.0593564 | HI16: 2.4991127 | HJ16: 3.0214002 | HK16: 0.45059717 | HL16: -8.2620726 | HM16: -9.4460406 | HN16: 20.482583 | HO16: 473.42288 | HP16: 470.97176 | HQ16: 464.31 | HR16: 475.73601 | HS16: 464.91627 | HT16: 454.53757 | HU16: 467.7309 | HV16: 503.01373 | HW16: 461.19625 | HX16: 460.67672 | HY16: 455.37265 | HZ16: 804.55613 | IA16: 470.23814 | IB16: 456.89131 | IC16: 423.25401 | ID16: 480.71094 | IE16: 485.65687 | IF16: 504.3822 | IG16: 504.70624 | IH16: 499.51857 | II16: 427.63976 | IJ16: 439.68169 | IK16: 508.76496 | IL16: 497.74574 | IM16: 457.69335 | IN16: 494.01081 | IO16: 515.01784 | IP16: 522.81731 | IQ16: 490.56064 | IR16: 508.46275 | IS16: 465.39876 | IT16: 458.35277 | IU16: 413.92688 | IV16: 413.02649 | IW16: 456.31458 | IX16: 446.21618 | IY16: 379.38049 | IZ16: 215.59819 | JA16: 206.5719 | JB16: 224.67797 | JC16: 230.74352 | JD16: 235.43438 | JE16: 283.14696 | JF16: 285.45492
