Workbook

Sheet Índice
B3: SECRETARIA DO TESOURO NACIONAL
B4: RGF em Foco - 2º quadrimestre de 2022 - Estados e Distrito Federal
B5: Dados extraídos do RGF dos Estados e Distrito Federal - 2º quadrimestre
B6: Fonte: SICONFI
B7: Data da extração: 05/10/22, das 8h às 8:30h
A9: 1. | B9: Composição das Despesas de Pessoal
A10: 2. | B10: Gráfico 1 - Despesa Total com Pessoal em relação à RCL
A11: 3. | B11: Gráfico 2 - Composição da Despesa Bruta com Pessoal
A12: 4. | B12: Gráfico 3 - Inativos e Pensionistas com Recursos Vinculados /Pessoal Inativo e Pensionistas
A13: 5. | B13: Gráfico 4 - Despesas com pessoal não computadas em relação à RCL
A14: 6. | B14: Gráfico 5 - Dívida Consolidada Líquida - DCL
A15: 7. | B15: Gráfico 6 Composição da Dívida Consolidada Bruta
A16: 8. | B16: Gráfico 7 - Deduções da Dívida Consolidada Bruta
A17: 9. | B17: Gráfico 8 - Composição da Dívida Contratual
A18: 10. | B18: Gráfico 9 - Precatórios
A19: 11. | B19: Gráfico 10 - Operações de Crédito

Sheet 1.
B2: Clique aqui para voltar ao índice
A4: SECRETARIA DO TESOURO NACIONAL
A5: Tabela 1. Composição das Despesas de Pessoal
A6: Fonte: SICONFI
A7: RGF 2º quadrimestre de 2022
A8: Anexo 01 - Demonstrativo da Despesas Com Pessoal
A9: R$ - Valores Correntes
A10: (Os dados abaixo correspondem ao somatório das despesas de pessoal de todos os poderes: Executivo, Legislativo, incluindo os Tribunais de Contas, Judiciário e Ministérios Públicos dos Estados e DF. Os dados do RGF das Defensorias Públicas Estaduais não devem ser incluídos no somatório pois já estão incluídos nos valores do poder executivo de cada ente.)
A12: UF | B12: TOTAL (ÚLTIMOS 12 MESES) (a) | J12: RCL Ajustada | K12: Cálculo das Despesas de Pessoal
B13: DESPESA BRUTA COM PESSOAL (I) | C13: DESPESA LÍQUIDA COM PESSOAL (III) = (I - II) | D13: DESPESAS NÃO COMPUTADAS (§ 1º do art. 19 da LRF) (II) | E13: Inativos e Pensionistas com Recursos Vinculados | F13: Outras Despesas de Pessoal decorrentes de Contratos de Terceirização (§ 1º do art. 18 da LRF) | G13: Despesa com Pessoal não Executada Orçamentariamente | H13: Pessoal Ativo | I13: Pessoal Inativo e Pensionistas | K13: Despesa Bruta com pessoal/RCL | L13: Despesas não computadas / RCL | M13: Ativo / Despesa Bruta | N13: Inativo e Pensionistas / Despesa Bruta | O13: Terceirização / Despesa Bruta com Pessoal | P13: Não Executada Orçamentariamente/ Despesa Bruta | Q13: Inativos e Pensionistas com Recursos Vinculados / Inativos e Pensionistas
A14: AC | B14: 4.7494349e+09 | C14: 4.198519e+09 | D14: 5.5091594e+08 | E14: 4.7475223e+08 | F14: 55764516 | G14: 29113120 | H14: 3.4011416e+09 | I14: 1.2634157e+09 | J14: 7595084219 | K14: =B14/J14 -> 0.62533012 | L14: =D14/J14 -> 0.072535857 | M14: =H14/B14 -> 0.716115 | N14: =I14/B14 -> 0.26601389 | O14: =F14/B14 -> 0.011741295 | P14: =G14/B14 -> 0.0061298071 | Q14: =E14/I14 -> 0.37576883
A15: AL | B15: 7.209957e+09 | C15: 6.1353982e+09 | D15: 1.0745587e+09 | E15: 8.9217464e+08 | F15: 2.689373e+08 | H15: 4.252104e+09 | I15: 2.6889157e+09 | J15: 1.2863754e+10 | K15: =B15/J15 -> 0.56048624 | L15: =D15/J15 -> 0.08353384 | M15: =H15/B15 -> 0.58975442 | N15: =I15/B15 -> 0.37294476 | O15: =F15/B15 -> 0.037300819 | P15: =G15/B15 -> 0 | Q15: =E15/I15 -> 0.33179718
A16: AM | B16: 1.204846e+10 | C16: 1.0669961e+10 | D16: 1.3784994e+09 | E16: 9.9188055e+08 | F16: 5.5129745e+08 | G16: 0 | H16: 8.6287536e+09 | I16: 2.8684093e+09 | J16: 2.1752401e+10 | K16: =B16/J16 -> 0.55389106 | L16: =D16/J16 -> 0.063372288 | M16: =H16/B16 -> 0.71617064 | N16: =I16/B16 -> 0.23807269 | O16: =F16/B16 -> 0.045756672 | P16: =G16/B16 -> 0 | Q16: =E16/I16 -> 0.34579463
A17: AP | B17: 3.7400895e+09 | C17: 3.4879642e+09 | D17: 2.5212529e+08 | E17: 1.9642124e+08 | H17: 3.528067e+09 | I17: 2.1202247e+08 | J17: 7.4020456e+09 | K17: =B17/J17 -> 0.50527782 | L17: =D17/J17 -> 0.034061569 | M17: =H17/B17 -> 0.94331086 | N17: =I17/B17 -> 0.056689144 | O17: =F17/B17 -> 0 | P17: =G17/B17 -> 0 | Q17: =E17/I17 -> 0.9264171
A18: BA | B18: 2.7139031e+10 | C18: 2.1996359e+10 | D18: 5.1426717e+09 | E18: 4.292326e+09 | F18: 3.2418592e+08 | H18: 1.6770373e+10 | I18: 1.0044472e+10 | J18: 4.9779267e+10 | K18: =B18/J18 -> 0.54518743 | L18: =D18/J18 -> 0.10330951 | M18: =H18/B18 -> 0.61794294 | N18: =I18/B18 -> 0.37011168 | O18: =F18/B18 -> 0.011945376 | P18: =G18/B18 -> 0 | Q18: =E18/I18 -> 0.42733215
A19: CE | B19: 1.7445767e+10 | C19: 1.4244289e+10 | D19: 3.2014773e+09 | E19: 2.8823352e+09 | F19: 9.3177136e+08 | G19: 1052499.1 | H19: 1.2321679e+10 | I19: 4.1912638e+09 | J19: 2.8933553e+10 | K19: =B19/J19 -> 0.60295971 | L19: =D19/J19 -> 0.1106493 | M19: =H19/B19 -> 0.70628475 | N19: =I19/B19 -> 0.24024532 | O19: =F19/B19 -> 0.053409597 | P19: =G19/B19 -> 6.0329773e-05 | Q19: =E19/I19 -> 0.68770074
A20: DF | B20: 1.7590887e+10 | C20: 1.2561672e+10 | D20: 5.0292153e+09 | E20: 4.1882884e+09 | F20: 1064559343 | H20: 1.2110994e+10 | I20: 4.4153342e+09 | J20: 3.0286601e+10 | K20: =B20/J20 -> 0.58081417 | L20: =D20/J20 -> 0.16605413 | M20: =H20/B20 -> 0.68848111 | N20: =I20/B20 -> 0.25100123 | O20: =F20/B20 -> 0.060517661 | P20: =G20/B20 -> 0 | Q20: =E20/I20 -> 0.94857789
A21: ES | B21: 1.0373576e+10 | C21: 9.5577637e+09 | D21: 8.1581279e+08 | E21: 6.6949123e+08 | F21: 6.6780625e+08 | H21: 5.9925106e+09 | I21: 3.7132596e+09 | J21: 2.1347564e+10 | K21: =B21/J21 -> 0.48593725 | L21: =D21/J21 -> 0.038215733 | M21: =H21/B21 -> 0.57767065 | N21: =I21/B21 -> 0.35795365 | O21: =F21/B21 -> 0.0643757 | P21: =G21/B21 -> 0 | Q21: =E21/I21 -> 0.18029745
A22: GO | B22: 2.0390066e+10 | C22: 1.633939e+10 | D22: 4.0506759e+09 | E22: 2.7559562e+09 | F22: 4.5375865e+08 | H22: 1.2210279e+10 | I22: 7.7260282e+09 | J22: 3.6407115e+10 | K22: =B22/J22 -> 0.56005718 | L22: =D22/J22 -> 0.11126056 | M22: =H22/B22 -> 0.5988347 | N22: =I22/B22 -> 0.37891139 | O22: =F22/B22 -> 0.022253908 | P22: =G22/B22 -> 0 | Q22: =E22/I22 -> 0.35671061
A23: MA | B23: 1.1084921e+10 | C23: 8.7701718e+09 | D23: 2.3147497e+09 | E23: 2.2269872e+09 | F23: 2914 | G23: 31792698 | H23: 7.8468704e+09 | I23: 3.2062554e+09 | J23: 2.0895915e+10 | K23: =B23/J23 -> 0.53048271 | L23: =D23/J23 -> 0.11077523 | M23: =H23/B23 -> 0.70788688 | N23: =I23/B23 -> 0.28924476 | O23: =F23/B23 -> 2.6287963e-07 | P23: =G23/B23 -> 0.0028681031 | Q23: =E23/I23 -> 0.69457573
A24: MG | B24: 6.2457956e+10 | C24: 5.1053892e+10 | D24: 1.1404064e+10 | E24: 9.3324416e+09 | F24: 1914549.8 | G24: 3.1693053e+08 | H24: 3.444525e+10 | I24: 2.7693861e+10 | J24: 8.9028638e+10 | K24: =B24/J24 -> 0.70154904 | L24: =D24/J24 -> 0.12809433 | M24: =H24/B24 -> 0.55149499 | N24: =I24/B24 -> 0.44340005 | O24: =F24/B24 -> 3.0653418e-05 | P24: =G24/B24 -> 0.0050743021 | Q24: =E24/I24 -> 0.33698594
A25: MS | B25: 1.2200103e+10 | C25: 8.3198639e+09 | D25: 3.8802389e+09 | E25: 3.5207394e+09 | H25: 8.052775e+09 | I25: 4.1473278e+09 | J25: 1.7828414e+10 | K25: =B25/J25 -> 0.68430669 | L25: =D25/J25 -> 0.21764353 | M25: =H25/B25 -> 0.66005796 | N25: =I25/B25 -> 0.33994204 | O25: =F25/B25 -> 0 | P25: =G25/B25 -> 0 | Q25: =E25/I25 -> 0.84891757
A26: MT | B26: 1.5769979e+10 | C26: 1.1992316e+10 | D26: 3.7776636e+09 | E26: 3.3669653e+09 | F26: 194796.3 | H26: 1.1075131e+10 | I26: 4.6946529e+09 | J26: 2.8960864e+10 | K26: =B26/J26 -> 0.54452723 | L26: =D26/J26 -> 0.13044029 | M26: =H26/B26 -> 0.70229208 | N26: =I26/B26 -> 0.29769557 | O26: =F26/B26 -> 1.235235e-05 | P26: =G26/B26 -> 0 | Q26: =E26/I26 -> 0.71719153
A27: PA | B27: 1.8450287e+10 | C27: 1.4937258e+10 | D27: 3.5130298e+09 | E27: 2.9463118e+09 | F27: 4718.4 | H27: 1.3144384e+10 | I27: 5.3058983e+09 | J27: 3.1745903e+10 | K27: =B27/J27 -> 0.58118641 | L27: =D27/J27 -> 0.11066089 | M27: =H27/B27 -> 0.71242166 | N27: =I27/B27 -> 0.28757808 | O27: =F27/B27 -> 2.5573585e-07 | P27: =G27/B27 -> 0 | Q27: =E27/I27 -> 0.55528992
A28: PB | B28: 9.1862872e+09 | C28: 8.022199e+09 | D28: 1.1640882e+09 | E28: 1.114379e+09 | H28: 6.3730949e+09 | I28: 2.8131923e+09 | J28: 1.4988716e+10 | K28: =B28/J28 -> 0.6128802 | L28: =D28/J28 -> 0.077664306 | M28: =H28/B28 -> 0.69376177 | N28: =I28/B28 -> 0.30623823 | O28: =F28/B28 -> 0 | P28: =G28/B28 -> 0 | Q28: =E28/I28 -> 0.39612614
A29: PE | B29: 2.0397793e+10 | C29: 1.7136547e+10 | D29: 3.2612459e+09 | E29: 3.0494481e+09 | H29: 1.3036701e+10 | I29: 7.3610918e+09 | J29: 3.6031813e+10 | K29: =B29/J29 -> 0.56610509 | L29: =D29/J29 -> 0.090510179 | M29: =H29/B29 -> 0.63912312 | N29: =I29/B29 -> 0.36087688 | O29: =F29/B29 -> 0 | P29: =G29/B29 -> 0 | Q29: =E29/I29 -> 0.41426574
A30: PI | B30: 8.4375903e+09 | C30: 5.9045711e+09 | D30: 2.5330192e+09 | E30: 2.3606754e+09 | F30: 2.1904812e+08 | G30: 16766572 | H30: 5.6630756e+09 | I30: 2.5387e+09 | J30: 1.3140628e+10 | K30: =B30/J30 -> 0.64209946 | L30: =D30/J30 -> 0.19276241 | M30: =H30/B30 -> 0.67117214 | N30: =I30/B30 -> 0.30087975 | O30: =F30/B30 -> 0.025960981 | P30: =G30/B30 -> 0.001987128 | Q30: =E30/I30 -> 0.92987568
A31: PR | B31: 3.0071409e+10 | C31: 2.4449354e+10 | D31: 5.622055e+09 | E31: 5.4634264e+09 | F31: 1.9615123e+08 | H31: 1.8370508e+10 | I31: 1.150475e+10 | J31: 5.4880595e+10 | K31: =B31/J31 -> 0.54794248 | L31: =D31/J31 -> 0.10244158 | M31: =H31/B31 -> 0.61089614 | N31: =I31/B31 -> 0.38258101 | O31: =F31/B31 -> 0.0065228479 | P31: =G31/B31 -> 0 | Q31: =E31/I31 -> 0.47488441
A32: RJ | B32: 5.2476052e+10 | C32: 4.2925656e+10 | D32: 9.5503964e+09 | E32: 6.1224928e+09 | F32: 1.7020211e+09 | H32: 2.8372867e+10 | I32: 2.2401164e+10 | J32: 8.930376e+10 | K32: =B32/J32 -> 0.58761302 | L32: =D32/J32 -> 0.10694283 | M32: =H32/B32 -> 0.5406822 | N32: =I32/B32 -> 0.42688356 | O32: =F32/B32 -> 0.032434244 | P32: =G32/B32 -> 0 | Q32: =E32/I32 -> 0.27331137
A33: RN | B33: 1.2025107e+10 | C33: 8.3049841e+09 | D33: 3.7201231e+09 | E33: 3.049056e+09 | F33: 1.3681982e+08 | H33: 7.3684299e+09 | I33: 4.5198575e+09 | J33: 1.3985035e+10 | K33: =B33/J33 -> 0.85985538 | L33: =D33/J33 -> 0.26600743 | M33: =H33/B33 -> 0.61275378 | N33: =I33/B33 -> 0.37586837 | O33: =F33/B33 -> 0.011377846 | P33: =G33/B33 -> 0 | Q33: =E33/I33 -> 0.67459118
A34: RO | B34: 6.267636e+09 | C34: 5.0876637e+09 | D34: 1.1799722e+09 | E34: 9.3546439e+08 | F34: 40383282 | G34: 14290144 | H34: 5.1082395e+09 | I34: 1.104723e+09 | J34: 1.1552328e+10 | K34: =B34/J34 -> 0.54254311 | L34: =D34/J34 -> 0.10214151 | M34: =H34/B34 -> 0.81501854 | N34: =I34/B34 -> 0.17625833 | O34: =F34/B34 -> 0.0064431442 | P34: =G34/B34 -> 0.0022799895 | Q34: =E34/I34 -> 0.84678637
A35: RR | B35: 3.3045429e+09 | C35: 3.0324253e+09 | D35: 2.7211757e+08 | E35: 140874486 | F35: 812965.63 | H35: 3.1564602e+09 | I35: 1.4726972e+08 | J35: 6.2863292e+09 | K35: =B35/J35 -> 0.52567131 | L35: =D35/J35 -> 0.043287197 | M35: =H35/B35 -> 0.95518815 | N35: =I35/B35 -> 0.044565837 | O35: =F35/B35 -> 0.00024601455 | P35: =G35/B35 -> 0 | Q35: =E35/I35 -> 0.95657469
A36: RS | B36: 3.7883581e+10 | C36: 2.7403986e+10 | D36: 1.0479595e+10 | E36: 8.6483422e+09 | F36: 1.9218246e+08 | H36: 1.9669362e+10 | I36: 1.8022036e+10 | J36: 5.2027187e+10 | K36: =B36/J36 -> 0.72814971 | L36: =D36/J36 -> 0.20142537 | M36: =H36/B36 -> 0.51920546 | N36: =I36/B36 -> 0.47572157 | O36: =F36/B36 -> 0.005072975 | P36: =G36/B36 -> 0 | Q36: =E36/I36 -> 0.47987597
A37: SC | B37: 2.2173707e+10 | C37: 1.7981297e+10 | D37: 4.1924095e+09 | E37: 3.1166502e+09 | F37: 2.8976163e+08 | H37: 1.3592369e+10 | I37: 8.2915766e+09 | J37: 3.6204148e+10 | K37: =B37/J37 -> 0.61246315 | L37: =D37/J37 -> 0.11579915 | M37: =H37/B37 -> 0.61299487 | N37: =I37/B37 -> 0.37393732 | O37: =F37/B37 -> 0.013067803 | P37: =G37/B37 -> 0 | Q37: =E37/I37 -> 0.37588149
A38: SE | B38: 7.0065135e+09 | C38: 5.6121048e+09 | D38: 1.3944087e+09 | E38: 1.3429782e+09 | H38: 4.4942532e+09 | I38: 2.5122604e+09 | J38: 1.0962211e+10 | K38: =B38/J38 -> 0.6391515 | L38: =D38/J38 -> 0.12720141 | M38: =H38/B38 -> 0.6414393 | N38: =I38/B38 -> 0.3585607 | O38: =F38/B38 -> 0 | P38: =G38/B38 -> 0 | Q38: =E38/I38 -> 0.53456967
A39: SP | B39: 1.3383923e+11 | C39: 9.7931639e+10 | D39: 3.590759e+10 | E39: 3.4854299e+10 | H39: 7.5619016e+10 | I39: 5.8220213e+10 | J39: 2.21858e+11 | K39: =B39/J39 -> 0.60326527 | L39: =D39/J39 -> 0.16184943 | M39: =H39/B39 -> 0.56499889 | N39: =I39/B39 -> 0.43500111 | O39: =F39/B39 -> 0 | P39: =G39/B39 -> 0 | Q39: =E39/I39 -> 0.5986632
A40: TO | B40: 7.7920781e+09 | C40: 5.7440818e+09 | D40: 2047996344 | E40: 1.5479571e+09 | G40: 25368521 | H40: 6.0382428e+09 | I40: 1.7284668e+09 | J40: 1.1430273e+10 | K40: =B40/J40 -> 0.68170537 | L40: =D40/J40 -> 0.17917301 | M40: =H40/B40 -> 0.77492072 | N40: =I40/B40 -> 0.2218236 | O40: =F40/B40 -> 0 | P40: =G40/B40 -> 0.003255681 | Q40: =E40/I40 -> 0.89556656

Sheet 2.
B2: Clique aqui para voltar ao índice
A4: SECRETARIA DO TESOURO NACIONAL
A5: Tabela 2. Gráfico 1 - Despesa Total com Pessoal em relação à RCL
A6: Fonte: SICONFI
A7: ='1.'!A7 -> RGF 2º quadrimestre de 2022
A8: Anexo 01 - Demonstrativo da Despesas Com Pessoal
A9: R$ - Valores Correntes | K9: 100
A10: (Os dados abaixo correspondem ao somatório das despesas de pessoal de todos os poderes: Executivo, Legislativo, incluindo os Tribunais de Contas, Judiciário e Ministérios Públicos dos Estados e DF. Os dados do RGF das Defensorias Públicas Estaduais não devem ser incluídos no somatório pois já estão incluídos nos valores do poder executivo de cada ente.)
A12: UF | B12: Executivo | D12: Judiciário | F12: Legislativo | H12: Ministério Público | J12: Lim. Máx. Executivo 49%
B13: Lim. Máx. 49% | D13: Lim. Máx. 6% | F13: Lim. Máx. 3% | H13: Lim. Máx. 2%
B14: % / RCL | C14: Valor | D14: % / RCL | E14: Valor | F14: % / RCL | G14: Valor | H14: % / RCL | I14: Valor
A15: ='1.'!A14 -> AC | B15: 0.4865 | C15: 3.695343e+09 | D15: 0.0302 | E15: 2.2948887e+08 | F15: 0.0231 | G15: 1.753018e+08 | H15: 0.0139 | I15: 1.0522555e+08 | J15: 0.49
A16: ='1.'!A15 -> AL | B16: 0.4023 | C16: 5.1749946e+09 | D16: 0.0378 | E16: 4.8629052e+08 | F16: 0.0248 | G16: 3.1933655e+08 | H16: 0.012 | I16: 1.5477655e+08 | J16: 0.49
A17: ='1.'!A16 -> AM | B17: 0.4244 | C17: 9.2314452e+09 | D17: 0.0309 | E17: 6.7274901e+08 | F17: 0.024 | G17: 5.2276324e+08 | H17: 0.0119 | I17: 2.5945757e+08 | J17: 0.49
A18: ='1.'!A17 -> AP | B18: 0.399 | C18: 2.9533249e+09 | D18: 0.0378 | E18: 2.8006304e+08 | F18: 0.0231 | G18: 1.7064633e+08 | H18: 0.0145 | I18: 1.0769889e+08 | J18: 0.49
A19: ='1.'!A18 -> BA | B19: 0.3578 | C19: 1.7813365e+10 | D19: 0.0473 | E19: 2.3566637e+09 | F19: 0.024 | G19: 1.1930941e+09 | H19: 0.0128 | I19: 6.3562081e+08 | J19: 0.49
A20: ='1.'!A19 -> CE | B20: 0.4169 | C20: 1.2061763e+10 | D20: 0.0398 | E20: 1.1526136e+09 | F20: 0.0229 | G20: 6.6302632e+08 | H20: 0.0132 | I20: 3.8129269e+08 | J20: 0.49
A21: ='1.'!A20 -> DF | B21: 0.406 | C21: 1.2294919e+10 | D21: 0 | F21: 0.0101 | G21: 3.0602708e+08 | H21: 0 | J21: 0.49
A22: ='1.'!A21 -> ES | B22: 0.372 | C22: 7.9416583e+09 | D22: 0.0458 | E22: 9.7863219e+08 | F22: 0.0162 | G22: 3.4714241e+08 | H22: 0.0143 | I22: 3.0612587e+08 | J22: 0.49
A23: ='1.'!A22 -> GO | B23: 0.3739 | C23: 1.3612085e+10 | D23: 0.0381 | E23: 1.3871271e+09 | F23: 0.0232 | G23: 8.4135423e+08 | H23: 0.014 | I23: 5.0975144e+08 | J23: 0.49
A24: ='1.'!A23 -> MA | B24: 0.3212 | C24: 6.7107702e+09 | D24: 0.0512 | E24: 1.0692666e+09 | F24: 0.0277 | G24: 5.7869896e+08 | H24: 0.0214 | I24: 4.4803915e+08 | J24: 0.49
A25: ='1.'!A24 -> MG | B25: 0.4886 | C25: 4.3503341e+10 | D25: 0.0489 | E25: 4.3580401e+09 | F25: 0.0204 | G25: 1.8143502e+09 | H25: 0.0155 | I25: 1.379294e+09 | J25: 0.49
A26: ='1.'!A25 -> MS | B26: 0.3855 | C26: 6.8725603e+09 | D26: 0.0452 | E26: 8.0596652e+08 | F26: 0.0214 | G26: 3.8174865e+08 | H26: 0.0146 | I26: 2.5988154e+08 | J26: 0.49
A27: ='1.'!A26 -> MT | B27: 0.3517 | C27: 10185432273 | D27: 0.0307 | E27: 8.8878318e+08 | F27: 0.0193 | G27: 5.5712795e+08 | H27: 0.0135 | I27: 3.9042972e+08 | J27: 0.49
A28: ='1.'!A27 -> PA | B28: 0.3967 | C28: 1.2592467e+10 | D28: 0.0345 | E28: 1.0958618e+09 | F28: 0.0256 | G28: 8.1192322e+08 | H28: 0.0138 | I28: 4.3728926e+08 | J28: 0.49
A29: ='1.'!A28 -> PB | B29: 0.4512 | C29: 6.7632008e+09 | D29: 0.0408 | E29: 6.1110603e+08 | F29: 0.0269 | G29: 4.0235165e+08 | H29: 0.0164 | I29: 2.4554232e+08 | J29: 0.49
A30: ='1.'!A29 -> PE | B30: 0.3959 | C30: 1.4265315e+10 | D30: 0.0442 | E30: 1.5917813e+09 | F30: 0.0218 | G30: 7.8498721e+08 | H30: 0.0137 | I30: 4.9446351e+08 | J30: 0.49
A31: ='1.'!A30 -> PI | B31: 0.3762 | C31: 4.9441492e+09 | D31: 0.0367 | E31: 4.8220719e+08 | F31: 0.0227 | G31: 2.9939001e+08 | H31: 0.0136 | I31: 178824677 | J31: 0.49
A32: ='1.'!A31 -> PR | B32: 0.3948 | C32: 2.1666822e+10 | D32: 0.0372 | E32: 2.0392274e+09 | F32: 0.0148 | G32: 8.1093217e+08 | H32: 0 | J32: 0.49
A33: ='1.'!A32 -> RJ | B33: 0.4294 | C33: 3.8349828e+10 | D33: 0.0385 | E33: 3.4344337e+09 | F33: 0 | H33: 0.0131 | I33: 1.1716926e+09 | J33: 0.49
A34: ='1.'!A33 -> RN | B34: 0.5071 | C34: 7.0919552e+09 | D34: 0.0478 | E34: 6.6891807e+08 | F34: 0.0272 | G34: 3.8038919e+08 | H34: 0.0164 | I34: 2.2932198e+08 | J34: 0.49
A35: ='1.'!A34 -> RO | B35: 0.3759 | C35: 4.3426075e+09 | D35: 0.0401 | E35: 4.6303383e+08 | F35: 0.0226 | G35: 2.617733e+08 | H35: 0.0139 | I35: 1.6048891e+08 | J35: 0.49
A36: ='1.'!A35 -> RR | B36: 0.4028 | C36: 2.5322329e+09 | D36: 0.0368 | E36: 2.3116695e+08 | F36: 0.0306 | G36: 1.9244975e+08 | H36: 0.0127 | I36: 79944948 | J36: 0.49
A37: ='1.'!A36 -> RS | B37: 0.4506 | C37: 2.3443327e+10 | D37: 0.0452 | E37: 2.3482094e+09 | F37: 0.0175 | G37: 9.1337814e+08 | H37: 0.0152 | I37: 7.8945773e+08 | J37: 0.49
A38: ='1.'!A37 -> SC | B38: 0.4192 | C38: 1.5175675e+10 | D38: 0.0432 | E38: 1.5651706e+09 | F38: 0.0198 | G38: 7.141044e+08 | H38: 0.0148 | I38: 5.3597426e+08 | J38: 0.49
A39: ='1.'!A38 -> SE | B39: 0.4226 | C39: 4.6324003e+09 | D39: 0.0477 | E39: 5.2340545e+08 | F39: 0.0273 | G39: 2.9859666e+08 | H39: 0.0148 | I39: 1.6199177e+08 | J39: 0.49
A40: ='1.'!A39 -> SP | B40: 0.376 | C40: 8.3412489e+10 | D40: 0.0456 | E40: 1.0118669e+10 | F40: 0.0084 | G40: 1.8668744e+09 | H40: 0.0114 | I40: 2.5336058e+09 | J40: 0.49
A41: ='1.'!A40 -> TO | B41: 0.4205 | C41: 4.8067129e+09 | D41: 0.0432 | E41: 4.9401426e+08 | F41: 0.0256 | G41: 2.9331707e+08 | H41: 0.0131 | I41: 1.5009573e+08 | J41: 0.49

Sheet 3.
B2: Clique aqui para voltar ao índice
A4: SECRETARIA DO TESOURO NACIONAL
A5: Tabela 3. Gráfico 2 - Composição da Despesa Bruta com Pessoal
A6: Fonte: SICONFI
A7: ='1.'!A7 -> RGF 2º quadrimestre de 2022
A8: Anexo 01 - Demonstrativo da Despesas Com Pessoal
A9: R$ - Valores Correntes
A10: (Os dados abaixo correspondem ao somatório das despesas de pessoal de todos os poderes: Executivo, Legislativo, incluindo os Tribunais de Contas, Judiciário e Ministérios Públicos dos Estados e DF. Os dados do RGF das Defensorias Públicas Estaduais não devem ser incluídos no somatório pois já estão incluídos nos valores do poder executivo de cada ente.)
A12: UF | B12: DESPESA BRUTA COM PESSOAL (I) | C12: Outras Despesas de Pessoal decorrentes de Contratos de Terceirização (§ 1º do art. 18 da LRF) | D12: ='1.'!G13 -> Despesa com Pessoal não Executada Orçamentariamente | E12: Pessoal Ativo | F12: Pessoal Inativo e Pensionistas | G12: RCL Ajustada | H12: Ativo | I12: Inativo e Pensionistas | J12: Terceirização | K12: Não Executadas Orçamentariamente | L12: Soma
A13: AC | B13: ='1.'!B14 -> 4.7494349e+09 | C13: ='1.'!F14 -> 55764516 | D13: ='1.'!G14 -> 29113120 | E13: ='1.'!H14 -> 3.4011416e+09 | F13: ='1.'!I14 -> 1.2634157e+09 | G13: ='1.'!J14 -> 7595084219 | H13: =E13/B13 -> 0.716115 | I13: =F13/B13 -> 0.26601389 | J13: =C13/B13 -> 0.011741295 | K13: ='1.'!P14 -> 0.0061298071 | L13: 1
A14: AL | B14: ='1.'!B15 -> 7.209957e+09 | C14: ='1.'!F15 -> 2.689373e+08 | D14: ='1.'!G15 -> 0 | E14: ='1.'!H15 -> 4.252104e+09 | F14: ='1.'!I15 -> 2.6889157e+09 | G14: ='1.'!J15 -> 1.2863754e+10 | H14: =E14/B14 -> 0.58975442 | I14: =F14/B14 -> 0.37294476 | J14: =C14/B14 -> 0.037300819 | K14: ='1.'!P15 -> 0 | L14: 1
A15: AM | B15: ='1.'!B16 -> 1.204846e+10 | C15: ='1.'!F16 -> 5.5129745e+08 | D15: ='1.'!G16 -> 0 | E15: ='1.'!H16 -> 8.6287536e+09 | F15: ='1.'!I16 -> 2.8684093e+09 | G15: ='1.'!J16 -> 2.1752401e+10 | H15: =E15/B15 -> 0.71617064 | I15: =F15/B15 -> 0.23807269 | J15: =C15/B15 -> 0.045756672 | K15: ='1.'!P16 -> 0 | L15: 1
A16: AP | B16: ='1.'!B17 -> 3.7400895e+09 | C16: ='1.'!F17 -> 0 | D16: ='1.'!G17 -> 0 | E16: ='1.'!H17 -> 3.528067e+09 | F16: ='1.'!I17 -> 2.1202247e+08 | G16: ='1.'!J17 -> 7.4020456e+09 | H16: =E16/B16 -> 0.94331086 | I16: =F16/B16 -> 0.056689144 | J16: =C16/B16 -> 0 | K16: ='1.'!P17 -> 0 | L16: 1
A17: BA | B17: ='1.'!B18 -> 2.7139031e+10 | C17: ='1.'!F18 -> 3.2418592e+08 | D17: ='1.'!G18 -> 0 | E17: ='1.'!H18 -> 1.6770373e+10 | F17: ='1.'!I18 -> 1.0044472e+10 | G17: ='1.'!J18 -> 4.9779267e+10 | H17: =E17/B17 -> 0.61794294 | I17: =F17/B17 -> 0.37011168 | J17: =C17/B17 -> 0.011945376 | K17: ='1.'!P18 -> 0 | L17: 1
A18: CE | B18: ='1.'!B19 -> 1.7445767e+10 | C18: ='1.'!F19 -> 9.3177136e+08 | D18: ='1.'!G19 -> 1052499.1 | E18: ='1.'!H19 -> 1.2321679e+10 | F18: ='1.'!I19 -> 4.1912638e+09 | G18: ='1.'!J19 -> 2.8933553e+10 | H18: =E18/B18 -> 0.70628475 | I18: =F18/B18 -> 0.24024532 | J18: =C18/B18 -> 0.053409597 | K18: ='1.'!P19 -> 6.0329773e-05 | L18: 1
A19: DF | B19: ='1.'!B20 -> 1.7590887e+10 | C19: ='1.'!F20 -> 1064559343 | D19: ='1.'!G20 -> 0 | E19: ='1.'!H20 -> 1.2110994e+10 | F19: ='1.'!I20 -> 4.4153342e+09 | G19: ='1.'!J20 -> 3.0286601e+10 | H19: =E19/B19 -> 0.68848111 | I19: =F19/B19 -> 0.25100123 | J19: =C19/B19 -> 0.060517661 | K19: ='1.'!P20 -> 0 | L19: 1
A20: ES | B20: ='1.'!B21 -> 1.0373576e+10 | C20: ='1.'!F21 -> 6.6780625e+08 | D20: ='1.'!G21 -> 0 | E20: ='1.'!H21 -> 5.9925106e+09 | F20: ='1.'!I21 -> 3.7132596e+09 | G20: ='1.'!J21 -> 2.1347564e+10 | H20: =E20/B20 -> 0.57767065 | I20: =F20/B20 -> 0.35795365 | J20: =C20/B20 -> 0.0643757 | K20: ='1.'!P21 -> 0 | L20: 1
A21: GO | B21: ='1.'!B22 -> 2.0390066e+10 | C21: ='1.'!F22 -> 4.5375865e+08 | D21: ='1.'!G22 -> 0 | E21: ='1.'!H22 -> 1.2210279e+10 | F21: ='1.'!I22 -> 7.7260282e+09 | G21: ='1.'!J22 -> 3.6407115e+10 | H21: =E21/B21 -> 0.5988347 | I21: =F21/B21 -> 0.37891139 | J21: =C21/B21 -> 0.022253908 | K21: ='1.'!P22 -> 0 | L21: 1
A22: MA | B22: ='1.'!B23 -> 1.1084921e+10 | C22: ='1.'!F23 -> 2914 | D22: ='1.'!G23 -> 31792698 | E22: ='1.'!H23 -> 7.8468704e+09 | F22: ='1.'!I23 -> 3.2062554e+09 | G22: ='1.'!J23 -> 2.0895915e+10 | H22: =E22/B22 -> 0.70788688 | I22: =F22/B22 -> 0.28924476 | J22: =C22/B22 -> 2.6287963e-07 | K22: ='1.'!P23 -> 0.0028681031 | L22: 1
A23: MG | B23: ='1.'!B24 -> 6.2457956e+10 | C23: ='1.'!F24 -> 1914549.8 | D23: ='1.'!G24 -> 3.1693053e+08 | E23: ='1.'!H24 -> 3.444525e+10 | F23: ='1.'!I24 -> 2.7693861e+10 | G23: ='1.'!J24 -> 8.9028638e+10 | H23: =E23/B23 -> 0.55149499 | I23: =F23/B23 -> 0.44340005 | J23: =C23/B23 -> 3.0653418e-05 | K23: ='1.'!P24 -> 0.0050743021 | L23: 1
A24: MS | B24: ='1.'!B25 -> 1.2200103e+10 | C24: ='1.'!F25 -> 0 | D24: ='1.'!G25 -> 0 | E24: ='1.'!H25 -> 8.052775e+09 | F24: ='1.'!I25 -> 4.1473278e+09 | G24: ='1.'!J25 -> 1.7828414e+10 | H24: =E24/B24 -> 0.66005796 | I24: =F24/B24 -> 0.33994204 | J24: =C24/B24 -> 0 | K24: ='1.'!P25 -> 0 | L24: 1
... A31: RJ | B31: ='1.'!B32 -> 5.2476052e+10 | C31: ='1.'!F32 -> 1.7020211e+09 | D31: ='1.'!G32 -> 0 | E31: ='1.'!H32 -> 2.8372867e+10 | F31: ='1.'!I32 -> 2.2401164e+10 | G31: ='1.'!J32 -> 8.930376e+10 | H31: =E31/B31 -> 0.5406822 | I31: =F31/B31 -> 0.42688356 | J31: =C31/B31 -> 0.032434244 | K31: ='1.'!P32 -> 0 | L31: 1
A32: RN | B32: ='1.'!B33 -> 1.2025107e+10 | C32: ='1.'!F33 -> 1.3681982e+08 | D32: ='1.'!G33 -> 0 | E32: ='1.'!H33 -> 7.3684299e+09 | F32: ='1.'!I33 -> 4.5198575e+09 | G32: ='1.'!J33 -> 1.3985035e+10 | H32: =E32/B32 -> 0.61275378 | I32: =F32/B32 -> 0.37586837 | J32: =C32/B32 -> 0.011377846 | K32: ='1.'!P33 -> 0 | L32: 1 | S32: DESPESA BRUTA DE PESSOAL
A33: RO | B33: ='1.'!B34 -> 6.267636e+09 | C33: ='1.'!F34 -> 40383282 | D33: ='1.'!G34 -> 14290144 | E33: ='1.'!H34 -> 5.1082395e+09 | F33: ='1.'!I34 -> 1.104723e+09 | G33: ='1.'!J34 -> 1.1552328e+10 | H33: =E33/B33 -> 0.81501854 | I33: =F33/B33 -> 0.17625833 | J33: =C33/B33 -> 0.0064431442 | K33: ='1.'!P34 -> 0.0022799895 | L33: 1
A34: RR | B34: ='1.'!B35 -> 3.3045429e+09 | C34: ='1.'!F35 -> 812965.63 | D34: ='1.'!G35 -> 0 | E34: ='1.'!H35 -> 3.1564602e+09 | F34: ='1.'!I35 -> 1.4726972e+08 | G34: ='1.'!J35 -> 6.2863292e+09 | H34: =E34/B34 -> 0.95518815 | I34: =F34/B34 -> 0.044565837 | J34: =C34/B34 -> 0.00024601455 | K34: ='1.'!P35 -> 0 | L34: 1
A35: RS | B35: ='1.'!B36 -> 3.7883581e+10 | C35: ='1.'!F36 -> 1.9218246e+08 | D35: ='1.'!G36 -> 0 | E35: ='1.'!H36 -> 1.9669362e+10 | F35: ='1.'!I36 -> 1.8022036e+10 | G35: ='1.'!J36 -> 5.2027187e+10 | H35: =E35/B35 -> 0.51920546 | I35: =F35/B35 -> 0.47572157 | J35: =C35/B35 -> 0.005072975 | K35: ='1.'!P36 -> 0 | L35: 1
A36: SC | B36: ='1.'!B37 -> 2.2173707e+10 | C36: ='1.'!F37 -> 2.8976163e+08 | D36: ='1.'!G37 -> 0 | E36: ='1.'!H37 -> 1.3592369e+10 | F36: ='1.'!I37 -> 8.2915766e+09 | G36: ='1.'!J37 -> 3.6204148e+10 | H36: =E36/B36 -> 0.61299487 | I36: =F36/B36 -> 0.37393732 | J36: =C36/B36 -> 0.013067803 | K36: ='1.'!P37 -> 0 | L36: 1
A37: SE | B37: ='1.'!B38 -> 7.0065135e+09 | C37: ='1.'!F38 -> 0 | D37: ='1.'!G38 -> 0 | E37: ='1.'!H38 -> 4.4942532e+09 | F37: ='1.'!I38 -> 2.5122604e+09 | G37: ='1.'!J38 -> 1.0962211e+10 | H37: =E37/B37 -> 0.6414393 | I37: =F37/B37 -> 0.3585607 | J37: =C37/B37 -> 0 | K37: ='1.'!P38 -> 0 | L37: 1
A38: SP | B38: ='1.'!B39 -> 1.3383923e+11 | C38: ='1.'!F39 -> 0 | D38: ='1.'!G39 -> 0 | E38: ='1.'!H39 -> 7.5619016e+10 | F38: ='1.'!I39 -> 5.8220213e+10 | G38: ='1.'!J39 -> 2.21858e+11 | H38: =E38/B38 -> 0.56499889 | I38: =F38/B38 -> 0.43500111 | J38: =C38/B38 -> 0 | K38: ='1.'!P39 -> 0 | L38: 1
A39: TO | B39: ='1.'!B40 -> 7.7920781e+09 | C39: ='1.'!F40 -> 0 | D39: ='1.'!G40 -> 25368521 | E39: ='1.'!H40 -> 6.0382428e+09 | F39: ='1.'!I40 -> 1.7284668e+09 | G39: ='1.'!J40 -> 1.1430273e+10 | H39: =E39/B39 -> 0.77492072 | I39: =F39/B39 -> 0.2218236 | J39: =C39/B39 -> 0 | K39: ='1.'!P40 -> 0.003255681 | L39: 1

Sheet 4.
B2: Clique aqui para voltar ao índice
A4: SECRETARIA DO TESOURO NACIONAL
A5: Tabela 4. Gráfico 3 - Inativos e Pensionistas com Recursos Vinculados /Pessoal Inativo e Pensionistas
A6: Fonte: SICONFI
A7: ='1.'!A7 -> RGF 2º quadrimestre de 2022
A8: Anexo 01 - Demonstrativo da Despesas Com Pessoal
A9: R$ - Valores Correntes
A10: (Os dados abaixo correspondem ao somatório das despesas de pessoal de todos os poderes: Executivo, Legislativo, incluindo os Tribunais de Contas, Judiciário e Ministérios Públicos dos Estados e DF. Os dados do RGF das Defensorias Públicas Estaduais não devem ser incluídos no somatório pois já estão incluídos nos valores do poder executivo de cada ente.)
A12: UF | B12: Inativos e Pensionistas com Recursos Vinculados | C12: Pessoal Inativo e Pensionistas | D12: Inativos e Pensionistas com Recursos Vinculados/Pessoal Inativo e Pensionistas
A13: AC | B13: ='1.'!E14 -> 4.7475223e+08 | C13: ='1.'!I14 -> 1.2634157e+09 | D13: =B13/C13 -> 0.37576883
A14: AL | B14: ='1.'!E15 -> 8.9217464e+08 | C14: ='1.'!I15 -> 2.6889157e+09 | D14: =B14/C14 -> 0.33179718
A15: AM | B15: ='1.'!E16 -> 9.9188055e+08 | C15: ='1.'!I16 -> 2.8684093e+09 | D15: =B15/C15 -> 0.34579463
A16: AP | B16: ='1.'!E17 -> 1.9642124e+08 | C16: ='1.'!I17 -> 2.1202247e+08 | D16: =B16/C16 -> 0.9264171
A17: BA | B17: ='1.'!E18 -> 4.292326e+09 | C17: ='1.'!I18 -> 1.0044472e+10 | D17: =B17/C17 -> 0.42733215
A18: CE | B18: ='1.'!E19 -> 2.8823352e+09 | C18: ='1.'!I19 -> 4.1912638e+09 | D18: =B18/C18 -> 0.68770074
A19: DF | B19: ='1.'!E20 -> 4.1882884e+09 | C19: ='1.'!I20 -> 4.4153342e+09 | D19: =B19/C19 -> 0.94857789
A20: ES | B20: ='1.'!E21 -> 6.6949123e+08 | C20: ='1.'!I21 -> 3.7132596e+09 | D20: =B20/C20 -> 0.18029745
A21: GO | B21: ='1.'!E22 -> 2.7559562e+09 | C21: ='1.'!I22 -> 7.7260282e+09 | D21: =B21/C21 -> 0.35671061
A22: MA | B22: ='1.'!E23 -> 2.2269872e+09 | C22: ='1.'!I23 -> 3.2062554e+09 | D22: =B22/C22 -> 0.69457573
A23: MG | B23: ='1.'!E24 -> 9.3324416e+09 | C23: ='1.'!I24 -> 2.7693861e+10 | D23: =B23/C23 -> 0.33698594
A24: MS | B24: ='1.'!E25 -> 3.5207394e+09 | C24: ='1.'!I25 -> 4.1473278e+09 | D24: =B24/C24 -> 0.84891757
... A39: TO | B39: ='1.'!E40 -> 1.5479571e+09 | C39: ='1.'!I40 -> 1.7284668e+09 | D39: =B39/C39 -> 0.89556656

Sheet 5.
B2: Clique aqui para voltar ao índice
A4: SECRETARIA DO TESOURO NACIONAL
A5: Tabela 5. Gráfico 4 - Despesas com pessoal não computadas em relação à RCL
A6: Fonte: SICONFI
A7: ='1.'!A7 -> RGF 2º quadrimestre de 2022
A8: Anexo 01 - Demonstrativo da Despesas Com Pessoal
A9: R$ - Valores Correntes
A10: (Os dados abaixo correspondem ao somatório das despesas de pessoal de todos os poderes: Executivo, Legislativo, incluindo os Tribunais de Contas, Judiciário e Ministérios Públicos dos Estados e DF. Os dados do RGF das Defensorias Públicas Estaduais não devem ser incluídos no somatório pois já estão incluídos nos valores do poder executivo de cada ente.)
A12: UF | B12: DESPESAS NÃO COMPUTADAS (§ 1º do art. 19 da LRF) (II) | F12: RECEITA CORRENTE LÍQUIDA AJUSTADA (VI) | G12: CÁLCULO DAS DESP. NÃO COMPUTADAS SOBRE A RCL AJUSTADA
B13: Inativos e Pensionistas com Recursos Vinculados | C13: Despesas de Exercícios Anteriores de Período Anterior ao da Apuração | D13: Decorrentes de Decisão Judicial de Período Anterior ao da Apuração | E13: Indenizações por Demissão e Incentivos à Demissão Voluntária | G13: Inativos e Pensionistas com Recursos Vinculados | H13: Despesas de Exercícios Anteriores de Período Anterior ao da Apuração | I13: Decorrentes de Decisão Judicial de Período Anterior ao da Apuração | J13: Indenizações por Demissão e Incentivos à Demissão Voluntária
A14: AC | B14: 4.7475223e+08 | C14: 38147893 | D14: 23121479 | E14: 14894344 | F14: ='1.'!J14 -> 7595084219 | G14: =B14/F14 -> 0.062507829 | H14: =C14/F14 -> 0.0050227083 | I14: =D14/F14 -> 0.0030442689 | J14: =E14/F14 -> 0.0019610506
A15: AL | B15: 8.9217464e+08 | C15: 1.1082502e+08 | D15: 69903169 | E15: 1655916.5 | F15: ='1.'!J15 -> 1.2863754e+10 | G15: =B15/F15 -> 0.0693557 | H15: =C15/F15 -> 0.0086152942 | I15: =D15/F15 -> 0.005434119 | J15: =E15/F15 -> 0.00012872732
A16: AM | B16: 9.9188055e+08 | C16: 1.3603488e+08 | D16: 1.7944012e+08 | E16: 71143868 | F16: ='1.'!J16 -> 2.1752401e+10 | G16: =B16/F16 -> 0.04559867 | H16: =C16/F16 -> 0.0062537869 | I16: =D16/F16 -> 0.0082492098 | J16: =E16/F16 -> 0.0032706214
A17: AP | B17: 1.9642124e+08 | C17: 15775424 | D17: 339.95 | E17: 39928281 | F17: ='1.'!J17 -> 7.4020456e+09 | G17: =B17/F17 -> 0.026536076 | H17: =C17/F17 -> 0.0021312249 | I17: =D17/F17 -> 4.5926494e-08 | J17: =E17/F17 -> 0.0053942225
A18: BA | B18: 4.292326e+09 | C18: 2.5173809e+08 | D18: 5.5777574e+08 | E18: 40831862 | F18: ='1.'!J18 -> 4.9779267e+10 | G18: =B18/F18 -> 0.086227184 | H18: =C18/F18 -> 0.0050570871 | I18: =D18/F18 -> 0.011204981 | J18: =E18/F18 -> 0.00082025839
A19: CE | B19: 2.8823352e+09 | C19: 78464759 | D19: 2.3036013e+08 | E19: 10317157 | F19: ='1.'!J19 -> 2.8933553e+10 | G19: =B19/F19 -> 0.099619125 | H19: =C19/F19 -> 0.002711895 | I19: =D19/F19 -> 0.0079616954 | J19: =E19/F19 -> 0.00035658105
A20: DF | B20: 4.1882884e+09 | C20: 14200207 | D20: 6.3880286e+08 | E20: 1.8792378e+08 | F20: ='1.'!J20 -> 3.0286601e+10 | G20: =B20/F20 -> 0.13828849 | H20: =C20/F20 -> 0.00046886102 | I20: =D20/F20 -> 0.021091929 | J20: =E20/F20 -> 0.0062048488
A21: ES | B21: 6.6949123e+08 | C21: 1.3530707e+08 | E21: 11014490 | F21: ='1.'!J21 -> 2.1347564e+10 | G21: =B21/F21 -> 0.031361482 | H21: =C21/F21 -> 0.006338291 | I21: =D21/F21 -> 0 | J21: =E21/F21 -> 0.00051596003
A22: GO | B22: 2.7559562e+09 | C22: 7.9479118e+08 | D22: 4.504559e+08 | E22: 49472566 | F22: ='1.'!J22 -> 3.6407115e+10 | G22: =B22/F22 -> 0.075698287 | H22: =C22/F22 -> 0.021830655 | I22: =D22/F22 -> 0.012372744 | J22: =E22/F22 -> 0.0013588708
A23: MA | B23: 2.2269872e+09 | C23: 67115326 | D23: 14190362 | E23: 6456838.8 | F23: ='1.'!J23 -> 2.0895915e+10 | G23: =B23/F23 -> 0.10657524 | H23: =C23/F23 -> 0.0032118874 | I23: =D23/F23 -> 0.0006790974 | J23: =E23/F23 -> 0.00030900005
A24: MG | B24: 9.3324416e+09 | C24: 1.4523984e+09 | D24: 5.0972842e+08 | E24: 1.0949543e+08 | F24: ='1.'!J24 -> 8.9028638e+10 | G24: =B24/F24 -> 0.10482516 | H24: =C24/F24 -> 0.016313834 | I24: =D24/F24 -> 0.0057254433 | J24: =E24/F24 -> 0.00122989
A25: MS | B25: 3.5207394e+09 | C25: 47050082 | D25: 2.7794428e+08 | E25: 34505099 | F25: ='1.'!J25 -> 1.7828414e+10 | G25: =B25/F25 -> 0.19747912 | H25: =C25/F25 -> 0.0026390504 | I25: =D25/F25 -> 0.015589961 | J25: =E25/F25 -> 0.0019353993
A26: MT | B26: 3.3669653e+09 | C26: 1.2463666e+08 | D26: 13707195 | E26: 2.723545e+08 | F26: ='1.'!J26 -> 2.8960864e+10 | G26: =B26/F26 -> 0.11625914 | H26: =C26/F26 -> 0.0043036238 | I26: =D26/F26 -> 0.00047330063 | J26: =E26/F26 -> 0.0094042255
A27: PA | B27: 2.9463118e+09 | C27: 1.663117e+08 | D27: 3.9050215e+08 | E27: 9904118.1 | F27: ='1.'!J27 -> 3.1745903e+10 | G27: =B27/F27 -> 0.0928092 | H27: =C27/F27 -> 0.0052388398 | I27: =D27/F27 -> 0.012300868 | J27: =E27/F27 -> 0.00031198099
A28: PB | B28: 1.114379e+09 | C28: 39900604 | D28: 351778.54 | E28: 9456809.9 | F28: ='1.'!J28 -> 1.4988716e+10 | G28: =B28/F28 -> 0.074347865 | H28: =C28/F28 -> 0.0026620429 | I28: =D28/F28 -> 2.3469558e-05 | J28: =E28/F28 -> 0.00063092863
A29: PE | B29: 3.0494481e+09 | C29: 90400431 | D29: 1.0281915e+08 | E29: 18578172 | F29: ='1.'!J29 -> 3.6031813e+10 | G29: =B29/F29 -> 0.084632103 | H29: =C29/F29 -> 0.002508906 | I29: =D29/F29 -> 0.0028535658 | J29: =E29/F29 -> 0.0005156047
A30: PI | B30: 2.3606754e+09 | C30: 40233725 | D30: 1.2685011e+08 | E30: 5259927.4 | F30: ='1.'!J30 -> 1.3140628e+10 | G30: =B30/F30 -> 0.17964708 | H30: =C30/F30 -> 0.0030617809 | I30: =D30/F30 -> 0.0096532759 | J30: =E30/F30 -> 0.00040027976
A31: PR | B31: 5.4634264e+09 | C31: 82053778 | D31: 3047499.2 | E31: 73527335 | F31: ='1.'!J31 -> 5.4880595e+10 | G31: =B31/F31 -> 0.099551152 | H31: =C31/F31 -> 0.0014951328 | I31: =D31/F31 -> 5.5529632e-05 | J31: =E31/F31 -> 0.0013397693
A32: RJ | B32: 6.1224928e+09 | C32: 1.7740528e+09 | D32: 1.6297345e+09 | E32: 24116378 | F32: ='1.'!J32 -> 8.930376e+10 | G32: =B32/F32 -> 0.068558063 | H32: =C32/F32 -> 0.019865377 | I32: =D32/F32 -> 0.018249338 | J32: =E32/F32 -> 0.00027004886
A33: RN | B33: 3.049056e+09 | C33: 1.123577e+08 | D33: 5.4509031e+08 | E33: 13619124 | F33: ='1.'!J33 -> 1.3985035e+10 | G33: =B33/F33 -> 0.21802277 | H33: =C33/F33 -> 0.0080341385 | I33: =D33/F33 -> 0.038976687 | J33: =E33/F33 -> 0.00097383557
... A38: SE | B38: 1.3429782e+09 | C38: 1417578.3 | D38: 3510889.4 | E38: 46502046 | F38: ='1.'!J38 -> 1.0962211e+10 | G38: =B38/F38 -> 0.12250979 | H38: =C38/F38 -> 0.000129315 | I38: =D38/F38 -> 0.00032027201 | J38: =E38/F38 -> 0.0042420316
A39: SP | B39: 3.4854299e+10 | C39: 4.8692433e+08 | E39: 5.6636689e+08 | F39: ='1.'!J39 -> 2.21858e+11 | G39: =B39/F39 -> 0.15710183 | H39: =C39/F39 -> 0.0021947567 | I39: =D39/F39 -> 0 | J39: =E39/F39 -> 0.0025528351
A40: TO | B40: 1.5479571e+09 | C40: 3.8590511e+08 | D40: 37926907 | E40: 76207243 | F40: ='1.'!J40 -> 1.1430273e+10 | G40: =B40/F40 -> 0.13542609 | H40: =C40/F40 -> 0.033761671 | I40: =D40/F40 -> 0.0033181105 | J40: =E40/F40 -> 0.0066671414

Sheet 6.
B2: Clique aqui para voltar ao índice
A4: SECRETARIA DO TESOURO NACIONAL
A5: Tabela 6. Gráfico 5 - Dívida Consolidada Líquida - DCL
A6: Fonte: SICONFI
A7: ='1.'!A7 -> RGF 2º quadrimestre de 2022
A8: Anexo 02 - Demonstrativo da Dívida Consolidada Líquida
A9: R$ - Valores Correntes
A11: UF | B11: ANO CORRENTE | J11: ANO ANTERIOR | M11: ANO CORRENTE
B12: DÍVIDA CONSOLIDADA - DC (I) | C12: DEDUÇÕES (II) | D12: DÍVIDA CONSOLIDADA LÍQUIDA (DCL) (III) = (I - II) | E12: % da DCL sobre a RCL AJUSTADA (III/RCL) | F12: RECEITA CORRENTE LÍQUIDA AJUSTADA PARA PARA CÁLCULO DOS LIMITES DE ENDIVIDAMENTO (VI) = (IV - V) | G12: Precatórios Anteriores a 05/05/2000 | H12: Precatórios Posteriores a 05/05/2000 (inclusive) Vencidos e Não Pagos | I12: Precatórios Posteriores a 05/05/2000 (Não incluídos na DC) | J12: RECEITA CORRENTE LÍQUIDA AJUSTADA PARA PARA CÁLCULO DOS LIMITES DE ENDIVIDAMENTO (VI) = (IV - V) | K12: DÍVIDA CONSOLIDADA LÍQUIDA (DCL) (III) = (I - II) SALDO DO EXERCÍCIO ANTERIOR | L12: DCL/RCL 2021 Saldo do Exercício Anterior | M12: DÍVIDA CONSOLIDADA LÍQUIDA (DCL) (III) = (I - II) | N12: DCL/RCL 2022
A13: AC | B13: 3.8239195e+09 | C13: 2.0615727e+09 | D13: 1.7623469e+09 | E13: 0.2309 | F13: 7.6319038e+09 | G13: 17962345 | H13: 26056128 | J13: 6.6796247e+09 | K13: 2.847799e+09 | L13: =K13/J13 -> 0.42634117 | M13: =D13 -> 1.7623469e+09 | N13: =E13 -> 0.2309
A14: AL | B14: 1.0250243e+10 | C14: 4.1515751e+09 | D14: 6.0986679e+09 | E14: 0.4722 | F14: 1.2914461e+10 | J14: 1.2528914e+10 | K14: 4.8928852e+09 | L14: =K14/J14 -> 0.39052747 | M14: =D14 -> 6.0986679e+09 | N14: =E14 -> 0.4722
A15: AM | B15: 9.3509078e+09 | C15: 5.1608516e+09 | D15: 4.1900562e+09 | E15: 0.1925 | F15: 2.1762401e+10 | J15: 1.8992934e+10 | K15: 4.2145871e+09 | L15: =K15/J15 -> 0.2219029 | M15: =D15 -> 4.1900562e+09 | N15: =E15 -> 0.1925
A16: AP | B16: 5.3095005e+09 | C16: 3.2468362e+09 | D16: 2.0626642e+09 | E16: 0.2787 | F16: 7.4020456e+09 | H16: 3.5694205e+08 | J16: 6.6487616e+09 | K16: -1.3810522e+09 | L16: =K16/J16 -> -0.20771571 | M16: =D16 -> 2.0626642e+09 | N16: =E16 -> 0.2787
A17: BA | B17: 2.7905155e+10 | C17: 1.4333187e+10 | D17: 1.3571968e+10 | E17: 0.2722 | F17: 4.9860688e+10 | H17: 4.4536422e+09 | J17: 4.5404989e+10 | K17: 1.7279789e+10 | L17: =K17/J17 -> 0.38057026 | M17: =D17 -> 1.3571968e+10 | N17: =E17 -> 0.2722
A18: CE | B18: 1.7642997e+10 | C18: 9.0890685e+09 | D18: 8.553928e+09 | E18: 0.2947 | F18: 2.9026285e+10 | H18: 4.6526729e+08 | I18: 1.9305962e+08 | J18: 2.5168984e+10 | K18: 1.1108324e+10 | L18: =K18/J18 -> 0.44134971 | M18: =D18 -> 8.553928e+09 | N18: =E18 -> 0.2947
A19: DF | B19: 1.1350307e+10 | C19: 6.3464634e+09 | D19: 5.0038433e+09 | E19: 0.1652 | F19: 3.0286601e+10 | G19: 1.0781747e+08 | H19: 6.3336253e+09 | J19: 2.8236777e+10 | K19: 6.0375227e+09 | L19: =K19/J19 -> 0.2138177 | M19: =D19 -> 5.0038433e+09 | N19: =E19 -> 0.1652
A20: ES | B20: 7.3143429e+09 | C20: 9.892271e+09 | D20: -2.5779281e+09 | E20: -0.1205 | F20: 2.1395833e+10 | I20: 1.0355712e+08 | J20: 1.8796237e+10 | K20: 3.92257e+08 | L20: =K20/J20 -> 0.020868911 | M20: =D20 -> -2.5779281e+09 | N20: =E20 -> -0.1205
A21: GO | B21: 2.3801006e+10 | C21: 1.181972e+10 | D21: 1.1981286e+10 | E21: 0.3291 | F21: 3.6411105e+10 | H21: 1.2072168e+09 | J21: 3.1539599e+10 | K21: 1.4467794e+10 | L21: =K21/J21 -> 0.45871839 | M21: =D21 -> 1.1981286e+10 | N21: =E21 -> 0.3291
A22: MA | B22: 6.7878111e+09 | C22: 40826525 | D22: 6.7469845e+09 | E22: 0.3229 | F22: 2.0895915e+10 | G22: 3.0435907e+08 | H22: 1.6564825e+09 | I22: 2.0126814e+08 | J22: 1.827276e+10 | K22: 7.5508524e+09 | L22: =K22/J22 -> 0.41322999 | M22: =D22 -> 6.7469845e+09 | N22: =E22 -> 0.3229
A23: MG | B23: 1.5730023e+11 | C23: 2.4031666e+10 | D23: 1.3326856e+11 | E23: 1.4969 | F23: 8.9028638e+10 | H23: 4.2175543e+09 | J23: 8.2432562e+10 | K23: 1.3962797e+11 | L23: =K23/J23 -> 1.6938449 | M23: =D23 -> 1.3326856e+11 | N23: =E23 -> 1.4969
A24: MS | B24: 8.8301918e+09 | C24: 6.3693732e+09 | D24: 2.4608186e+09 | E24: 0.138 | F24: 1.7828414e+10 | H24: 2.1902241e+08 | J24: 1.5809114e+10 | K24: 3.3833422e+09 | L24: =K24/J24 -> 0.21401213 | M24: =D24 -> 2.4608186e+09 | N24: =E24 -> 0.138
A25: MT | B25: 5.7190151e+09 | C25: 1.4032367e+10 | D25: -8.3133515e+09 | E25: -0.2856 | F25: 2.9108622e+10 | G25: 0 | H25: 4.2716485e+08 | I25: 4.1440252e+08 | J25: 2.4596245e+10 | K25: -4.333588e+09 | L25: =K25/J25 -> -0.17618901 | M25: =D25 -> -8.3133515e+09 | N25: =E25 -> -0.2856
A26: PA | B26: 5.1834977e+09 | C26: 7.1889235e+09 | D26: -2.0054258e+09 | E26: -0.0629 | F26: 3.1890415e+10 | I26: 32464069 | J26: 2.6996312e+10 | K26: 4.4530685e+08 | L26: =K26/J26 -> 0.0164951 | M26: =D26 -> -2.0054258e+09 | N26: =E26 -> -0.0629
A27: PB | B27: 4.8809076e+09 | C27: 6.8361517e+09 | D27: -1.9552441e+09 | E27: -0.1304 | F27: 1.4991701e+10 | H27: 2.223956e+09 | J27: 1.3035337e+10 | K27: -4.0026176e+08 | L27: =K27/J27 -> -0.0307059 | M27: =D27 -> -1.9552441e+09 | N27: =E27 -> -0.1304
A28: PE | B28: 1.7158625e+10 | C28: 9.4194024e+09 | D28: 7.7392229e+09 | E28: 0.2147 | F28: 3.6043759e+10 | H28: 3.8803019e+08 | J28: 3.133617e+10 | K28: 1.1325611e+10 | L28: =K28/J28 -> 0.36142295 | M28: =D28 -> 7.7392229e+09 | N28: =E28 -> 0.2147
A29: PI | B29: 8.3504584e+09 | C29: 3.9284106e+09 | D29: 4.4220478e+09 | E29: 0.3362 | F29: 1.3153021e+10 | H29: 1.5802942e+09 | I29: 1.0705437e+08 | J29: 1.1441344e+10 | K29: 5.5450896e+09 | L29: =K29/J29 -> 0.48465369 | M29: =D29 -> 4.4220478e+09 | N29: =E29 -> 0.3362
A30: PR | B30: 3.136703e+10 | C30: 2.7116133e+10 | D30: 4.2508971e+09 | E30: 0.0774 | F30: 5.489396e+10 | G30: 12725.89 | H30: 7.630331e+09 | I30: 8.3113764e+08 | J30: 4.7821663e+10 | K30: 1.2649851e+10 | L30: =K30/J30 -> 0.26452136 | M30: =D30 -> 4.2508971e+09 | N30: =E30 -> 0.0774
A31: RJ | B31: 1.7090701e+11 | C31: 2.6707675e+10 | D31: 1.4419934e+11 | E31: 1.6147 | F31: 8.930376e+10 | G31: 9.3262289e+08 | H31: 3.6575723e+09 | I31: 2.3143949e+09 | J31: 8.245546e+10 | K31: 1.6382092e+11 | L31: =K31/J31 -> 1.9867808 | M31: =D31 -> 1.4419934e+11 | N31: =E31 -> 1.6147
A32: RN | B32: 4.9630256e+09 | C32: 1.5586239e+09 | D32: 3.4044017e+09 | E32: 0.2426 | F32: 1.4031464e+10 | H32: 1.8269689e+09 | J32: 1.2242458e+10 | K32: 4.2251038e+09 | L32: =K32/J32 -> 0.3451189 | M32: =D32 -> 3.4044017e+09 | N32: =E32 -> 0.2426
A33: RO | B33: 4.9383504e+09 | C33: 5.1321619e+09 | D33: -1.9381152e+08 | E33: -0.0168 | F33: 1.1564716e+10 | H33: 2.1005838e+09 | I33: 1.1526078e+08 | J33: 1.0017332e+10 | K33: -5.1039398e+08 | L33: =K33/J33 -> -0.050951092 | M33: =D33 -> -1.9381152e+08 | N33: =E33 -> -0.0168
A34: RR | B34: 1.8046861e+09 | C34: 2.2765031e+09 | D34: -4.7181694e+08 | E34: -0.075 | F34: 6.2882822e+09 | H34: 4.4332984e+08 | J34: 5.5381058e+09 | K34: -1.6584249e+08 | L34: =K34/J34 -> -0.029945707 | M34: =D34 -> -4.7181694e+08 | N34: =E34 -> -0.075
A35: RS | B35: 1.0545452e+11 | C35: 1.1026665e+10 | D35: 9.4427851e+10 | E35: 1.8103 | F35: 5.2160407e+10 | H35: 1.5229055e+10 | J35: 5.3848542e+10 | K35: 9.8327577e+10 | L35: =K35/J35 -> 1.8260026 | M35: =D35 -> 9.4427851e+10 | N35: =E35 -> 1.8103
A36: SC | B36: 2.1985644e+10 | C36: 8.5085435e+09 | D36: 1.34771e+10 | E36: 0.3718 | F36: 3.62518e+10 | H36: 2.3957478e+09 | J36: 3.1039534e+10 | K36: 1.6480921e+10 | L36: =K36/J36 -> 0.53096547 | M36: =D36 -> 1.34771e+10 | N36: =E36 -> 0.3718
A37: SE | B37: 4.5993161e+09 | C37: 2.2090638e+09 | D37: 2390252314 | E37: 0.2175 | F37: 1.0990816e+10 | H37: 1.3591734e+09 | I37: 2.3317114e+08 | J37: 9.6725934e+09 | K37: 3.1130528e+09 | L37: =K37/J37 -> 0.32184262 | M37: =D37 -> 2390252314 | N37: =E37 -> 0.2175
A38: SP | B38: 3.26885e+11 | C38: 7.4481532e+10 | D38: 2.5240347e+11 | E38: 1.1364 | F38: 2.2211533e+11 | G38: 2.1095512e+08 | H38: 2.9603508e+10 | J38: 1.9699926e+11 | K38: 2.4958813e+11 | L38: =K38/J38 -> 1.2669495 | M38: =D38 -> 2.5240347e+11 | N38: =E38 -> 1.1364
A39: TO | B39: 4.1965437e+09 | C39: 3.8927642e+09 | D39: 3.037795e+08 | E39: 0.0266 | F39: 1.1430273e+10 | I39: 4.0993779e+08 | J39: 1.005211e+10 | K39: 1.9700088e+09 | L39: =K39/J39 -> 0.19597962 | M39: =D39 -> 3.037795e+08 | N39: =E39 -> 0.0266
G41: 100

Sheet 7.
B2: Clique aqui para voltar ao índice
A4: SECRETARIA DO TESOURO NACIONAL
A5: Tabela 8. Gráfico 6- Deduções da Dívida Consolidada Bruta
A6: Fonte: SICONFI
A7: ='1.'!A7 -> RGF 2º quadrimestre de 2022
A8: Anexo 02 - Demonstrativo da Dívida Consolidada Líquida
A9: R$ - Valores Correntes
A12: UF | B12: DÍVIDA CONSOLIDADA - DC (I) | C12: DÍVIDA CONSOLIDADA LÍQUIDA (DCL) (III) = (I - II) | D12: DCL | E12: DEDUÇÕES (II) | F12: % (Deduções/DC)
A13: ='6.'!A13 -> AC | B13: ='6.'!B13 -> 3.8239195e+09 | C13: ='6.'!M13 -> 1.7623469e+09 | D13: =C13/B13 -> 0.46087446 | E13: ='6.'!C13 -> 2.0615727e+09 | F13: =E13/B13 -> 0.53912554
A14: ='6.'!A14 -> AL | B14: ='6.'!B14 -> 1.0250243e+10 | C14: ='6.'!M14 -> 6.0986679e+09 | D14: =C14/B14 -> 0.59497788 | E14: ='6.'!C14 -> 4.1515751e+09 | F14: =E14/B14 -> 0.40502212
A15: ='6.'!A15 -> AM | B15: ='6.'!B15 -> 9.3509078e+09 | C15: ='6.'!M15 -> 4.1900562e+09 | D15: =C15/B15 -> 0.44809085 | E15: ='6.'!C15 -> 5.1608516e+09 | F15: =E15/B15 -> 0.55190915
A16: ='6.'!A16 -> AP | B16: ='6.'!B16 -> 5.3095005e+09 | C16: ='6.'!M16 -> 2.0626642e+09 | D16: =C16/B16 -> 0.38848555 | E16: ='6.'!C16 -> 3.2468362e+09 | F16: =E16/B16 -> 0.61151445
A17: ='6.'!A17 -> BA | B17: ='6.'!B17 -> 2.7905155e+10 | C17: ='6.'!M17 -> 1.3571968e+10 | D17: =C17/B17 -> 0.48636061 | E17: ='6.'!C17 -> 1.4333187e+10 | F17: =E17/B17 -> 0.51363939
A18: ='6.'!A18 -> CE | B18: ='6.'!B18 -> 1.7642997e+10 | C18: ='6.'!M18 -> 8.553928e+09 | D18: =C18/B18 -> 0.48483419 | E18: ='6.'!C18 -> 9.0890685e+09 | F18: =E18/B18 -> 0.51516581
A19: ='6.'!A19 -> DF | B19: ='6.'!B19 -> 1.1350307e+10 | C19: ='6.'!M19 -> 5.0038433e+09 | D19: =C19/B19 -> 0.44085534 | E19: ='6.'!C19 -> 6.3464634e+09 | F19: =E19/B19 -> 0.55914466
A20: ='6.'!A20 -> ES | B20: ='6.'!B20 -> 7.3143429e+09 | C20: ='6.'!M20 -> -2.5779281e+09 | D20: =C20/B20 -> -0.35244835 | E20: ='6.'!C20 -> 9.892271e+09 | F20: =E20/B20 -> 1.3524483
A21: ='6.'!A21 -> GO | B21: ='6.'!B21 -> 2.3801006e+10 | C21: ='6.'!M21 -> 1.1981286e+10 | D21: =C21/B21 -> 0.50339411 | E21: ='6.'!C21 -> 1.181972e+10 | F21: =E21/B21 -> 0.49660589
A22: ='6.'!A22 -> MA | B22: ='6.'!B22 -> 6.7878111e+09 | C22: ='6.'!M22 -> 6.7469845e+09 | D22: =C22/B22 -> 0.99398532 | E22: ='6.'!C22 -> 40826525 | F22: =E22/B22 -> 0.0060146821
A23: ='6.'!A23 -> MG | B23: ='6.'!B23 -> 1.5730023e+11 | C23: ='6.'!M23 -> 1.3326856e+11 | D23: =C23/B23 -> 0.84722421 | E23: ='6.'!C23 -> 2.4031666e+10 | F23: =E23/B23 -> 0.15277579
A24: ='6.'!A24 -> MS | B24: ='6.'!B24 -> 8.8301918e+09 | C24: ='6.'!M24 -> 2.4608186e+09 | D24: =C24/B24 -> 0.27868235 | E24: ='6.'!C24 -> 6.3693732e+09 | F24: =E24/B24 -> 0.72131765
... A39: ='6.'!A39 -> TO | B39: ='6.'!B39 -> 4.1965437e+09 | C39: ='6.'!M39 -> 3.037795e+08 | D39: =C39/B39 -> 0.072388022 | E39: ='6.'!C39 -> 3.8927642e+09 | F39: =E39/B39 -> 0.92761198

Sheet 8.
B2: Clique aqui para voltar ao índice
A4: SECRETARIA DO TESOURO NACIONAL
A5: Tabela 7. Gráfico 7 - Composição da Dívida Consolidada Bruta
A6: Fonte: SICONFI
A7: ='1.'!A7 -> RGF 2º quadrimestre de 2022
A8: Anexo 02 - Demonstrativo da Dívida Consolidada Líquida
A9: R$ - Valores Correntes
A11: UF | B11: DÍVIDA CONSOLIDADA - DC (I) | F11: RECEITA CORRENTE LÍQUIDA AJUSTADA PARA PARA CÁLCULO DOS LIMITES DE ENDIVIDAMENTO (VI) = (IV - V) | G11: COMPOSIÇÃO DA DÍVIDA CONSOLIDADE BRUTA
B12: Dívida Mobiliária | C12: Dívida Contratual | D12: Precatórios Posteriores a 05/05/2000 (inclusive) Vencidos e Não Pagos | E12: Outras Dívidas | G12: Dívida Mobiliária | H12: Dívida Contratual | I12: Precatórios Posteriores a 05/05/2000 (inclusive) Vencidos e Não Pagos | J12: Outras Dívidas
A13: AC | C13: 3.7978634e+09 | D13: 26056128 | F13: ='6.'!F13 -> 7.6319038e+09 | G13: =B13/F13 -> 0 | H13: =C13/$F13 -> 0.49762988 | I13: =D13/$F13 -> 0.0034141059 | J13: =E13/$F13 -> 0
A14: AL | C14: 1.0250243e+10 | F14: ='6.'!F14 -> 1.2914461e+10 | G14: =B14/F14 -> 0 | H14: =C14/$F14 -> 0.79370274 | I14: =D14/$F14 -> 0 | J14: =E14/$F14 -> 0
A15: AM | C15: 9.3509078e+09 | F15: ='6.'!F15 -> 2.1762401e+10 | G15: =B15/F15 -> 0 | H15: =C15/$F15 -> 0.42968181 | I15: =D15/$F15 -> 0 | J15: =E15/$F15 -> 0
A16: AP | C16: 4.9525584e+09 | D16: 3.5694205e+08 | F16: ='6.'!F16 -> 7.4020456e+09 | G16: =B16/F16 -> 0 | H16: =C16/$F16 -> 0.6690797 | I16: =D16/$F16 -> 0.048222082 | J16: =E16/$F16 -> 0
A17: BA | C17: 2.3451513e+10 | D17: 4.4536422e+09 | F17: ='6.'!F17 -> 4.9860688e+10 | G17: =B17/F17 -> 0 | H17: =C17/$F17 -> 0.47034075 | I17: =D17/$F17 -> 0.089321716 | J17: =E17/$F17 -> 0
A18: CE | C18: 1.6530595e+10 | D18: 4.6526729e+08 | E18: 6.4713419e+08 | F18: ='6.'!F18 -> 2.9026285e+10 | G18: =B18/F18 -> 0 | H18: =C18/$F18 -> 0.56950434 | I18: =D18/$F18 -> 0.016029171 | J18: =E18/$F18 -> 0.022294765
A19: DF | C19: 5.0166814e+09 | D19: 6.3336253e+09 | F19: ='6.'!F19 -> 3.0286601e+10 | G19: =B19/F19 -> 0 | H19: =C19/$F19 -> 0.16564029 | I19: =D19/$F19 -> 0.20912301 | J19: =E19/$F19 -> 0
A20: ES | C20: 7.129191e+09 | E20: 1.8515187e+08 | F20: ='6.'!F20 -> 2.1395833e+10 | G20: =B20/F20 -> 0 | H20: =C20/$F20 -> 0.33320464 | I20: =D20/$F20 -> 0 | J20: =E20/$F20 -> 0.0086536416
A21: GO | C21: 2.2593789e+10 | D21: 1.2072168e+09 | F21: ='6.'!F21 -> 3.6411105e+10 | G21: =B21/F21 -> 0 | H21: =C21/$F21 -> 0.62051919 | I21: =D21/$F21 -> 0.033155181 | J21: =E21/$F21 -> 0
A22: MA | C22: 5.1313285e+09 | D22: 1.6564825e+09 | F22: ='6.'!F22 -> 2.0895915e+10 | G22: =B22/F22 -> 0 | H22: =C22/$F22 -> 0.24556611 | I22: =D22/$F22 -> 0.079273032 | J22: =E22/$F22 -> 0
A23: MG | C23: 1.4531722e+11 | D23: 4.2175543e+09 | E23: 7.7654486e+09 | F23: ='6.'!F23 -> 8.9028638e+10 | G23: =B23/F23 -> 0 | H23: =C23/$F23 -> 1.6322526 | I23: =D23/$F23 -> 0.047373007 | J23: =E23/$F23 -> 0.087224165
A24: MS | C24: 8.6111694e+09 | D24: 2.1902241e+08 | F24: ='6.'!F24 -> 1.7828414e+10 | G24: =B24/F24 -> 0 | H24: =C24/$F24 -> 0.48300255 | I24: =D24/$F24 -> 0.01228502 | J24: =E24/$F24 -> 0
A25: MT | B25: 0 | C25: 5.288618e+09 | D25: 4.2716485e+08 | E25: 3232243.8 | F25: ='6.'!F25 -> 2.9108622e+10 | G25: =B25/F25 -> 0 | H25: =C25/$F25 -> 0.18168562 | I25: =D25/$F25 -> 0.014674856 | J25: =E25/$F25 -> 0.00011104077
A26: PA | C26: 5.1834977e+09 | F26: ='6.'!F26 -> 3.1890415e+10 | G26: =B26/F26 -> 0 | H26: =C26/$F26 -> 0.16254093 | I26: =D26/$F26 -> 0 | J26: =E26/$F26 -> 0
A27: PB | C27: 2.6569516e+09 | D27: 2.223956e+09 | F27: ='6.'!F27 -> 1.4991701e+10 | G27: =B27/F27 -> 0 | H27: =C27/$F27 -> 0.17722816 | I27: =D27/$F27 -> 0.14834581 | J27: =E27/$F27 -> 0
A28: PE | C28: 1.6770595e+10 | D28: 3.8803019e+08 | F28: ='6.'!F28 -> 3.6043759e+10 | G28: =B28/F28 -> 0 | H28: =C28/$F28 -> 0.4652843 | I28: =D28/$F28 -> 0.01076553 | J28: =E28/$F28 -> 0
A29: PI | C29: 6.7229232e+09 | D29: 1.5802942e+09 | E29: 47240960 | F29: ='6.'!F29 -> 1.3153021e+10 | G29: =B29/F29 -> 0 | H29: =C29/$F29 -> 0.51113148 | I29: =D29/$F29 -> 0.12014686 | J29: =E29/$F29 -> 0.0035916432
A30: PR | C30: 2.3736699e+10 | D30: 7.630331e+09 | F30: ='6.'!F30 -> 5.489396e+10 | G30: =B30/F30 -> 0 | H30: =C30/$F30 -> 0.43241003 | I30: =D30/$F30 -> 0.13900129 | J30: =E30/$F30 -> 0
A31: RJ | B31: 7649793.9 | C31: 1.6722179e+11 | D31: 3.6575723e+09 | E31: 20003399 | F31: ='6.'!F31 -> 8.930376e+10 | G31: =B31/F31 -> 8.5660379e-05 | H31: =C31/$F31 -> 1.8725056 | I31: =D31/$F31 -> 0.040956532 | J31: =E31/$F31 -> 0.00022399279
A32: RN | C32: 3.1360567e+09 | D32: 1.8269689e+09 | F32: ='6.'!F32 -> 1.4031464e+10 | G32: =B32/F32 -> 0 | H32: =C32/$F32 -> 0.22350174 | I32: =D32/$F32 -> 0.13020515 | J32: =E32/$F32 -> 0
A33: RO | C33: 2.8377665e+09 | D33: 2.1005838e+09 | F33: ='6.'!F33 -> 1.1564716e+10 | G33: =B33/F33 -> 0 | H33: =C33/$F33 -> 0.24538143 | I33: =D33/$F33 -> 0.18163731 | J33: =E33/$F33 -> 0
A34: RR | C34: 1.3613563e+09 | D34: 4.4332984e+08 | F34: ='6.'!F34 -> 6.2882822e+09 | G34: =B34/F34 -> 0 | H34: =C34/$F34 -> 0.21649097 | I34: =D34/$F34 -> 0.070500946 | J34: =E34/$F34 -> 0
A35: RS | C35: 9.0225461e+10 | D35: 1.5229055e+10 | F35: ='6.'!F35 -> 5.2160407e+10 | G35: =B35/F35 -> 0 | H35: =C35/$F35 -> 1.7297691 | I35: =D35/$F35 -> 0.2919658 | J35: =E35/$F35 -> 0
A36: SC | C36: 1.9552934e+10 | D36: 2.3957478e+09 | E36: 36962378 | F36: ='6.'!F36 -> 3.62518e+10 | G36: =B36/F36 -> 0 | H36: =C36/$F36 -> 0.5393645 | I36: =D36/$F36 -> 0.066086312 | J36: =E36/$F36 -> 0.0010196012
A37: SE | C37: 3.215607e+09 | D37: 1.3591734e+09 | E37: 24535664 | F37: ='6.'!F37 -> 1.0990816e+10 | G37: =B37/F37 -> 0 | H37: =C37/$F37 -> 0.29257218 | I37: =D37/$F37 -> 0.12366446 | J37: =E37/$F37 -> 0.0022323787
A38: SP | C38: 2.9727696e+11 | D38: 2.9603508e+10 | E38: 4533820.1 | F38: ='6.'!F38 -> 2.2211533e+11 | G38: =B38/F38 -> 0 | H38: =C38/$F38 -> 1.3383901 | I38: =D38/$F38 -> 0.1332799 | J38: =E38/$F38 -> 2.0412009e-05
A39: TO | C39: 3.960676e+09 | E39: 2.3586771e+08 | F39: ='6.'!F39 -> 1.1430273e+10 | G39: =B39/F39 -> 0 | H39: =C39/$F39 -> 0.34650757 | I39: =D39/$F39 -> 0 | J39: =E39/$F39 -> 0.020635353

Sheet 9.
B2: Clique aqui para voltar ao índice
A4: SECRETARIA DO TESOURO NACIONAL
A5: Tabela 9. Gráfico 8 - Composição da Dívida Contratual
A6: Fonte: SICONFI
A7: ='1.'!A7 -> RGF 2º quadrimestre de 2022
A8: Anexo 02 - Demonstrativo da Dívida Consolidada Líquida
A9: R$ - Valores Correntes
A12: UF | B12: COMPOSIÇÃO DA DÍVIDA CONTRATUAL | H12: DÍVIDA CONSOLIDADA - DC (I) | I12: COMPOSIÇÃO DA DÍVIDA CONTRATUAL/DC
B13: Demais Dívidas Contratuais | C13: Empréstimos | D13: Financiamentos | E13: Parcelamento e Renegociação de Dívidas | F13: Reestruturação da Dívida de Estados e Municípios | G13: Dívida Contratual Total | I13: Demais Dívidas Contratuais | J13: Empréstimos | K13: Financiamentos | L13: Parcelamento e Renegociação de Dívidas | M13: Reestruturação da Dívida de Estados e Municípios
A14: AC | C14: 3.3101549e+09 | E14: 1.0489305e+08 | F14: 3.8281545e+08 | G14: =SUM(B14:F14) -> 3.7978634e+09 | H14: ='7.'!B13 -> 3.8239195e+09 | I14: =B14/$H14 -> 0 | J14: =C14/$H14 -> 0.8656445 | K14: =D14/$H14 -> 0 | L14: =E14/$H14 -> 0.027430768 | M14: =F14/$H14 -> 0.10011075
A15: AL | C15: 3.7908219e+09 | E15: 1.7323655e+08 | F15: 6.2861845e+09 | G15: =SUM(B15:F15) -> 1.0250243e+10 | H15: ='7.'!B14 -> 1.0250243e+10 | I15: =B15/$H15 -> 0 | J15: =C15/$H15 -> 0.36982752 | K15: =D15/$H15 -> 0 | L15: =E15/$H15 -> 0.016900726 | M15: =F15/$H15 -> 0.61327176
A16: AM | D16: 9.025827e+09 | E16: 9646887.2 | F16: 3.1543388e+08 | G16: =SUM(B16:F16) -> 9.3509078e+09 | H16: ='7.'!B15 -> 9.3509078e+09 | I16: =B16/$H16 -> 0 | J16: =C16/$H16 -> 0 | K16: =D16/$H16 -> 0.96523538 | L16: =E16/$H16 -> 0.0010316525 | M16: =F16/$H16 -> 0.033732968
A17: AP | C17: 1.2373713e+09 | E17: 3.2374985e+09 | F17: 4.7768871e+08 | G17: =SUM(B17:F17) -> 4.9525584e+09 | H17: ='7.'!B16 -> 5.3095005e+09 | I17: =B17/$H17 -> 0 | J17: =C17/$H17 -> 0.23304852 | K17: =D17/$H17 -> 0 | L17: =E17/$H17 -> 0.60975575 | M17: =F17/$H17 -> 0.089968672
A18: BA | D18: 1.7970789e+10 | E18: 3.9250256e+08 | F18: 5.088222e+09 | G18: =SUM(B18:F18) -> 2.3451513e+10 | H18: ='7.'!B17 -> 2.7905155e+10 | I18: =B18/$H18 -> 0 | J18: =C18/$H18 -> 0 | K18: =D18/$H18 -> 0.64399529 | L18: =E18/$H18 -> 0.014065593 | M18: =F18/$H18 -> 0.18233985
A19: CE | B19: 2.9153692e+08 | C19: 1.5024994e+10 | D19: 1.0575956e+08 | E19: 26681896 | F19: 1.0816226e+09 | G19: =SUM(B19:F19) -> 1.6530595e+10 | H19: ='7.'!B18 -> 1.7642997e+10 | I19: =B19/$H19 -> 0.016524229 | J19: =C19/$H19 -> 0.85161237 | K19: =D19/$H19 -> 0.0059944217 | L19: =E19/$H19 -> 0.0015123223 | M19: =F19/$H19 -> 0.061306059
A20: DF | C20: 4.9987591e+09 | E20: 17922359 | G20: =SUM(B20:F20) -> 5.0166814e+09 | H20: ='7.'!B19 -> 1.1350307e+10 | I20: =B20/$H20 -> 0 | J20: =C20/$H20 -> 0.4404074 | K20: =D20/$H20 -> 0 | L20: =E20/$H20 -> 0.0015790198 | M20: =F20/$H20 -> 0
A21: ES | C21: 4.7583351e+09 | E21: 2.1934863e+08 | F21: 2.1515073e+09 | G21: =SUM(B21:F21) -> 7.129191e+09 | H21: ='7.'!B20 -> 7.3143429e+09 | I21: =B21/$H21 -> 0 | J21: =C21/$H21 -> 0.65054854 | K21: =D21/$H21 -> 0 | L21: =E21/$H21 -> 0.029988836 | M21: =F21/$H21 -> 0.29414909
A22: GO | B22: 6020890.9 | C22: 8.4572977e+09 | E22: 1.6260904e+08 | F22: 1.3967861e+10 | G22: =SUM(B22:F22) -> 2.2593789e+10 | H22: ='7.'!B21 -> 2.3801006e+10 | I22: =B22/$H22 -> 0.00025296792 | J22: =C22/$H22 -> 0.35533362 | K22: =D22/$H22 -> 0 | L22: =E22/$H22 -> 0.006832024 | M22: =F22/$H22 -> 0.58686013
A23: MA | C23: 4.2947954e+09 | F23: 8.3653313e+08 | G23: =SUM(B23:F23) -> 5.1313285e+09 | H23: ='7.'!B22 -> 6.7878111e+09 | I23: =B23/$H23 -> 0 | J23: =C23/$H23 -> 0.63272171 | K23: =D23/$H23 -> 0 | L23: =E23/$H23 -> 0 | M23: =F23/$H23 -> 0.12324049
A24: MG | C24: 2.2036814e+10 | E24: 1.3939714e+09 | F24: 1.2188644e+11 | G24: =SUM(B24:F24) -> 1.4531722e+11 | H24: ='7.'!B23 -> 1.5730023e+11 | I24: =B24/$H24 -> 0 | J24: =C24/$H24 -> 0.14009398 | K24: =D24/$H24 -> 0 | L24: =E24/$H24 -> 0.0088618524 | M24: =F24/$H24 -> 0.77486499
A25: MS | C25: 2.0997619e+09 | E25: 76749074 | F25: 6.4346585e+09 | G25: =SUM(B25:F25) -> 8.6111694e+09 | H25: ='7.'!B24 -> 8.8301918e+09 | I25: =B25/$H25 -> 0 | J25: =C25/$H25 -> 0.23779346 | K25: =D25/$H25 -> 0 | L25: =E25/$H25 -> 0.0086916655 | M25: =F25/$H25 -> 0.72871106
A26: MT | B26: 0 | C26: 53366012 | D26: 3.035452e+09 | E26: 1.2736444e+08 | F26: 2.0724355e+09 | G26: =SUM(B26:F26) -> 5.288618e+09 | H26: ='7.'!B25 -> 5.7190151e+09 | I26: =B26/$H26 -> 0 | J26: =C26/$H26 -> 0.0093313291 | K26: =D26/$H26 -> 0.53076482 | L26: =E26/$H26 -> 0.022270345 | M26: =F26/$H26 -> 0.3623763
A27: PA | C27: 3.9553017e+09 | E27: 1.7966728e+08 | F27: 1.0485287e+09 | G27: =SUM(B27:F27) -> 5.1834977e+09 | H27: ='7.'!B26 -> 5.1834977e+09 | I27: =B27/$H27 -> 0 | J27: =C27/$H27 -> 0.76305652 | K27: =D27/$H27 -> 0 | L27: =E27/$H27 -> 0.034661399 | M27: =F27/$H27 -> 0.20228208
A28: PB | C28: 1.2122667e+09 | D28: 2.1657299e+08 | E28: 74731057 | F28: 1.1533808e+09 | G28: =SUM(B28:F28) -> 2.6569516e+09 | H28: ='7.'!B27 -> 4.8809076e+09 | I28: =B28/$H28 -> 0 | J28: =C28/$H28 -> 0.24836912 | K28: =D28/$H28 -> 0.044371458 | L28: =E28/$H28 -> 0.015310894 | M28: =F28/$H28 -> 0.23630458
A29: PE | C29: 1.3046155e+10 | E29: 49890267 | F29: 3.6745497e+09 | G29: =SUM(B29:F29) -> 1.6770595e+10 | H29: ='7.'!B28 -> 1.7158625e+10 | I29: =B29/$H29 -> 0 | J29: =C29/$H29 -> 0.76032636 | K29: =D29/$H29 -> 0 | L29: =E29/$H29 -> 0.0029075911 | M29: =F29/$H29 -> 0.21415175
A30: PI | B30: 87173706 | C30: 6.4220893e+09 | E30: 2.1366019e+08 | G30: =SUM(B30:F30) -> 6.7229232e+09 | H30: ='7.'!B29 -> 8.3504584e+09 | I30: =B30/$H30 -> 0.010439392 | J30: =C30/$H30 -> 0.76907027 | K30: =D30/$H30 -> 0 | L30: =E30/$H30 -> 0.025586642 | M30: =F30/$H30 -> 0
A31: PR | B31: 3.6336852e+08 | C31: 3.6462206e+09 | D31: 2.9797625e+09 | E31: 1.8270446e+09 | F31: 1.4920303e+10 | G31: =SUM(B31:F31) -> 2.3736699e+10 | H31: ='7.'!B30 -> 3.136703e+10 | I31: =B31/$H31 -> 0.01158441 | J31: =C31/$H31 -> 0.11624373 | K31: =D31/$H31 -> 0.094996642 | L31: =E31/$H31 -> 0.058247292 | M31: =F31/$H31 -> 0.47566833
A32: RJ | C32: 1.6622943e+11 | E32: 9.9235421e+08 | G32: =SUM(B32:F32) -> 1.6722179e+11 | H32: ='7.'!B31 -> 1.7090701e+11 | I32: =B32/$H32 -> 0 | J32: =C32/$H32 -> 0.97263085 | K32: =D32/$H32 -> 0 | L32: =E32/$H32 -> 0.0058063984 | M32: =F32/$H32 -> 0
A33: RN | C33: 2.3026321e+09 | E33: 1.455349e+08 | F33: 6.8788964e+08 | G33: =SUM(B33:F33) -> 3.1360567e+09 | H33: ='7.'!B32 -> 4.9630256e+09 | I33: =B33/$H33 -> 0 | J33: =C33/$H33 -> 0.46395733 | K33: =D33/$H33 -> 0 | L33: =E33/$H33 -> 0.029323826 | M33: =F33/$H33 -> 0.13860288
A34: RO | C34: 2.7271392e+08 | E34: 45218516 | F34: 2.5198341e+09 | G34: =SUM(B34:F34) -> 2.8377665e+09 | H34: ='7.'!B33 -> 4.9383504e+09 | I34: =B34/$H34 -> 0 | J34: =C34/$H34 -> 0.055223689 | K34: =D34/$H34 -> 0 | L34: =E34/$H34 -> 0.0091566034 | M34: =F34/$H34 -> 0.51025826
A35: RR | B35: 56666791 | C35: 8.1412118e+08 | E35: 3.9937971e+08 | F35: 91188616 | G35: =SUM(B35:F35) -> 1.3613563e+09 | H35: ='7.'!B34 -> 1.8046861e+09 | I35: =B35/$H35 -> 0.031399804 | J35: =C35/$H35 -> 0.45111511 | K35: =D35/$H35 -> 0 | L35: =E35/$H35 -> 0.22130148 | M35: =F35/$H35 -> 0.050528795
A36: RS | C36: 8.9896036e+10 | E36: 3.2942509e+08 | G36: =SUM(B36:F36) -> 9.0225461e+10 | H36: ='7.'!B35 -> 1.0545452e+11 | I36: =B36/$H36 -> 0 | J36: =C36/$H36 -> 0.85246265 | K36: =D36/$H36 -> 0 | L36: =E36/$H36 -> 0.0031238595 | M36: =F36/$H36 -> 0
A37: SC | B37: 12724519 | C37: 8.6975764e+09 | D37: 8370431.5 | E37: 6.5562959e+08 | F37: 1.0178633e+10 | G37: =SUM(B37:F37) -> 1.9552934e+10 | H37: ='7.'!B36 -> 2.1985644e+10 | I37: =B37/$H37 -> 0.00057876492 | J37: =C37/$H37 -> 0.39560253 | K37: =D37/$H37 -> 0.0003807226 | L37: =E37/$H37 -> 0.029820804 | M37: =F37/$H37 -> 0.46296724
