Workbook

Sheet Summary
A1: Budgetary Central Government Statistics
A3: 1. | B3: Monthly Data
A4: 1.1. | B4: =MID('1.1'!$A$1,13,98)&" - Current Prices" -> Budgetary Central Government Statement of Government Operations - Brazil - Time Series - Monthly - Current Prices
A5: 1.2. | B5: =MID('1.2'!$A$1,13,98)&" - Current Prices" -> Budgetary Central Government Revenue - Brazil - Time Series - Monthly - Current Prices
A6: 1.3. | B6: =MID('1.3'!$A$1,13,98)&" - Current Prices" -> Budgetary Central Government Expenditure - Brazil - Time Series - Monthly - Current Prices
A7: 1.4. | B7: =MID('1.4'!$A$1,13,98)&" - Current Prices" -> Budgetary Central Government Statement of Sources & Uses of Cash - Brazil - Time Series - Monthly - Current Prices
A8: 2. | B8: Quarterly Data
A9: 2.1. | B9: =MID('2.1'!$A$1,13,98)&" - Current Prices" -> Budgetary Central Government Statement of Government Operations - Brazil - Time Series - Quarterl - Current Prices
A10: 2.1.a. | B10: =MID('2.1.a'!$A$1,15,130)&" - GDP %" -> Budgetary Central Government Statement of Government Operations - Brazil - Time Series - Quarterly - GDP %
A11: 2.2. | B11: =MID('2.2'!$A$1,13,98)&" - Current Prices" -> Budgetary Central Government Revenue - Brazil - Time Series - Quarterly - Current Prices
A12: 2.2.a. | B12: =MID('2.2.a'!$A$1,15,130)&" - GDP %" -> Budgetary Central Government Revenue - Brazil - Time Series - Quarterly - GDP %
A13: 2.3. | B13: =MID('2.3'!$A$1,13,98)&" - Current Prices" -> Budgetary Central Government Expenditure - Brazil - Time Series - Quarterly - Current Prices
A14: 2.3.a. | B14: =MID('2.3.a'!$A$1,15,130)&" - GDP %" -> Budgetary Central Government Expenditure - Brazil - Time Series - Quarterly - GDP %
A15: 2.4. | B15: =MID('2.4'!$A$1,13,99)&" - Current Prices" -> Budgetary Central Government Statement of Sources & Uses of Cash - Brazil - Time Series - Quarterly - Current Prices
A16: 2.4.a. | B16: =MID('2.4.a'!$A$1,15,130)&" - GDP %" -> Budgetary Central Government Statement of Sources & Uses of Cash - Brazil - Time Series - Quarterly - GDP %
A17: 3. | B17: Yearly Data
A18: 3.1. | B18: =MID('3.1'!$A$1,13,98)&" - Current Prices" -> Budgetary Central Government Statement of Government Operations - Brazil - Time Series - Yearly - Current Prices
A19: 3.1.a. | B19: =MID('3.1.a'!$A$1,15,130)&" - GDP %" -> Budgetary Central Government Statement of Government Operations - Brazil - Time Series - Yearly - GDP %
A20: 3.2. | B20: =MID('3.2'!$A$1,13,98)&" - Current Prices" -> Budgetary Central Government Revenue - Brazil - Time Series - Yearly - Current Prices
A21: 3.2.a. | B21: =MID('3.2.a'!$A$1,15,130)&" - GDP %" -> Budgetary Central Government Revenue - Brazil - Time Series - Yearly - GDP %
A22: 3.3. | B22: =MID('3.3'!$A$1,13,98)&" - Current Prices" -> Budgetary Central Government Expenditure - Brazil - Time Series - Yearly - Current Prices
A23: 3.3.a. | B23: =MID('3.3.a'!$A$1,15,130)&" - GDP %" -> Budgetary Central Government Expenditure - Brazil - Time Series - Yearly - GDP %
A24: 3.4. | B24: =MID('3.4'!$A$1,13,98)&" - Current Prices" -> Budgetary Central Government Statement of Sources & Uses of Cash - Brazil - Time Series - Yearly - Current Prices
A25: 3.4.a. | B25: =MID('3.4.a'!$A$1,15,130)&" - GDP %" -> Budgetary Central Government Statement of Sources & Uses of Cash - Brazil - Time Series - Yearly - GDP %
A26: 4. | B26: Bridge tables between GFS and official statistics
A27: 4.1. | B27: =MID('4.1'!$A$1,13,130)&" - Current Prices" -> Bridge table between the RTN primary balance and the Budgetary Central Government (BCG) Statement of Operations - Quarterly - Current Prices
A28: 4.2. | B28: =MID('4.2'!$A$1,13,130)&" - Current Prices" -> Bridge table between the RTN primary balance and the Budgetary Central Government (BCG) Statement of Operations - Yearly - Current Prices
A30: Glossary
A31: Metadata

Sheet 1.1
A1: Table 1.1. Budgetary Central Government Statement of Government Operations - Brazil - Time Series - Monthly
A2: R$ Million - Current Prices
A4: Statement of Government Operations - Budgetary Cental Government 1/ | C4: 38718 | D4: 38749 | E4: 38777 | F4: 38808 | G4: 38838 | H4: 38869 | I4: 38899 | J4: 38930 | K4: 38961 | L4: 38991 | M4: 39022 | N4: 39052 | O4: 39083 | P4: 39114 | Q4: 39142 | R4: 39173 | S4: 39203 | T4: 39234 | U4: 39264 | V4: 39295 | W4: 39326 | X4: 39356 | Y4: 39387 | Z4: 39417 | AA4: 39448 | AB4: 39479 | AC4: 39508 | AD4: 39539 | AE4: 39569 | AF4: 39600 | AG4: 39630 | AH4: 39661 | AI4: 39692 | AJ4: 39722 | AK4: 39753 | AL4: 39783 | AM4: 39814 | AN4: 39845 | AO4: 39873 | AP4: 39904 | AQ4: 39934 | AR4: 39965 | AS4: 39995 | AT4: 40026 | AU4: 40057 | AV4: 40087 | AW4: 40118 | AX4: 40148 | AY4: 40179 | AZ4: 40210 | BA4: 40238 | BB4: 40269 | BC4: 40299 | BD4: 40330 | BE4: 40360 | BF4: 40391 | BG4: 40422 | BH4: 40452 | BI4: 40483 | BJ4: 40513 | BK4: 40544 | BL4: 40575 | BM4: 40603 | BN4: 40634 | BO4: 40664 | BP4: 40695 | BQ4: 40725 | BR4: 40756 | BS4: 40787 | BT4: 40817 | BU4: 40848 | BV4: 40878 | BW4: 40909 | BX4: 40940 | BY4: 40969 | BZ4: 41000 | CA4: 41030 | CB4: 41061 | CC4: 41091 | CD4: 41122 | CE4: 41153 | CF4: 41183 | CG4: 41214 | CH4: 41244 | CI4: 41275 | CJ4: 41306 | CK4: 41334 | CL4: 41365 | CM4: 41395 | CN4: 41426 | CO4: 41456 | CP4: 41487 | CQ4: 41518 | CR4: 41548 | CS4: 41579 | CT4: 41609 | CU4: 41640 | CV4: 41671 | CW4: 41699 | CX4: 41730 | CY4: 41760 | CZ4: 41791 | DA4: 41821 | DB4: 41852 | DC4: 41883 | DD4: 41913 | DE4: 41944 | DF4: 41974 | DG4: 42005 | DH4: 42036 | DI4: 42064 | DJ4: 42095 | DK4: 42125 | DL4: 42156 | DM4: 42186 | DN4: 42217 | DO4: 42248 | DP4: 42278 | DQ4: 42309 | DR4: 42339 | DS4: 42370 | DT4: 42401 | DU4: 42430 | DV4: 42461 | DW4: 42491 | DX4: 42522 | DY4: 42552 | DZ4: 42583 | EA4: 42614 | EB4: 42644 | EC4: 42675 | ED4: 42705 | EE4: 42736 | EF4: 42767 | EG4: 42795 | EH4: 42826 | EI4: 42856 | EJ4: 42887 | EK4: 42917 | EL4: 42948 | EM4: 42979 | EN4: 43009 | EO4: 43040 | EP4: 43070 | EQ4: 43101 | ER4: 43132 | ES4: 43160 | ET4: 43191 | EU4: 43221 | EV4: 43252 | EW4: 43282 | EX4: 43313 | EY4: 43344 | EZ4: 43374 | FA4: 43405 | FB4: 43435 | FC4: 43466 | FD4: 43497 | FE4: 43525 | FF4: 43556 | FG4: 43586 | FH4: 43617 | FI4: 43647 | FJ4: 43678 | FK4: 43709 | FL4: 43739 | FM4: 43770 | FN4: 43800 | FO4: 43831 | FP4: 43862 | FQ4: 43891 | FR4: 43922 | FS4: 43952 | FT4: 43983 | FU4: 44013 | FV4: 44044 | FW4: 44075 | FX4: 44105 | FY4: 44136 | FZ4: 44166 | GA4: 44197 | GB4: 44228 | GC4: 44256 | GD4: 44287 | GE4: 44317 | GF4: 44348 | GG4: 44378 | GH4: 44409 | GI4: 44440 | GJ4: 44470 | GK4: 44501 | GL4: 44531 | GM4: 44562 | GN4: 44593 | GO4: 44621 | GP4: 44652 | GQ4: 44682 | GR4: 44713 | GS4: 44743 | GT4: 44774 | GU4: 44805 | GV4: 44835 | GW4: 44866 | GX4: 44896 | GY4: 44927 | GZ4: 44958 | HA4: 44986 | HB4: 45017 | HC4: 45047 | HD4: 45078 | HE4: 45108 | HF4: 45139 | HG4: 45170 | HH4: 45200 | HI4: 45231 | HJ4: 45261 | HK4: 45292 | HL4: 45323 | HM4: 45352 | HN4: 45383 | HO4: 45413 | HP4: 45444 | HQ4: 45474 | HR4: 45505 | HS4: 45536 | HT4: 45566 | HU4: 45597 | HV4: 45627 | HW4: 45658 | HX4: 45689 | HY4: 45717 | HZ4: 45748 | IA4: 45778 | IB4: 45809 | IC4: 45839 | ID4: 45870 | IE4: 45901 | IF4: 45931 | IG4: 45962 | IH4: 45992 | II4: 46023 | IJ4: 46054 | IK4: 46082 | IL4: 46113 | IM4: 46143 | IN4: 46174 | IO4: 46204 | IP4: 46235
A5: 1 | B5: Revenue 2/ | C5: 51583.138 | D5: 46610.786 | E5: 51184.126 | F5: 53091.496 | G5: 50678.202 | H5: 49593.103 | I5: 52549.236 | J5: 51026.967 | K5: 55034.145 | L5: 53751.91 | M5: 51938.27 | N5: 68748.274 | O5: 58506.412 | P5: 51542.301 | Q5: 56217.26 | R5: 60606.323 | S5: 52261.693 | T5: 57918.853 | U5: 57767.1 | V5: 58183.093 | W5: 60725.012 | X5: 63695.747 | Y5: 62546.573 | Z5: 88098.279 | AA5: 76128.005 | AB5: 59252.303 | AC5: 67830.874 | AD5: 70877.021 | AE5: 63842.718 | AF5: 70363.374 | AG5: 76820.806 | AH5: 71251.406 | AI5: 70278.229 | AJ5: 86048.609 | AK5: 69945.842 | AL5: 75150.157 | AM5: 69675.709 | AN5: 56544.888 | AO5: 63934.774 | AP5: 65365.302 | AQ5: 61215.777 | AR5: 63557.921 | AS5: 66745.723 | AT5: 67524.845 | AU5: 56810.137 | AV5: 76850.094 | AW5: 79741.923 | AX5: 88573.011 | AY5: 82709.211 | AZ5: 68345.286 | BA5: 77944.694 | BB5: 88647.432 | BC5: 78528.746 | BD5: 75943.062 | BE5: 79549.498 | BF5: 80326.229 | BG5: 84550.317 | BH5: 88474.272 | BI5: 85607.025 | BJ5: 116155.02 | BK5: 107075.73 | BL5: 80511.147 | BM5: 90457.323 | BN5: 102107.62 | BO5: 88540.647 | BP5: 88255.485 | BQ5: 98835.078 | BR5: 84594.485 | BS5: 92446.56 | BT5: 101720.31 | BU5: 91923.467 | BV5: 111753.08 | BW5: 115287.22 | BX5: 91237.286 | BY5: 97444.585 | BZ5: 110509.68 | CA5: 98518.721 | CB5: 97217.767 | CC5: 123247.35 | CD5: 100556.55 | CE5: 101021.99 | CF5: 106700.04 | CG5: 96463.061 | CH5: 132161.6 | CI5: 135033.31 | CJ5: 91935.908 | CK5: 95626.4 | CL5: 115654.37 | CM5: 104483.79 | CN5: 104575.72 | CO5: 113088.14 | CP5: 100125.39 | CQ5: 101998.07 | CR5: 118309.74 | CS5: 122770.32 | CT5: 153218.21 | CU5: 142976.77 | CV5: 104698.29 | CW5: 115265.66 | CX5: 130512.51 | CY5: 105630.75 | CZ5: 103562.51 | DA5: 108806.95 | DB5: 107155.34 | DC5: 102576.85 | DD5: 116066.18 | DE5: 114427.44 | DF5: 138155.06 | DG5: 144991.94 | DH5: 110353.21 | DI5: 121740.15 | DJ5: 159912.78 | DK5: 121284.15 | DL5: 116734.98 | DM5: 125701.83 | DN5: 117949.92 | DO5: 115069.62 | DP5: 137887.97 | DQ5: 124182.32 | DR5: 152401.82 | DS5: 164950.34 | DT5: 118747.99 | DU5: 157992.11 | DV5: 135636.17 | DW5: 119623.54 | DX5: 136782.13 | DY5: 136706.36 | DZ5: 111621.37 | EA5: 116467.89 | EB5: 167723.24 | EC5: 122662.23 | ED5: 152613.6 | EE5: 161208.28 | EF5: 115755.83 | EG5: 127654.89 | EH5: 141252.41 | EI5: 116990.56 | EJ5: 123403.68 | EK5: 124299.86 | EL5: 124504.4 | EM5: 123777.74 | EN5: 139834.04 | EO5: 146401.86 | EP5: 155863.75 | EQ5: 175241.5 | ER5: 125177.38 | ES5: 128497.69 | ET5: 155355.01 | EU5: 137152.67 | EV5: 128686.13 | EW5: 151377.5 | EX5: 141743.87 | EY5: 140523.39 | EZ5: 163043.7 | FA5: 148044.35 | FB5: 171391.75 | FC5: 188435.5 | FD5: 133682.5 | FE5: 137567.25 | FF5: 163135.47 | FG5: 137146.24 | FH5: 134010.59 | FI5: 153167.84 | FJ5: 137871.05 | FK5: 138320.7 | FL5: 154093.36 | FM5: 149164.24 | FN5: 258059.52 | FO5: 196796.71 | FP5: 135888.26 | FQ5: 134473.5 | FR5: 117667.15 | FS5: 90555.752 | FT5: 94716.502 | FU5: 130069.02 | FV5: 133182.97 | FW5: 135835.01 | FX5: 167997.92 | FY5: 157996.87 | FZ5: 190039.48 | GA5: 208580.43 | GB5: 148370.99 | GC5: 166826.39 | GD5: 184594.36 | GE5: 166670.98 | GF5: 152300.14 | GG5: 189214.11 | GH5: 177266.7 | GI5: 175585.06 | GJ5: 206086.77 | GK5: 197025.3 | GL5: 243874.06 | GM5: 267782.77 | GN5: 194165.79 | GO5: 200355.51 | GP5: 236090.43 | GQ5: 208859.25 | GR5: 259020.34 | GS5: 235841.94 | GT5: 205857.28 | GU5: 205344.6 | GV5: 231866.48 | GW5: 205933.58 | GX5: 259795.16 | GY5: 292296.15 | GZ5: 188679.33 | HA5: 219794.23 | HB5: 239151.86 | HC5: 223911.44 | HD5: 213009.84 | HE5: 227298.29 | HF5: 205279.59 | HG5: 234132.11 | HH5: 245404.96 | HI5: 214397.95 | HJ5: 269564.19 | HK5: 312416.7 | HL5: 222257.34 | HM5: 240644.4 | HN5: 261361.84 | HO5: 247150.46 | HP5: 240234.28 | HQ5: 256898.82 | HR5: 230744.02 | HS5: 233143.39 | HT5: 280313.03 | HU5: 253287.85 | HV5: 331519.12 | HW5: 340447.95 | HX5: 242432.37 | HY5: 260248.68 | HZ5: 295717.42 | IA5: 266555.76 | IB5: 263825.25 | IC5: 285902.04 | ID5: 260074.01 | IE5: 258060.99 | IF5: 313126.66 | IG5: 269885.21 | IH5: 353033.79 | II5: 377013.28 | IJ5: 261393.87 | IK5: 280640.74 | IL5: 325691.08 | IM5: 307205.46 | IN5: 303294.37 | IO5: 317731.54 | IP5: 282658.95
A6: 11 | B6: Taxes | C6: 31868.529 | D6: 27123.089 | E6: 29981.444 | F6: 32596.08 | G6: 27962.585 | H6: 32218.418 | I6: 29928.851 | J6: 29314.209 | K6: 30082.029 | L6: 31688.324 | M6: 29439.191 | N6: 37893.15 | O6: 36316.319 | P6: 30501.359 | Q6: 33756.322 | R6: 38155.658 | S6: 33211.044 | T6: 35928.966 | U6: 35165.067 | V6: 33976.012 | W6: 34188.59 | X6: 38039.343 | Y6: 37311.977 | Z6: 44056.842 | AA6: 46767.193 | AB6: 34493.686 | AC6: 39075.925 | AD6: 42676.233 | AE6: 36068.39 | AF6: 38391.955 | AG6: 42496.777 | AH6: 37392.203 | AI6: 39227.597 | AJ6: 44928.548 | AK6: 37858.045 | AL6: 42433.117 | AM6: 45588.061 | AN6: 31054.178 | AO6: 39376.255 | AP6: 40819.723 | AQ6: 33660.074 | AR6: 36570.657 | AS6: 38924.079 | AT6: 33842.277 | AU6: 36279.117 | AV6: 45411.073 | AW6: 41040.519 | AX6: 43572.261 | AY6: 52732.169 | AZ6: 36328 | BA6: 43851.318 | BB6: 50405.949 | BC6: 41850.895 | BD6: 41509.376 | BE6: 44775.774 | BF6: 42622.609 | BG6: 43641.088 | BH6: 50042.93 | BI6: 45799.974 | BJ6: 60156.638 | BK6: 67917.132 | BL6: 43721.451 | BM6: 52491.642 | BN6: 59817.99 | BO6: 48918.24 | BP6: 51452.7 | BQ6: 60822.442 | BR6: 47729.733 | BS6: 48626.354 | BT6: 59592.523 | BU6: 50986.014 | BV6: 57873.346 | BW6: 74785.984 | BX6: 49043.207 | BY6: 57932.52 | BZ6: 64825.798 | CA6: 51439.989 | CB6: 53393.228 | CC6: 63387.019 | CD6: 48567.364 | CE6: 50705.856 | CF6: 58976.339 | CG6: 54301.216 | CH6: 62712.677 | CI6: 86187.197 | CJ6: 50187.156 | CK6: 53774.281 | CL6: 69077.187 | CM6: 59902.82 | CN6: 54399.733 | CO6: 61347.719 | CP6: 53282.444 | CQ6: 54283.498 | CR6: 65549.273 | CS6: 58014.814 | CT6: 87101.362 | CU6: 90407.734 | CV6: 54856.603 | CW6: 63093.976 | CX6: 72577.429 | CY6: 58503.317 | CZ6: 59563.297 | DA6: 63522.699 | DB6: 58084.306 | DC6: 56619.59 | DD6: 66930.993 | DE6: 62982.368 | DF6: 72442.754 | DG6: 91199.839 | DH6: 61894.853 | DI6: 69022.553 | DJ6: 76896.109 | DK6: 62923.513 | DL6: 64406.058 | DM6: 66806.158 | DN6: 58452.942 | DO6: 62937.154 | DP6: 69259.865 | DQ6: 60067.74 | DR6: 73336.761 | DS6: 96684.123 | DT6: 58275.215 | DU6: 69592.975 | DV6: 80171.283 | DW6: 64842.59 | DX6: 63986.734 | DY6: 71552.178 | DZ6: 57442.271 | EA6: 60325.271 | EB6: 93190.734 | EC6: 65120.499 | ED6: 78368.014 | EE6: 102087.86 | EF6: 62055.864 | EG6: 70077.835 | EH6: 82242.962 | EI6: 63681.039 | EJ6: 68295.958 | EK6: 70330.574 | EL6: 65088.747 | EM6: 66143.496 | EN6: 77620.44 | EO6: 81947.986 | EP6: 81837.474 | EQ6: 111240.7 | ER6: 71159.681 | ES6: 73223.164 | ET6: 91782.244 | EU6: 74896.449 | EV6: 71164.361 | EW6: 80863.381 | EX6: 70559.537 | EY6: 75794.931 | EZ6: 82433.278 | FA6: 78117.836 | FB6: 90350.437 | FC6: 117578.25 | FD6: 77620.016 | FE6: 75638.028 | FF6: 93465.932 | FG6: 74822.568 | FH6: 73773.06 | FI6: 87369.63 | FJ6: 77422.796 | FK6: 71453.045 | FL6: 86937.71 | FM6: 82300.603 | FN6: 91649.143 | FO6: 125744.23 | FP6: 75354.605 | FQ6: 73831.424 | FR6: 68713.255 | FS6: 49698.964 | FT6: 55189.07 | FU6: 72468.663 | FV6: 74785.974 | FW6: 77394.987 | FX6: 99698.818 | FY6: 90984.16 | FZ6: 99629.286 | GA6: 134278.99 | GB6: 86565.556 | GC6: 98125.214 | GD6: 106949.05 | GE6: 93933.58 | GF6: 87152.297 | GG6: 109365.75 | GH6: 95662.8 | GI6: 101783.56 | GJ6: 120031.1 | GK6: 106657.77 | GL6: 129074.05 | GM6: 172901.47 | GN6: 100888.71 | GO6: 115918.22 | GP6: 128337.52 | GQ6: 107903.08 | GR6: 121015.95 | GS6: 125954.31 | GT6: 110081.28 | GU6: 110233.38 | GV6: 134016.51 | GW6: 116504.36 | GX6: 135411.59 | GY6: 182381.82 | GZ6: 102938.39 | HA6: 116237.72 | HB6: 137590.8 | HC6: 112720.11 | HD6: 119055.38 | HE6: 125624.69 | HF6: 108511.02 | HG6: 115676.47 | HH6: 140429.12 | HI6: 118861.4 | HJ6: 151367.18 | HK6: 205004.96 | HL6: 128108.03 | HM6: 133964.33 | HN6: 159896.42 | HO6: 136671.08 | HP6: 137753.79 | HQ6: 153597.9 | HR6: 128276.74 | HS6: 140231.89 | HT6: 169228.46 | HU6: 140799.81 | HV6: 175865.77 | HW6: 227157.82 | HX6: 137899.65 | HY6: 145444.27 | HZ6: 174642.43 | IA6: 153637.75 | IB6: 149926.71 | IC6: 171111.43 | ID6: 140642.2 | IE6: 147143.33 | IF6: 188041.13 | IG6: 152754.54 | IH6: 194894.4 | II6: 243575.36 | IJ6: 144050.26 | IK6: 161491.46 | IL6: 194520.13 | IM6: 175570.15 | IN6: 173659.34 | IO6: 189782.01 | IP6: 155956.6
A7: 111 | B7: Taxes on income, profits, and capital gains | C7: 13973.32 | D7: 11802.118 | E7: 12969.923 | F7: 16008.025 | G7: 11524.045 | H7: 15339.476 | I7: 13265.999 | J7: 11553.453 | K7: 11420.932 | L7: 13339.858 | M7: 10935.571 | N7: 17819.909 | O7: 16428.675 | P7: 13714.008 | Q7: 15795.976 | R7: 18060.729 | S7: 13781.364 | T7: 16175.578 | U7: 15863.182 | V7: 13219.828 | W7: 12919.783 | X7: 17107.501 | Y7: 15568.674 | Z7: 21841.681 | AA7: 25571.54 | AB7: 15739.279 | AC7: 18770.607 | AD7: 22458.012 | AE7: 16445.862 | AF7: 18119.94 | AG7: 21543.515 | AH7: 16241.424 | AI7: 16595.857 | AJ7: 22090.596 | AK7: 16022.582 | AL7: 23363.369 | AM7: 26451.471 | AN7: 15148.735 | AO7: 20722.901 | AP7: 22739.403 | AQ7: 16915.972 | AR7: 18227.802 | AS7: 19724.465 | AT7: 14683.778 | AU7: 16118.665 | AV7: 23995.813 | AW7: 17906.425 | AX7: 19934.806 | AY7: 28910.603 | AZ7: 15843.57 | BA7: 19971.895 | BB7: 27484.248 | BC7: 18797.809 | BD7: 17579.351 | BE7: 21247.618 | BF7: 18461.257 | BG7: 17742.193 | BH7: 23071.372 | BI7: 19577.182 | BJ7: 29797.508 | BK7: 38940.461 | BL7: 19036.632 | BM7: 23882.396 | BN7: 32762.062 | BO7: 22188.575 | BP7: 24034.781 | BQ7: 33084.349 | BR7: 18953.744 | BS7: 18999.323 | BT7: 29921.553 | BU7: 21874.679 | BV7: 30319.541 | BW7: 43126.11 | BX7: 23278.994 | BY7: 28339.641 | BZ7: 34633.877 | CA7: 22268.429 | CB7: 24563.487 | CC7: 24702.671 | CD7: 18971.234 | CE7: 20839.44 | CF7: 28631.432 | CG7: 24596.053 | CH7: 30984.087 | CI7: 50887.848 | CJ7: 23919.976 | CK7: 24762.325 | CL7: 36225.053 | CM7: 28179.252 | CN7: 24236.19 | CO7: 29492.432 | CP7: 21587.868 | CQ7: 22303.015 | CR7: 33040.987 | CS7: 25420.99 | CT7: 40704.109 | CU7: 53830.623 | CV7: 24652.239 | CW7: 28568.397 | CX7: 40888.374 | CY7: 27146.586 | CZ7: 28029.696 | DA7: 31870.891 | DB7: 26411.506 | DC7: 23359.905 | DD7: 32564.999 | DE7: 27850.376 | DF7: 36979.478 | DG7: 53221.067 | DH7: 29662.877 | DI7: 33119.198 | DJ7: 42384.06 | DK7: 30061.671 | DL7: 31035.841 | DM7: 32118.989 | DN7: 24022.646 | DO7: 26351.245 | DP7: 34545.444 | DQ7: 25573.049 | DR7: 39025.399 | DS7: 57859.367 | DT7: 27234.468 | DU7: 32860.31 | DV7: 47193.178 | DW7: 30713.834 | DX7: 31937.604 | DY7: 37650.261 | DZ7: 25420.411 | EA7: 27475.348 | EB7: 59687.668 | EC7: 31825.759 | ED7: 43338.471 | EE7: 64828.707 | EF7: 31978.84 | EG7: 35745.337 | EH7: 48548.738 | EI7: 31226.01 | EJ7: 35512.689 | EK7: 37319.384 | EL7: 29687.124 | EM7: 28379.351 | EN7: 39740.821 | EO7: 31329.68 | EP7: 44384.796 | EQ7: 67647.023 | ER7: 35232.869 | ES7: 37135.915 | ET7: 50839.303 | EU7: 36498.146 | EV7: 33724.563 | EW7: 41840.822 | EX7: 28769.223 | EY7: 32113.629 | EZ7: 40359.792 | FA7: 37503.637 | FB7: 49074.94 | FC7: 73366.496 | FD7: 41331.375 | FE7: 38889.869 | FF7: 54044.557 | FG7: 37568.721 | FH7: 34769.076 | FI7: 49216.49 | FJ7: 35636.075 | FK7: 31278.044 | FL7: 47272.91 | FM7: 41310.344 | FN7: 50893.159 | FO7: 82210.916 | FP7: 40400.625 | FQ7: 37247.595 | FR7: 45290.527 | FS7: 32139.275 | FT7: 36307.709 | FU7: 37860.131 | FV7: 28175.088 | FW7: 36261.29 | FX7: 51795.054 | FY7: 44440.196 | FZ7: 54447.536 | GA7: 87704.13 | GB7: 44253.184 | GC7: 51040.682 | GD7: 61393.919 | GE7: 52561.489 | GF7: 45838.506 | GG7: 62750.695 | GH7: 46166.603 | GI7: 49014.395 | GJ7: 69776.016 | GK7: 54496.514 | GL7: 73125.329 | GM7: 121013.54 | GN7: 55858.834 | GO7: 66842.276 | GP7: 83932.645 | GQ7: 64051.583 | GR7: 76208.079 | GS7: 81087.139 | GT7: 61420.86 | GU7: 57432.344 | GV7: 83067.954 | GW7: 72335.789 | GX7: 85797.832 | GY7: 131831.37 | GZ7: 63412.039 | HA7: 68732.915 | HB7: 92888.052 | HC7: 67523.797 | HD7: 68125.672 | HE7: 76927.954 | HF7: 57075.395 | HG7: 59007.852 | HH7: 88415.484 | HI7: 70725.606 | HJ7: 95305.201 | HK7: 144498.84 | HL7: 76734.177 | HM7: 75266.671 | HN7: 98397.653 | HO7: 82227.241 | HP7: 75836.785 | HQ7: 92595.761 | HR7: 65397.857 | HS7: 68403.008 | HT7: 103093.23 | HU7: 75151.098 | HV7: 107428.54 | HW7: 156705.99 | HX7: 77976.739 | HY7: 82613.849 | HZ7: 111484.58 | IA7: 92841.711 | IB7: 83524.649 | IC7: 104797.88 | ID7: 71027.707 | IE7: 71531.179 | IF7: 114005.35 | IG7: 82347.456 | IH7: 118604.29 | II7: 168337.78 | IJ7: 78399.626 | IK7: 90085.35 | IL7: 120918.08 | IM7: 103267.15 | IN7: 91016.219 | IO7: 118362.56 | IP7: 75146.635
A8: 112 | B8: Taxes on payroll & workforce | C8: 826.55875 | D8: 556.6854 | E8: 576.5828 | F8: 562.83294 | G8: 577.94048 | H8: 614.5757 | I8: 603.82675 | J8: 715.70301 | K8: 631.91103 | L8: 633.78619 | M8: 667.62192 | N8: 945.14789 | O8: 932.13454 | P8: 407.72906 | Q8: 626.53418 | R8: 677.28167 | S8: 640.52453 | T8: 649.43577 | U8: 648.28973 | V8: 895.30623 | W8: 672.10152 | X8: 686.66742 | Y8: 724.85237 | Z8: 709.67033 | AA8: 1246.6408 | AB8: 718.81531 | AC8: 731.96203 | AD8: 743.44624 | AE8: 749.65139 | AF8: 786.90356 | AG8: 840.87987 | AH8: 813.14021 | AI8: 943.34686 | AJ8: 806.03023 | AK8: 814.61905 | AL8: 875.3549 | AM8: 1406.3973 | AN8: 815.94426 | AO8: 801.12608 | AP8: 833.6558 | AQ8: 834.84038 | AR8: 846.24358 | AS8: 953.92835 | AT8: 872.90411 | AU8: 905.02344 | AV8: 848.61493 | AW8: 882.35138 | AX8: 905.35212 | AY8: 1577.8118 | AZ8: 923.83809 | BA8: 917.10999 | BB8: 943.30078 | BC8: 1172.6358 | BD8: 982.29297 | BE8: 949.56307 | BF8: 973.51472 | BG8: 1033.7741 | BH8: 990.63682 | BI8: 1016.3005 | BJ8: 1050.2536 | BK8: 1869.4665 | BL8: 1135.6698 | BM8: 1080.2516 | BN8: 1178.1671 | BO8: 1104.1022 | BP8: 1115.3672 | BQ8: 1111.3906 | BR8: 1147.86 | BS8: 1443.9563 | BT8: 1167.4745 | BU8: 1175.409 | BV8: 1315.4917 | BW8: 2130.2535 | BX8: 1262.7887 | BY8: 1237.8735 | BZ8: 1372.7927 | CA8: 1272.0948 | CB8: 1277.674 | CC8: 1495.4611 | CD8: 1359.9231 | CE8: 1263.4431 | CF8: 1314.1371 | CG8: 1343.3429 | CH8: 1357.8122 | CI8: 2357.9233 | CJ8: 1436.1913 | CK8: 1385.8333 | CL8: 1407.2212 | CM8: 1554.9124 | CN8: 1477.1352 | CO8: 1656.2795 | CP8: 1471.6679 | CQ8: 1473.1082 | CR8: 1497.5136 | CS8: 1508.7424 | CT8: 1498.8277 | CU8: 2691.1781 | CV8: 1522.0721 | CW8: 1577.9532 | CX8: 1575.918 | CY8: 1713.3101 | CZ8: 1602.1638 | DA8: 1832.0508 | DB8: 1601.0352 | DC8: 1637.7892 | DD8: 1629.7367 | DE8: 1634.8419 | DF8: 1701.2682 | DG8: 2882.8122 | DH8: 1695.1631 | DI8: 1660.8034 | DJ8: 1785.5329 | DK8: 1696.809 | DL8: 1706.5936 | DM8: 1978.8134 | DN8: 1575.0567 | DO8: 1729.635 | DP8: 1631.6391 | DQ8: 1574.2367 | DR8: 1670.0453 | DS8: 2915.4471 | DT8: 1733.4183 | DU8: 1697.59 | DV8: 1926.8614 | DW8: 1713.3539 | DX8: 1730.7081 | DY8: 1984.1758 | DZ8: 1685.1726 | EA8: 1708.0725 | EB8: 1681.2573 | EC8: 1683.4314 | ED8: 1730.6708 | EE8: 3011.2838 | EF8: 1744.7216 | EG8: 1717.3859 | EH8: 1912.4824 | EI8: 1724.0638 | EJ8: 1809.9623 | EK8: 2015.7266 | EL8: 1757.3477 | EM8: 1773.8862 | EN8: 1732.0937 | EO8: 1755.0644 | EP8: 1778.246 | EQ8: 3113.765 | ER8: 1789.3935 | ES8: 1771.2748 | ET8: 1749.4768 | EU8: 1766.0823 | EV8: 1759.2339 | EW8: 1830.2214 | EX8: 1761.4406 | EY8: 2715.3058 | EZ8: 1768.1065 | FA8: 1815.2721 | FB8: 2565.7043 | FC8: 2401.7676 | FD8: 1862.0729 | FE8: 1821.2954 | FF8: 1819.2836 | FG8: 2158.8488 | FH8: 1837.7803 | FI8: 1820.1746 | FJ8: 1884.4 | FK8: 1853.6364 | FL8: 1857.8716 | FM8: 1861.5304 | FN8: 3059.9236 | FO8: 2168.5087 | FP8: 1856.5125 | FQ8: 1871.7033 | FR8: 1712.9478 | FS8: 1750.0626 | FT8: 1672.2405 | FU8: 1752.5774 | FV8: 1783.9994 | FW8: 1793.1099 | FX8: 1852.3944 | FY8: 1910.7411 | FZ8: 3144.1975 | GA8: 2136.0216 | GB8: 1958.655 | GC8: 1925.7161 | GD8: 2001.0881 | GE8: 1916.5681 | GF8: 1970.0623 | GG8: 1995.7745 | GH8: 2027.4452 | GI8: 2049.2228 | GJ8: 2073.9274 | GK8: 2456.3288 | GL8: 3710.9366 | GM8: 2335.9343 | GN8: 2234.8547 | GO8: 2242.3034 | GP8: 2254.1089 | GQ8: 2288.0649 | GR8: 2341.7184 | GS8: 2344.6527 | GT8: 2388.8952 | GU8: 2372.0753 | GV8: 2555.8166 | GW8: 2287.851 | GX8: 4141.6421 | GY8: 2577.1288 | GZ8: 2593.6607 | HA8: 2554.8073 | HB8: 2519.5863 | HC8: 2616.5837 | HD8: 2767.225 | HE8: 2587.1872 | HF8: 2591.6556 | HG8: 2627.3682 | HH8: 2707.878 | HI8: 2674.328 | HJ8: 4733.0748 | HK8: 2823.4005 | HL8: 2675.324 | HM8: 2676.0113 | HN8: 2763.8232 | HO8: 2619.1376 | HP8: 2770.1439 | HQ8: 2810.5505 | HR8: 3067.295 | HS8: 2780.215 | HT8: 2826.3564 | HU8: 2978.707 | HV8: 4877.3399 | HW8: 3046.9589 | HX8: 3057.2303 | HY8: 3017.181 | HZ8: 3018.6657 | IA8: 3080.627 | IB8: 3181.394 | IC8: 2942.4777 | ID8: 2907.7817 | IE8: 3109.6638 | IF8: 3042.2816 | IG8: 3017.1233 | IH8: 5636.139 | II8: 3288.7042 | IJ8: 3376.2331 | IK8: 3317.9939 | IL8: 3311.4309 | IM8: 3316.1328 | IN8: 3289.1894 | IO8: 3291.1019 | IP8: 3578.7322
A9: 113 | B9: Taxes on property | C9: 8.474711 | D9: 6.6512 | E9: 7.5364696 | F9: 6.8362967 | G9: 7.1077488 | H9: 6.9242677 | I9: 5.7664165 | J9: 10.220609 | K9: 180.87754 | L9: 35.438646 | M9: 28.231036 | N9: 25.089168 | O9: 9.5093107 | P9: 7.4403814 | Q9: 8.2311802 | R9: 7.1734084 | S9: 7.5654409 | T9: 7.2922542 | U9: 5.1575714 | V9: 9.890653 | W9: 199.18116 | X9: 40.468518 | Y9: 30.014079 | Z9: 26.221349 | AA9: 11.085061 | AB9: 7.1430621 | AC9: 8.5017558 | AD9: 9.4922161 | AE9: 8.1021987 | AF9: 8.4346097 | AG9: 8.4487817 | AH9: 8.113203 | AI9: 235.59078 | AJ9: 75.34695 | AK9: 34.931521 | AL9: 42.001192 | AM9: 8.565768 | AN9: 7.6891751 | AO9: 11.609638 | AP9: 7.9435932 | AQ9: 12.212246 | AR9: 7.9785314 | AS9: 7.2214816 | AT9: 11.040216 | AU9: 263.32489 | AV9: 52.559288 | AW9: 45.867106 | AX9: 32.900879 | AY9: 4.4356726 | AZ9: 11.766821 | BA9: 7.7821917 | BB9: 8.7405741 | BC9: 3.2991251 | BD9: 11.022778 | BE9: 6.4579327 | BF9: 4.3197096 | BG9: 320.94592 | BH9: 54.211879 | BI9: 51.293926 | BJ9: 43.548164 | BK9: 9.0069564 | BL9: 9.3676541 | BM9: 8.9507096 | BN9: 10.149606 | BO9: 8.9259016 | BP9: 12.553412 | BQ9: 13.128996 | BR9: 10.908281 | BS9: 358.08218 | BT9: 65.711241 | BU9: 48.696836 | BV9: 46.86351 | BW9: 16.80829 | BX9: 7.2808881 | BY9: 19.516934 | BZ9: 12.378555 | CA9: 12.935817 | CB9: 11.132363 | CC9: 12.273336 | CD9: 16.042659 | CE9: 400.06985 | CF9: 72.438362 | CG9: 51.878683 | CH9: 54.808768 | CI9: 7.5842179 | CJ9: 9.840627 | CK9: 7.8865922 | CL9: 16.030411 | CM9: 13.288081 | CN9: 7.9949785 | CO9: 9.6828269 | CP9: 9.2565919 | CQ9: 490.99297 | CR9: 85.323927 | CS9: 54.677136 | CT9: 69.694991 | CU9: 11.259418 | CV9: 9.0582042 | CW9: 8.015854 | CX9: 8.8612713 | CY9: 10.451777 | CZ9: 7.4653184 | DA9: 12.540804 | DB9: 20.461982 | DC9: 588.19705 | DD9: 105.73235 | DE9: 78.257774 | DF9: 68.509174 | DG9: 12.547979 | DH9: 8.0439635 | DI9: 15.391157 | DJ9: 10.859265 | DK9: 14.90568 | DL9: 12.518726 | DM9: 19.396037 | DN9: 12.634656 | DO9: 711.31357 | DP9: 143.53293 | DQ9: 89.866616 | DR9: 79.595087 | DS9: 16.788143 | DT9: 15.843965 | DU9: 14.733805 | DV9: 12.045036 | DW9: 15.81982 | DX9: 11.376982 | DY9: 9.3370773 | DZ9: -19.337799 | EA9: 769.30551 | EB9: 130.90549 | EC9: 96.904075 | ED9: 85.996802 | EE9: 15.78483 | EF9: 9.8149286 | EG9: 17.726748 | EH9: 10.537097 | EI9: 17.158152 | EJ9: 18.885511 | EK9: 11.383149 | EL9: 15.665807 | EM9: 850.09454 | EN9: 143.2802 | EO9: 106.36836 | EP9: 96.48952 | EQ9: 13.838478 | ER9: 7.452801 | ES9: 9.5073268 | ET9: 6.7183293 | EU9: 14.156037 | EV9: 16.972115 | EW9: 13.12621 | EX9: 21.34509 | EY9: 943.51456 | EZ9: 166.72647 | FA9: 119.8007 | FB9: 111.51169 | FC9: 26.494315 | FD9: 17.26771 | FE9: 15.788992 | FF9: 17.527006 | FG9: 17.068007 | FH9: 16.57352 | FI9: 18.704055 | FJ9: 26.689734 | FK9: 1050.1173 | FL9: 181.19127 | FM9: 145.64199 | FN9: 123.01643 | FO9: 23.154273 | FP9: 19.365045 | FQ9: 15.917498 | FR9: 2.8976296 | FS9: 11.396768 | FT9: 12.028287 | FU9: 12.050842 | FV9: 23.348862 | FW9: 1219.134 | FX9: 175.81862 | FY9: 143.43228 | FZ9: 126.40132 | GA9: 22.361857 | GB9: 23.273237 | GC9: 22.661471 | GD9: 18.166091 | GE9: 19.474704 | GF9: 20.353971 | GG9: 17.03354 | GH9: 47.286714 | GI9: 1490.2525 | GJ9: 193.26746 | GK9: 158.90053 | GL9: 153.73174 | GM9: 34.203047 | GN9: 28.389636 | GO9: 28.29133 | GP9: 26.879145 | GQ9: 29.398222 | GR9: 36.329213 | GS9: 24.806041 | GT9: 55.906447 | GU9: 1798.2838 | GV9: 223.84611 | GW9: 172.04364 | GX9: 155.58642 | GY9: 46.636212 | GZ9: 27.162893 | HA9: 33.709596 | HB9: 31.016125 | HC9: 33.836529 | HD9: 34.9206 | HE9: 28.344287 | HF9: 67.559235 | HG9: 2067.2197 | HH9: 274.28796 | HI9: 225.52392 | HJ9: 191.35152 | HK9: 47.481483 | HL9: 35.389364 | HM9: 44.721911 | HN9: 38.058074 | HO9: 40.597475 | HP9: 30.790912 | HQ9: 30.754455 | HR9: 72.949564 | HS9: 2243.5393 | HT9: 240.60824 | HU9: 226.25558 | HV9: 216.5692 | HW9: 234.64194 | HX9: 38.385213 | HY9: 70.848039 | HZ9: 38.443598 | IA9: 54.642988 | IB9: 34.954629 | IC9: 36.093909 | ID9: 79.62966 | IE9: 2544.2091 | IF9: 338.91146 | IG9: 240.75834 | IH9: 224.85941 | II9: 48.76747 | IJ9: 32.705127 | IK9: 38.719655 | IL9: 30.36597 | IM9: 39.038142 | IN9: 36.286229 | IO9: 36.818506 | IP9: 79.294175
A10: 114 | B10: Taxes on goods & services | C10: 16183.937 | D10: 14084.754 | E10: 15644.203 | F10: 15310.174 | G10: 14993.476 | H10: 15445.344 | I10: 15257.454 | J10: 15976.227 | K10: 17016.026 | L10: 16766.3 | M10: 16835.26 | N10: 18212.544 | O10: 18017.644 | P10: 15551.187 | Q10: 16308.062 | R10: 18499.567 | S10: 16939.194 | T10: 18172.272 | U10: 17604.087 | V10: 18549.507 | W10: 19164.271 | X10: 18763.824 | Y10: 19710.247 | Z10: 20447.493 | AA10: 18671.723 | AB10: 16820.075 | AC10: 18376.662 | AD10: 18040.051 | AE10: 17586.064 | AF10: 18134.237 | AG10: 18688.076 | AH10: 18903.291 | AI10: 19757.649 | AJ10: 20000.608 | AK10: 19010.89 | AL10: 18270.422 | AM10: 16197.849 | AN10: 13817.794 | AO10: 16172.906 | AP10: 16035.819 | AQ10: 15910.298 | AR10: 16275.396 | AS10: 16942.423 | AT10: 16945.607 | AU10: 17932.471 | AV10: 19371.888 | AW10: 20697.985 | AX10: 21350.346 | AY10: 20942.094 | AZ10: 18127.012 | BA10: 21174.394 | BB10: 20470.77 | BC10: 20146.332 | BD10: 21167.55 | BE10: 20675.203 | BF10: 21148.118 | BG10: 22341.273 | BH10: 23977.696 | BI10: 23023.637 | BJ10: 27711.8 | BK10: 25196.366 | BL10: 21622.885 | BM10: 25199.006 | BN10: 23913.626 | BO10: 23356.696 | BP10: 24265.774 | BQ10: 24936.32 | BR10: 24907.786 | BS10: 24942.537 | BT10: 26372.194 | BU10: 25111.484 | BV10: 23702.046 | BW10: 27274.081 | BX10: 22930.371 | BY10: 25949.399 | BZ10: 26630.266 | CA10: 25271.451 | CB10: 25048.122 | CC10: 34401.45 | CD10: 25257.277 | CE10: 25786.507 | CF10: 25944.379 | CG10: 25497.582 | CH10: 27121.078 | CI10: 29917.423 | CJ10: 22508.533 | CK10: 25311.742 | CL10: 28404.864 | CM10: 27238.184 | CN10: 25742.609 | CO10: 26720.663 | CP10: 26611.055 | CQ10: 26783.432 | CR10: 26967.835 | CS10: 28070.042 | CT10: 41005.862 | CU10: 30207.136 | CV10: 25572.558 | CW10: 29829.52 | CX10: 27210.913 | CY10: 26614.594 | CZ10: 27353.327 | DA10: 26810.009 | DB10: 26990.33 | DC10: 27900.947 | DD10: 29291.555 | DE10: 30353.376 | DF10: 30917.55 | DG10: 32233.604 | DH10: 27566.274 | DI10: 30403.779 | DJ10: 29467.4 | DK10: 28095.754 | DL10: 28432.55 | DM10: 29327.878 | DN10: 29395.173 | DO10: 30562.775 | DP10: 29428.424 | DQ10: 30010.646 | DR10: 29961.099 | DS10: 32918.823 | DT10: 26594.567 | DU10: 32188.418 | DV10: 28712.548 | DW10: 29828.453 | DX10: 27811.356 | DY10: 29536.341 | DZ10: 27560.588 | EA10: 27784.264 | EB10: 29117.953 | EC10: 28869.532 | ED10: 30633.942 | EE10: 31637.234 | EF10: 26293.523 | EG10: 29906.618 | EH10: 29509.521 | EI10: 28065.48 | EJ10: 28258.601 | EK10: 28258.941 | EL10: 30629.432 | EM10: 32218.686 | EN10: 32936.203 | EO10: 45651.291 | EP10: 32967.617 | EQ10: 37223.911 | ER10: 31296.502 | ES10: 31124.572 | ET10: 36021.918 | EU10: 33398.137 | EV10: 32076.725 | EW10: 33370.837 | EX10: 36063.461 | EY10: 36482.137 | EZ10: 36174.841 | FA10: 35235.742 | FB10: 35822.939 | FC10: 38026.601 | FD10: 31256.645 | FE10: 31657.856 | FF10: 34098.374 | FG10: 31481.062 | FH10: 33937.628 | FI10: 32633.649 | FJ10: 36091.398 | FK10: 33410.046 | FL10: 33395.411 | FM10: 35395.853 | FN10: 34241.634 | FO10: 37260.56 | FP10: 29812.797 | FQ10: 30791.494 | FR10: 18438.79 | FS10: 12614.026 | FT10: 14320.344 | FU10: 29370.34 | FV10: 41262.27 | FW10: 34137.096 | FX10: 41470.419 | FY10: 39388.742 | FZ10: 37282.763 | GA10: 39444.981 | GB10: 35519.569 | GC10: 39040.851 | GD10: 38475.664 | GE10: 34232.25 | GF10: 34837.476 | GG10: 39804.037 | GH10: 42389.736 | GI10: 43932.509 | GJ10: 42677.912 | GK10: 43965.441 | GL10: 46692.921 | GM10: 44161.321 | GN10: 38205.871 | GO10: 41643.956 | GP10: 38011.014 | GQ10: 36875.549 | GR10: 38139.015 | GS10: 37593.282 | GT10: 40687.171 | GU10: 43303.782 | GV10: 42826.429 | GW10: 36583.629 | GX10: 40649.898 | GY10: 43025.262 | GZ10: 33007.752 | HA10: 40274.372 | HB10: 37793.144 | HC10: 36942.756 | HD10: 42333.139 | HE10: 40653.834 | HF10: 43164.719 | HG10: 47283.491 | HH10: 44309.303 | HI10: 40814.228 | HJ10: 46695.326 | HK10: 52150.946 | HL10: 43866.771 | HM10: 50831.358 | HN10: 52876.961 | HO10: 46254.458 | HP10: 52513.802 | HQ10: 51518.196 | HR10: 52826.262 | HS10: 59637.329 | HT10: 54986.481 | HU10: 54776.892 | HV10: 55692.701 | HW10: 58493.656 | HX10: 49730.33 | HY10: 52860.396 | HZ10: 52845.093 | IA10: 50323.39 | IB10: 55111.6 | IC10: 55844.376 | ID10: 59832.864 | IE10: 62291.825 | IF10: 62728.403 | IG10: 59741.326 | IH10: 62815.518 | II10: 64249.823 | IJ10: 55115.701 | IK10: 58535.067 | IL10: 61610.501 | IM10: 58893.973 | IN10: 65049.945 | IO10: 56434.781 | IP10: 66491.504
A11: 115 | B11: Taxes on international trade & transactions | C11: 815.1898 | D11: 657.92262 | E11: 762.77129 | F11: 699.72421 | G11: 831.90843 | H11: 775.36712 | I11: 789.22588 | J11: 1037.1562 | K11: 822.8702 | L11: 850.84596 | M11: 962.56284 | N11: 861.3492 | O11: 918.94947 | P11: 802.06958 | Q11: 1006.1817 | R11: 896.01963 | S11: 1010.1978 | T11: 903.66271 | U11: 995.25473 | V11: 1172.8955 | W11: 1030.7077 | X11: 1234.4394 | Y11: 1203.9517 | Z11: 1046.169 | AA11: 1243.1637 | AB11: 1168.8866 | AC11: 1159.8368 | AD11: 1229.7985 | AE11: 1284.1701 | AF11: 1310.6136 | AG11: 1362.0158 | AH11: 1438.2468 | AI11: 1648.3725 | AJ11: 1888.7864 | AK11: 1742.9889 | AL11: 1632.392 | AM11: 1449.8575 | AN11: 1223.4821 | AO11: 1607.3973 | AP11: 1180.9929 | AQ11: 1159.1104 | AR11: 1060.2783 | AS11: 1249.534 | AT11: 1281.9923 | AU11: 1367.7437 | AV11: 1430.5278 | AW11: 1448.8249 | AX11: 1421.0138 | AY11: 1437.1682 | AZ11: 1374.9137 | BA11: 1739.8057 | BB11: 1492.7301 | BC11: 1665.734 | BD11: 1740.5855 | BE11: 1801.5393 | BF11: 1975.1392 | BG11: 1953.0349 | BH11: 1910.3914 | BI11: 2076.6202 | BJ11: 1915.3298 | BK11: 1870.2648 | BL11: 1884.9347 | BM11: 2123.5551 | BN11: 1893.1871 | BO11: 2158.6069 | BP11: 2057.8332 | BQ11: 2177.356 | BR11: 2456.5379 | BS11: 2375.6126 | BT11: 2425.0449 | BU11: 2736.1207 | BV11: 2493.9725 | BW11: 2337.4573 | BX11: 2171.3953 | BY11: 2418.8234 | BZ11: 2239.7317 | CA11: 2698.1644 | CB11: 2535.0562 | CC11: 2827.4391 | CD11: 2950.3889 | CE11: 2501.8218 | CF11: 3068.3991 | CG11: 2744.9419 | CH11: 2635.317 | CI11: 2976.5722 | CJ11: 2390.4056 | CK11: 2814.5886 | CL11: 2996.2307 | CM11: 2806.3141 | CN11: 2900.9332 | CO11: 3405.5694 | CP11: 3470.0238 | CQ11: 3206.5042 | CR11: 3622.0516 | CS11: 3073.9716 | CT11: 3315.2289 | CU11: 3571.9884 | CV11: 3082.3518 | CW11: 3068.1917 | CX11: 2962.0034 | CY11: 2978.5484 | CZ11: 2675.5743 | DA11: 2989.0943 | DB11: 2905.6961 | DC11: 3121.2885 | DD11: 3370.6062 | DE11: 3085.861 | DF11: 2961.8375 | DG11: 3338.7 | DH11: 2950.0228 | DI11: 3886.817 | DJ11: 3271.6998 | DK11: 2902.5447 | DL11: 3166.5119 | DM11: 3467.7711 | DN11: 3327.2348 | DO11: 3596.4222 | DP11: 3487.719 | DQ11: 2894.7151 | DR11: 2679.2007 | DS11: 2973.6954 | DT11: 2696.9195 | DU11: 2831.9191 | DV11: 2326.6444 | DW11: 2571.1293 | DX11: 2494.7923 | DY11: 2372.0644 | DZ11: 2795.4362 | EA11: 2588.2771 | EB11: 2572.9386 | EC11: 2644.8693 | ED11: 2578.9287 | EE11: 2594.848 | EF11: 2028.966 | EG11: 2690.8141 | EH11: 2261.6832 | EI11: 2648.3242 | EJ11: 2695.8097 | EK11: 2725.1345 | EL11: 2999.1767 | EM11: 2921.4764 | EN11: 3068.0434 | EO11: 3105.5591 | EP11: 2610.3235 | EQ11: 3242.1563 | ER11: 2833.4612 | ES11: 3181.8223 | ET11: 3164.918 | EU11: 3219.9304 | EV11: 3586.8711 | EW11: 3808.0301 | EX11: 3944.06 | EY11: 3540.3404 | EZ11: 3963.7829 | FA11: 3443.376 | FB11: 2775.3474 | FC11: 3756.8448 | FD11: 3152.7336 | FE11: 3253.2157 | FF11: 3486.1209 | FG11: 3596.8643 | FH11: 3212.0044 | FI11: 3680.6079 | FJ11: 3784.2297 | FK11: 3861.186 | FL11: 4230.2995 | FM11: 3587.2637 | FN11: 3331.4226 | FO11: 4081.0819 | FP11: 3265.3035 | FQ11: 3904.7096 | FR11: 3268.0862 | FS11: 3184.1981 | FT11: 2876.717 | FU11: 3473.5582 | FV11: 3541.265 | FW11: 3992.4512 | FX11: 4405.0876 | FY11: 5101.064 | FZ11: 4628.3759 | GA11: 4971.4823 | GB11: 4810.845 | GC11: 6095.3296 | GD11: 5060.1802 | GE11: 5203.7772 | GF11: 4485.8887 | GG11: 4798.2239 | GH11: 5031.7348 | GI11: 5297.1703 | GJ11: 5309.9668 | GK11: 5580.5861 | GL11: 5390.941 | GM11: 5356.4618 | GN11: 4560.7252 | GO11: 5161.4046 | GP11: 4112.8362 | GQ11: 4658.3646 | GR11: 4290.5979 | GS11: 4901.6951 | GT11: 5531.5485 | GU11: 5326.3812 | GV11: 5342.7701 | GW11: 5125.0366 | GX11: 4666.4536 | GY11: 4901.4179 | GZ11: 3897.8513 | HA11: 4641.9443 | HB11: 4359.0018 | HC11: 5603.0923 | HD11: 5794.4383 | HE11: 5427.3939 | HF11: 5611.758 | HG11: 4690.6111 | HH11: 4722.1137 | HI11: 4421.7012 | HJ11: 4442.2307 | HK11: 5484.3108 | HL11: 4796.3623 | HM11: 5145.5705 | HN11: 5819.9319 | HO11: 5529.6497 | HP11: 6602.275 | HQ11: 6642.6346 | HR11: 6912.3257 | HS11: 7167.7978 | HT11: 8081.7771 | HU11: 7666.8529 | HV11: 7650.623 | HW11: 8676.5612 | HX11: 7096.9751 | HY11: 6881.991 | HZ11: 7255.6485 | IA11: 7337.3733 | IB11: 8074.1246 | IC11: 7490.5661 | ID11: 6794.2175 | IE11: 7666.4601 | IF11: 7926.2138 | IG11: 7407.8707 | IH11: 7613.714 | II11: 7650.2855 | IJ11: 7125.9948 | IK11: 9514.3212 | IL11: 8649.7194 | IM11: 10053.845 | IN11: 14267.693 | IO11: 11656.728 | IP11: 10660.433
A12: 116 | B12: Other taxes | C12: 61.049186 | D12: 14.957935 | E12: 20.427873 | F12: 8.4870441 | G12: 28.107153 | H12: 36.730597 | I12: 6.579313 | J12: 21.449446 | K12: 9.4120257 | L12: 62.095273 | M12: 9.9450313 | N12: 29.111772 | O12: 9.4068321 | P12: 18.925426 | Q12: 11.336223 | R12: 14.887687 | S12: 832.19912 | T12: 20.72426 | U12: 49.096428 | V12: 128.58479 | W12: 202.54582 | X12: 206.4426 | Y12: 74.237446 | Z12: -14.392315 | AA12: 23.040444 | AB12: 39.487072 | AC12: 28.354396 | AD12: 195.43382 | AE12: -5.4592679 | AF12: 31.82627 | AG12: 53.841944 | AH12: -12.011509 | AI12: 46.780359 | AJ12: 67.1804 | AK12: 232.03333 | AL12: -1750.4225 | AM12: 73.920449 | AN12: 40.533461 | AO12: 60.314762 | AP12: 21.9084 | AQ12: -1172.3588 | AR12: 152.95782 | AS12: 46.507091 | AT12: 46.955713 | AU12: -308.11155 | AV12: -288.33012 | AW12: 59.066387 | AX12: -72.158377 | AY12: -139.9436 | AZ12: 46.899984 | BA12: 40.33043 | BB12: 6.1592542 | BC12: 65.085024 | BD12: 28.573985 | BE12: 95.391555 | BF12: 60.260965 | BG12: 249.8669 | BH12: 38.6208 | BI12: 54.940076 | BJ12: -361.80034 | BK12: 31.566011 | BL12: 31.961476 | BM12: 197.48295 | BN12: 60.797838 | BO12: 101.33477 | BP12: -33.609777 | BQ12: -500.1024 | BR12: 252.896 | BS12: 506.84325 | BT12: -359.45497 | BU12: 39.624747 | BV12: -4.5695781 | BW12: -98.725994 | BX12: -607.6229 | BY12: -32.734459 | BZ12: -63.247479 | CA12: -83.08638 | CB12: -42.242859 | CC12: -52.275592 | CD12: 12.498633 | CE12: -85.42647 | CF12: -54.447034 | CG12: 67.417642 | CH12: 559.57358 | CI12: 39.84624 | CJ12: -77.790663 | CK12: -508.09398 | CL12: 27.787667 | CM12: 110.86988 | CN12: 34.870109 | CO12: 63.092283 | CP12: 132.57214 | CQ12: 26.446432 | CR12: 335.56095 | CS12: -113.60989 | CT12: 507.63968 | CU12: 95.549696 | CV12: 18.323494 | CW12: 41.89873 | CX12: -68.639853 | CY12: 39.826836 | CZ12: -104.93033 | DA12: 8.1125419 | DB12: 155.27692 | DC12: 11.463611 | DD12: -31.635505 | DE12: -20.344267 | DF12: -185.88853 | DG12: -488.8922 | DH12: 12.471668 | DI12: -63.435749 | DJ12: -23.442266 | DK12: 151.82866 | DL12: 52.04323 | DM12: -106.68996 | DN12: 120.19683 | DO12: -14.236443 | DP12: 23.105956 | DQ12: -74.773814 | DR12: -78.577184 | DS12: 0.00229917 | DT12: -0.00210272 | DU12: 0.00379331 | DV12: 0.00611348 | DW12: 0.00074478 | DX12: 0.89732527 | DY12: -0.00199202 | DZ12: 0.00066668 | EA12: 0.0041112 | EB12: 0.01144423 | EC12: 0.00312769 | ED12: 0.00514003 | EE12: 0.00162364 | EF12: -0.00163858 | EG12: -0.04647798 | EH12: 0.00142762 | EI12: 0.00348062 | EJ12: 0.01064097 | EK12: 0.00413559 | EL12: 0.00069195 | EM12: 0.00175891 | EN12: -0.00095925 | EO12: 0.02335045 | EP12: 0.00203918 | EQ12: 0.0098875 | ER12: 0.00251425 | ES12: 0.07215693 | ET12: -0.08999277 | EU12: -0.00187501 | EV12: -0.00449585 | EW12: 0.34373823 | EX12: 0.0070175 | EY12: 0.0043887 | EZ12: 0.02970284 | FA12: 0.00792324 | FB12: -0.00443893 | FC12: 0.04822968 | FD12: -0.07721042 | FE12: 0.00262484 | FF12: 0.06944534 | FG12: 0.00408904 | FH12: -0.00158344 | FI12: 0.00390574 | FJ12: 0.00353952 | FK12: 0.01536407 | FL12: 0.02640229 | FM12: -0.03122576 | FN12: -0.01312927 | FO12: 0.00632518 | FP12: 0.0023109 | FQ12: 0.00439303 | FR12: 0.00666677 | FS12: 0.00568397 | FT12: 0.03104132 | FU12: 0.006074 | FV12: 0.00229381 | FW12: -8.093179 | FX12: 0.04497963 | FY12: -0.01520956 | FZ12: 0.01329466 | GA12: 0.01552759 | GB12: 0.02963282 | GC12: -0.02621006 | GD12: 0.02850309 | GE12: 0.02124294 | GF12: 0.01044939 | GG12: -0.01466967 | GH12: -0.00494893 | GI12: 0.01120291 | GJ12: 0.00901087 | GK12: -0.00026414 | GL12: 0.19305617 | GM12: 0.01395614 | GN12: 0.03854999 | GO12: -0.01319944 | GP12: 0.03801439 | GQ12: 0.12421118 | GR12: 0.21055454 | GS12: 2.7350396 | GT12: -3.1043253 | GU12: 0.51259234 | GV12: -0.30849355 | GW12: 0.00668733 | GX12: 0.17837776 | GY12: 0.00611734 | GZ12: -0.07402393 | HA12: -0.02583092 | HB12: -0.00193944 | HC12: 0.04311091 | HD12: -0.01769993 | HE12: -0.0205296 | HF12: -0.06313437 | HG12: -0.06854051 | HH12: 0.04974952 | HI12: 0.01779273 | HJ12: -0.00060694 | HK12: -0.01545217 | HL12: 0.00577251 | HM12: 0.00203625 | HN12: -0.00620616 | HO12: -0.00455347 | HP12: -0.00580067 | HQ12: 0.00358798 | HR12: 0.05308182 | HS12: -5.02e-05 | HT12: 0.0070249 | HU12: 0.00121781 | HV12: -0.00026469 | HW12: 0.01330805 | HX12: -0.01221879 | HY12: 0.00066949 | HZ12: -0.00080333 | IA12: 0.00395944 | IB12: -0.0124143 | IC12: 0.02821117 | ID12: -0.000299 | IE12: -0.00417616 | IF12: -0.03185612 | IG12: 0.00314806 | IH12: -0.12953038 | II12: 0.00249581 | IJ12: 0.0036516 | IK12: 0.00769966 | IL12: 0.02961427 | IM12: 0.0086304 | IN12: 0.01225805 | IO12: 0.0172513 | IP12: 0.00636269
A13: 12 | B13: Social contributions | C13: 9425.6732 | D13: 10233.841 | E13: 10243.013 | F13: 11763.19 | G13: 9024.3957 | H13: 11155.133 | I13: 10847.052 | J13: 10688.324 | K13: 12076.501 | L13: 11657.334 | M13: 11833.902 | N13: 19434.493 | O13: 10118.775 | P13: 12165.553 | Q13: 12205.298 | R13: 11992.679 | S13: 11515.558 | T13: 12885.363 | U13: 12477.316 | V13: 12236.946 | W13: 13532.628 | X13: 13025.527 | Y13: 13159.072 | Z13: 22426.969 | AA13: 12523.517 | AB13: 13073.415 | AC13: 14049.984 | AD13: 14184.556 | AE13: 14240.7 | AF13: 14547.316 | AG13: 14987.362 | AH13: 14813.035 | AI13: 15134.448 | AJ13: 15353.506 | AK13: 16380.853 | AL13: 22920.263 | AM13: 14882.581 | AN13: 14765.499 | AO13: 15878.277 | AP13: 15981.233 | AQ13: 16099.138 | AR13: 15167.003 | AS13: 16931.924 | AT13: 16228.458 | AU13: 15233.652 | AV13: 17707.508 | AW13: 19180.687 | AX13: 26733.746 | AY13: 18058.189 | AZ13: 16706.232 | BA13: 17979.677 | BB13: 18834.551 | BC13: 18889.721 | BD13: 17602.206 | BE13: 20034.444 | BF13: 19372.937 | BG13: 19378.23 | BH13: 19848.921 | BI13: 20487.261 | BJ13: 33534.174 | BK13: 20970.41 | BL13: 19390.206 | BM13: 20316.381 | BN13: 21900.367 | BO13: 21236.245 | BP13: 21816.533 | BQ13: 21156.84 | BR13: 22905.596 | BS13: 23409.592 | BT13: 23079.504 | BU13: 23035.619 | BV13: 37346.319 | BW13: 24340.068 | BX13: 21386.307 | BY13: 24660.866 | BZ13: 24088.03 | CA13: 24252.802 | CB13: 24111.109 | CC13: 24896.826 | CD13: 24975.967 | CE13: 24124.469 | CF13: 24792.009 | CG13: 26458.087 | CH13: 37794.619 | CI13: 25595.117 | CJ13: 24987.559 | CK13: 25263.089 | CL13: 26002.896 | CM13: 26502.277 | CN13: 25809.978 | CO13: 26451.001 | CP13: 26664.458 | CQ13: 26714.537 | CR13: 27255.935 | CS13: 29067.278 | CT13: 42012.72 | CU13: 28506.541 | CV13: 27089.987 | CW13: 26982.474 | CX13: 27485.728 | CY13: 28107.087 | CZ13: 28024.897 | DA13: 28310.644 | DB13: 29084.48 | DC13: 28726.351 | DD13: 28936.011 | DE13: 31648.173 | DF13: 43066.813 | DG13: 29259.184 | DH13: 28263.133 | DI13: 28156.019 | DJ13: 29254.546 | DK13: 29110.113 | DL13: 28509.624 | DM13: 29142.992 | DN13: 28661.634 | DO13: 28578.325 | DP13: 29088.055 | DQ13: 30492.025 | DR13: 43858.168 | DS13: 29311.237 | DT13: 29302.932 | DU13: 30506.727 | DV13: 30565.069 | DW13: 29780.453 | DX13: 30225.02 | DY13: 29770.326 | DZ13: 29748.346 | EA13: 30212.915 | EB13: 30344.321 | EC13: 32157.699 | ED13: 47546.314 | EE13: 30030.946 | EF13: 29790.103 | EG13: 31004.514 | EH13: 31885.611 | EI13: 30945.829 | EJ13: 31690.108 | EK13: 32203.344 | EL13: 32202.914 | EM13: 32546.916 | EN13: 33251.997 | EO13: 35619.256 | EP13: 51845.923 | EQ13: 31711.115 | ER13: 31560.949 | ES13: 32631.867 | ET13: 33757.765 | EU13: 32686.779 | EV13: 33260.972 | EW13: 34014.214 | EX13: 33904.762 | EY13: 34247.995 | EZ13: 34945.282 | FA13: 36830.6 | FB13: 54758.519 | FC13: 33073.365 | FD13: 33266.226 | FE13: 34559.98 | FF13: 35552.309 | FG13: 34398.677 | FH13: 35262.12 | FI13: 35721.757 | FJ13: 35888.264 | FK13: 36300.353 | FL13: 36556.317 | FM13: 38684.33 | FN13: 57522.37 | FO13: 35694.537 | FP13: 35288.995 | FQ13: 37540.932 | FR13: 25072.171 | FS13: 24349.262 | FT13: 24780.704 | FU13: 38241.606 | FV13: 38653.031 | FW13: 38781.658 | FX13: 42303.952 | FY13: 44192.025 | FZ13: 65185.638 | GA13: 38069.074 | GB13: 38697.589 | GC13: 39941.979 | GD13: 38898.813 | GE13: 37807.728 | GF13: 38500.007 | GG13: 42788.947 | GH13: 42816.635 | GI13: 43644.095 | GJ13: 43751.12 | GK13: 45874.215 | GL13: 68080 | GM13: 45099.797 | GN13: 44018.555 | GO13: 45550.368 | GP13: 45880.508 | GQ13: 46634.193 | GR13: 45901.319 | GS13: 47260.546 | GT13: 48007.972 | GU13: 48431.566 | GV13: 49980.622 | GW13: 49639.008 | GX13: 73044.146 | GY13: 51312.63 | GZ13: 48218.909 | HA13: 49240.549 | HB13: 50081.602 | HC13: 51455.155 | HD13: 50152.246 | HE13: 51962.031 | HF13: 51654.474 | HG13: 51975.876 | HH13: 52464.236 | HI13: 55408.615 | HJ13: 80336.464 | HK13: 57047.35 | HL13: 52450.252 | HM13: 55511.356 | HN13: 55006.59 | HO13: 53483.821 | HP13: 53875.884 | HQ13: 55064.357 | HR13: 57989.714 | HS13: 55134.957 | HT13: 56390.242 | HU13: 59703.382 | HV13: 86834.525 | HW13: 58637.444 | HX13: 58991.514 | HY13: 59213.902 | HZ13: 59909.576 | IA13: 60785.924 | IB13: 59838.575 | IC13: 60448.632 | ID13: 64410.531 | IE13: 61920.998 | IF13: 62713.56 | IG13: 64969.435 | IH13: 96708.407 | II13: 66305.942 | IJ13: 63875.415 | IK13: 64466.801 | IL13: 66220.572 | IM13: 66748.185 | IN13: 66708.919 | IO13: 67106.765 | IP13: 70916.779
A14: 13 | B14: Grants | C14: 10.85855 | D14: 7.1550727 | E14: 42.661 | F14: 7.8589549 | G14: 13.038595 | H14: 4.7156033 | I14: 11.279917 | J14: 10.913685 | K14: 509.43548 | L14: 12.127853 | M14: 16.078598 | N14: 18.373686 | O14: 15.622676 | P14: 12.491424 | Q14: 7.1998707 | R14: 420.84807 | S14: 18.635573 | T14: 11.460759 | U14: 11.078348 | V14: 11.60267 | W14: 14.144539 | X14: 10.058538 | Y14: 16.117839 | Z14: 35.987306 | AA14: 11.516047 | AB14: 8.3264314 | AC14: 24.160827 | AD14: 6.6844854 | AE14: 11.614043 | AF14: 10.144194 | AG14: 7.6427861 | AH14: 15.360066 | AI14: 319.71916 | AJ14: 12.975939 | AK14: 22.58818 | AL14: 22.71627 | AM14: 24.612861 | AN14: 6.0529252 | AO14: 12.512668 | AP14: 26.231186 | AQ14: 6.5822542 | AR14: 22.864203 | AS14: 13.881367 | AT14: 18.306115 | AU14: 9.1903466 | AV14: 7.4276829 | AW14: 17.197598 | AX14: 20.085086 | AY14: 14.554472 | AZ14: 11.571251 | BA14: 27.621777 | BB14: 32.178922 | BC14: 21.572718 | BD14: 11.859954 | BE14: 20.752202 | BF14: 15.74047 | BG14: 19.580637 | BH14: 21.852533 | BI14: 41.295631 | BJ14: 54.059921 | BK14: 49.305755 | BL14: 7.5777626 | BM14: 12.113402 | BN14: 27.18694 | BO14: 20.618921 | BP14: 20.461473 | BQ14: 36.445692 | BR14: 22.502909 | BS14: 46.340294 | BT14: 59.033652 | BU14: 65.671918 | BV14: 106.27719 | BW14: 39.489879 | BX14: 65.411663 | BY14: 23.049774 | BZ14: 60.479301 | CA14: 68.62639 | CB14: 39.015831 | CC14: 71.46526 | CD14: 52.280619 | CE14: 26.307862 | CF14: 42.13493 | CG14: 42.422445 | CH14: 116.18299 | CI14: 39.801382 | CJ14: 25.7992 | CK14: 18.514767 | CL14: 38.290597 | CM14: 29.754224 | CN14: 36.874286 | CO14: 40.148988 | CP14: 54.41557 | CQ14: 34.409097 | CR14: 29.753925 | CS14: 33.900311 | CT14: 35.8836 | CU14: 44.893435 | CV14: 37.260402 | CW14: 47.931317 | CX14: 52.948195 | CY14: 43.123179 | CZ14: 25.783137 | DA14: 40.929486 | DB14: 53.029695 | DC14: 40.206737 | DD14: 50.102328 | DE14: 34.541302 | DF14: 41.957072 | DG14: 20.307585 | DH14: 27.336737 | DI14: 87.306166 | DJ14: 25.648612 | DK14: 38.844493 | DL14: 41.007594 | DM14: 46.324497 | DN14: 48.751096 | DO14: 60.960895 | DP14: 40.664479 | DQ14: 53.268363 | DR14: 68.216228 | DS14: 34.05476 | DT14: 28.716357 | DU14: 47.412789 | DV14: 38.947168 | DW14: 50.204596 | DX14: 45.408104 | DY14: 74.198273 | DZ14: 68.27772 | EA14: 46.625469 | EB14: 20.46568 | EC14: 59.845075 | ED14: 127.46909 | EE14: 62.209006 | EF14: 60.951918 | EG14: 127.55292 | EH14: 173.74121 | EI14: 78.128131 | EJ14: 72.98423 | EK14: 80.910486 | EL14: 98.83175 | EM14: 126.48003 | EN14: 98.278034 | EO14: 97.543213 | EP14: 140.91113 | EQ14: 85.512266 | ER14: 91.234317 | ES14: 79.069709 | ET14: 99.639425 | EU14: 66.633922 | EV14: 59.145229 | EW14: 74.674448 | EX14: 67.382385 | EY14: 64.389974 | EZ14: 86.509686 | FA14: 62.300032 | FB14: 80.026022 | FC14: 70.724364 | FD14: 73.65449 | FE14: 76.385618 | FF14: 75.773236 | FG14: 166.43558 | FH14: 70.714042 | FI14: 110.21265 | FJ14: 88.40538 | FK14: 73.486003 | FL14: 81.123002 | FM14: 77.074463 | FN14: 90.901815 | FO14: 59.049335 | FP14: 34.086405 | FQ14: 49.419356 | FR14: 50.360196 | FS14: 42.435722 | FT14: 35.324311 | FU14: 39.045359 | FV14: 42.777429 | FW14: 39.661068 | FX14: 13.334983 | FY14: 27.008542 | FZ14: 247.38483 | GA14: 22.030468 | GB14: 25.698284 | GC14: 23.766959 | GD14: 30.055986 | GE14: 36.342564 | GF14: 110.09695 | GG14: 47.149275 | GH14: 56.852934 | GI14: 60.869535 | GJ14: 69.641708 | GK14: 82.54006 | GL14: 51.783428 | GM14: 29.80294 | GN14: 15.365088 | GO14: 8.8794136 | GP14: 121.26835 | GQ14: 63.263087 | GR14: 78.833244 | GS14: 98.978566 | GT14: 100.08416 | GU14: 87.736663 | GV14: 100.64058 | GW14: 80.121022 | GX14: 166.1836 | GY14: 157.3229 | GZ14: 110.86426 | HA14: 162.95215 | HB14: 122.25565 | HC14: 195.9104 | HD14: 129.85611 | HE14: 117.41717 | HF14: 122.92686 | HG14: 136.05597 | HH14: 149.51303 | HI14: 167.02656 | HJ14: 194.68031 | HK14: 192.09665 | HL14: 109.40839 | HM14: 10.429333 | HN14: 7.1371092 | HO14: 11.598269 | HP14: 3.7186703 | HQ14: 14.954797 | HR14: 76.219668 | HS14: 21.119205 | HT14: 25.878606 | HU14: 21.469478 | HV14: 37.431133 | HW14: 26.886108 | HX14: 19.640282 | HY14: 8.7088189 | HZ14: 42.261598 | IA14: 13.276495 | IB14: 26.682156 | IC14: 103.38206 | ID14: 35.246336 | IE14: 28.018515 | IF14: 29.734226 | IG14: 32.001802 | IH14: 57.200673 | II14: 35.898113 | IJ14: 24.408384 | IK14: 142.14544 | IL14: 77.353369 | IM14: 69.667846 | IN14: 97.442423 | IO14: 39.75651 | IP14: 40.684207
A15: 14 | B15: Other revenue | C15: 10278.077 | D15: 9246.7003 | E15: 10917.008 | F15: 8724.3671 | G15: 13678.183 | H15: 6214.8366 | I15: 11762.053 | J15: 11013.52 | K15: 12366.179 | L15: 10394.124 | M15: 10649.098 | N15: 11402.257 | O15: 12055.695 | P15: 8862.8974 | Q15: 10248.439 | R15: 10037.138 | S15: 7516.4553 | T15: 9093.0638 | U15: 10113.638 | V15: 11958.532 | W15: 12989.649 | X15: 12620.819 | Y15: 12059.406 | Z15: 21578.48 | AA15: 16825.779 | AB15: 11676.875 | AC15: 14680.805 | AD15: 14009.547 | AE15: 13522.013 | AF15: 17413.958 | AG15: 19329.024 | AH15: 19030.808 | AI15: 15596.465 | AJ15: 25753.58 | AK15: 15684.356 | AL15: 9774.0603 | AM15: 9180.454 | AN15: 10719.159 | AO15: 8667.7293 | AP15: 8538.1149 | AQ15: 11449.982 | AR15: 11797.398 | AS15: 10875.839 | AT15: 17435.803 | AU15: 5288.178 | AV15: 13724.085 | AW15: 19503.519 | AX15: 18246.918 | AY15: 11904.298 | AZ15: 15299.483 | BA15: 16086.078 | BB15: 19374.754 | BC15: 17766.557 | BD15: 16819.62 | BE15: 14718.528 | BF15: 18314.942 | BG15: 21511.418 | BH15: 18560.569 | BI15: 19278.494 | BJ15: 22410.151 | BK15: 18138.881 | BL15: 17391.912 | BM15: 17637.186 | BN15: 20362.075 | BO15: 18365.542 | BP15: 14965.791 | BQ15: 16819.35 | BR15: 13936.653 | BS15: 20364.274 | BT15: 18989.253 | BU15: 17836.162 | BV15: 16427.136 | BW15: 16121.674 | BX15: 20742.361 | BY15: 14828.149 | BZ15: 21535.371 | CA15: 22757.303 | CB15: 19674.414 | CC15: 34892.04 | CD15: 26960.937 | CE15: 26165.359 | CF15: 22889.56 | CG15: 15661.335 | CH15: 31538.117 | CI15: 23211.193 | CJ15: 16735.393 | CK15: 16570.515 | CL15: 20535.995 | CM15: 18048.938 | CN15: 24329.138 | CO15: 25249.272 | CP15: 20124.076 | CQ15: 20965.63 | CR15: 25474.781 | CS15: 35654.326 | CT15: 24068.241 | CU15: 24017.602 | CV15: 22714.439 | CW15: 25141.283 | CX15: 30396.402 | CY15: 18977.22 | CZ15: 15948.532 | DA15: 16932.673 | DB15: 19933.525 | DC15: 17190.705 | DD15: 20149.07 | DE15: 19762.353 | DF15: 22603.54 | DG15: 24512.609 | DH15: 20167.891 | DI15: 24474.27 | DJ15: 53736.474 | DK15: 29211.678 | DL15: 23778.289 | DM15: 29706.351 | DN15: 30786.595 | DO15: 23493.176 | DP15: 39499.384 | DQ15: 33569.284 | DR15: 35138.676 | DS15: 38920.928 | DT15: 31141.127 | DU15: 57844.996 | DV15: 24860.867 | DW15: 24950.291 | DX15: 42524.97 | DY15: 35309.657 | DZ15: 24362.472 | EA15: 25883.081 | EB15: 44167.719 | EC15: 25324.19 | ED15: 26571.804 | EE15: 29027.263 | EF15: 23848.91 | EG15: 26444.991 | EH15: 26950.096 | EI15: 22285.565 | EJ15: 23344.625 | EK15: 21685.035 | EL15: 27113.908 | EM15: 24960.85 | EN15: 28863.325 | EO15: 28737.074 | EP15: 22039.447 | EQ15: 32204.17 | ER15: 22365.513 | ES15: 22563.592 | ET15: 29715.356 | EU15: 29502.805 | EV15: 24201.649 | EW15: 36425.231 | EX15: 37212.184 | EY15: 30416.076 | EZ15: 45578.626 | FA15: 33033.613 | FB15: 26202.772 | FC15: 37713.161 | FD15: 22722.601 | FE15: 27292.859 | FF15: 34041.453 | FG15: 27758.559 | FH15: 24904.694 | FI15: 29966.24 | FJ15: 24471.58 | FK15: 30493.815 | FL15: 30518.213 | FM15: 28102.237 | FN15: 108797.1 | FO15: 35298.893 | FP15: 25210.569 | FQ15: 23051.725 | FR15: 23831.364 | FS15: 16465.09 | FT15: 14711.404 | FU15: 19319.703 | FV15: 19701.184 | FW15: 19618.706 | FX15: 25981.81 | FY15: 22793.678 | FZ15: 24977.166 | GA15: 36210.33 | GB15: 23082.143 | GC15: 28735.435 | GD15: 38716.45 | GE15: 34893.326 | GF15: 26537.74 | GG15: 37012.259 | GH15: 38730.415 | GI15: 30096.533 | GJ15: 42234.908 | GK15: 44410.777 | GL15: 46668.224 | GM15: 49751.702 | GN15: 49243.156 | GO15: 38878.048 | GP15: 61751.137 | GQ15: 54258.709 | GR15: 92024.24 | GS15: 62528.11 | GT15: 47667.951 | GU15: 46591.922 | GV15: 47768.706 | GW15: 39710.091 | GX15: 51173.238 | GY15: 58444.372 | GZ15: 37411.162 | HA15: 54153.003 | HB15: 51357.206 | HC15: 59540.266 | HD15: 43672.359 | HE15: 49594.154 | HF15: 44991.17 | HG15: 66343.705 | HH15: 52362.095 | HI15: 39960.904 | HJ15: 37665.866 | HK15: 50172.292 | HL15: 41589.646 | HM15: 51158.278 | HN15: 46451.687 | HO15: 56983.957 | HP15: 48600.885 | HQ15: 48221.606 | HR15: 44401.346 | HS15: 37755.423 | HT15: 54668.446 | HU15: 52763.187 | HV15: 68781.395 | HW15: 54625.799 | HX15: 45521.568 | HY15: 55581.804 | HZ15: 61123.159 | IA15: 52118.813 | IB15: 54033.288 | IC15: 54238.603 | ID15: 54986.036 | IE15: 48968.636 | IF15: 62342.236 | IG15: 52129.236 | IH15: 61373.786 | II15: 67096.077 | IJ15: 53443.787 | IK15: 54540.33 | IL15: 64873.031 | IM15: 64817.465 | IN15: 62828.659 | IO15: 60803.004 | IP15: 55744.885
A16: 1411 | B16: Interest 3/ | C16: 4451.2615 | D16: 6604.7118 | E16: 6894.4642 | F16: 4197.7241 | G16: 8882.6271 | H16: 3721.89 | I16: 7200.9222 | J16: 4979.9654 | K16: 8040.8553 | L16: 5821.5096 | M16: 8052.4322 | N16: 8626.876 | O16: 5943.2236 | P16: 6695.5785 | Q16: 6460.1838 | R16: 4562.3728 | S16: 3882.8753 | T16: 6580.4612 | U16: 5436.3159 | V16: 8181.4537 | W16: 9187.0625 | X16: 7622.6186 | Y16: 8765.0732 | Z16: 10525.238 | AA16: 10466.455 | AB16: 8109.7617 | AC16: 8398.1318 | AD16: 7399.2744 | AE16: 9012.2914 | AF16: 12710.222 | AG16: 12286.143 | AH16: 11125.339 | AI16: 9123.6494 | AJ16: 18647.289 | AK16: 12239.367 | AL16: 6385.2078 | AM16: 4269.5655 | AN16: 6435.5485 | AO16: 4924.0174 | AP16: 2576.883 | AQ16: 4074.5505 | AR16: 7670.0984 | AS16: 3987.114 | AT16: 5095.3599 | AU16: 3756.533 | AV16: 5787.9056 | AW16: 6838.4751 | AX16: 6949.1671 | AY16: 6274.1048 | AZ16: 10223.599 | BA16: 11492.587 | BB16: 9501.2566 | BC16: 11144.612 | BD16: 13730.654 | BE16: 8146.3771 | BF16: 8255.3873 | BG16: 11569.881 | BH16: 12929.749 | BI16: 13001.194 | BJ16: 15334.701 | BK16: 12004.362 | BL16: 12108.854 | BM16: 12318.948 | BN16: 11454.039 | BO16: 11302.239 | BP16: 8940.3509 | BQ16: 7198.1364 | BR16: 7949.6931 | BS16: 12902.896 | BT16: 12096.6 | BU16: 11334.814 | BV16: 11564.922 | BW16: 7916.894 | BX16: 11428.924 | BY16: 10089.492 | BZ16: 12756.288 | CA16: 15451.957 | CB16: 14308.906 | CC16: 13045.202 | CD16: 16359.049 | CE16: 17371.648 | CF16: 14145.565 | CG16: 10007.591 | CH16: 12972.687 | CI16: 12998.108 | CJ16: 11860.921 | CK16: 10752.112 | CL16: 10892.171 | CM16: 10277.151 | CN16: 12016.982 | CO16: 14281.511 | CP16: 9647.6391 | CQ16: 13225.759 | CR16: 16077.926 | CS16: 13947.803 | CT16: 12411.383 | CU16: 14107.459 | CV16: 15237.047 | CW16: 17015.555 | CX16: 18509.826 | CY16: 12921.36 | CZ16: 8633.9887 | DA16: 7528.1201 | DB16: 7606.1328 | DC16: 10444.453 | DD16: 10409.334 | DE16: 13732.25 | DF16: 16147.164 | DG16: 16691.373 | DH16: 16956.077 | DI16: 18535.362 | DJ16: 46014.385 | DK16: 19867.963 | DL16: 15955.421 | DM16: 19282.379 | DN16: 20378.142 | DO16: 17098.45 | DP16: 30664.304 | DQ16: 27172.819 | DR16: 23622.42 | DS16: 20361.166 | DT16: 26230.917 | DU16: 51542.266 | DV16: 18924.661 | DW16: 19877.909 | DX16: 32299.345 | DY16: 25024.495 | DZ16: 17946.035 | EA16: 19208.278 | EB16: 15750.085 | EC16: 17534.964 | ED16: 19029.865 | EE16: 19060.003 | EF16: 18615.735 | EG16: 17103.665 | EH16: 17003.845 | EI16: 14654.009 | EJ16: 14794.047 | EK16: 12337.851 | EL16: 12889.447 | EM16: 16316.643 | EN16: 15645.445 | EO16: 14949.257 | EP16: 17277.276 | EQ16: 14656.382 | ER16: 15496.509 | ES16: 15444.567 | ET16: 15693.127 | EU16: 14601.873 | EV16: 16186.213 | EW16: 20589.531 | EX16: 21698.031 | EY16: 22168.752 | EZ16: 28755.5 | FA16: 17641.055 | FB16: 14751.905 | FC16: 25013.074 | FD16: 14744.623 | FE16: 16702.506 | FF16: 17479.426 | FG16: 15530.079 | FH16: 17022.921 | FI16: 13205.542 | FJ16: 16012.031 | FK16: 14599.087 | FL16: 12815.505 | FM16: 14309.746 | FN16: 15395.13 | FO16: 17863.2 | FP16: 14389.617 | FQ16: 14594.312 | FR16: 11652.178 | FS16: 8460.2451 | FT16: 8545.4627 | FU16: 9174.5587 | FV16: 10757.057 | FW16: 10669.934 | FX16: 12283.395 | FY16: 13056.471 | FZ16: 14022.936 | GA16: 19474.687 | GB16: 12354.492 | GC16: 15633.98 | GD16: 14436.143 | GE16: 14165.369 | GF16: 15701.604 | GG16: 15472.798 | GH16: 20005.884 | GI16: 17927.221 | GJ16: 19565.369 | GK16: 22344.99 | GL16: 21716.325 | GM16: 24199.723 | GN16: 22439.246 | GO16: 23711.656 | GP16: 31740.965 | GQ16: 28001.535 | GR16: 26212.09 | GS16: 28569.866 | GT16: 18975.088 | GU16: 19251.689 | GV16: 20434.081 | GW16: 25729.699 | GX16: 28901.933 | GY16: 26787.762 | GZ16: 26932.941 | HA16: 28146.18 | HB16: 27963.351 | HC16: 28949.343 | HD16: 24167.914 | HE16: 24212.316 | HF16: 24927.272 | HG16: 23929.331 | HH16: 23999.335 | HI16: 22105.244 | HJ16: 25105.409 | HK16: 24667.888 | HL16: 23632.614 | HM16: 28111.938 | HN16: 21543.493 | HO16: 24863.456 | HP16: 26341.702 | HQ16: 22933.506 | HR16: 24664.939 | HS16: 20481.061 | HT16: 21434.966 | HU16: 24669.494 | HV16: 25974.259 | HW16: 25448.244 | HX16: 26625.39 | HY16: 33666.284 | HZ16: 30069.151 | IA16: 27558.31 | IB16: 28877.6 | IC16: 28169.983 | ID16: 31951.507 | IE16: 29423.242 | IF16: 30850.681 | IG16: 31127.914 | IH16: 28631.958 | II16: 41728.664 | IJ16: 29786.361 | IK16: 32156.396 | IL16: 33797.299 | IM16: 38207.394 | IN16: 37773.888 | IO16: 27698.068 | IP16: 26867.623
