Workbook

Sheet Summary
A1: General Government Finance Statistics
A3: Quarterly Time Series
A4: 1.1. | B4: =MID('1.1'!$A$1,13,98)&" - Current Prices" -> Statement of Government Operations by level of government - Brazil - 2st Quarter 2026 - Current Prices
A5: 1.1.a. | B5: =MID('1.1.a'!$A$1,15,98)&" - GDP %" -> Statement of Government Operations by level of government - Brazil - 2st Quarter 2026 - GDP %
A6: 1.2. | B6: =MID('1.2'!$A$1,13,98)&" - Current Prices" -> General Government Statement of Government Operations - Brazil - Time Series - Quarterly - Current Prices
A7: 1.2.a. | B7: =MID('1.2.a'!$A$1,15,98)&" - GDP %" -> neral Government Statement of Government Operations - Brazil - Time Series - Quarterly - GDP %
A8: 1.3. | B8: =MID('1.3'!$A$1,13,98)&" - Current Prices" -> General Government Revenue - Brazil - Time Series - Quarterly - Current Prices
A9: 1.3.a. | B9: =MID('1.3.a'!$A$1,13,98)&" - GDP %" -> . General Government Revenue - Brazil - Time Series - Quarterly - GDP %
A10: 1.4. | B10: =MID('1.4'!$A$1,13,98)&" - Current Prices" -> General Government Expenditure - Brazil - Time Series - Quarterly - Current Prices
A11: 1.4.a. | B11: =MID('1.4.a'!$A$1,13,98)&" - GDP %" -> General Government Expenditure - Brazil - Time Series - Quarterly - GDP %
A12: 1.5. | B12: =MID('1.5'!$A$1,13,98)&" - Current Prices" -> Statement of Sources & Uses of Cash by level of government - Brazil - 2st Quarter 2026 - Current Prices
A13: 1.5.a. | B13: =MID('1.5.a'!$A$1,15,98)&" - GDP %" -> Statement of Sources & Uses of Cash by level of government - Brazil - 2st Quarter 2026 - GDP %
A14: 1.6. | B14: =MID('1.6'!$A$1,13,98)&" - Current Prices" -> General Government Statement of Sources & Uses of Cash - Brazil - Time Series - Quarterly - Current Prices
A15: 1.6.a. | B15: =MID('1.6.a'!$A$1,15,98)&" - GDP %" -> neral Government Statement of Sources & Uses of Cash - Brazil - Time Series - Quarterly - GDP %
A16: Yearly Time Series
A17: 2.1. | B17: =MID('2.1'!$A$1,13,98)&" - Current Prices" -> Statement of Government Operations by level of government - Brazil - Yearly - Current Prices
A18: 2.1.a. | B18: =MID('2.1.a'!$A$1,15,98)&" - GDP %" -> Statement of Government Operations by level of government - Brazil - Yearly - GDP %
A19: 2.2. | B19: =MID('2.2'!$A$1,13,98)&" - Current Prices" -> General Government Revenue by level of government - Brazil - Yearly - Current Prices
A20: 2.2.a. | B20: =MID('2.2.a'!$A$1,15,98)&" - GDP %" -> General Government Revenue by level of government - Brazil - Yearly - GDP %
A21: 2.3. | B21: =MID('2.3'!$A$1,13,98)&" - Current Prices" -> General Government expediture by level of government - Brazil - Yearly - Current Prices
A22: 2.3.a. | B22: =MID('2.3.a'!$A$1,15,98)&" - GDP %" -> General Government expediture by level of government - Brazil - Yearly - GDP %
A23: 2.4. | B23: =MID('2.4'!$A$1,13,98)&" - Current Prices" -> Statement of Sources & Uses of Cash by level of government - Brazil - Yearly - Current Prices
A24: 2.4.a. | B24: =MID('2.4.a'!$A$1,15,98)&" - GDP %" -> Statement of Sources & Uses of Cash by level of government - Brazil - Yearly - GDP %
A25: 3.1. | B25: =MID('3.1'!$A$1,13,100)&" - Current Prices" -> General Government Statement of Government Operations - Brazil - Time Series - Yearly - Current Prices
A26: 31.a. | B26: =MID('3.1.a'!$A$1,15,100)&" - GDP %" -> General Government Statement of Government Operations - Brazil - Time Series - Yearly - GDP %
A27: 3.2. | B27: =MID('3.2'!$A$1,13,100)&" - Current Prices" -> General Government Revenue - Brazil - Time Series - Yearly - Current Prices
A28: 3.2.a. | B28: =MID('3.2.a'!$A$1,15,100)&" - GDP %" -> General Government Revenue - Brazil - Time Series - Yearly - GDP %
A29: 3.3. | B29: =MID('3.3'!$A$1,13,100)&" - Current Prices" -> General Government Expenditure - Brazil - Time Series - Yearly - Current Prices
A30: 3.3.a. | B30: =MID('3.3.a'!$A$1,15,100)&" - GDP %" -> General Government Expenditure - Brazil - Time Series - Yearly - GDP %
A31: 3.4. | B31: =MID('3.4'!$A$1,13,100)&" - Current Prices" -> General Government Statement of Sources & Uses of Cash - Brazil - Time Series - Yearly - Current Prices
A32: 3.4.a. | B32: =MID('3.4.a'!$A$1,13,100)&" - GDP %" -> General Government Statement of Sources & Uses of Cash - Brazil - Time Series - Yearly - GDP %
A33: Glossary
A34: Metadata

Sheet 1.1
A1: Table 1.1. Statement of Government Operations by level of government - Brazil - 2st Quarter 2026
A2: R$ Million - Current Prices
A4: Statement of Government Operations - General Government | C4: 2st Quarter 2026
C5: Central Government | G5: State governments 3/ | H5: Municipalities 4/ | I5: Consolidation Column 2/ | J5: General Government 5/
C6: Budgetary 1/ | D6: Extrabudgetary | E6: Consolidation Column 2/ | F6: Central Government
A7: 1 | B7: Revenue 6/ | C7: 936190.91 | D7: 0 | E7: 0 | F7: 936190.91 | G7: 447482.41 | H7: 397083.59 | I7: -404422.09 | J7: 1376334.8
A8: 11 | B8: Taxes | C8: 543749.62 | D8: 0 | E8: 0 | F8: 543749.62 | G8: 264263.57 | H8: 74781.821 | I8: 0 | J8: 882795.01
A9: 111 | B9: Taxes on income, profits, and capital gains | C9: 315201.45 | D9: 0 | E9: 0 | F9: 315201.45 | G9: 0 | H9: 0 | I9: 0 | J9: 315201.45
A10: 112 | B10: Taxes on payroll & workforce | C10: 9916.7531 | D10: 0 | E10: 0 | F10: 9916.7531 | G10: 0 | H10: 0 | I10: 0 | J10: 9916.7531
A11: 113 | B11: Taxes on property | C11: 105.69034 | D11: 0 | E11: 0 | F11: 105.69034 | G11: 26828.529 | H11: 26725.652 | I11: 0 | J11: 53659.871
A12: 114 | B12: Taxes on goods & services | C12: 185554.42 | D12: 0 | E12: 0 | F12: 185554.42 | G12: 237435.04 | H12: 48056.169 | I12: 0 | J12: 471045.63
A13: 115 | B13: Taxes on international trade & transactions | C13: 32971.257 | D13: 0 | E13: 0 | F13: 32971.257 | G13: 0 | H13: 0 | I13: 0 | J13: 32971.257
A14: 116 | B14: Other taxes | C14: 0.05050272 | D14: 0 | E14: 0 | F14: 0.05050272 | G14: 0 | H14: 0 | I14: 0 | J14: 0.05050272
A15: 12 | B15: Social contributions | C15: 199677.68 | D15: 0 | E15: 0 | F15: 199677.68 | G15: 31677.838 | H15: 18152.134 | I15: 0 | J15: 249507.65
A16: 13 | B16: Grants | C16: 244.46364 | D16: 0 | E16: 0 | F16: 244.46364 | G16: 107740.39 | H16: 271797.85 | I16: -379761.8 | J16: 20.891278
A17: 14 | B17: Other revenue | C17: 192519.15 | D17: 0 | E17: 0 | F17: 192519.15 | G17: 43800.618 | H17: 32351.787 | I17: -24660.289 | J17: 244011.27
A18: 1411 | B18: Interest 7/ | C18: 109778.58 | D18: 0 | E18: 0 | F18: 109778.58 | G18: 7413.4556 | H18: 13432.543 | I18: -24660.289 | J18: 105964.29
A19: 14x | B19: Other | C19: 82740.574 | D19: 0 | E19: 0 | F19: 82740.574 | G19: 36387.162 | H19: 18919.243 | I19: 0 | J19: 138046.98
A20: 2M | B20: Expenditure (2+31) 8/ | C20: 1267611.8 | D20: 0 | E20: 0 | F20: 1267611.8 | G20: 466702.17 | H20: 362091.24 | I20: -404422.09 | J20: 1691983.1
A21: 2 | B21: Expense | C21: 1267783.1 | D21: 0 | E21: 0 | F21: 1267783.1 | G21: 455290.72 | H21: 355145.73 | I21: -404422.09 | J21: 1673797.5
A22: 21 | B22: Compensation of employees | C22: 69633.188 | D22: 0 | E22: 0 | F22: 69633.188 | G22: 144779.45 | H22: 153466.29 | I22: 0 | J22: 367878.92
A23: 22 | B23: Use of goods & services | C23: 23109.935 | D23: 0 | E23: 0 | F23: 23109.935 | G23: 62812.352 | H23: 113481.16 | I23: 0 | J23: 199403.45
A24: 23 | B24: Consumption of fixed capital 9/ | C24: 8709.2139 | D24: 0 | E24: 0 | F24: 8709.2139 | G24: 17800.333 | H24: 18950.602 | I24: 0 | J24: 45460.149
A25: 24 | B25: Interest 7/ | C25: 364770.37 | D25: 0 | E25: 0 | F25: 364770.37 | G25: 31640.372 | H25: 3301.5283 | I25: -24660.289 | J25: 375051.99
A26: 25 | B26: Subsidies | C26: 8434.0052 | D26: 0 | E26: 0 | F26: 8434.0052 | G26: 946.72921 | H26: 4377.3436 | I26: 0 | J26: 13758.078
A27: 26 | B27: Grants | C27: 289896.17 | D27: 0 | E27: 0 | F27: 289896.17 | G27: 88577.58 | H27: 2043.1258 | I27: -379761.8 | J27: 755.07444
A28: 27 | B28: Social benefits | C28: 488266.84 | D28: 0 | E28: 0 | F28: 488266.84 | G28: 78572.906 | H28: 27021.224 | I28: 0 | J28: 593860.97
A29: 28 | B29: Other expense | C29: 14963.424 | D29: 0 | E29: 0 | F29: 14963.424 | G29: 30161 | H29: 32504.454 | I29: 0 | J29: 77628.878
A30: 31 | B30: Net acquisition of nonfinancial assets | C30: -171.39179 | D30: 0 | E30: 0 | F30: -171.39179 | G30: 11411.445 | H30: 6945.5087 | I30: 0 | J30: 18185.562
A31: 311 | B31: Fixed assets 10/ | C31: 691.51131 | D31: 0 | E31: 0 | F31: 691.51131 | G31: 11333.557 | H31: 6624.6191 | I31: 0 | J31: 18649.687
A32: 312 | B32: Inventories | C32: 64.560939 | D32: 0 | E32: 0 | F32: 64.560939 | G32: 77.888694 | H32: 322.20949 | I32: 0 | J32: 464.65912
... A34: 314 | B34: Nonproduced assets | C34: -930.07005 | D34: 0 | E34: 0 | F34: -930.07005 | G34: 0 | H34: -1.3199714 | I34: 0 | J34: -931.39002
B35: Net lending (+)/borrowing(-) (1-2M) | C35: -331420.84 | D35: 0 | E35: 0 | F35: -331420.84 | G35: -19219.755 | H35: 34992.352 | I35: 0 | J35: -315648.25
B36: Primary Net lending (+)/borrowing(-) ((1-1411)-(2M-24)) | C36: -76429.052 | D36: 0 | E36: 0 | F36: -76429.052 | G36: 5007.1613 | H36: 24861.337 | I36: 0 | J36: -46560.554
A37: Memo
A38: 1. | B38: Gross fixed capital formation (GFCF) | C38: 9400.7252 | D38: 0 | E38: 0 | F38: 9400.7252 | G38: 29133.889 | H38: 25575.222 | I38: 0 | J38: 64109.836
A39: 2. | B39: Gross operating balance - GOB (1-2+23) | C39: -322883.02 | D39: 0 | E39: 0 | F39: -322883.02 | G39: 9992.0227 | H39: 60888.463 | I39: 0 | J39: -252002.54
A40: 3. | B40: Net operating balance - NOB (1-2) | C40: -331592.24 | D40: 0 | E40: 0 | F40: -331592.24 | G40: -7808.3101 | H40: 41937.861 | I40: 0 | J40: -297462.69
A41: Source: STN, IBGE, IPEA e BCB
A42: n.d.: Data not available
...

Sheet 1.1.a
A1: =" Table 1.1.a. Statement of Government Operations by level of government - Brazil - "&C4 -> Table 1.1.a. Statement of Government Operations by level of government - Brazil - 2st Quarter 2026
A2: GDP %
A4: Statement of Government Operations - General Government | C4: ='1.1'!C4 -> 2st Quarter 2026
C5: Central Government | G5: State governments 3/ | H5: Municipalities 4/ | I5: Consolidation Column 2/ | J5: General Government 5/
C6: Budgetary 1/ | D6: Extrabudgetary | E6: Consolidation Column 2/ | F6: Central Government
A7: 1 | B7: Revenue 6/ | C7: 0.27328232 | D7: 0 | E7: 0 | F7: 0.27328232 | G7: 0.13062403 | H7: 0.11591218 | I7: -0.11805435 | J7: 0.40176418
A8: 11 | B8: Taxes | C8: 0.15872527 | D8: 0 | E8: 0 | F8: 0.15872527 | G8: 0.077140849 | H8: 0.021829468 | I8: 0 | J8: 0.25769559
A9: 111 | B9: Taxes on income, profits, and capital gains | C9: 0.092010062 | D9: 0 | E9: 0 | F9: 0.092010062 | G9: 0 | H9: 0 | I9: 0 | J9: 0.092010062
A10: 112 | B10: Taxes on payroll & workforce | C10: 0.0028947871 | D10: 0 | E10: 0 | F10: 0.0028947871 | G10: 0 | H10: 0 | I10: 0 | J10: 0.0028947871
A11: 113 | B11: Taxes on property | C11: 3.0851936e-05 | D11: 0 | E11: 0 | F11: 3.0851936e-05 | G11: 0.0078314826 | H11: 0.0078014519 | I11: 0 | J11: 0.015663786
A12: 114 | B12: Taxes on goods & services | C12: 0.05416496 | D12: 0 | E12: 0 | F12: 0.05416496 | G12: 0.069309367 | H12: 0.014028017 | I12: 0 | J12: 0.13750234
A13: 115 | B13: Taxes on international trade & transactions | C13: 0.0096245987 | D13: 0 | E13: 0 | F13: 0.0096245987 | G13: 0 | H13: 0 | I13: 0 | J13: 0.0096245987
A14: 116 | B14: Other taxes | C14: 1.4742186e-08 | D14: 0 | E14: 0 | F14: 1.4742186e-08 | G14: 0 | H14: 0 | I14: 0 | J14: 1.4742186e-08
A15: 12 | B15: Social contributions | C15: 0.058287662 | D15: 0 | E15: 0 | F15: 0.058287662 | G15: 0.0092470382 | H15: 0.005298767 | I15: 0 | J15: 0.072833467
A16: 13 | B16: Grants | C16: 7.1361076e-05 | D16: 0 | E16: 0 | F16: 7.1361076e-05 | G16: 0.031450363 | H16: 0.079340171 | I16: -0.1108558 | J16: 6.0983471e-06
A17: 14 | B17: Other revenue | C17: 0.056198027 | D17: 0 | E17: 0 | F17: 0.056198027 | G17: 0.012785784 | H17: 0.0094437698 | I17: -0.0071985542 | J17: 0.071229027
A18: 1411 | B18: Interest 7/ | C18: 0.032045329 | D18: 0 | E18: 0 | F18: 0.032045329 | G18: 0.0021640526 | H18: 0.0039210771 | I18: -0.0071985542 | J18: 0.030931904
A19: 14x | B19: Other | C19: 0.024152698 | D19: 0 | E19: 0 | F19: 0.024152698 | G19: 0.010621731 | H19: 0.0055226928 | I19: 0 | J19: 0.040297122
A20: 2M | B20: Expenditure (2+31) 8/ | C20: 0.37002697 | D20: 0 | E20: 0 | F20: 0.37002697 | G20: 0.13623445 | H20: 0.1056976 | I20: -0.11805435 | J20: 0.49390467
A21: 2 | B21: Expense | C21: 0.370077 | D21: 0 | E21: 0 | F21: 0.370077 | G21: 0.13290335 | H21: 0.10367015 | I21: -0.11805435 | J21: 0.48859615
A22: 21 | B22: Compensation of employees | C22: 0.020326537 | D22: 0 | E22: 0 | F22: 0.020326537 | G22: 0.042262388 | H22: 0.044798153 | I22: 0 | J22: 0.10738708
A23: 22 | B23: Use of goods & services | C23: 0.0067459923 | D23: 0 | E23: 0 | F23: 0.0067459923 | G23: 0.018335476 | H23: 0.033126145 | I23: 0 | J23: 0.058207613
A24: 23 | B24: Consumption of fixed capital 9/ | C24: 0.0025422958 | D24: 0 | E24: 0 | F24: 0.0025422958 | G24: 0.005196073 | H24: 0.0055318468 | I24: 0 | J24: 0.013270216
A25: 24 | B25: Interest 7/ | C25: 0.10647967 | D25: 0 | E25: 0 | F25: 0.10647967 | G25: 0.0092361017 | H25: 0.00096374503 | I25: -0.0071985542 | J25: 0.10948096
A26: 25 | B26: Subsidies | C26: 0.00246196 | D26: 0 | E26: 0 | F26: 0.00246196 | G26: 0.00027635855 | H26: 0.0012777849 | I26: 0 | J26: 0.0040161034
A27: 26 | B27: Grants | C27: 0.084623231 | D27: 0 | E27: 0 | F27: 0.084623231 | G27: 0.025856571 | H27: 0.00059640632 | I27: -0.1108558 | J27: 0.00022041284
A28: 27 | B28: Social benefits | C28: 0.14252936 | D28: 0 | E28: 0 | F28: 0.14252936 | G28: 0.022936119 | H28: 0.0078877319 | I28: 0 | J28: 0.17335322
A29: 28 | B29: Other expense | C29: 0.0043679544 | D29: 0 | E29: 0 | F29: 0.0043679544 | G29: 0.00880426 | H29: 0.0094883348 | I29: 0 | J29: 0.022660549
A30: 31 | B30: Net acquisition of nonfinancial assets | C30: -5.0030763e-05 | D30: 0 | E30: 0 | F30: -5.0030763e-05 | G30: 0.0033311008 | H30: 0.0020274548 | I30: 0 | J30: 0.0053085248
A31: 311 | B31: Fixed assets 10/ | C31: 0.00020185821 | D31: 0 | E31: 0 | F31: 0.00020185821 | G31: 0.0033083644 | H31: 0.0019337843 | I31: 0 | J31: 0.005444007
A32: 312 | B32: Inventories | C32: 1.8845903e-05 | D32: 0 | E32: 0 | F32: 1.8845903e-05 | G32: 2.2736392e-05 | H32: 9.405577e-05 | I32: 0 | J32: 0.00013563807
... A34: 314 | B34: Nonproduced assets | C34: -0.00027149559 | D34: 0 | E34: 0 | F34: -0.00027149559 | G34: 0 | H34: -3.8531121e-07 | I34: 0 | J34: -0.0002718809
B35: Net lending (+)/borrowing(-) (1-2M) | C35: -0.096744647 | D35: 0 | E35: 0 | F35: -0.096744647 | G35: -0.0056104149 | H35: 0.010214574 | I35: 0 | J35: -0.092140487
B36: Primary Net lending (+)/borrowing(-) ((1-1411)-(2M-24)) | C36: -0.02231031 | D36: 0 | E36: 0 | F36: -0.02231031 | G36: 0.0014616342 | H36: 0.007257242 | I36: 0 | J36: -0.013591433
A37: Memo
A38: 1. | B38: Gross fixed capital formation (GFCF) | C38: 0.002744154 | D38: 0 | E38: 0 | F38: 0.002744154 | G38: 0.0085044374 | H38: 0.0074656311 | I38: 0 | J38: 0.018714223
A39: 2. | B39: Gross operating balance - GOB (1-2+23) | C39: -0.094252382 | D39: 0 | E39: 0 | F39: -0.094252382 | G39: 0.0029167589 | H39: 0.017773876 | I39: 0 | J39: -0.073561747
A40: 3. | B40: Net operating balance - NOB (1-2) | C40: -0.096794677 | D40: 0 | E40: 0 | F40: -0.096794677 | G40: -0.0022793141 | H40: 0.012242029 | I40: 0 | J40: -0.086831963
A41: Source: STN, IBGE, IPEA e BCB
A42: n.d.: Data not available
...

Sheet 1.2
A1: Table 1.2. General Government Statement of Government Operations - Brazil - Time Series - Quarterly
A2: R$ Million - Current Prices
A4: Statement of Government Operations - General Government 1/ | C4: 2010-I | D4: 2010-II | E4: 2010-III | F4: 2010-IV | G4: 2011-I | H4: 2011-II | I4: 2011-III | J4: 2011-IV | K4: 2012-I | L4: 2012-II | M4: 2012-III | N4: 2012-IV | O4: 2013-I | P4: 2013-II | Q4: 2013-III | R4: 2013-IV | S4: 2014-I | T4: 2014-II | U4: 2014-III | V4: 2014-IV | W4: 2015-I | X4: 2015-II | Y4: 2015-III | Z4: 2015-IV | AA4: 2016-I | AB4: 2016-II | AC4: 2016-III | AD4: 2016-IV | AE4: 2017-I | AF4: 2017-II | AG4: 2017-III | AH4: 2017-IV | AI4: 2018-I | AJ4: 2018-II | AK4: 2018-III | AL4: 2018-IV | AM4: 2019-I | AN4: 2019-II | AO4: 2019-III | AP4: 2019-IV | AQ4: 2020-I | AR4: 2020-II | AS4: 2020-III | AT4: 2020-IV | AU4: 2021-I | AV4: 2021-II | AW4: 2021-III | AX4: 2021-IV | AY4: 2022-I | AZ4: 2022-II | BA4: 2022-III | BB4: 2022-IV | BC4: 2023-I | BD4: 2023-II | BE4: 2023-III | BF4: 2023-IV | BG4: 2024-I | BH4: 2024-II | BI4: 2024-III | BJ4: 2024-IV | BK4: 2025-I | BL4: 2025-II | BM4: 2025-III | BN4: 2025-IV | BO4: 2026-I | BP4: 2026-II
A5: 1 | B5: Revenue 2/ | C5: 331864.19 | D5: 335345.48 | E5: 344215.94 | F5: 385608.24 | G5: 395375.94 | H5: 389670.98 | I5: 393437.54 | J5: 423803.34 | K5: 443638.97 | L5: 422229.59 | M5: 438886.99 | N5: 473153.75 | O5: 470288.61 | P5: 469431.83 | Q5: 454516.52 | R5: 542978.94 | S5: 528732.87 | T5: 486959.14 | U5: 482437.04 | V5: 533583.29 | W5: 554163.26 | X5: 561528.69 | Y5: 519408.9 | Z5: 578484.56 | AA5: 629110.93 | AB5: 562384.48 | AC5: 532075.62 | AD5: 628685.02 | AE5: 608399.66 | AF5: 571476.7 | AG5: 566484.8 | AH5: 640924.78 | AI5: 647092.78 | AJ5: 623791.51 | AK5: 629173.78 | AL5: 698650.62 | AM5: 704827.63 | AN5: 656969.3 | AO5: 653007.5 | AP5: 801299.05 | AQ5: 740094.92 | AR5: 485945.45 | AS5: 625809.5 | AT5: 772119.42 | AU5: 822535.09 | AV5: 768243.09 | AW5: 854773.98 | AX5: 954522.48 | AY5: 993716.67 | AZ5: 1018418.6 | BA5: 948388.45 | BB5: 1016820.3 | BC5: 1038771.1 | BD5: 1005096.2 | BE5: 994135.01 | BF5: 1085409.1 | BG5: 1150231.6 | BH5: 1120081.6 | BI5: 1094848.8 | BJ5: 1276349.2 | BK5: 1267408.6 | BL5: 1224387.2 | BM5: 1202702.8 | BN5: 1358832.2 | BO5: 1367720.3 | BP5: 1376334.8
A6: 11 | B6: Taxes | C6: 226743.52 | D6: 221267.62 | E6: 219541.64 | F6: 247862.46 | G6: 270856.71 | H6: 256904.74 | I6: 255035.03 | J6: 272123.58 | K6: 299718.7 | L6: 277240.52 | M6: 270379.18 | N6: 291185.01 | O6: 319507.66 | P6: 304033.89 | Q6: 289091.26 | R6: 339064.1 | S6: 352616.44 | T6: 317672.77 | U6: 305292.06 | V6: 339222.28 | W6: 372895.24 | X6: 340562.4 | Y6: 321287.65 | Z6: 343899.61 | AA6: 386984.04 | AB6: 349808.28 | AC6: 327932.76 | AD6: 381208.13 | AE6: 404400.49 | AF6: 364988.97 | AG6: 351814.4 | AH6: 397646.72 | AI6: 437135.85 | AJ6: 402835.33 | AK6: 391204.18 | AL6: 422168.67 | AM6: 466608.12 | AN6: 419379.57 | AO6: 412451.24 | AP6: 445068.55 | AQ6: 487232.21 | AR6: 319848.61 | AS6: 407423.74 | AT6: 497631.74 | AU6: 554983.13 | AV6: 499847.44 | AW6: 542540.31 | AX6: 599273.7 | AY6: 660642.77 | AZ6: 612995.86 | BA6: 586473.38 | BB6: 621862.98 | BC6: 675320.91 | BD6: 626871.22 | BE6: 605558.88 | BF6: 677104.88 | BG6: 781545.86 | BH6: 722748.85 | BI6: 715469.33 | BJ6: 787839.27 | BK6: 853387.93 | BL6: 789976.14 | BM6: 767153.21 | BN6: 862366.22 | BO6: 914288.88 | BP6: 882795.01
A7: 111 | B7: Taxes on income, profits, and capital gains | C7: 64726.068 | D7: 63861.408 | E7: 57451.068 | F7: 72446.062 | G7: 81859.49 | H7: 78985.418 | I7: 71037.417 | J7: 82115.773 | K7: 94744.745 | L7: 81465.792 | M7: 64513.346 | N7: 84211.572 | O7: 99570.149 | P7: 88640.495 | Q7: 73383.315 | R7: 99166.087 | S7: 107051.26 | T7: 96064.656 | U7: 81642.302 | V7: 97394.852 | W7: 116003.14 | X7: 103481.57 | Y7: 82492.88 | Z7: 99143.892 | AA7: 117954.15 | AB7: 109844.62 | AC7: 90546.02 | AD7: 134851.9 | AE7: 132552.88 | AF7: 115287.44 | AG7: 95385.86 | AH7: 115455.3 | AI7: 140015.81 | AJ7: 121062.01 | AK7: 102723.67 | AL7: 126938.37 | AM7: 153587.74 | AN7: 126382.35 | AO7: 116130.61 | AP7: 139476.41 | AQ7: 159859.14 | AR7: 113737.51 | AS7: 102296.51 | AT7: 150682.79 | AU7: 182998 | AV7: 159793.91 | AW7: 157931.69 | AX7: 197397.86 | AY7: 243714.65 | AZ7: 224192.31 | BA7: 199940.34 | BB7: 241201.58 | BC7: 263976.33 | BD7: 228537.52 | BE7: 193011.2 | BF7: 254446.29 | BG7: 296499.69 | BH7: 256461.68 | BI7: 226396.63 | BJ7: 285672.87 | BK7: 317296.58 | BL7: 287850.94 | BM7: 247356.77 | BN7: 314957.1 | BO7: 336822.76 | BP7: 315201.45
A8: 112 | B8: Taxes on payroll & workforce | C8: 3418.7599 | D8: 3098.2296 | E8: 2956.8519 | F8: 3057.1909 | G8: 4085.388 | H8: 3397.6365 | I8: 3703.2068 | J8: 3658.3752 | K8: 4630.9157 | L8: 3922.5615 | M8: 4118.8272 | N8: 4015.2922 | O8: 5179.9479 | P8: 4439.2688 | Q8: 4601.0556 | R8: 4505.0836 | S8: 5791.2035 | T8: 4891.3918 | U8: 5070.8751 | V8: 4965.8468 | W8: 6238.7787 | X8: 5188.9355 | Y8: 5283.5052 | Z8: 4875.9211 | AA8: 6346.4553 | AB8: 5370.9235 | AC8: 5377.4208 | AD8: 5095.3595 | AE8: 6473.3913 | AF8: 5446.5085 | AG8: 5546.9605 | AH8: 5265.4041 | AI8: 6674.4333 | AJ8: 5274.793 | AK8: 6306.9678 | AL8: 6149.0829 | AM8: 6085.1358 | AN8: 5815.9127 | AO8: 5558.2111 | AP8: 6779.3255 | AQ8: 5896.7244 | AR8: 5135.2509 | AS8: 5329.6867 | AT8: 6907.333 | AU8: 6020.3926 | AV8: 5887.7185 | AW8: 6072.4424 | AX8: 8241.1927 | AY8: 6813.0924 | AZ8: 6883.8922 | BA8: 7105.6232 | BB8: 8985.3098 | BC8: 7725.5968 | BD8: 7903.395 | BE8: 7806.2111 | BF8: 10115.281 | BG8: 8174.7358 | BH8: 8153.1048 | BI8: 8658.0605 | BJ8: 10682.403 | BK8: 9121.3702 | BL8: 9280.6866 | BM8: 8959.9232 | BN8: 11695.544 | BO8: 9982.9312 | BP8: 9916.7531
A9: 113 | B9: Taxes on property | C9: 21385.642 | D9: 10547.423 | E9: 8908.7342 | F9: 8237.0906 | G9: 24536.498 | H9: 11844.286 | I9: 10069.728 | J9: 9579.6963 | K9: 27529.045 | L9: 13373.52 | M9: 11405.026 | N9: 10407.065 | O9: 30014.849 | P9: 15496.065 | Q9: 12869.905 | R9: 11791.838 | S9: 33041.551 | T9: 16313.675 | U9: 14916.597 | V9: 13169.903 | W9: 36163.01 | X9: 19510.369 | Y9: 15531.943 | Z9: 15367.196 | AA9: 41134.878 | AB9: 19597.639 | AC9: 16220.107 | AD9: 15729.95 | AE9: 42161.769 | AF9: 21239.154 | AG9: 18862.997 | AH9: 16493.853 | AI9: 44801.286 | AJ9: 24084.794 | AK9: 20624.447 | AL9: 18590.937 | AM9: 48647.635 | AN9: 25836.691 | AO9: 22650.387 | AP9: 20710.343 | AQ9: 52818.264 | AR9: 20545.302 | AS9: 24604.467 | AT9: 23754.21 | AU9: 57897.312 | AV9: 29460.471 | AW9: 29029.823 | AX9: 27016.209 | AY9: 62286.751 | AZ9: 39958.73 | BA9: 29988.833 | BB9: 27731.888 | BC9: 74007.006 | BD9: 44752.587 | BE9: 34096.444 | BF9: 32690.678 | BG9: 82152.23 | BH9: 45927.042 | BI9: 37617.082 | BJ9: 36131.655 | BK9: 86797.086 | BL9: 50464.407 | BM9: 41488.667 | BN9: 41491.932 | BO9: 90638.929 | BP9: 53659.871
A10: 114 | B10: Taxes on goods & services | C10: 132713.88 | D10: 138761.69 | E10: 144089.75 | F10: 158488.02 | G10: 154235.57 | H10: 156439.25 | I10: 162955.53 | J10: 169439 | K10: 166625.4 | L10: 171194.27 | M10: 182187.53 | N10: 183529.88 | O10: 177107.18 | P10: 186581.05 | Q10: 187932.78 | R10: 212860.25 | S10: 196854.13 | T10: 191920.67 | U10: 194471.35 | V10: 214511.24 | W10: 204854.63 | X10: 202860.34 | Y10: 207588.63 | Z10: 215581.21 | AA10: 213046.03 | AB10: 207601.63 | AC10: 208033.43 | AD10: 217734.17 | AE10: 215897.86 | AF10: 215410.04 | AG10: 223372.79 | AH10: 251648.22 | AI10: 236386.8 | AJ10: 242442.11 | AK10: 250256.31 | AL10: 260307.74 | AM10: 248124.84 | AN10: 251049.55 | AO10: 256785.99 | AP10: 266953.5 | AQ10: 257406.98 | AR10: 171101.5 | AS10: 264193.89 | AT10: 302152.84 | AU10: 292189.75 | AV10: 289955.43 | AW10: 334379.24 | AX10: 350336.75 | AY10: 332749.65 | AZ10: 328898.76 | BA10: 333678.81 | BB10: 328810.07 | BC10: 316170.86 | BD10: 329921.16 | BE10: 354915.41 | BF10: 366266.52 | BG10: 379292.97 | BH10: 394255.19 | BI10: 422074.75 | BJ10: 431953.09 | BK10: 417517.36 | BL10: 419712.98 | BM10: 447396.58 | BN10: 471274 | BO10: 452553.65 | BP10: 471045.63
A11: 115 | B11: Taxes on international trade & transactions | C11: 4551.8876 | D11: 4899.0497 | E11: 5729.7134 | F11: 5902.3414 | G11: 5878.7546 | H11: 6109.6272 | I11: 7009.5065 | J11: 7655.1381 | K11: 6927.676 | L11: 7472.9524 | M11: 8279.6498 | N11: 8448.658 | O11: 8181.5663 | P11: 8703.478 | Q11: 10082.097 | R11: 10011.252 | S11: 9722.5319 | T11: 8616.1261 | U11: 9016.0789 | V11: 9418.3048 | W11: 10175.54 | X11: 9340.7564 | Y11: 10391.428 | Z11: 9061.6348 | AA11: 8502.5341 | AB11: 7392.566 | AC11: 7755.7776 | AD11: 7796.7366 | AE11: 7314.6281 | AF11: 7605.8171 | AG11: 8645.7877 | AH11: 8783.9259 | AI11: 9257.4398 | AJ11: 9971.7195 | AK11: 11292.431 | AL11: 10182.506 | AM11: 10162.794 | AN11: 10294.99 | AO11: 11326.024 | AP11: 11148.986 | AQ11: 11251.095 | AR11: 9329.0013 | AS11: 11007.274 | AT11: 14134.527 | AU11: 15877.657 | AV11: 14749.846 | AW11: 15127.129 | AX11: 16281.494 | AY11: 15078.592 | AZ11: 13061.799 | BA11: 15759.625 | BB11: 15134.26 | BC11: 13441.214 | BD11: 15756.532 | BE11: 15729.763 | BF11: 13586.046 | BG11: 15426.244 | BH11: 17951.857 | BI11: 20722.758 | BJ11: 23399.253 | BK11: 22655.527 | BL11: 22667.146 | BM11: 21951.244 | BN11: 22947.798 | BO11: 24290.601 | BP11: 32971.257
A12: 116 | B12: Other taxes | C12: -52.71319 | D12: 99.818262 | E12: 405.51942 | F12: -268.23946 | G12: 261.01043 | H12: 128.52283 | I12: 259.63686 | J12: -324.3998 | K12: -739.08336 | L12: -188.57672 | M12: -125.20343 | N12: 572.54419 | O12: -546.0384 | P12: 173.52766 | Q12: 222.11086 | R12: 729.59074 | S12: 155.77192 | T12: -133.74334 | U12: 174.85307 | V12: -237.86831 | W12: -539.85628 | X12: 180.42962 | Y12: -0.72956566 | Z12: -130.24504 | AA12: 0.00398976 | AB12: 0.90418353 | AC12: 0.00278586 | AD12: 0.01971195 | AE12: -0.04649292 | AF12: 0.01554921 | AG12: 0.00658645 | AH12: 0.02443038 | AI12: 0.08455868 | AJ12: -0.09636363 | AK12: 0.35514443 | AL12: 0.03318715 | AM12: -0.0263559 | AN12: 0.07195094 | AO12: 0.02280933 | AP12: -0.01795274 | AQ12: 0.01302911 | AR12: 0.04339206 | AS12: -8.0848112 | AT12: 0.04306473 | AU12: 0.01895035 | AV12: 0.06019542 | AW12: -0.00841569 | AX12: 0.2018029 | AY12: 0.03930669 | AZ12: 0.37278011 | BA12: 0.14330667 | BB12: -0.12342846 | BC12: -0.09373751 | BD12: 0.02347154 | BE12: -0.15220448 | BF12: 0.06693531 | BG12: -0.00764341 | BH12: -0.0165603 | BI12: 0.0566196 | BJ12: 0.00797802 | BK12: 0.00175875 | BL12: -0.00925819 | BM12: 0.02373601 | BN12: -0.15823844 | BO12: 0.01384707 | BP12: 0.05050272
A13: 12 | B13: Social contributions | C13: 62894.353 | D13: 66332.216 | E13: 69646.268 | F13: 88258.849 | G13: 72915.906 | H13: 77817.944 | I13: 80808.28 | J13: 99950.247 | K13: 84416.208 | L13: 86828.513 | M13: 88053.701 | N13: 109614.71 | O13: 91752.218 | P13: 95363.544 | Q13: 97576.844 | R13: 119874.25 | S13: 103148.91 | T13: 102357.67 | U13: 106464.26 | V13: 127847.48 | W13: 107427.73 | X13: 108837.11 | Y13: 107938.12 | Z13: 130413.56 | AA13: 111470.77 | AB13: 113820.04 | AC13: 112986.33 | AD13: 139607.85 | AE13: 114651.32 | AF13: 119500.13 | AG13: 122414.69 | AH13: 150867.96 | AI13: 121439.58 | AJ13: 125930.76 | AK13: 128625.8 | AL13: 159652.41 | AM13: 129273.66 | AN13: 134469.3 | AO13: 137667.05 | AP13: 170210.43 | AQ13: 135359.58 | AR13: 101610.37 | AS13: 145227.89 | AT13: 190340.37 | AU13: 147450.86 | AV13: 147538.57 | AW13: 161681.44 | AX13: 200197.51 | AY13: 168994.97 | AZ13: 178164.08 | BA13: 183682.89 | BB13: 223860.86 | BC13: 185023.46 | BD13: 191333 | BE13: 195278.62 | BF13: 239702.94 | BG13: 204551.96 | BH13: 205327.21 | BI13: 210904.18 | BJ13: 257508.84 | BK13: 220962.02 | BL13: 227164 | BM13: 233145.87 | BN13: 283424.6 | BO13: 242481.37 | BP13: 249507.65
A14: 13 | B14: Grants | C14: 15.361424 | D14: 15.637164 | E14: 18.350422 | F14: 21.223691 | G14: 5.0481131 | H14: 9.2195459 | I14: 6.221209 | J14: 12.16797 | K14: 7.0671494 | L14: 12.975119 | M14: 7.2469857 | N14: 10.507427 | O14: 13.07976 | P14: 22.30286 | Q14: 19.640501 | R14: 24.645735 | S14: 27.094238 | T14: 7.5856784 | U14: 8.4208036 | V14: 11.466285 | W14: 5.4258308 | X14: 7.0552667 | Y14: 3.5189067 | Z14: 24.301621 | AA14: 5.0993722 | AB14: 12.804824 | AC14: 3.0104712 | AD14: 4.8288563 | AE14: 8.3449584 | AF14: 25.863293 | AG14: 2.8212541 | AH14: 4.7471229 | AI14: 19.863201 | AJ14: 21.65519 | AK14: 17.45068 | AL14: 26.313144 | AM14: 2.0555159 | AN14: 1.9380932 | AO14: 1.7619846 | AP14: 4.9902535 | AQ14: 41.855144 | AR14: 41.808038 | AS14: 44.836952 | AT14: 49.5468 | AU14: 4.8792769 | AV14: 2.1028105 | AW14: 1.2535651 | AX14: 6.6298227 | AY14: 1.5619017 | AZ14: 6.4703622 | BA14: 6.6735952 | BB14: 7.7006304 | BC14: 6.9026434 | BD14: 1.4692821 | BE14: 3.4170482 | BF14: 13.699921 | BG14: 8.3591655 | BH14: 6.5838432 | BI14: 49.316952 | BJ14: 24.728693 | BK14: 8.7237074 | BL14: 18.134145 | BM14: 4.2918297 | BN14: 21.137132 | BO14: 4.5729959 | BP14: 20.891278
A15: 14 | B15: Other revenue | C15: 42210.948 | D15: 47730.014 | E15: 55009.689 | F15: 49465.702 | G15: 51598.276 | H15: 54939.075 | I15: 57588.007 | J15: 51717.344 | K15: 59497.001 | L15: 58147.582 | M15: 80446.866 | N15: 72343.516 | O15: 59015.655 | P15: 70012.094 | Q15: 67828.772 | R15: 84015.942 | S15: 72940.421 | T15: 66921.119 | U15: 70672.297 | V15: 66502.068 | W15: 73834.863 | X15: 112122.13 | Y15: 90179.613 | Z15: 104147.1 | AA15: 130651.02 | AB15: 98743.359 | AC15: 91153.522 | AD15: 107864.2 | AE15: 89339.507 | AF15: 86961.726 | AG15: 92252.894 | AH15: 92405.35 | AI15: 88497.489 | AJ15: 95003.772 | AK15: 109326.36 | AL15: 116803.23 | AM15: 108943.8 | AN15: 103118.49 | AO15: 102887.45 | AP15: 186015.09 | AQ15: 117461.28 | AR15: 64444.667 | AS15: 73113.027 | AT15: 84097.758 | AU15: 120096.22 | AV15: 120854.99 | AW15: 150550.98 | AX15: 155044.63 | AY15: 164077.37 | AZ15: 227252.2 | BA15: 178225.5 | BB15: 171088.73 | BC15: 178419.87 | BD15: 186890.55 | BE15: 193294.1 | BF15: 168587.55 | BG15: 164125.4 | BH15: 191998.93 | BI15: 168425.98 | BJ15: 230976.36 | BK15: 193049.91 | BL15: 207228.93 | BM15: 202399.44 | BN15: 213020.27 | BO15: 210945.43 | BP15: 244011.27
A16: 1411 | B16: Interest 3/ | C16: 15455.896 | D16: 17877.028 | E16: 16753.182 | F16: 20775.85 | G16: 21910.488 | H16: 22428.418 | I16: 21432.239 | J16: 23347.703 | K16: 24643.213 | L16: 26709.76 | M16: 26114.201 | N16: 28467.85 | O16: 24050.247 | P16: 24210.55 | Q16: 24898.365 | R16: 25184.805 | S16: 32568.226 | T16: 28446.701 | U16: 27148.852 | V16: 26942.661 | W16: 39667.42 | X16: 65137.821 | Y16: 43062.392 | Z16: 53900.111 | AA16: 80475.393 | AB16: 60065.687 | AC16: 48270.089 | AD16: 46428.291 | AE16: 42990.617 | AF16: 42691.394 | AG16: 39853.13 | AH16: 40722.93 | AI16: 37056.701 | AJ16: 39020.756 | AK16: 50944.59 | AL16: 54512.777 | AM16: 51831.981 | AN16: 44375.592 | AO16: 38468.324 | AP16: 37202.213 | AQ16: 40798.188 | AR16: 24103.766 | AS16: 26193.788 | AT16: 35077.198 | AU16: 44871.618 | AV16: 41002.548 | AW16: 50613.637 | AX16: 59610.999 | AY16: 66416.449 | AZ16: 81495.711 | BA16: 62285.587 | BB16: 69469.237 | BC16: 75483.607 | BD16: 77807.336 | BE16: 65286.518 | BF16: 65141.363 | BG16: 68896.634 | BH16: 67177.806 | BI16: 66769.151 | BJ16: 67027.991 | BK16: 82909.268 | BL16: 83463.965 | BM16: 84956.181 | BN16: 81479.27 | BO16: 106580.63 | BP16: 105964.29
A17: 14x | B17: Other | C17: 26755.052 | D17: 29852.985 | E17: 38256.508 | F17: 28689.852 | G17: 29687.788 | H17: 32510.656 | I17: 36155.769 | J17: 28369.641 | K17: 34853.788 | L17: 31437.822 | M17: 54332.665 | N17: 43875.666 | O17: 34965.408 | P17: 45801.544 | Q17: 42930.407 | R17: 58831.137 | S17: 40372.195 | T17: 38474.419 | U17: 43523.445 | V17: 39559.406 | W17: 34167.443 | X17: 46984.308 | Y17: 47117.221 | Z17: 50246.984 | AA17: 50175.624 | AB17: 38677.672 | AC17: 42883.434 | AD17: 61435.914 | AE17: 46348.89 | AF17: 44270.331 | AG17: 52399.763 | AH17: 51682.42 | AI17: 51440.789 | AJ17: 55983.016 | AK17: 58381.765 | AL17: 62290.453 | AM17: 57111.814 | AN17: 58742.894 | AO17: 64419.123 | AP17: 148812.87 | AQ17: 76663.091 | AR17: 40340.901 | AS17: 46919.24 | AT17: 49020.561 | AU17: 75224.598 | AV17: 79852.438 | AW17: 99937.341 | AX17: 95433.633 | AY17: 97660.926 | AZ17: 145756.49 | BA17: 115939.92 | BB17: 101619.49 | BC17: 102936.26 | BD17: 109083.21 | BE17: 128007.58 | BF17: 103446.19 | BG17: 95228.764 | BH17: 124821.13 | BI17: 101656.83 | BJ17: 163948.37 | BK17: 110140.65 | BL17: 123764.97 | BM17: 117443.26 | BN17: 131541 | BO17: 104364.8 | BP17: 138046.98
A18: 2M | B18: Expenditure (2+31) 4/ | C18: 343684.15 | D18: 367300.08 | E18: 382786.71 | F18: 441755.57 | G18: 386113.79 | H18: 422841.46 | I18: 429430.66 | J18: 484475.51 | K18: 430342.28 | L18: 463052.46 | M18: 475357.84 | N18: 523905.59 | O18: 469245.41 | P18: 510813.42 | Q18: 531997.63 | R18: 608869.35 | S18: 538816.9 | T18: 555848.42 | U18: 626297.75 | V18: 673050.94 | W18: 639866.87 | X18: 642944.38 | Y18: 738970.85 | Z18: 747722.92 | AA18: 676831.2 | AB18: 679661.02 | AC18: 709001.54 | AD18: 787233.34 | AE18: 680466.32 | AF18: 718265.7 | AG18: 713048.13 | AH18: 805410.85 | AI18: 702983.62 | AJ18: 771574.71 | AK18: 788537.45 | AL18: 831379.93 | AM18: 758478.98 | AN18: 769105.89 | AO18: 760040.13 | AP18: 892869.53 | AQ18: 733465.93 | AR18: 934003.17 | AS18: 872578.23 | AT18: 973944.49 | AU18: 771305.18 | AV18: 929717.88 | AW18: 881550.25 | AX18: 1055717.5 | AY18: 974581.68 | AZ18: 1124004.9 | BA18: 1069484.7 | BB18: 1211077.3 | BC18: 1107093.1 | BD18: 1250061.8 | BE18: 1177850 | BF18: 1423189 | BG18: 1205013.2 | BH18: 1381777.4 | BI18: 1324292.5 | BJ18: 1466892.1 | BK18: 1320460.8 | BL18: 1506286.5 | BM18: 1522721.9 | BN18: 1640096.1 | BO18: 1555674.5 | BP18: 1691983.1
A19: 2 | B19: Expense | C19: 336023.87 | D19: 355245.62 | E19: 367126.54 | F19: 419666.17 | G19: 383743.18 | H19: 416274.3 | I19: 419613.1 | J19: 467122.96 | K19: 427042.2 | L19: 454974.22 | M19: 464616.73 | N19: 506557.88 | O19: 468483.2 | P19: 503759.23 | Q19: 521613.42 | R19: 584244.87 | S19: 531276.81 | T19: 541241.58 | U19: 610003.89 | V19: 657924.48 | W19: 641229.27 | X19: 644503.62 | Y19: 737730.02 | Z19: 737939.16 | AA19: 681594.68 | AB19: 682108.76 | AC19: 711405.75 | AD19: 783565.48 | AE19: 690611.17 | AF19: 728462.84 | AG19: 720417.21 | AH19: 806736.18 | AI19: 712943.67 | AJ19: 778968.07 | AK19: 792170.03 | AL19: 826138.02 | AM19: 770466.39 | AN19: 779125.92 | AO19: 770718.99 | AP19: 890543.76 | AQ19: 743450.69 | AR19: 940663.84 | AS19: 881032.81 | AT19: 965118.85 | AU19: 785463.41 | AV19: 943017.85 | AW19: 892635.51 | AX19: 1046725.3 | AY19: 982233.65 | AZ19: 1121130.6 | BA19: 1053544.8 | BB19: 1182308.8 | BC19: 1110979.6 | BD19: 1245717.4 | BE19: 1161341.6 | BF19: 1394960.4 | BG19: 1206054.5 | BH19: 1365760.1 | BI19: 1295416 | BJ19: 1435091.3 | BK19: 1329051.7 | BL19: 1503829.7 | BM19: 1512491.7 | BN19: 1610446.5 | BO19: 1550698.6 | BP19: 1673797.5
A20: 21 | B20: Compensation of employees | C20: 97580.59 | D20: 98280.96 | E20: 96716.608 | F20: 122746.14 | G20: 106719.11 | H20: 114267.66 | I20: 110526.93 | J20: 133509.52 | K20: 118667.63 | L20: 126225.42 | M20: 123430.03 | N20: 147961.44 | O20: 132089.34 | P20: 141789.48 | Q20: 140293.05 | R20: 168027.08 | S20: 149258.24 | T20: 153808.35 | U20: 154547.12 | V20: 181166.41 | W20: 158347.29 | X20: 169381.13 | Y20: 166905.24 | Z20: 205831.55 | AA20: 167067.89 | AB20: 178758.3 | AC20: 172068.08 | AD20: 218394.41 | AE20: 177187.02 | AF20: 191061.6 | AG20: 181427.3 | AH20: 228578.9 | AI20: 189587.49 | AJ20: 195393.72 | AK20: 192888.25 | AL20: 235388.56 | AM20: 201934.83 | AN20: 207406.4 | AO20: 203203.9 | AP20: 245874.52 | AQ20: 200859.32 | AR20: 208436.3 | AS20: 207360.51 | AT20: 265230.32 | AU20: 206985.28 | AV20: 223816.06 | AW20: 217762.75 | AX20: 284363.86 | AY20: 225502.8 | AZ20: 255059.82 | BA20: 265497.54 | BB20: 321696.28 | BC20: 259804.15 | BD20: 281863.8 | BE20: 282242.89 | BF20: 357297.45 | BG20: 283832.95 | BH20: 312840.2 | BI20: 307434.29 | BJ20: 377702.26 | BK20: 309640.43 | BL20: 340514.97 | BM20: 341918.92 | BN20: 418070.4 | BO20: 347822.27 | BP20: 367878.92
A21: 22 | B21: Use of goods & services | C21: 43767.945 | D21: 50359.242 | E21: 52343.658 | F21: 59821.211 | G21: 45915.739 | H21: 55086.262 | I21: 56484.872 | J21: 68130.012 | K21: 52620.063 | L21: 61549.872 | M21: 63237.639 | N21: 73113.196 | O21: 52417.707 | P21: 67052.203 | Q21: 68223.358 | R21: 81957.663 | S21: 62936.922 | T21: 74190.418 | U21: 78224.602 | V21: 84669.19 | W21: 61418.493 | X21: 74518.032 | Y21: 77189.138 | Z21: 86589.883 | AA21: 65239.982 | AB21: 82982.66 | AC21: 79218.559 | AD21: 92798.414 | AE21: 64331.902 | AF21: 80430.67 | AG21: 79690.407 | AH21: 96762.951 | AI21: 74154.306 | AJ21: 87646.678 | AK21: 89511.879 | AL21: 99947.232 | AM21: 80131.576 | AN21: 94219.163 | AO21: 95216.919 | AP21: 106985.3 | AQ21: 81863.322 | AR21: 93150.58 | AS21: 95365.828 | AT21: 118299.98 | AU21: 82653.163 | AV21: 107825.41 | AW21: 109394.71 | AX21: 142759.46 | AY21: 102057.14 | AZ21: 136009.39 | BA21: 145156.71 | BB21: 159185.69 | BC21: 119663.73 | BD21: 148435.66 | BE21: 148899.25 | BF21: 192127.54 | BG21: 138909.84 | BH21: 174804.07 | BI21: 179704.62 | BJ21: 199422.48 | BK21: 141089.73 | BL21: 176445.22 | BM21: 191942.84 | BN21: 217054.61 | BO21: 173246.44 | BP21: 199403.45
A22: 23 | B22: Consumption of fixed capital 5/ | C22: 12295 | D22: 12613 | E22: 12821 | F22: 12930 | G22: 13769.897 | H22: 14168.894 | I22: 14391.892 | J22: 14514.891 | K22: 15287 | L22: 15653 | M22: 15940 | N22: 16057 | O22: 16987 | P22: 17419 | Q22: 17766 | R22: 17921 | S22: 18990 | T22: 19439 | U22: 19754 | V22: 19896 | W22: 21231 | X22: 21674 | Y22: 22186 | Z22: 22498 | AA22: 23484.347 | AB22: 23971.092 | AC22: 24320.813 | AD22: 24421.748 | AE22: 24845.506 | AF22: 25109.149 | AG22: 25651.161 | AH22: 25797.184 | AI22: 26068.571 | AJ22: 26364.951 | AK22: 26833.392 | AL22: 27444.086 | AM22: 28840.906 | AN22: 28340.459 | AO22: 28649.758 | AP22: 29208.878 | AQ22: 29484.849 | AR22: 29853.29 | AS22: 30669.18 | AT22: 31946.681 | AU22: 33508.742 | AV22: 35120.995 | AW22: 36292.456 | AX22: 36946.807 | AY22: 37497.797 | AZ22: 38852.452 | BA22: 39813.036 | BB22: 39980.716 | BC22: 41208.98 | BD22: 41559.922 | BE22: 41923.893 | BF22: 42088.204 | BG22: 44265.173 | BH22: 44881.393 | BI22: 43945.572 | BJ22: 44574.872 | BK22: 46770.634 | BL22: 47348.069 | BM22: 48164.467 | BN22: 48513.516 | BO22: 44514.106 | BP22: 45460.149
A23: 24 | B23: Interest 3/ | C23: 63802.838 | D23: 67622.946 | E23: 65488.505 | F23: 78306.26 | G23: 84421.746 | H23: 84899.377 | I23: 79812.133 | J23: 85468.948 | K23: 82484.589 | L23: 82844.235 | M23: 80619.68 | N23: 88412.791 | O23: 91850.888 | P23: 87370.857 | Q23: 88398.104 | R23: 103528.88 | S23: 91924.624 | T23: 91338.967 | U23: 117776.13 | V23: 133172.61 | W23: 190480.72 | X23: 147476.21 | Y23: 229241.08 | Z23: 147758.9 | AA23: 170998.39 | AB23: 145726.91 | AC23: 161448.52 | AD23: 145811.98 | AE23: 154579.91 | AF23: 146925.05 | AG23: 141438.34 | AH23: 149443.7 | AI23: 138489.89 | AJ23: 174633.16 | AK23: 169134.28 | AL23: 136133.07 | AM23: 155628.99 | AN23: 135344.12 | AO23: 116097.8 | AP23: 125088.23 | AQ23: 114689.18 | AR23: 83104.389 | AS23: 108485.42 | AT23: 134490.87 | AU23: 128992.54 | AV23: 129056.75 | AW23: 161377.44 | AX23: 194751.22 | AY23: 210210.41 | AZ23: 227123.99 | BA23: 161407.8 | BB23: 211931.18 | BC23: 235331.86 | BD23: 215902.61 | BE23: 216740.07 | BF23: 222391.59 | BG23: 235925.96 | BH23: 235544.48 | BI23: 237168.45 | BJ23: 263352.54 | BK23: 297707.16 | BL23: 299572.87 | BM23: 327121.36 | BN23: 336780.71 | BO23: 360911.73 | BP23: 375051.99
A24: 25 | B24: Subsidies | C24: 1700.7959 | D24: 1466.9442 | E24: 1578.6463 | F24: 2621.174 | G24: 3700.6878 | H24: 3741.7381 | I24: 2409.5156 | J24: 3150.9096 | K24: 6010.1655 | L24: 4447.87 | M24: 2638.2166 | N24: 2873.2512 | O24: 4297.9234 | P24: 4489.9098 | Q24: 8990.5245 | R24: 9388.3202 | S24: 9091.915 | T24: 5307.9436 | U24: 11734.231 | V24: 6226.6807 | W24: 1904.9502 | X24: 6674.2275 | Y24: 4709.3646 | Z24: 14161.121 | AA24: 13845.364 | AB24: 2487.6245 | AC24: 11242.161 | AD24: 3990.3357 | AE24: 10877.15 | AF24: 2879.4391 | AG24: 9945.806 | AH24: 3168.4846 | AI24: 8250.9214 | AJ24: 2999.0086 | AK24: 9405.8783 | AL24: 8078.8575 | AM24: 8471.7898 | AN24: 2617.4496 | AO24: 6460.053 | AP24: 3695.9799 | AQ24: 5165.0387 | AR24: 3613.8682 | AS24: 4234.1915 | AT24: 3973.9555 | AU24: 4319.8298 | AV24: 3234.5103 | AW24: 5453.0797 | AX24: 4838.9565 | AY24: 6363.7427 | AZ24: 5752.9088 | BA24: 9062.7107 | BB24: 5960.7426 | BC24: 7256.2548 | BD24: 6507.029 | BE24: 8571.5739 | BF24: 6886.9695 | BG24: 7903.9352 | BH24: 7804.6783 | BI24: 8248.3548 | BJ24: 9719.7526 | BK24: 10337.875 | BL24: 9867.4687 | BM24: 12381.194 | BN24: 12049.683 | BO24: 11264.138 | BP24: 13758.078
A25: 26 | B25: Grants | C25: 247.88405 | D25: 371.04073 | E25: 318.90279 | F25: 279.23571 | G25: 131.45448 | H25: 337.66512 | I25: 286.54966 | J25: 359.74292 | K25: 301.33515 | L25: 364.05089 | M25: 214.19397 | N25: 440.94177 | O25: 239.20782 | P25: 242.93638 | Q25: 468.33108 | R25: 948.34327 | S25: 736.72197 | T25: 1011.8033 | U25: 577.78203 | V25: 777.35708 | W25: 678.27203 | X25: 702.7146 | Y25: 661.44935 | Z25: 679.9923 | AA25: 1385.4014 | AB25: 530.1839 | AC25: 765.1381 | AD25: 1921.6941 | AE25: 1216.0905 | AF25: 867.18101 | AG25: 862.18113 | AH25: 671.10281 | AI25: 549.14276 | AJ25: 418.63883 | AK25: 1302.4972 | AL25: 1383.8028 | AM25: 118.81554 | AN25: 160.21606 | AO25: 311.6735 | AP25: 1868.9288 | AQ25: 592.81217 | AR25: 870.28884 | AS25: 132.354 | AT25: 2416.6521 | AU25: 1398.144 | AV25: 1010.6397 | AW25: 1236.2153 | AX25: 1552.5381 | AY25: 168.82167 | AZ25: 345.01515 | BA25: 350.23022 | BB25: 1516.9354 | BC25: 669.91428 | BD25: 994.52082 | BE25: 598.75819 | BF25: 2604.3081 | BG25: 761.45916 | BH25: 1170.5453 | BI25: 713.84034 | BJ25: 959.75874 | BK25: 504.44138 | BL25: 1330.9721 | BM25: 936.7956 | BN25: 1039.4827 | BO25: 1658.7366 | BP25: 755.07444
A26: 27 | B26: Social benefits | C26: 111818.43 | D26: 112337.11 | E26: 125918.63 | F26: 128768.04 | G26: 122350.76 | H26: 128947.1 | I26: 141360.5 | J26: 141146.74 | K26: 138639.68 | L26: 146515.17 | M26: 159953.22 | N26: 159249.28 | O26: 157079.19 | P26: 162893.22 | Q26: 179671.36 | R26: 180129.94 | S26: 180391.02 | T26: 174396.39 | U26: 202848.48 | V26: 208954.23 | W26: 189836.22 | X26: 198488.62 | Y26: 212315.26 | Z26: 232166.76 | AA26: 222138.91 | AB26: 220354.08 | AC26: 237815.39 | AD26: 264067.75 | AE26: 244043.41 | AF26: 253019.81 | AG26: 259417.02 | AH26: 275761.26 | AI26: 260733.58 | AJ26: 263262.56 | AK26: 274326.3 | AL26: 288982.71 | AM26: 278846.8 | AN26: 279458.2 | AO26: 295087.8 | AP26: 312868.03 | AQ26: 288274.66 | AR26: 493284.26 | AS26: 406522.32 | AT26: 375224.41 | AU26: 300329.2 | AV26: 402937.68 | AW26: 320350.11 | AX26: 328829.92 | AY26: 359887.98 | AZ26: 407019.13 | BA26: 378845.87 | BB26: 389094.12 | BC26: 392821.43 | BD26: 488522 | BE26: 405572.92 | BF26: 468118.52 | BG26: 433289.53 | BH26: 520875.7 | BI26: 445392.77 | BJ26: 460648.78 | BK26: 458197.2 | BL26: 554371.45 | BM26: 502151.16 | BN26: 491811.17 | BO26: 526369.26 | BP26: 593860.97
A27: 28 | B27: Other expense | C27: 4810.3932 | D27: 12194.375 | E27: 11940.593 | F27: 14194.112 | G27: 6733.7856 | H27: 14825.606 | I27: 14340.709 | J27: 20842.198 | K27: 13031.734 | L27: 17374.592 | M27: 18583.748 | N27: 18449.987 | O27: 13521.947 | P27: 22501.629 | Q27: 17802.698 | R27: 22343.646 | S27: 17947.366 | T27: 21748.711 | U27: 24541.546 | V27: 23061.999 | W27: 17332.316 | X27: 25588.672 | Y27: 24522.484 | Z27: 28252.964 | AA27: 17434.399 | AB27: 27297.905 | AC27: 24527.083 | AD27: 32159.143 | AE27: 13530.186 | AF27: 28169.938 | AG27: 21984.997 | AH27: 26552.601 | AI27: 15109.769 | AJ27: 28249.353 | AK27: 28767.55 | AL27: 28779.702 | AM27: 16492.698 | AN27: 31579.917 | AO27: 25691.09 | AP27: 64953.899 | AQ27: 22521.512 | AR27: 28350.861 | AS27: 28263.007 | AT27: 33535.982 | AU27: 27276.505 | AV27: 40015.812 | AW27: 40768.761 | AX27: 52682.482 | AY27: 40544.957 | AZ27: 50967.92 | BA27: 53410.883 | BB27: 52943.092 | BC27: 54223.329 | BD27: 61931.902 | BE27: 56792.237 | BF27: 103445.85 | BG27: 61165.661 | BH27: 67839.007 | BI27: 72808.104 | BJ27: 78710.863 | BK27: 64804.225 | BL27: 74378.71 | BM27: 87874.976 | BN27: 85126.868 | BO27: 84911.886 | BP27: 77628.878
A28: 31 | B28: Net acquisition of nonfinancial assets | C28: 7660.2742 | D28: 12054.462 | E28: 15660.173 | F28: 22089.394 | G28: 2370.614 | H28: 6567.1593 | I28: 9817.5615 | J28: 17352.55 | K28: 3300.0796 | L28: 8078.2426 | M28: 10741.103 | N28: 17347.707 | O28: 762.21104 | P28: 7054.1842 | Q28: 10384.208 | R28: 24624.472 | S28: 7540.0909 | T28: 14606.838 | U28: 16293.858 | V28: 15126.466 | W28: -1362.3925 | X28: -1559.2362 | Y28: 1240.8366 | Z28: 9783.7551 | AA28: -4763.4713 | AB28: -2447.7411 | AC28: -2404.2139 | AD28: 3667.8578 | AE28: -10144.843 | AF28: -10197.142 | AG28: -7369.0792 | AH28: -1325.3317 | AI28: -9960.0476 | AJ28: -7393.3628 | AK28: -3632.5786 | AL28: 5241.9024 | AM28: -11987.411 | AN28: -10020.037 | AO28: -10678.866 | AP28: 2325.7659 | AQ28: -9984.7659 | AR28: -6660.6741 | AS28: -8454.5829 | AT28: 8825.6379 | AU28: -14158.23 | AV28: -13299.976 | AW28: -11085.265 | AX28: 8992.2718 | AY28: -7651.9663 | AZ28: 2874.2846 | BA28: 15939.901 | BB28: 28768.567 | BC28: -3886.5856 | BD28: 4344.3624 | BE28: 16508.388 | BF28: 28228.565 | BG28: -1041.2902 | BH28: 16017.276 | BI28: 28876.464 | BJ28: 31800.826 | BK28: -8590.9194 | BL28: 2456.7875 | BM28: 10230.188 | BN28: 29649.616 | BO28: 4975.9626 | BP28: 18185.562
A29: 311 | B29: Fixed assets 6/ | C29: n.d. | D29: n.d. | E29: n.d. | F29: n.d. | G29: n.d. | H29: n.d. | I29: n.d. | J29: n.d. | K29: n.d. | L29: n.d. | M29: n.d. | N29: n.d. | O29: n.d. | P29: n.d. | Q29: n.d. | R29: n.d. | S29: n.d. | T29: n.d. | U29: n.d. | V29: n.d. | W29: n.d. | X29: n.d. | Y29: n.d. | Z29: n.d. | AA29: n.d. | AB29: n.d. | AC29: n.d. | AD29: n.d. | AE29: n.d. | AF29: n.d. | AG29: n.d. | AH29: n.d. | AI29: n.d. | AJ29: n.d. | AK29: n.d. | AL29: n.d. | AM29: n.d. | AN29: n.d. | AO29: n.d. | AP29: n.d. | AQ29: n.d. | AR29: n.d. | AS29: n.d. | AT29: n.d. | AU29: n.d. | AV29: n.d. | AW29: n.d. | AX29: n.d. | AY29: -7640.6712 | AZ29: 3896.266 | BA29: 16302.019 | BB29: 29574.721 | BC29: -4121.6267 | BD29: 6911.5268 | BE29: 15996.39 | BF29: 28735.759 | BG29: -1371.2484 | BH29: 16073.987 | BI29: 28322.028 | BJ29: 36413.923 | BK29: -8464.741 | BL29: 2804.5539 | BM29: 9861.0799 | BN29: 29936.269 | BO29: 4777.3109 | BP29: 18649.687
A30: 312 | B30: Inventories | C30: n.d. | D30: n.d. | E30: n.d. | F30: n.d. | G30: n.d. | H30: n.d. | I30: n.d. | J30: n.d. | K30: n.d. | L30: n.d. | M30: n.d. | N30: n.d. | O30: n.d. | P30: n.d. | Q30: n.d. | R30: n.d. | S30: n.d. | T30: n.d. | U30: n.d. | V30: n.d. | W30: n.d. | X30: n.d. | Y30: n.d. | Z30: n.d. | AA30: n.d. | AB30: n.d. | AC30: n.d. | AD30: n.d. | AE30: n.d. | AF30: n.d. | AG30: n.d. | AH30: n.d. | AI30: n.d. | AJ30: n.d. | AK30: n.d. | AL30: n.d. | AM30: n.d. | AN30: n.d. | AO30: n.d. | AP30: n.d. | AQ30: n.d. | AR30: n.d. | AS30: n.d. | AT30: n.d. | AU30: n.d. | AV30: n.d. | AW30: n.d. | AX30: n.d. | AY30: 283.64613 | AZ30: 402.07283 | BA30: 622.02447 | BB30: 917.30566 | BC30: 427.04873 | BD30: 538.20892 | BE30: 678.90476 | BF30: 1551.4575 | BG30: 507.03753 | BH30: 576.24794 | BI30: 729.61308 | BJ30: 970.17301 | BK30: 263.33842 | BL30: 481.35329 | BM30: 616.75143 | BN30: 1130.7801 | BO30: 562.96267 | BP30: 464.65912
A31: 313 | B31: Valuables | C31: n.d. | D31: n.d. | E31: n.d. | F31: n.d. | G31: n.d. | H31: n.d. | I31: n.d. | J31: n.d. | K31: n.d. | L31: n.d. | M31: n.d. | N31: n.d. | O31: n.d. | P31: n.d. | Q31: n.d. | R31: n.d. | S31: n.d. | T31: n.d. | U31: n.d. | V31: n.d. | W31: n.d. | X31: n.d. | Y31: n.d. | Z31: n.d. | AA31: n.d. | AB31: n.d. | AC31: n.d. | AD31: n.d. | AE31: n.d. | AF31: n.d. | AG31: n.d. | AH31: n.d. | AI31: n.d. | AJ31: n.d. | AK31: n.d. | AL31: n.d. | AM31: n.d. | AN31: n.d. | AO31: n.d. | AP31: n.d. | AQ31: n.d. | AR31: n.d. | AS31: n.d. | AT31: n.d. | AU31: n.d. | AV31: n.d. | AW31: n.d. | AX31: n.d. | AY31: 4.4099901 | AZ31: 5.2544791 | BA31: 3.8562148 | BB31: 4.7020931 | BC31: 4.2473913 | BD31: 6.2783198 | BE31: 3.419102 | BF31: 5.9558578 | BG31: 6.031366 | BH31: 5.0804975 | BI31: 3.6522211 | BJ31: 3.5047744 | BK31: 2.6063276 | BL31: 4.1290769 | BM31: 6.8933927 | BN31: 4.2261205 | BO31: 4.4573793 | BP31: 2.6060109
A32: 314 | B32: Nonproduced assets | C32: n.d. | D32: n.d. | E32: n.d. | F32: n.d. | G32: n.d. | H32: n.d. | I32: n.d. | J32: n.d. | K32: n.d. | L32: n.d. | M32: n.d. | N32: n.d. | O32: n.d. | P32: n.d. | Q32: n.d. | R32: n.d. | S32: n.d. | T32: n.d. | U32: n.d. | V32: n.d. | W32: n.d. | X32: n.d. | Y32: n.d. | Z32: n.d. | AA32: n.d. | AB32: n.d. | AC32: n.d. | AD32: n.d. | AE32: n.d. | AF32: n.d. | AG32: n.d. | AH32: n.d. | AI32: n.d. | AJ32: n.d. | AK32: n.d. | AL32: n.d. | AM32: n.d. | AN32: n.d. | AO32: n.d. | AP32: n.d. | AQ32: n.d. | AR32: n.d. | AS32: n.d. | AT32: n.d. | AU32: n.d. | AV32: n.d. | AW32: n.d. | AX32: n.d. | AY32: -299.35121 | AZ32: -1429.3087 | BA32: -987.99865 | BB32: -1728.1619 | BC32: -196.25506 | BD32: -3111.6517 | BE32: -170.32627 | BF32: -2064.6073 | BG32: -183.11066 | BH32: -638.03883 | BI32: -178.82941 | BJ32: -5586.7748 | BK32: -392.12319 | BL32: -833.2487 | BM32: -254.53669 | BN32: -1421.6592 | BO32: -368.76833 | BP32: -931.39002
B33: Net lending (+)/borrowing(-) (1-2M) | C33: -11819.961 | D33: -31954.597 | E33: -38570.771 | F33: -56147.329 | G33: 9262.1457 | H33: -33170.474 | I33: -35993.127 | J33: -60672.167 | K33: 13296.694 | L33: -40822.87 | M33: -36470.842 | N33: -50751.843 | O33: 1043.198 | P33: -41381.589 | Q33: -77481.116 | R33: -65890.408 | S33: -10084.025 | T33: -68889.276 | U33: -143860.71 | V33: -139467.65 | W33: -85703.613 | X33: -81415.686 | Y33: -219561.95 | Z33: -169238.36 | AA33: -47720.273 | AB33: -117276.53 | AC33: -176925.92 | AD33: -158548.32 | AE33: -72066.662 | AF33: -146789 | AG33: -146563.33 | AH33: -164486.06 | AI33: -55890.839 | AJ33: -147783.19 | AK33: -159363.66 | AL33: -132729.3 | AM33: -53651.348 | AN33: -112136.59 | AO33: -107032.63 | AP33: -91570.479 | AQ33: 6628.9976 | AR33: -448057.72 | AS33: -246768.73 | AT33: -201825.08 | AU33: 51229.91 | AV33: -161474.78 | AW33: -26776.268 | AX33: -101195.05 | AY33: 19134.995 | AZ33: -105586.3 | BA33: -121096.23 | BB33: -194257.05 | BC33: -68321.914 | BD33: -244965.57 | BE33: -183714.97 | BF33: -337779.93 | BG33: -54781.647 | BH33: -261695.77 | BI33: -229443.65 | BJ33: -190542.93 | BK33: -53052.195 | BL33: -281899.3 | BM33: -320019.07 | BN33: -281263.84 | BO33: -187954.27 | BP33: -315648.25
B34: Primary Net lending (+)/borrowing(-) ((1-1411)-(2M-24)) | C34: 36526.981 | D34: 17791.32 | E34: 10164.552 | F34: 1383.0812 | G34: 71773.404 | H34: 29300.485 | I34: 22386.766 | J34: 1449.078 | K34: 71138.07 | L34: 15311.605 | M34: 18034.637 | N34: 9193.0976 | O34: 68843.839 | P34: 21778.717 | Q34: -13981.377 | R34: 12453.663 | S34: 49272.373 | T34: -5997.0093 | U34: -53233.44 | V34: -33237.705 | W34: 65109.687 | X34: 922.70512 | Y34: -33383.26 | Z34: -75379.567 | AA34: 42802.72 | AB34: -31615.307 | AC34: -63747.484 | AD34: -59164.633 | AE34: 39522.628 | AF34: -42555.337 | AG34: -44978.115 | AH34: -55765.297 | AI34: 45542.349 | AJ34: -12170.794 | AK34: -41173.975 | AL34: -51109.012 | AM34: 50145.656 | AN34: -21168.062 | AO34: -29403.153 | AP34: -3684.4636 | AQ34: 80519.992 | AR34: -389057.1 | AS34: -164477.1 | AT34: -102411.4 | AU34: 135350.83 | AV34: -73420.584 | AW34: 83987.536 | AX34: 33945.176 | AY34: 162928.96 | AZ34: 40041.98 | BA34: -21974.02 | BB34: -51795.114 | BC34: 91526.342 | BD34: -106870.3 | BE34: -32261.413 | BF34: -180529.71 | BG34: 112247.68 | BH34: -93329.1 | BI34: -59044.354 | BJ34: 5781.6233 | BK34: 161745.69 | BL34: -65790.401 | BM34: -77853.887 | BN34: -25962.395 | BO34: 66376.823 | BP34: -46560.554
A35: Memo
A36: 1. | B36: Gross fixed capital formation (GFCF) | C36: n.d. | D36: n.d. | E36: n.d. | F36: n.d. | G36: n.d. | H36: n.d. | I36: n.d. | J36: n.d. | K36: n.d. | L36: n.d. | M36: n.d. | N36: n.d. | O36: n.d. | P36: n.d. | Q36: n.d. | R36: n.d. | S36: n.d. | T36: n.d. | U36: n.d. | V36: n.d. | W36: n.d. | X36: n.d. | Y36: n.d. | Z36: n.d. | AA36: n.d. | AB36: n.d. | AC36: n.d. | AD36: n.d. | AE36: n.d. | AF36: n.d. | AG36: n.d. | AH36: n.d. | AI36: n.d. | AJ36: n.d. | AK36: n.d. | AL36: n.d. | AM36: n.d. | AN36: n.d. | AO36: n.d. | AP36: n.d. | AQ36: n.d. | AR36: n.d. | AS36: n.d. | AT36: n.d. | AU36: n.d. | AV36: n.d. | AW36: n.d. | AX36: n.d. | AY36: 29857.125 | AZ36: 42748.718 | BA36: 56115.055 | BB36: 69555.437 | BC36: 37087.354 | BD36: 48471.449 | BE36: 57920.283 | BF36: 70823.963 | BG36: 42893.925 | BH36: 60955.379 | BI36: 72267.6 | BJ36: 80988.795 | BK36: 38305.893 | BL36: 50152.623 | BM36: 58025.547 | BN36: 78449.785 | BO36: 49291.417 | BP36: 64109.836
A37: 2. | B37: Gross operating balance - GOB (1-2+23) | C37: 8135.3129 | D37: -7287.1354 | E37: -10089.598 | F37: -21127.934 | G37: 25402.656 | H37: -12434.421 | I37: -11783.674 | J37: -28804.726 | K37: 31883.774 | L37: -17091.627 | M37: -9789.7387 | N37: -17347.136 | O37: 18792.409 | P37: -16908.405 | Q37: -49330.909 | R37: -23344.936 | S37: 16446.066 | T37: -34843.438 | U37: -107812.86 | V37: -104445.19 | W37: -65835.006 | X37: -61300.922 | Y37: -196135.12 | Z37: -136956.6 | AA37: -28999.397 | AB37: -95753.184 | AC37: -155009.32 | AD37: -130458.72 | AE37: -57365.999 | AF37: -131876.99 | AG37: -128281.25 | AH37: -140014.21 | AI37: -39782.316 | AJ37: -128811.61 | AK37: -136162.85 | AL37: -100043.31 | AM37: -36797.853 | AN37: -93816.17 | AO37: -89061.736 | AP37: -60035.836 | AQ37: 26129.081 | AR37: -424865.1 | AS37: -224554.13 | AT37: -161052.76 | AU37: 70580.421 | AV37: -139653.76 | AW37: -1569.0777 | AX37: -55255.97 | AY37: 48980.825 | AZ37: -63859.567 | BA37: -65343.298 | BB37: -125507.77 | BC37: -30999.519 | BD37: -199061.29 | BE37: -125282.69 | BF37: -267463.16 | BG37: -11557.764 | BH37: -200797.1 | BI37: -156621.62 | BJ37: -114167.23 | BK37: -14872.48 | BL37: -232094.44 | BM37: -261624.41 | BN37: -203100.71 | BO37: -138464.2 | BP37: -252002.54
A38: 3. | B38: Net operating balance - NOB (1-2) | C38: -4159.6871 | D38: -19900.135 | E38: -22910.598 | F38: -34057.934 | G38: 11632.76 | H38: -26603.315 | I38: -26175.566 | J38: -43319.617 | K38: 16596.774 | L38: -32744.627 | M38: -25729.739 | N38: -33404.136 | O38: 1805.4091 | P38: -34327.405 | Q38: -67096.909 | R38: -41265.936 | S38: -2543.9343 | T38: -54282.438 | U38: -127566.86 | V38: -124341.19 | W38: -87066.006 | X38: -82974.922 | Y38: -218321.12 | Z38: -159454.6 | AA38: -52483.744 | AB38: -119724.28 | AC38: -179330.13 | AD38: -154880.47 | AE38: -82211.505 | AF38: -156986.14 | AG38: -153932.41 | AH38: -165811.4 | AI38: -65850.886 | AJ38: -155176.56 | AK38: -162996.24 | AL38: -127487.4 | AM38: -65638.759 | AN38: -122156.63 | AO38: -117711.49 | AP38: -89244.713 | AQ38: -3355.7683 | AR38: -454718.39 | AS38: -255223.31 | AT38: -192999.44 | AU38: 37071.68 | AV38: -174774.76 | AW38: -37861.534 | AX38: -92202.777 | AY38: 11483.029 | AZ38: -102712.02 | BA38: -105156.33 | BB38: -165488.49 | BC38: -72208.499 | BD38: -240621.21 | BE38: -167206.58 | BF38: -309551.36 | BG38: -55822.937 | BH38: -245678.5 | BI38: -200567.19 | BJ38: -158742.1 | BK38: -61643.114 | BL38: -279442.51 | BM38: -309788.88 | BN38: -251614.22 | BO38: -182978.31 | BP38: -297462.69
A40: Source: STN, IBGE, IPEA e BCB
A41: n.d.: Data not available
A42: Obs.1: Data subject to change.
...

Sheet 1.2.a
A1: Table 1.2. General Government Statement of Government Operations - Brazil - Time Series - Quarterly
A2: GDP %
A4: Statement of Government Operations - General Government 1/ | C4: 2010-I | D4: 2010-II | E4: 2010-III | F4: 2010-IV | G4: 2011-I | H4: 2011-II | I4: 2011-III | J4: 2011-IV | K4: 2012-I | L4: 2012-II | M4: 2012-III | N4: 2012-IV | O4: 2013-I | P4: 2013-II | Q4: 2013-III | R4: 2013-IV | S4: 2014-I | T4: 2014-II | U4: 2014-III | V4: 2014-IV | W4: 2015-I | X4: 2015-II | Y4: 2015-III | Z4: 2015-IV | AA4: 2016-I | AB4: 2016-II | AC4: 2016-III | AD4: 2016-IV | AE4: 2017-I | AF4: 2017-II | AG4: 2017-III | AH4: 2017-IV | AI4: 2018-I | AJ4: 2018-II | AK4: 2018-III | AL4: 2018-IV | AM4: 2019-I | AN4: 2019-II | AO4: 2019-III | AP4: 2019-IV | AQ4: 2020-I | AR4: 2020-II | AS4: 2020-III | AT4: 2020-IV | AU4: 2021-I | AV4: 2021-II | AW4: 2021-III | AX4: 2021-IV | AY4: 2022-I | AZ4: 2022-II | BA4: 2022-III | BB4: 2022-IV | BC4: 2023-I | BD4: 2023-II | BE4: 2023-III | BF4: 2023-IV | BG4: 2024-I | BH4: 2024-II | BI4: 2024-III | BJ4: 2024-IV | BK4: 2025-I | BL4: 2025-II | BM4: 2025-III | BN4: 2025-IV | BO4: 2026-I | BP4: 2026-II
A5: 1 | B5: Revenue 2/ | C5: 0.37439662 | D5: 0.35518429 | E5: 0.34492831 | F5: 0.36468625 | G5: 0.3889464 | H5: 0.35857789 | I5: 0.35370442 | J5: 0.36509438 | K5: 0.39278365 | L5: 0.35687638 | M5: 0.35668854 | N5: 0.37206063 | O5: 0.3787721 | P5: 0.35493644 | Q5: 0.33565103 | R5: 0.38419465 | S5: 0.38148636 | T5: 0.34236918 | U5: 0.32995598 | V5: 0.353712 | W5: 0.38043454 | X5: 0.37941902 | Y5: 0.34438348 | Z5: 0.37299198 | AA5: 0.41932374 | AB5: 0.36072251 | AC5: 0.33736088 | AD5: 0.38503292 | AE5: 0.38368535 | AF5: 0.35044235 | AG5: 0.34360833 | AH5: 0.37253522 | AI5: 0.38469728 | AJ5: 0.35972082 | AK5: 0.35589657 | AL5: 0.3838522 | AM5: 0.40102769 | AN5: 0.35963611 | AO5: 0.3472317 | AP5: 0.416431 | AQ5: 0.39617638 | AR5: 0.27725161 | AS5: 0.32436734 | AT5: 0.37491436 | AU5: 0.38139124 | AV5: 0.34862478 | AW5: 0.37231247 | AX5: 0.40514845 | AY5: 0.42841331 | AZ5: 0.40453875 | BA5: 0.36459904 | BB5: 0.38494266 | BC5: 0.40246567 | BD5: 0.36849377 | BE5: 0.35896543 | BF5: 0.37881154 | BG5: 0.41602208 | BH5: 0.3816605 | BI5: 0.36302124 | BJ5: 0.41660072 | BK5: 0.41901641 | BL5: 0.38257976 | BM5: 0.37169696 | BN5: 0.41455744 | BO5: 0.42071027 | BP5: 0.40176418
A6: 11 | B6: Taxes | C6: 0.25580346 | D6: 0.23435765 | E6: 0.21999598 | F6: 0.23441416 | G6: 0.26645208 | H6: 0.2364055 | I6: 0.22927913 | J6: 0.23442663 | K6: 0.26536127 | L6: 0.23432889 | M6: 0.21974029 | N6: 0.22897098 | O6: 0.25733259 | P6: 0.2298794 | Q6: 0.21348791 | R6: 0.23991099 | S6: 0.25441649 | T6: 0.22334803 | U6: 0.20880018 | V6: 0.22487022 | W6: 0.25599356 | X6: 0.23011443 | Y6: 0.21302323 | Z6: 0.22173763 | AA6: 0.25793797 | AB6: 0.22437269 | AC6: 0.20792474 | AD6: 0.23346776 | AE6: 0.25503391 | AF6: 0.22381944 | AG6: 0.21339735 | AH6: 0.23113073 | AI6: 0.25987768 | AJ6: 0.23230238 | AK6: 0.22128739 | AL6: 0.23194765 | AM6: 0.26548729 | AN6: 0.22957547 | AO6: 0.21931777 | AP6: 0.23129984 | AQ6: 0.26081775 | AR6: 0.18248662 | AS6: 0.21117441 | AT6: 0.24163268 | AU6: 0.25733334 | AV6: 0.22682821 | AW6: 0.23631338 | AX6: 0.25436259 | AY6: 0.28481776 | AZ6: 0.24349573 | BA6: 0.22546418 | BB6: 0.23542174 | BC6: 0.26164905 | BD6: 0.22982689 | BE6: 0.21865712 | BF6: 0.23631196 | BG6: 0.2826738 | BH6: 0.24627196 | BI6: 0.23722961 | BJ6: 0.25715095 | BK6: 0.28213755 | BL6: 0.24684093 | BM6: 0.23708975 | BN6: 0.2630938 | BO6: 0.28123494 | BP6: 0.25769559
A7: 111 | B7: Taxes on income, profits, and capital gains | C7: 0.073021501 | D7: 0.067639405 | E7: 0.057569965 | F7: 0.068515348 | G7: 0.080528305 | H7: 0.07268292 | I7: 0.063863374 | J7: 0.070740374 | K7: 0.083883944 | L7: 0.068856417 | M7: 0.052430743 | N7: 0.06621909 | O7: 0.080194148 | P7: 0.067020895 | Q7: 0.054192059 | R7: 0.070166773 | S7: 0.077238615 | T7: 0.067540733 | U7: 0.055838096 | V7: 0.064562982 | W7: 0.079636462 | X7: 0.069921407 | Y7: 0.054695223 | Z7: 0.063925434 | AA7: 0.078620431 | AB7: 0.070456114 | AC7: 0.05741042 | AD7: 0.082588926 | AE7: 0.083594064 | AF7: 0.070696845 | AG7: 0.057857467 | AH7: 0.067107976 | AI7: 0.083239532 | AJ7: 0.069812631 | AK7: 0.058106368 | AL7: 0.0697424 | AM7: 0.087387233 | AN7: 0.06918384 | AO7: 0.061751557 | AP7: 0.072485176 | AQ7: 0.085573366 | AR7: 0.064891869 | AS7: 0.053021959 | AT7: 0.073166325 | AU7: 0.084852105 | AV7: 0.07251366 | AW7: 0.068790043 | AX7: 0.083785807 | AY7: 0.10507079 | AZ7: 0.08905422 | BA7: 0.076865188 | BB7: 0.09131287 | BC7: 0.10227605 | BD7: 0.083787651 | BE7: 0.069693098 | BF7: 0.088802639 | BG7: 0.10723964 | BH7: 0.087387645 | BI7: 0.075066787 | BJ7: 0.093243699 | BK7: 0.10490104 | BL7: 0.089943721 | BM7: 0.07644595 | BN7: 0.096088249 | BO7: 0.10360656 | BP7: 0.092010062
