Workbook

Sheet Índice
B3: SECRETARIA DO TESOURO NACIONAL
B4: RGF em Foco - 3º quadrimestre de 2022 - Estados e Distrito Federal
B5: Dados extraídos do RGF dos Estados e Distrito Federal - 3º quadrimestre
B6: Fonte: SICONFI
B7: Data da extração: 07/02/23, das 8h às 8:30h
A9: 1. | B9: Composição das Despesas de Pessoal
A10: 2. | B10: Gráfico 1 - Despesa Total com Pessoal em relação à RCL
A11: 3. | B11: Gráfico 2 - Composição da Despesa Bruta com Pessoal
A12: 4. | B12: Gráfico 3 - Inativos e Pensionistas com Recursos Vinculados /Pessoal Inativo e Pensionistas
A13: 5. | B13: Gráfico 4 - Despesas com pessoal não computadas em relação à RCL
A14: 6. | B14: Gráfico 5 - Dívida Consolidada Líquida - DCL
A15: 7. | B15: Gráfico 6 Composição da Dívida Consolidada Bruta
A16: 8. | B16: Gráfico 7 - Deduções da Dívida Consolidada Bruta
A17: 9. | B17: Gráfico 8 - Composição da Dívida Contratual
A18: 10. | B18: Gráfico 9 - Precatórios
A19: 11. | B19: Gráfico 10 - Operações de Crédito
A20: 12. | B20: Gráfico 11 - Disponibilidade de Caixa líquida após a inscrição em RAP não processados do exercício
A21: 13. | B21: Gráfico 12 - Restos a Pagar

Sheet 1.
B2: Clique aqui para voltar ao índice
A4: SECRETARIA DO TESOURO NACIONAL
A5: Tabela 1. Composição das Despesas de Pessoal
A6: Fonte: SICONFI
A7: RGF 3º quadrimestre de 2022
A8: Anexo 01 - Demonstrativo da Despesas Com Pessoal
A9: R$ - Valores Correntes
A10: (Os dados abaixo correspondem ao somatório das despesas de pessoal de todos os poderes: Executivo, Legislativo, incluindo os Tribunais de Contas, Judiciário e Ministérios Públicos dos Estados e DF. Os dados do RGF das Defensorias Públicas Estaduais não devem ser incluídos no somatório pois já estão incluídos nos valores do poder executivo de cada ente.)
A12: UF | B12: TOTAL (ÚLTIMOS 12 MESES) (a) | J12: RECEITA CORRENTE LÍQUIDA AJUSTADA PARA CÁLCULO DOS LIMITES DA DESPESA COM PESSOAL (VII) = (IV - V - VI) | K12: Cálculo das Despesas de Pessoal
B13: DESPESA BRUTA COM PESSOAL (I) | C13: DESPESA LÍQUIDA COM PESSOAL (III) = (I - II) | D13: DESPESAS NÃO COMPUTADAS (§ 1º do art. 19 da LRF) (II) | E13: Inativos e Pensionistas com Recursos Vinculados | F13: Outras Despesas de Pessoal decorrentes de Contratos de Terceirização (§ 1º do art. 18 da LRF) | G13: Despesa com Pessoal não Executada Orçamentariamente | H13: Pessoal Ativo | I13: Pessoal Inativo e Pensionistas | K13: Despesa Bruta com pessoal/RCL | L13: Despesas não computadas / RCL | M13: Ativo / Despesa Bruta | N13: Inativo e Pensionistas / Despesa Bruta | O13: Terceirização / Despesa Bruta com Pessoal | P13: Não Executada Orçamentariamente/ Despesa Bruta | Q13: Inativos e Pensionistas com Recursos Vinculados / Inativos e Pensionistas
A14: AC | B14: 4.9249604e+09 | C14: 4.212334e+09 | D14: 7.1262638e+08 | E14: 5.7518573e+08 | F14: 58437189 | G14: 16068087 | H14: 3.5165617e+09 | I14: 1.3338934e+09 | J14: 7.9683193e+09 | K14: =B14/J14 -> 0.61806765 | L14: =D14/J14 -> 0.089432458 | M14: =H14/B14 -> 0.71402843 | N14: =I14/B14 -> 0.27084347 | O14: =F14/B14 -> 0.011865515 | P14: =G14/B14 -> 0.0032625819 | Q14: =E14/I14 -> 0.43120818
A15: AL | B15: 7.6220059e+09 | C15: 6.4140491e+09 | D15: 1.2079568e+09 | E15: 9.7068369e+08 | F15: 2.8874494e+08 | H15: 4.5231641e+09 | I15: 2.8100969e+09 | J15: 13148926097 | K15: =B15/J15 -> 0.57966756 | L15: =D15/J15 -> 0.091867332 | M15: =H15/B15 -> 0.59343487 | N15: =I15/B15 -> 0.36868206 | O15: =F15/B15 -> 0.037883064 | P15: =G15/B15 -> 0 | Q15: =E15/I15 -> 0.34542713
A16: AM | B16: 1.2132622e+10 | C16: 1.0652237e+10 | D16: 1.4803841e+09 | E16: 1.0473703e+09 | F16: 4.3466643e+08 | H16: 8.6509563e+09 | I16: 3.0469988e+09 | J16: 2.240183e+10 | K16: =B16/J16 -> 0.54159063 | L16: =D16/J16 -> 0.066083176 | M16: =H16/B16 -> 0.71303273 | N16: =I16/B16 -> 0.25114101 | O16: =F16/B16 -> 0.035826258 | P16: =G16/B16 -> 0 | Q16: =E16/I16 -> 0.34373834
A17: AP | B17: 3.5072094e+09 | C17: 3.356054e+09 | D17: 1.5115531e+08 | E17: 1.0112606e+08 | H17: 3.3862895e+09 | I17: 1.2091988e+08 | J17: 7.2420226e+09 | K17: =B17/J17 -> 0.48428589 | L17: =D17/J17 -> 0.020871975 | M17: =H17/B17 -> 0.96552248 | N17: =I17/B17 -> 0.034477521 | O17: =F17/B17 -> 0 | P17: =G17/B17 -> 0 | Q17: =E17/I17 -> 0.83630627
A18: BA | B18: 3.0111891e+10 | C18: 2.4317218e+10 | D18: 5.7946731e+09 | E18: 4.4993964e+09 | F18: 3.1964526e+08 | H18: 1.9247469e+10 | I18: 1.0544776e+10 | J18: 5.5298488e+10 | K18: =B18/J18 -> 0.54453371 | L18: =D18/J18 -> 0.104789 | M18: =H18/B18 -> 0.63919829 | N18: =I18/B18 -> 0.35018646 | O18: =F18/B18 -> 0.01061525 | P18: =G18/B18 -> 0 | Q18: =E18/I18 -> 0.42669434
A19: CE | B19: 1.8484297e+10 | C19: 1.5172881e+10 | D19: 3.3114168e+09 | E19: 2.9913562e+09 | F19: 8.7964859e+08 | G19: 1940998.3 | H19: 1.3137764e+10 | I19: 4.4649438e+09 | J19: 3.0275604e+10 | K19: =B19/J19 -> 0.61053439 | L19: =D19/J19 -> 0.10937575 | M19: =H19/B19 -> 0.71075268 | N19: =I19/B19 -> 0.24155335 | O19: =F19/B19 -> 0.047588966 | P19: =G19/B19 -> 0.00010500796 | Q19: =E19/I19 -> 0.66996503
A20: DF | B20: 1.9039141e+10 | C20: 1.3564388e+10 | D20: 5.474753e+09 | E20: 4.6492397e+09 | F20: 1.0591027e+09 | H20: 1.3200938e+10 | I20: 4.7791004e+09 | J20: 2.9377546e+10 | K20: =B20/J20 -> 0.6480848 | L20: =D20/J20 -> 0.18635841 | M20: =H20/B20 -> 0.69335786 | N20: =I20/B20 -> 0.25101449 | O20: =F20/B20 -> 0.05562765 | P20: =G20/B20 -> 0 | Q20: =E20/I20 -> 0.97282737
A21: ES | B21: 1.0749685e+10 | C21: 9.6338938e+09 | D21: 1.1157916e+09 | E21: 7.5005268e+08 | F21: 6.5010612e+08 | H21: 6.1782682e+09 | I21: 3.9213111e+09 | J21: 2.1193712e+10 | K21: =B21/J21 -> 0.50721106 | L21: =D21/J21 -> 0.052647294 | M21: =H21/B21 -> 0.57473944 | N21: =I21/B21 -> 0.3647838 | O21: =F21/B21 -> 0.060476758 | P21: =G21/B21 -> 0 | Q21: =E21/I21 -> 0.191276
A22: GO | B22: 2.1902561e+10 | C22: 1.7980915e+10 | D22: 3.9216462e+09 | E22: 2.7128195e+09 | F22: 8.6996745e+08 | H22: 1.3037842e+10 | I22: 7.9947517e+09 | J22: 3.7199051e+10 | K22: =B22/J22 -> 0.58879355 | L22: =D22/J22 -> 0.10542329 | M22: =H22/B22 -> 0.59526564 | N22: =I22/B22 -> 0.36501447 | O22: =F22/B22 -> 0.039719896 | P22: =G22/B22 -> 0 | Q22: =E22/I22 -> 0.33932505
A23: MA | B23: 1.1593452e+10 | C23: 8.9428058e+09 | D23: 2.650646e+09 | E23: 2.4873574e+09 | F23: 126596.3 | G23: 30369626 | H23: 8.4609853e+09 | I23: 3.1019703e+09 | J23: 2.2134639e+10 | K23: =B23/J23 -> 0.52376964 | L23: =D23/J23 -> 0.11975104 | M23: =H23/B23 -> 0.72980726 | N23: =I23/B23 -> 0.26756227 | O23: =F23/B23 -> 1.0919638e-05 | P23: =G23/B23 -> 0.00261955 | Q23: =E23/I23 -> 0.80186371
A24: MG | B24: 6.4082714e+10 | C24: 5.211484e+10 | D24: 1.1967873e+10 | E24: 9.7649069e+09 | F24: 9600.33 | G24: 2.0659805e+08 | H24: 3.522381e+10 | I24: 2.8652296e+10 | J24: 9.1403877e+10 | K24: =B24/J24 -> 0.70109404 | L24: =D24/J24 -> 0.13093398 | M24: =H24/B24 -> 0.54966165 | N24: =I24/B24 -> 0.44711428 | O24: =F24/B24 -> 1.4981154e-07 | P24: =G24/B24 -> 0.0032239279 | Q24: =E24/I24 -> 0.34080713
A25: MS | B25: 1.2597133e+10 | C25: 8.6651715e+09 | D25: 3.9319613e+09 | E25: 3.6635821e+09 | H25: 8.331681e+09 | I25: 4.2654518e+09 | J25: 1.835265e+10 | K25: =B25/J25 -> 0.68639312 | L25: =D25/J25 -> 0.21424488 | M25: =H25/B25 -> 0.66139503 | N25: =I25/B25 -> 0.33860497 | O25: =F25/B25 -> 0 | P25: =G25/B25 -> 0 | Q25: =E25/I25 -> 0.85889661
A26: MT | B26: 1.669444e+10 | C26: 1.2551508e+10 | D26: 4.1429327e+09 | E26: 3.4474543e+09 | F26: 437588.18 | H26: 1.2053832e+10 | I26: 4.6401711e+09 | J26: 2.9286462e+10 | K26: =B26/J26 -> 0.5700395 | L26: =D26/J26 -> 0.14146238 | M26: =H26/B26 -> 0.7220267 | N26: =I26/B26 -> 0.27794709 | O26: =F26/B26 -> 2.6211611e-05 | P26: =G26/B26 -> 0 | Q26: =E26/I26 -> 0.74295845
A27: PA | B27: 2.0180862e+10 | C27: 1.5826846e+10 | D27: 4.3540158e+09 | E27: 3.614096e+09 | F27: 118256.38 | H27: 1.4446842e+10 | I27: 5.7339011e+09 | J27: 3.4198302e+10 | K27: =B27/J27 -> 0.59011297 | L27: =D27/J27 -> 0.12731672 | M27: =H27/B27 -> 0.71586846 | N27: =I27/B27 -> 0.28412568 | O27: =F27/B27 -> 5.8598281e-06 | P27: =G27/B27 -> 0 | Q27: =E27/I27 -> 0.63030317
A28: PB | B28: 9.7375032e+09 | C28: 8.4380552e+09 | D28: 1.299448e+09 | E28: 1.1994088e+09 | H28: 6.7405279e+09 | I28: 2.9969753e+09 | J28: 1.5755878e+10 | K28: =B28/J28 -> 0.61802352 | L28: =D28/J28 -> 0.082473856 | M28: =H28/B28 -> 0.69222343 | N28: =I28/B28 -> 0.30777657 | O28: =F28/B28 -> 0 | P28: =G28/B28 -> 0 | Q28: =E28/I28 -> 0.40020644
A29: PE | B29: 2.2274785e+10 | C29: 1.8810918e+10 | D29: 3.4638678e+09 | E29: 3.1822644e+09 | H29: 1.4321869e+10 | I29: 7.9529167e+09 | J29: 3.6697903e+10 | K29: =B29/J29 -> 0.60697706 | L29: =D29/J29 -> 0.094388712 | M29: =H29/B29 -> 0.64296327 | N29: =I29/B29 -> 0.35703673 | O29: =F29/B29 -> 0 | P29: =G29/B29 -> 0 | Q29: =E29/I29 -> 0.40013803
A30: PI | B30: 8.9843782e+09 | C30: 6.6998842e+09 | D30: 2.284494e+09 | E30: 2.0561402e+09 | F30: 1.9831029e+08 | H30: 6.1157057e+09 | I30: 2.6703622e+09 | J30: 1.3495208e+10 | K30: =B30/J30 -> 0.66574583 | L30: =D30/J30 -> 0.16928187 | M30: =H30/B30 -> 0.68070439 | N30: =I30/B30 -> 0.29722282 | O30: =F30/B30 -> 0.022072789 | P30: =G30/B30 -> 0 | Q30: =E30/I30 -> 0.7699855
A31: PR | B31: 3.2267387e+10 | C31: 2.6230615e+10 | D31: 6.0367719e+09 | E31: 5.7638754e+09 | F31: 3.5390625e+08 | H31: 1.9923758e+10 | I31: 1.1989723e+10 | J31: 5.5743548e+10 | K31: =B31/J31 -> 0.5788542 | L31: =D31/J31 -> 0.10829544 | M31: =H31/B31 -> 0.61745805 | N31: =I31/B31 -> 0.37157403 | O31: =F31/B31 -> 0.010967924 | P31: =G31/B31 -> 0 | Q31: =E31/I31 -> 0.48073466
A32: RJ | B32: 5.7967759e+10 | C32: 4.7024033e+10 | D32: 1.0943726e+10 | E32: 7.1264122e+09 | F32: 1.9004337e+09 | H32: 3.1401507e+10 | I32: 2.4665818e+10 | J32: 8.9631905e+10 | K32: =B32/J32 -> 0.6467313 | L32: =D32/J32 -> 0.12209632 | M32: =H32/B32 -> 0.54170642 | N32: =I32/B32 -> 0.42550926 | O32: =F32/B32 -> 0.032784322 | P32: =G32/B32 -> 0 | Q32: =E32/I32 -> 0.28891854
A33: RN | B33: 1.3048011e+10 | C33: 8.8708839e+09 | D33: 4.177127e+09 | E33: 3.4071852e+09 | F33: 1.3839029e+08 | H33: 8.101928e+09 | I33: 4.8076927e+09 | J33: 1.4229967e+10 | K33: =B33/J33 -> 0.91693896 | L33: =D33/J33 -> 0.29354439 | M33: =H33/B33 -> 0.62093203 | N33: =I33/B33 -> 0.36846173 | O33: =F33/B33 -> 0.010606236 | P33: =G33/B33 -> 0 | Q33: =E33/I33 -> 0.70869445
A34: RO | B34: 6.6891242e+09 | C34: 5.4048977e+09 | D34: 1.2842265e+09 | E34: 1.0077193e+09 | F34: 36770014 | G34: 8911898.4 | H34: 5.4568488e+09 | I34: 1.1865935e+09 | J34: 1.1597477e+10 | K34: =B34/J34 -> 0.57677408 | L34: =D34/J34 -> 0.11073326 | M34: =H34/B34 -> 0.81577926 | N34: =I34/B34 -> 0.17739146 | O34: =F34/B34 -> 0.0054969848 | P34: =G34/B34 -> 0.0013322967 | Q34: =E34/I34 -> 0.84925401
A35: RR | B35: 3.7605445e+09 | C35: 3.39288e+09 | D35: 3.6766457e+08 | E35: 1.5901782e+08 | F35: 853489.91 | H35: 3.5939434e+09 | I35: 1.6574763e+08 | J35: 6.374313e+09 | K35: =B35/J35 -> 0.58995291 | L35: =D35/J35 -> 0.057679089 | M35: =H35/B35 -> 0.95569761 | N35: =I35/B35 -> 0.044075434 | O35: =F35/B35 -> 0.00022695913 | P35: =G35/B35 -> 0 | Q35: =E35/I35 -> 0.95939722
A36: RS | B36: 3.8936e+10 | C36: 2.8348567e+10 | D36: 1.0587433e+10 | E36: 8.8234058e+09 | F36: 2.0298109e+08 | H36: 2.0322015e+10 | I36: 1.8411004e+10 | J36: 5.0491712e+10 | K36: =B36/J36 -> 0.77113646 | L36: =D36/J36 -> 0.20968656 | M36: =H36/B36 -> 0.52193381 | N36: =I36/B36 -> 0.47285299 | O36: =F36/B36 -> 0.0052131984 | P36: =G36/B36 -> 0 | Q36: =E36/I36 -> 0.47924632
A37: SC | B37: 2.3925629e+10 | C37: 1.9090413e+10 | D37: 4.8352155e+09 | E37: 3.4559487e+09 | F37: 3.7529463e+08 | H37: 1.4558174e+10 | I37: 8.9921602e+09 | J37: 3.8223585e+10 | K37: =B37/J37 -> 0.62593889 | L37: =D37/J37 -> 0.12649822 | M37: =H37/B37 -> 0.60847613 | N37: =I37/B37 -> 0.37583799 | O37: =F37/B37 -> 0.015685884 | P37: =G37/B37 -> 0 | Q37: =E37/I37 -> 0.38432908
A38: SE | B38: 7.4483319e+09 | C38: 5.9507118e+09 | D38: 1.4976201e+09 | E38: 1.3656132e+09 | G38: 1485906.1 | H38: 4.7981997e+09 | I38: 2.6486463e+09 | J38: 1.126651e+10 | K38: =B38/J38 -> 0.66110374 | L38: =D38/J38 -> 0.13292671 | M38: =H38/B38 -> 0.64419789 | N38: =I38/B38 -> 0.35560261 | O38: =F38/B38 -> 0 | P38: =G38/B38 -> 0.00019949515 | Q38: =E38/I38 -> 0.51558912
A39: SP | B39: 1.4156141e+11 | C39: 1.0206948e+11 | D39: 3.9491932e+10 | E39: 3.8367744e+10 | H39: 8.2151961e+10 | I39: 5.9409454e+10 | J39: 2.3073488e+11 | K39: =B39/J39 -> 0.61352413 | L39: =D39/J39 -> 0.17115718 | M39: =H39/B39 -> 0.58032735 | N39: =I39/B39 -> 0.41967265 | O39: =F39/B39 -> 0 | P39: =G39/B39 -> 0 | Q39: =E39/I39 -> 0.64581883
A40: TO | B40: 8.0130295e+09 | C40: 5.7076984e+09 | D40: 2.305331e+09 | E40: 1.6124264e+09 | G40: 24377519 | H40: 6.1636734e+09 | I40: 1.8249785e+09 | J40: 1.2104468e+10 | K40: =B40/J40 -> 0.66198941 | L40: =D40/J40 -> 0.1904529 | M40: =H40/B40 -> 0.76920638 | N40: =I40/B40 -> 0.22775138 | O40: =F40/B40 -> 0 | P40: =G40/B40 -> 0.003042235 | Q40: =E40/I40 -> 0.88353172

Sheet 2.
B2: Clique aqui para voltar ao índice
A4: SECRETARIA DO TESOURO NACIONAL
A5: Tabela 2. Gráfico 1 - Despesa Total com Pessoal em relação à RCL
A6: Fonte: SICONFI
A7: ='1.'!A7 -> RGF 3º quadrimestre de 2022
A8: Anexo 01 - Demonstrativo da Despesas Com Pessoal
A9: R$ - Valores Correntes
A10: (Os dados abaixo correspondem ao somatório das despesas de pessoal de todos os poderes: Executivo, Legislativo, incluindo os Tribunais de Contas, Judiciário e Ministérios Públicos dos Estados e DF. Os dados do RGF das Defensorias Públicas Estaduais não devem ser incluídos no somatório pois já estão incluídos nos valores do poder executivo de cada ente.)
A12: UF | B12: Executivo | D12: Judiciário | F12: Legislativo | H12: Ministério Público | J12: Lim. Máx. Executivo 49%
B13: Lim. Máx. 49% | D13: Lim. Máx. 6% | F13: Lim. Máx. 3% | H13: Lim. Máx. 2%
B14: % / RCL | C14: Valor | D14: % / RCL | E14: Valor | F14: % / RCL | G14: Valor | H14: % / RCL | I14: Valor
A15: ='1.'!A14 -> AC | B15: 0.4636 | C15: 3.6940404e+09 | D15: 0.0294 | E15: 2.3443302e+08 | F15: 0.0231 | G15: 1.8419821e+08 | H15: 0.0135 | I15: 1.0796658e+08 | J15: 0.49
A16: ='1.'!A15 -> AL | B16: 0.409 | C16: 5.3781048e+09 | D16: 0.0375 | E16: 4.92741e+08 | F16: 0.0289 | G16: 3.7895632e+08 | H16: 0.0125 | I16: 1.6425827e+08 | J16: 0.49
A17: ='1.'!A16 -> AM | B17: 0.411 | C17: 9.2081241e+09 | D17: 0.0311 | E17: 6.970456e+08 | F17: 0.0226 | G17: 5.0656929e+08 | H17: 0.0114 | I17: 2.5485372e+08 | J17: 0.49
A18: ='1.'!A17 -> AP | B18: 0.3845 | C18: 2.7845021e+09 | D18: 0.0417 | E18: 3.0165238e+08 | F18: 0.0235 | G18: 1.7020615e+08 | H18: 0.0158 | I18: 1.1438496e+08 | J18: 0.49
A19: ='1.'!A18 -> BA | B19: 0.362 | C19: 2.0016762e+10 | D19: 0.0432 | E19: 2.3877272e+09 | F19: 0.0226 | G19: 1.2481428e+09 | H19: 0.0121 | I19: 6.6806162e+08 | J19: 0.49
A20: ='1.'!A19 -> CE | B20: 0.425 | C20: 1.2868625e+10 | D20: 0.0403 | E20: 1.221167e+09 | F20: 0.0235 | G20: 7.1281993e+08 | H20: 0.0134 | I20: 4.0611895e+08 | J20: 0.49
A21: ='1.'!A20 -> DF | B21: 0.4417 | C21: 1.297479e+10 | D21: 0 | F21: 0.0227 | G21: 6.6687287e+08 | H21: 0 | J21: 0.49
A22: ='1.'!A21 -> ES | B22: 0.3748 | C22: 7.9437967e+09 | D22: 0.0483 | E22: 1.0232628e+09 | F22: 0.0172 | G22: 364359913 | H22: 0.0147 | I22: 3.105634e+08 | J22: 0.49
A23: ='1.'!A22 -> GO | B23: 0.4052 | C23: 1.5071567e+10 | D23: 0.0392 | E23: 1.4584467e+09 | F23: 0.0236 | G23: 8.76463e+08 | H23: 0.0156 | I23: 5.7984151e+08 | J23: 0.49
A24: ='1.'!A23 -> MA | B24: 0.3233 | C24: 7.1568429e+09 | D24: 0.0503 | E24: 1.1143592e+09 | F24: 0.0267 | G24: 5.9252762e+08 | H24: 0.0201 | I24: 4.4396412e+08 | J24: 0.49
A25: ='1.'!A24 -> MG | B25: 0.4844 | C25: 4.4272474e+10 | D25: 0.0502 | E25: 4.5944064e+09 | F25: 0.02 | G25: 1.8301355e+09 | H25: 0.0157 | I25: 1.4345985e+09 | J25: 0.49
A26: ='1.'!A25 -> MS | B26: 0.3913 | C26: 7.180976e+09 | D26: 0.0457 | E26: 8.3888011e+08 | F26: 0.0207 | G26: 3.8026835e+08 | H26: 0.0145 | I26: 2.6588562e+08 | J26: 0.49
A27: ='1.'!A26 -> MT | B27: 0.3625 | C27: 1.0616483e+10 | D27: 0.0323 | E27: 9.452506e+08 | F27: 0.0202 | G27: 5.9415903e+08 | H27: 0.014 | I27: 4.0854985e+08 | J27: 0.49
A28: ='1.'!A27 -> PA | B28: 0.3893 | C28: 1.3311956e+10 | D28: 0.034 | E28: 1.161391e+09 | F28: 0.0255 | G28: 8.7660392e+08 | H28: 0.0139 | I28: 4.7689442e+08 | J28: 0.49
A29: ='1.'!A28 -> PB | B29: 0.4533 | C29: 7.142919e+09 | D29: 0.0401 | E29: 6.3133721e+08 | F29: 0.0264 | G29: 4.1607869e+08 | H29: 0.0157 | I29: 2.4772025e+08 | J29: 0.49
A30: ='1.'!A29 -> PE | B30: 0.4303 | C30: 1.5792078e+10 | D30: 0.0463 | E30: 1.6992688e+09 | F30: 0.0226 | G30: 8.2800271e+08 | H30: 0.0134 | I30: 4.9156769e+08 | J30: 0.49
A31: ='1.'!A30 -> PI | B31: 0.4225 | C31: 5.7021693e+09 | D31: 0.0369 | E31: 4.9731661e+08 | F31: 0.0236 | G31: 3.1891423e+08 | H31: 0.0137 | I31: 1.8538545e+08 | J31: 0.49
A32: ='1.'!A31 -> PR | B32: 0.4068 | C32: 2.2678684e+10 | D32: 0.0381 | E32: 2.1251846e+09 | F32: 0.0153 | G32: 8.4927437e+08 | H32: 0.0146 | I32: 8.1127312e+08 | J32: 0.49
A33: ='1.'!A32 -> RJ | B33: 0.4583 | C33: 4.1082014e+10 | D33: 0.0406 | E33: 3.6359059e+09 | F33: 0.0135 | G33: 1.2117898e+09 | H33: 0.0134 | I33: 1.202175e+09 | J33: 0.49
... A41: ='1.'!A40 -> TO | B41: 0.3935 | C41: 4.7633001e+09 | D41: 0.0405 | E41: 4.8969387e+08 | F41: 0.025 | G41: 3.0360024e+08 | H41: 0.0125 | I41: 1.5187258e+08 | J41: 0.49

Sheet 3.
B2: Clique aqui para voltar ao índice
A4: SECRETARIA DO TESOURO NACIONAL
A5: Tabela 3. Gráfico 2 - Composição da Despesa Bruta com Pessoal
A6: Fonte: SICONFI
A7: ='1.'!A7 -> RGF 3º quadrimestre de 2022
A8: Anexo 01 - Demonstrativo da Despesas Com Pessoal
A9: R$ - Valores Correntes
A10: (Os dados abaixo correspondem ao somatório das despesas de pessoal de todos os poderes: Executivo, Legislativo, incluindo os Tribunais de Contas, Judiciário e Ministérios Públicos dos Estados e DF. Os dados do RGF das Defensorias Públicas Estaduais não devem ser incluídos no somatório pois já estão incluídos nos valores do poder executivo de cada ente.)
A12: UF | B12: DESPESA BRUTA COM PESSOAL (I) | C12: Outras Despesas de Pessoal decorrentes de Contratos de Terceirização (§ 1º do art. 18 da LRF) | D12: ='1.'!G13 -> Despesa com Pessoal não Executada Orçamentariamente | E12: Pessoal Ativo | F12: Pessoal Inativo e Pensionistas | G12: RCL Ajustada | H12: Ativo | I12: Inativo e Pensionistas | J12: Terceirização | K12: Não Executadas Orçamentariamente | L12: Soma
A13: AC | B13: ='1.'!B14 -> 4.9249604e+09 | C13: ='1.'!F14 -> 58437189 | D13: ='1.'!G14 -> 16068087 | E13: ='1.'!H14 -> 3.5165617e+09 | F13: ='1.'!I14 -> 1.3338934e+09 | G13: ='1.'!J14 -> 7.9683193e+09 | H13: =E13/B13 -> 0.71402843 | I13: =F13/B13 -> 0.27084347 | J13: =C13/B13 -> 0.011865515 | K13: ='1.'!P14 -> 0.0032625819 | L13: 1
A14: AL | B14: ='1.'!B15 -> 7.6220059e+09 | C14: ='1.'!F15 -> 2.8874494e+08 | D14: ='1.'!G15 -> 0 | E14: ='1.'!H15 -> 4.5231641e+09 | F14: ='1.'!I15 -> 2.8100969e+09 | G14: ='1.'!J15 -> 13148926097 | H14: =E14/B14 -> 0.59343487 | I14: =F14/B14 -> 0.36868206 | J14: =C14/B14 -> 0.037883064 | K14: ='1.'!P15 -> 0 | L14: 1
A15: AM | B15: ='1.'!B16 -> 1.2132622e+10 | C15: ='1.'!F16 -> 4.3466643e+08 | D15: ='1.'!G16 -> 0 | E15: ='1.'!H16 -> 8.6509563e+09 | F15: ='1.'!I16 -> 3.0469988e+09 | G15: ='1.'!J16 -> 2.240183e+10 | H15: =E15/B15 -> 0.71303273 | I15: =F15/B15 -> 0.25114101 | J15: =C15/B15 -> 0.035826258 | K15: ='1.'!P16 -> 0 | L15: 1
A16: AP | B16: ='1.'!B17 -> 3.5072094e+09 | C16: ='1.'!F17 -> 0 | D16: ='1.'!G17 -> 0 | E16: ='1.'!H17 -> 3.3862895e+09 | F16: ='1.'!I17 -> 1.2091988e+08 | G16: ='1.'!J17 -> 7.2420226e+09 | H16: =E16/B16 -> 0.96552248 | I16: =F16/B16 -> 0.034477521 | J16: =C16/B16 -> 0 | K16: ='1.'!P17 -> 0 | L16: 1
A17: BA | B17: ='1.'!B18 -> 3.0111891e+10 | C17: ='1.'!F18 -> 3.1964526e+08 | D17: ='1.'!G18 -> 0 | E17: ='1.'!H18 -> 1.9247469e+10 | F17: ='1.'!I18 -> 1.0544776e+10 | G17: ='1.'!J18 -> 5.5298488e+10 | H17: =E17/B17 -> 0.63919829 | I17: =F17/B17 -> 0.35018646 | J17: =C17/B17 -> 0.01061525 | K17: ='1.'!P18 -> 0 | L17: 1
A18: CE | B18: ='1.'!B19 -> 1.8484297e+10 | C18: ='1.'!F19 -> 8.7964859e+08 | D18: ='1.'!G19 -> 1940998.3 | E18: ='1.'!H19 -> 1.3137764e+10 | F18: ='1.'!I19 -> 4.4649438e+09 | G18: ='1.'!J19 -> 3.0275604e+10 | H18: =E18/B18 -> 0.71075268 | I18: =F18/B18 -> 0.24155335 | J18: =C18/B18 -> 0.047588966 | K18: ='1.'!P19 -> 0.00010500796 | L18: 1
A19: DF | B19: ='1.'!B20 -> 1.9039141e+10 | C19: ='1.'!F20 -> 1.0591027e+09 | D19: ='1.'!G20 -> 0 | E19: ='1.'!H20 -> 1.3200938e+10 | F19: ='1.'!I20 -> 4.7791004e+09 | G19: ='1.'!J20 -> 2.9377546e+10 | H19: =E19/B19 -> 0.69335786 | I19: =F19/B19 -> 0.25101449 | J19: =C19/B19 -> 0.05562765 | K19: ='1.'!P20 -> 0 | L19: 1
A20: ES | B20: ='1.'!B21 -> 1.0749685e+10 | C20: ='1.'!F21 -> 6.5010612e+08 | D20: ='1.'!G21 -> 0 | E20: ='1.'!H21 -> 6.1782682e+09 | F20: ='1.'!I21 -> 3.9213111e+09 | G20: ='1.'!J21 -> 2.1193712e+10 | H20: =E20/B20 -> 0.57473944 | I20: =F20/B20 -> 0.3647838 | J20: =C20/B20 -> 0.060476758 | K20: ='1.'!P21 -> 0 | L20: 1
A21: GO | B21: ='1.'!B22 -> 2.1902561e+10 | C21: ='1.'!F22 -> 8.6996745e+08 | D21: ='1.'!G22 -> 0 | E21: ='1.'!H22 -> 1.3037842e+10 | F21: ='1.'!I22 -> 7.9947517e+09 | G21: ='1.'!J22 -> 3.7199051e+10 | H21: =E21/B21 -> 0.59526564 | I21: =F21/B21 -> 0.36501447 | J21: =C21/B21 -> 0.039719896 | K21: ='1.'!P22 -> 0 | L21: 1
A22: MA | B22: ='1.'!B23 -> 1.1593452e+10 | C22: ='1.'!F23 -> 126596.3 | D22: ='1.'!G23 -> 30369626 | E22: ='1.'!H23 -> 8.4609853e+09 | F22: ='1.'!I23 -> 3.1019703e+09 | G22: ='1.'!J23 -> 2.2134639e+10 | H22: =E22/B22 -> 0.72980726 | I22: =F22/B22 -> 0.26756227 | J22: =C22/B22 -> 1.0919638e-05 | K22: ='1.'!P23 -> 0.00261955 | L22: 1
A23: MG | B23: ='1.'!B24 -> 6.4082714e+10 | C23: ='1.'!F24 -> 9600.33 | D23: ='1.'!G24 -> 2.0659805e+08 | E23: ='1.'!H24 -> 3.522381e+10 | F23: ='1.'!I24 -> 2.8652296e+10 | G23: ='1.'!J24 -> 9.1403877e+10 | H23: =E23/B23 -> 0.54966165 | I23: =F23/B23 -> 0.44711428 | J23: =C23/B23 -> 1.4981154e-07 | K23: ='1.'!P24 -> 0.0032239279 | L23: 1
A24: MS | B24: ='1.'!B25 -> 1.2597133e+10 | C24: ='1.'!F25 -> 0 | D24: ='1.'!G25 -> 0 | E24: ='1.'!H25 -> 8.331681e+09 | F24: ='1.'!I25 -> 4.2654518e+09 | G24: ='1.'!J25 -> 1.835265e+10 | H24: =E24/B24 -> 0.66139503 | I24: =F24/B24 -> 0.33860497 | J24: =C24/B24 -> 0 | K24: ='1.'!P25 -> 0 | L24: 1
... A31: RJ | B31: ='1.'!B32 -> 5.7967759e+10 | C31: ='1.'!F32 -> 1.9004337e+09 | D31: ='1.'!G32 -> 0 | E31: ='1.'!H32 -> 3.1401507e+10 | F31: ='1.'!I32 -> 2.4665818e+10 | G31: ='1.'!J32 -> 8.9631905e+10 | H31: =E31/B31 -> 0.54170642 | I31: =F31/B31 -> 0.42550926 | J31: =C31/B31 -> 0.032784322 | K31: ='1.'!P32 -> 0 | L31: 1
A32: RN | B32: ='1.'!B33 -> 1.3048011e+10 | C32: ='1.'!F33 -> 1.3839029e+08 | D32: ='1.'!G33 -> 0 | E32: ='1.'!H33 -> 8.101928e+09 | F32: ='1.'!I33 -> 4.8076927e+09 | G32: ='1.'!J33 -> 1.4229967e+10 | H32: =E32/B32 -> 0.62093203 | I32: =F32/B32 -> 0.36846173 | J32: =C32/B32 -> 0.010606236 | K32: ='1.'!P33 -> 0 | L32: 1 | S32: DESPESA BRUTA DE PESSOAL
A33: RO | B33: ='1.'!B34 -> 6.6891242e+09 | C33: ='1.'!F34 -> 36770014 | D33: ='1.'!G34 -> 8911898.4 | E33: ='1.'!H34 -> 5.4568488e+09 | F33: ='1.'!I34 -> 1.1865935e+09 | G33: ='1.'!J34 -> 1.1597477e+10 | H33: =E33/B33 -> 0.81577926 | I33: =F33/B33 -> 0.17739146 | J33: =C33/B33 -> 0.0054969848 | K33: ='1.'!P34 -> 0.0013322967 | L33: 1
A34: RR | B34: ='1.'!B35 -> 3.7605445e+09 | C34: ='1.'!F35 -> 853489.91 | D34: ='1.'!G35 -> 0 | E34: ='1.'!H35 -> 3.5939434e+09 | F34: ='1.'!I35 -> 1.6574763e+08 | G34: ='1.'!J35 -> 6.374313e+09 | H34: =E34/B34 -> 0.95569761 | I34: =F34/B34 -> 0.044075434 | J34: =C34/B34 -> 0.00022695913 | K34: ='1.'!P35 -> 0 | L34: 1
A35: RS | B35: ='1.'!B36 -> 3.8936e+10 | C35: ='1.'!F36 -> 2.0298109e+08 | D35: ='1.'!G36 -> 0 | E35: ='1.'!H36 -> 2.0322015e+10 | F35: ='1.'!I36 -> 1.8411004e+10 | G35: ='1.'!J36 -> 5.0491712e+10 | H35: =E35/B35 -> 0.52193381 | I35: =F35/B35 -> 0.47285299 | J35: =C35/B35 -> 0.0052131984 | K35: ='1.'!P36 -> 0 | L35: 1
A36: SC | B36: ='1.'!B37 -> 2.3925629e+10 | C36: ='1.'!F37 -> 3.7529463e+08 | D36: ='1.'!G37 -> 0 | E36: ='1.'!H37 -> 1.4558174e+10 | F36: ='1.'!I37 -> 8.9921602e+09 | G36: ='1.'!J37 -> 3.8223585e+10 | H36: =E36/B36 -> 0.60847613 | I36: =F36/B36 -> 0.37583799 | J36: =C36/B36 -> 0.015685884 | K36: ='1.'!P37 -> 0 | L36: 1
A37: SE | B37: ='1.'!B38 -> 7.4483319e+09 | C37: ='1.'!F38 -> 0 | D37: ='1.'!G38 -> 1485906.1 | E37: ='1.'!H38 -> 4.7981997e+09 | F37: ='1.'!I38 -> 2.6486463e+09 | G37: ='1.'!J38 -> 1.126651e+10 | H37: =E37/B37 -> 0.64419789 | I37: =F37/B37 -> 0.35560261 | J37: =C37/B37 -> 0 | K37: ='1.'!P38 -> 0.00019949515 | L37: 1
A38: SP | B38: ='1.'!B39 -> 1.4156141e+11 | C38: ='1.'!F39 -> 0 | D38: ='1.'!G39 -> 0 | E38: ='1.'!H39 -> 8.2151961e+10 | F38: ='1.'!I39 -> 5.9409454e+10 | G38: ='1.'!J39 -> 2.3073488e+11 | H38: =E38/B38 -> 0.58032735 | I38: =F38/B38 -> 0.41967265 | J38: =C38/B38 -> 0 | K38: ='1.'!P39 -> 0 | L38: 1
A39: TO | B39: ='1.'!B40 -> 8.0130295e+09 | C39: ='1.'!F40 -> 0 | D39: ='1.'!G40 -> 24377519 | E39: ='1.'!H40 -> 6.1636734e+09 | F39: ='1.'!I40 -> 1.8249785e+09 | G39: ='1.'!J40 -> 1.2104468e+10 | H39: =E39/B39 -> 0.76920638 | I39: =F39/B39 -> 0.22775138 | J39: =C39/B39 -> 0 | K39: ='1.'!P40 -> 0.003042235 | L39: 1

Sheet 4.
B2: Clique aqui para voltar ao índice
A4: SECRETARIA DO TESOURO NACIONAL
A5: Tabela 4. Gráfico 3 - Inativos e Pensionistas com Recursos Vinculados /Pessoal Inativo e Pensionistas
A6: Fonte: SICONFI
A7: ='1.'!A7 -> RGF 3º quadrimestre de 2022
A8: Anexo 01 - Demonstrativo da Despesas Com Pessoal
A9: R$ - Valores Correntes
A10: (Os dados abaixo correspondem ao somatório das despesas de pessoal de todos os poderes: Executivo, Legislativo, incluindo os Tribunais de Contas, Judiciário e Ministérios Públicos dos Estados e DF. Os dados do RGF das Defensorias Públicas Estaduais não devem ser incluídos no somatório pois já estão incluídos nos valores do poder executivo de cada ente.)
A12: UF | B12: Inativos e Pensionistas com Recursos Vinculados | C12: Pessoal Inativo e Pensionistas | D12: Inativos e Pensionistas com Recursos Vinculados/Pessoal Inativo e Pensionistas
A13: AC | B13: ='1.'!E14 -> 5.7518573e+08 | C13: ='1.'!I14 -> 1.3338934e+09 | D13: =B13/C13 -> 0.43120818
A14: AL | B14: ='1.'!E15 -> 9.7068369e+08 | C14: ='1.'!I15 -> 2.8100969e+09 | D14: =B14/C14 -> 0.34542713
A15: AM | B15: ='1.'!E16 -> 1.0473703e+09 | C15: ='1.'!I16 -> 3.0469988e+09 | D15: =B15/C15 -> 0.34373834
A16: AP | B16: ='1.'!E17 -> 1.0112606e+08 | C16: ='1.'!I17 -> 1.2091988e+08 | D16: =B16/C16 -> 0.83630627
A17: BA | B17: ='1.'!E18 -> 4.4993964e+09 | C17: ='1.'!I18 -> 1.0544776e+10 | D17: =B17/C17 -> 0.42669434
A18: CE | B18: ='1.'!E19 -> 2.9913562e+09 | C18: ='1.'!I19 -> 4.4649438e+09 | D18: =B18/C18 -> 0.66996503
A19: DF | B19: ='1.'!E20 -> 4.6492397e+09 | C19: ='1.'!I20 -> 4.7791004e+09 | D19: =B19/C19 -> 0.97282737
A20: ES | B20: ='1.'!E21 -> 7.5005268e+08 | C20: ='1.'!I21 -> 3.9213111e+09 | D20: =B20/C20 -> 0.191276
A21: GO | B21: ='1.'!E22 -> 2.7128195e+09 | C21: ='1.'!I22 -> 7.9947517e+09 | D21: =B21/C21 -> 0.33932505
A22: MA | B22: ='1.'!E23 -> 2.4873574e+09 | C22: ='1.'!I23 -> 3.1019703e+09 | D22: =B22/C22 -> 0.80186371
A23: MG | B23: ='1.'!E24 -> 9.7649069e+09 | C23: ='1.'!I24 -> 2.8652296e+10 | D23: =B23/C23 -> 0.34080713
A24: MS | B24: ='1.'!E25 -> 3.6635821e+09 | C24: ='1.'!I25 -> 4.2654518e+09 | D24: =B24/C24 -> 0.85889661
... A39: TO | B39: ='1.'!E40 -> 1.6124264e+09 | C39: ='1.'!I40 -> 1.8249785e+09 | D39: =B39/C39 -> 0.88353172

Sheet 5.
B2: Clique aqui para voltar ao índice
A4: SECRETARIA DO TESOURO NACIONAL
A5: Tabela 5. Gráfico 4 - Despesas com pessoal não computadas em relação à RCL
A6: Fonte: SICONFI
A7: ='1.'!A7 -> RGF 3º quadrimestre de 2022
A8: Anexo 01 - Demonstrativo da Despesas Com Pessoal
A9: R$ - Valores Correntes
A10: (Os dados abaixo correspondem ao somatório das despesas de pessoal de todos os poderes: Executivo, Legislativo, incluindo os Tribunais de Contas, Judiciário e Ministérios Públicos dos Estados e DF. Os dados do RGF das Defensorias Públicas Estaduais não devem ser incluídos no somatório pois já estão incluídos nos valores do poder executivo de cada ente.)
A12: UF | B12: DESPESAS NÃO COMPUTADAS (§ 1º do art. 19 da LRF) (II) | F12: RECEITA CORRENTE LÍQUIDA AJUSTADA (VI) | G12: CÁLCULO DAS DESP. NÃO COMPUTADAS SOBRE A RCL AJUSTADA
B13: Inativos e Pensionistas com Recursos Vinculados | C13: Despesas de Exercícios Anteriores de Período Anterior ao da Apuração | D13: Decorrentes de Decisão Judicial de Período Anterior ao da Apuração | E13: Indenizações por Demissão e Incentivos à Demissão Voluntária | G13: Inativos e Pensionistas com Recursos Vinculados | H13: Despesas de Exercícios Anteriores de Período Anterior ao da Apuração | I13: Decorrentes de Decisão Judicial de Período Anterior ao da Apuração | J13: Indenizações por Demissão e Incentivos à Demissão Voluntária
A14: AC | B14: 5.7518573e+08 | C14: 83017848 | D14: 26204038 | E14: 28218768 | F14: ='1.'!J14 -> 7.9683193e+09 | G14: =B14/F14 -> 0.072184071 | H14: =C14/F14 -> 0.010418489 | I14: =D14/F14 -> 0.0032885276 | J14: =E14/F14 -> 0.0035413701
A15: AL | B15: 9.7068369e+08 | C15: 1.0296934e+08 | D15: 1.3256318e+08 | E15: 1740535.6 | F15: ='1.'!J15 -> 13148926097 | G15: =B15/F15 -> 0.073822279 | H15: =C15/F15 -> 0.0078310078 | I15: =D15/F15 -> 0.010081674 | J15: =E15/F15 -> 0.00013237093
A16: AM | B16: 1.0473703e+09 | C16: 1.836751e+08 | D16: 1.8091276e+08 | E16: 68425918 | F16: ='1.'!J16 -> 2.240183e+10 | G16: =B16/F16 -> 0.046753783 | H16: =C16/F16 -> 0.0081991114 | I16: =D16/F16 -> 0.0080758027 | J16: =E16/F16 -> 0.0030544789
A17: AP | B17: 1.0112606e+08 | C17: 10886723 | E17: 39142533 | F17: ='1.'!J17 -> 7.2420226e+09 | G17: =B17/F17 -> 0.013963787 | H17: =C17/F17 -> 0.0015032711 | I17: =D17/F17 -> 0 | J17: =E17/F17 -> 0.0054049172
A18: BA | B18: 4.4993964e+09 | C18: 5.4432353e+08 | D18: 7.0750215e+08 | E18: 43450971 | F18: ='1.'!J18 -> 5.5298488e+10 | G18: =B18/F18 -> 0.081365632 | H18: =C18/F18 -> 0.0098433709 | I18: =D18/F18 -> 0.01279424 | J18: =E18/F18 -> 0.00078575332
A19: CE | B19: 2.9913562e+09 | C19: 49779150 | D19: 2.4391143e+08 | E19: 26369955 | F19: ='1.'!J19 -> 3.0275604e+10 | G19: =B19/F19 -> 0.098804181 | H19: =C19/F19 -> 0.0016442001 | I19: =D19/F19 -> 0.0080563689 | J19: =E19/F19 -> 0.00087099685
A20: DF | B20: 4.6492397e+09 | C20: 25100647 | D20: 5.9399387e+08 | E20: 2.0641875e+08 | F20: ='1.'!J20 -> 2.9377546e+10 | G20: =B20/F20 -> 0.15825827 | H20: =C20/F20 -> 0.00085441603 | I20: =D20/F20 -> 0.020219315 | J20: =E20/F20 -> 0.0070264121
A21: ES | B21: 7.5005268e+08 | C21: 1.8207375e+08 | D21: 1.7429156e+08 | E21: 9373614.9 | F21: ='1.'!J21 -> 2.1193712e+10 | G21: =B21/F21 -> 0.03539034 | H21: =C21/F21 -> 0.0085909326 | I21: =D21/F21 -> 0.0082237389 | J21: =E21/F21 -> 0.00044228282
A22: GO | B22: 2.7128195e+09 | C22: 9.3476024e+08 | D22: 2.4212156e+08 | E22: 31944881 | F22: ='1.'!J22 -> 3.7199051e+10 | G22: =B22/F22 -> 0.072927117 | H22: =C22/F22 -> 0.025128605 | I22: =D22/F22 -> 0.0065088102 | J22: =E22/F22 -> 0.00085875528
A23: MA | B23: 2.4873574e+09 | C23: 1.2717354e+08 | D23: 30162830 | E23: 5952241.1 | F23: ='1.'!J23 -> 2.2134639e+10 | G23: =B23/F23 -> 0.11237398 | H23: =C23/F23 -> 0.0057454535 | I23: =D23/F23 -> 0.0013626981 | J23: =E23/F23 -> 0.00026891069
A24: MG | B24: 9.7649069e+09 | C24: 1.1125776e+09 | D24: 9.5983589e+08 | E24: 1.3055305e+08 | F24: ='1.'!J24 -> 9.1403877e+10 | G24: =B24/F24 -> 0.10683252 | H24: =C24/F24 -> 0.012172105 | I24: =D24/F24 -> 0.010501041 | J24: =E24/F24 -> 0.0014283097
A25: MS | B25: 3.6635821e+09 | C25: 41585712 | D25: 1.8956343e+08 | E25: 37230069 | F25: ='1.'!J25 -> 1.835265e+10 | G25: =B25/F25 -> 0.19962142 | H25: =C25/F25 -> 0.0022659241 | I25: =D25/F25 -> 0.010328941 | J25: =E25/F25 -> 0.0020285936
A26: MT | B26: 3.4474543e+09 | C26: 3.4545691e+08 | D26: 10455886 | E26: 3.3956562e+08 | F26: ='1.'!J26 -> 2.9286462e+10 | G26: =B26/F26 -> 0.11771494 | H26: =C26/F26 -> 0.011795788 | I26: =D26/F26 -> 0.00035702112 | J26: =E26/F26 -> 0.011594627
A27: PA | B27: 3.614096e+09 | C27: 3.8591284e+08 | D27: 3.4235482e+08 | E27: 11652103 | F27: ='1.'!J27 -> 3.4198302e+10 | G27: =B27/F27 -> 0.10568057 | H27: =C27/F27 -> 0.011284562 | I27: =D27/F27 -> 0.010010872 | J27: =E27/F27 -> 0.0003407217
A28: PB | B28: 1.1994088e+09 | C28: 88381141 | D28: 502593.24 | E28: 11155456 | F28: ='1.'!J28 -> 1.5755878e+10 | G28: =B28/F28 -> 0.076124531 | H28: =C28/F28 -> 0.0056094076 | I28: =D28/F28 -> 3.1898777e-05 | J28: =E28/F28 -> 0.00070801867
A29: PE | B29: 3.1822644e+09 | C29: 1.1857206e+08 | D29: 1.3175902e+08 | E29: 31272321 | F29: ='1.'!J29 -> 3.6697903e+10 | G29: =B29/F29 -> 0.086715156 | H29: =C29/F29 -> 0.0032310309 | I29: =D29/F29 -> 0.0035903692 | J29: =E29/F29 -> 0.00085215554
... A38: SE | B38: 1.3656132e+09 | C38: 9190745.4 | D38: 66102609 | E38: 56713547 | F38: ='1.'!J38 -> 1.126651e+10 | G38: =B38/F38 -> 0.12120996 | H38: =C38/F38 -> 0.00081575798 | I38: =D38/F38 -> 0.0058671771 | J38: =E38/F38 -> 0.0050338167
A39: SP | B39: 3.8367744e+10 | C39: 6.9863025e+08 | E39: 4.2555755e+08 | F39: ='1.'!J39 -> 2.3073488e+11 | G39: =B39/F39 -> 0.16628498 | H39: =C39/F39 -> 0.0030278485 | I39: =D39/F39 -> 0 | J39: =E39/F39 -> 0.0018443573
A40: TO | B40: 1.6124264e+09 | C40: 6.0346499e+08 | D40: 18867763 | E40: 70571850 | F40: ='1.'!J40 -> 1.2104468e+10 | G40: =B40/F40 -> 0.1332092 | H40: =C40/F40 -> 0.049854731 | I40: =D40/F40 -> 0.0015587437 | J40: =E40/F40 -> 0.0058302316

Sheet 6.
B2: Clique aqui para voltar ao índice
A4: SECRETARIA DO TESOURO NACIONAL
A5: Tabela 6. Gráfico 5 - Dívida Consolidada Líquida - DCL
A6: Fonte: SICONFI
A7: ='1.'!A7 -> RGF 3º quadrimestre de 2022
A8: Anexo 02 - Demonstrativo da Dívida Consolidada Líquida
A9: R$ - Valores Correntes
A11: UF | B11: ANO CORRENTE | J11: ANO ANTERIOR | M11: ANO CORRENTE
B12: DÍVIDA CONSOLIDADA - DC (I) | C12: DEDUÇÕES (II) | D12: DÍVIDA CONSOLIDADA LÍQUIDA (DCL) (III) = (I - II) | E12: % da DCL sobre a RCL AJUSTADA (III/RCL) | F12: RECEITA CORRENTE LÍQUIDA AJUSTADA PARA PARA CÁLCULO DOS LIMITES DE ENDIVIDAMENTO (VI) = (IV - V) | G12: Precatórios Anteriores a 05/05/2000 | H12: Precatórios Posteriores a 05/05/2000 (inclusive) Vencidos e Não Pagos | I12: Precatórios Posteriores a 05/05/2000 (Não incluídos na DC) | J12: RECEITA CORRENTE LÍQUIDA AJUSTADA PARA PARA CÁLCULO DOS LIMITES DE ENDIVIDAMENTO (VI) = (IV - V) | K12: DÍVIDA CONSOLIDADA LÍQUIDA (DCL) (III) = (I - II) SALDO DO EXERCÍCIO ANTERIOR | L12: DCL/RCL 2021 Saldo do Exercício Anterior | M12: DÍVIDA CONSOLIDADA LÍQUIDA (DCL) (III) = (I - II) | N12: DCL/RCL 2022
A13: AC | B13: 3.7627432e+09 | C13: 1.2574216e+09 | D13: 2.5053216e+09 | E13: 0.3136 | F13: 7.9884488e+09 | H13: 45527415 | J13: 6.6796247e+09 | K13: 2.847799e+09 | L13: =K13/J13 -> 0.42634117 | M13: =D13 -> 2.5053216e+09 | N13: =E13 -> 0.3136
A14: AL | B14: 1.0359518e+10 | C14: 3.1142028e+09 | D14: 7.2453153e+09 | E14: 0.5498 | F14: 13177300526 | J14: 1.2528914e+10 | K14: 4.8928852e+09 | L14: =K14/J14 -> 0.39052747 | M14: =D14 -> 7.2453153e+09 | N14: =E14 -> 0.5498
A15: AM | B15: 9.0939024e+09 | C15: 3.6285538e+09 | D15: 5.4653486e+09 | E15: 0.2439 | F15: 2.241183e+10 | J15: 1.8992934e+10 | K15: 4.2145871e+09 | L15: =K15/J15 -> 0.2219029 | M15: =D15 -> 5.4653486e+09 | N15: =E15 -> 0.2439
A16: AP | B16: 5.8606303e+09 | C16: 3.1232064e+09 | D16: 2.7374239e+09 | E16: 0.378 | F16: 7.2420226e+09 | H16: 3.5694205e+08 | J16: 6.6487616e+09 | K16: -1.3810522e+09 | L16: =K16/J16 -> -0.20771571 | M16: =D16 -> 2.7374239e+09 | N16: =E16 -> 0.378
A17: BA | B17: 28529828408 | C17: 1.1875569e+10 | D17: 1.6654259e+10 | E17: 0.3011 | F17: 5.5311501e+10 | H17: 4.9919254e+09 | J17: 4.5404989e+10 | K17: 1.7279789e+10 | L17: =K17/J17 -> 0.38057026 | M17: =D17 -> 1.6654259e+10 | N17: =E17 -> 0.3011
A18: CE | B18: 1.7568896e+10 | C18: 7.2887436e+09 | D18: 1.0280152e+10 | E18: 0.3386 | F18: 3.0363904e+10 | H18: 5.6858429e+08 | I18: 97459375 | J18: 2.5168984e+10 | K18: 1.1108324e+10 | L18: =K18/J18 -> 0.44134971 | M18: =D18 -> 1.0280152e+10 | N18: =E18 -> 0.3386
A19: DF | B19: 1.1337619e+10 | C19: 3.583394e+09 | D19: 7.7542245e+09 | E19: 0.264 | F19: 2.9377546e+10 | G19: 4.0677342e+08 | H19: 6.2770796e+09 | J19: 2.8236777e+10 | K19: 6.0375227e+09 | L19: =K19/J19 -> 0.2138177 | M19: =D19 -> 7.7542245e+09 | N19: =E19 -> 0.264
A20: ES | B20: 7.2690954e+09 | C20: 8.150143e+09 | D20: -8.8104759e+08 | E20: -0.0415 | F20: 2.124234e+10 | I20: 1.9770196e+08 | K20: 3.7191803e+08 | L20: =K20/J20 -> #DIV/0! | M20: =D20 -> -8.8104759e+08 | N20: =E20 -> -0.0415
A21: GO | B21: 2.4564333e+10 | C21: 1.2465788e+10 | D21: 1.2098544e+10 | E21: 0.3252 | F21: 3.7203041e+10 | H21: 1.1284074e+09 | J21: 3.1539599e+10 | K21: 1.4467794e+10 | L21: =K21/J21 -> 0.45871839 | M21: =D21 -> 1.2098544e+10 | N21: =E21 -> 0.3252
A22: MA | B22: 7.238779e+09 | C22: -37831127 | D22: 7.2766101e+09 | E22: 0.3287 | F22: 2.2134639e+10 | G22: 3.6584999e+08 | H22: 1.6564825e+09 | I22: 2.012256e+08 | J22: 1.827276e+10 | K22: 7.5508524e+09 | L22: =K22/J22 -> 0.41322999 | M22: =D22 -> 7.2766101e+09 | N22: =E22 -> 0.3287
A23: MG | B23: 1.5927113e+11 | C23: 1.5811013e+10 | D23: 1.4346012e+11 | E23: 1.5695 | F23: 9.1403877e+10 | H23: 3.0001341e+09 | J23: 8.2432562e+10 | K23: 1.3962797e+11 | L23: =K23/J23 -> 1.6938449 | M23: =D23 -> 1.4346012e+11 | N23: =E23 -> 1.5695
A24: MS | B24: 9.0103451e+09 | C24: 4.9447827e+09 | D24: 4.0655624e+09 | E24: 0.2215 | F24: 1.8353338e+10 | H24: 3.4329074e+08 | J24: 1.5809114e+10 | K24: 3.3833422e+09 | L24: =K24/J24 -> 0.21401213 | M24: =D24 -> 4.0655624e+09 | N24: =E24 -> 0.2215
A25: MT | B25: 5.1101135e+09 | C25: 1.2296667e+10 | D25: -7.1865531e+09 | E25: -0.2448 | F25: 2.9361791e+10 | H25: 1.8518825e+08 | I25: 4.8866047e+08 | J25: 2.4596245e+10 | K25: -4.333588e+09 | L25: =K25/J25 -> -0.17618901 | M25: =D25 -> -7.1865531e+09 | N25: =E25 -> -0.2448
A26: PA | B26: 5.4968243e+09 | C26: 5.7541307e+09 | D26: -2.5730641e+08 | E26: -0.0075 | F26: 3.4284613e+10 | I26: 105500000 | J26: 2.6996312e+10 | K26: 4.4530685e+08 | L26: =K26/J26 -> 0.0164951 | M26: =D26 -> -2.5730641e+08 | N26: =E26 -> -0.0075
A27: PB | B27: 5.3191079e+09 | C27: 6.2940891e+09 | D27: -9.7498125e+08 | E27: -0.0619 | F27: 1.5755978e+10 | H27: 2.5285853e+09 | J27: 1.3035337e+10 | K27: -4.0026176e+08 | L27: =K27/J27 -> -0.0307059 | M27: =D27 -> -9.7498125e+08 | N27: =E27 -> -0.0619
A28: PE | B28: 1.6857697e+10 | C28: 3.8875295e+09 | D28: 1.2970168e+10 | E28: 0.3533 | F28: 3.6708826e+10 | H28: 2.5490288e+08 | J28: 3.133617e+10 | K28: 1.1325611e+10 | L28: =K28/J28 -> 0.36142295 | M28: =D28 -> 1.2970168e+10 | N28: =E28 -> 0.3533
A29: PI | B29: 9.0674389e+09 | C29: 2.5788866e+09 | D29: 6.4885523e+09 | E29: 0.4804 | F29: 1.3507101e+10 | H29: 2.1187611e+09 | I29: 87512029 | J29: 1.1441344e+10 | K29: 5.5450896e+09 | L29: =K29/J29 -> 0.48465369 | M29: =D29 -> 6.4885523e+09 | N29: =E29 -> 0.4804
A30: PR | B30: 3.2253354e+10 | C30: 2.6322613e+10 | D30: 5.9307408e+09 | E30: 0.1064 | F30: 5.5743548e+10 | G30: 12725.89 | H30: 7.8632905e+09 | I30: 5.5078582e+08 | J30: 4.7821663e+10 | K30: 1.2649851e+10 | L30: =K30/J30 -> 0.26452136 | M30: =D30 -> 5.9307408e+09 | N30: =E30 -> 0.1064
A31: RJ | B31: 1.7706277e+11 | C31: 2.6231694e+10 | D31: 1.5083107e+11 | E31: 1.6828 | F31: 8.9631905e+10 | G31: 7.1666434e+08 | H31: 4.0917413e+09 | I31: 1.7147926e+09 | J31: 8.245546e+10 | K31: 1.6382092e+11 | L31: =K31/J31 -> 1.9867808 | M31: =D31 -> 1.5083107e+11 | N31: =E31 -> 1.6828
A32: RN | B32: 5.1710308e+09 | C32: 6.0299332e+08 | D32: 4.5680375e+09 | E32: 0.3204 | F32: 1.4259016e+10 | H32: 1.7781863e+09 | I32: 3.5645362e+08 | J32: 1.2242458e+10 | K32: 4.2251038e+09 | L32: =K32/J32 -> 0.3451189 | M32: =D32 -> 4.5680375e+09 | N32: =E32 -> 0.3204
A33: RO | B33: 5.1497796e+09 | C33: 4.5810315e+09 | D33: 5.6874806e+08 | E33: 0.049 | F33: 1.1597545e+10 | H33: 2.2675272e+09 | I33: 57178329 | J33: 1.0017332e+10 | K33: -5.1039398e+08 | L33: =K33/J33 -> -0.050951092 | M33: =D33 -> 5.6874806e+08 | N33: =E33 -> 0.049
A34: RR | B34: 1.7311419e+09 | C34: 1.5817774e+09 | D34: 1.4936452e+08 | E34: 0.0234 | F34: 6.3752931e+09 | H34: 3.9904525e+08 | J34: 5.5381058e+09 | K34: -1.6584249e+08 | L34: =K34/J34 -> -0.029945707 | M34: =D34 -> 1.4936452e+08 | N34: =E34 -> 0.0234
A35: RS | B35: 1.0973016e+11 | C35: 8.8872843e+09 | D35: 1.0084288e+11 | E35: 1.9933 | F35: 5.0590591e+10 | G35: 5.1825052e+08 | H35: 1.5957736e+10 | J35: 5.3848542e+10 | K35: 9.8327577e+10 | L35: =K35/J35 -> 1.8260026 | M35: =D35 -> 1.0084288e+11 | N35: =E35 -> 1.9933
A36: SC | B36: 2.2326592e+10 | C36: 6.0898185e+09 | D36: 1.6236774e+10 | E36: 0.4245 | F36: 3.8247458e+10 | H36: 2.9483107e+09 | J36: 3.1039534e+10 | K36: 1.6480921e+10 | L36: =K36/J36 -> 0.53096547 | M36: =D36 -> 1.6236774e+10 | N36: =E36 -> 0.4245
A37: SE | B37: 4.8743381e+09 | C37: 1.3306668e+09 | D37: 3.5436713e+09 | E37: 0.3138 | F37: 1.1293039e+10 | H37: 1.415528e+09 | I37: 1.611359e+08 | J37: 9.6725934e+09 | K37: 3.1130528e+09 | L37: =K37/J37 -> 0.32184262 | M37: =D37 -> 3.5436713e+09 | N37: =E37 -> 0.3138
A38: SP | B38: 3.3220685e+11 | C38: 6.732794e+10 | D38: 2.6487891e+11 | E38: 1.1468 | F38: 2.309805e+11 | G38: 2.1879617e+08 | H38: 2.8780531e+10 | J38: 1.9699926e+11 | K38: 2.4958813e+11 | L38: =K38/J38 -> 1.2669495 | M38: =D38 -> 2.6487891e+11 | N38: =E38 -> 1.1468
A39: TO | B39: 3.7937736e+09 | C39: 2.8741207e+09 | D39: 9.1965286e+08 | E39: 0.076 | F39: 1.2104468e+10 | I39: 4.9786231e+08 | J39: 1.005211e+10 | K39: 1.9700088e+09 | L39: =K39/J39 -> 0.19597962 | M39: =D39 -> 9.1965286e+08 | N39: =E39 -> 0.076
G41: 100

Sheet 7.
B2: Clique aqui para voltar ao índice
A4: SECRETARIA DO TESOURO NACIONAL
A5: Tabela 8. Gráfico 6- Deduções da Dívida Consolidada Bruta
A6: Fonte: SICONFI
A7: ='1.'!A7 -> RGF 3º quadrimestre de 2022
A8: Anexo 02 - Demonstrativo da Dívida Consolidada Líquida
A9: R$ - Valores Correntes
A12: UF | B12: DÍVIDA CONSOLIDADA - DC (I) | C12: DÍVIDA CONSOLIDADA LÍQUIDA (DCL) (III) = (I - II) | D12: DCL | E12: DEDUÇÕES (II) | F12: % (Deduções/DC)
A13: ='6.'!A13 -> AC | B13: ='6.'!B13 -> 3.7627432e+09 | C13: ='6.'!M13 -> 2.5053216e+09 | D13: =C13/B13 -> 0.66582317 | E13: ='6.'!C13 -> 1.2574216e+09 | F13: =E13/B13 -> 0.33417683
A14: ='6.'!A14 -> AL | B14: ='6.'!B14 -> 1.0359518e+10 | C14: ='6.'!M14 -> 7.2453153e+09 | D14: =C14/B14 -> 0.69938729 | E14: ='6.'!C14 -> 3.1142028e+09 | F14: =E14/B14 -> 0.30061271
A15: ='6.'!A15 -> AM | B15: ='6.'!B15 -> 9.0939024e+09 | C15: ='6.'!M15 -> 5.4653486e+09 | D15: =C15/B15 -> 0.60099046 | E15: ='6.'!C15 -> 3.6285538e+09 | F15: =E15/B15 -> 0.39900954
A16: ='6.'!A16 -> AP | B16: ='6.'!B16 -> 5.8606303e+09 | C16: ='6.'!M16 -> 2.7374239e+09 | D16: =C16/B16 -> 0.46708694 | E16: ='6.'!C16 -> 3.1232064e+09 | F16: =E16/B16 -> 0.53291306
A17: ='6.'!A17 -> BA | B17: ='6.'!B17 -> 28529828408 | C17: ='6.'!M17 -> 1.6654259e+10 | D17: =C17/B17 -> 0.58374902 | E17: ='6.'!C17 -> 1.1875569e+10 | F17: =E17/B17 -> 0.41625098
A18: ='6.'!A18 -> CE | B18: ='6.'!B18 -> 1.7568896e+10 | C18: ='6.'!M18 -> 1.0280152e+10 | D18: =C18/B18 -> 0.58513365 | E18: ='6.'!C18 -> 7.2887436e+09 | F18: =E18/B18 -> 0.41486635
A19: ='6.'!A19 -> DF | B19: ='6.'!B19 -> 1.1337619e+10 | C19: ='6.'!M19 -> 7.7542245e+09 | D19: =C19/B19 -> 0.68393768 | E19: ='6.'!C19 -> 3.583394e+09 | F19: =E19/B19 -> 0.31606232
A20: ='6.'!A20 -> ES | B20: ='6.'!B20 -> 7.2690954e+09 | C20: ='6.'!M20 -> -8.8104759e+08 | D20: =C20/B20 -> -0.12120457 | E20: ='6.'!C20 -> 8.150143e+09 | F20: =E20/B20 -> 1.1212046
A21: ='6.'!A21 -> GO | B21: ='6.'!B21 -> 2.4564333e+10 | C21: ='6.'!M21 -> 1.2098544e+10 | D21: =C21/B21 -> 0.49252485 | E21: ='6.'!C21 -> 1.2465788e+10 | F21: =E21/B21 -> 0.50747515
A22: ='6.'!A22 -> MA | B22: ='6.'!B22 -> 7.238779e+09 | C22: ='6.'!M22 -> 7.2766101e+09 | D22: =C22/B22 -> 1.0052262 | E22: ='6.'!C22 -> -37831127 | F22: =E22/B22 -> -0.0052261751
A23: ='6.'!A23 -> MG | B23: ='6.'!B23 -> 1.5927113e+11 | C23: ='6.'!M23 -> 1.4346012e+11 | D23: =C23/B23 -> 0.90072895 | E23: ='6.'!C23 -> 1.5811013e+10 | F23: =E23/B23 -> 0.099271053
A24: ='6.'!A24 -> MS | B24: ='6.'!B24 -> 9.0103451e+09 | C24: ='6.'!M24 -> 4.0655624e+09 | D24: =C24/B24 -> 0.45121051 | E24: ='6.'!C24 -> 4.9447827e+09 | F24: =E24/B24 -> 0.54878949
... A39: ='6.'!A39 -> TO | B39: ='6.'!B39 -> 3.7937736e+09 | C39: ='6.'!M39 -> 9.1965286e+08 | D39: =C39/B39 -> 0.24241111 | E39: ='6.'!C39 -> 2.8741207e+09 | F39: =E39/B39 -> 0.75758889

Sheet 8.
B2: Clique aqui para voltar ao índice
A4: SECRETARIA DO TESOURO NACIONAL
A5: Tabela 7. Gráfico 7 - Composição da Dívida Consolidada Bruta
A6: Fonte: SICONFI
A7: ='1.'!A7 -> RGF 3º quadrimestre de 2022
A8: Anexo 02 - Demonstrativo da Dívida Consolidada Líquida
A9: R$ - Valores Correntes
A11: UF | B11: DÍVIDA CONSOLIDADA - DC (I) | F11: RECEITA CORRENTE LÍQUIDA AJUSTADA PARA PARA CÁLCULO DOS LIMITES DE ENDIVIDAMENTO (VI) = (IV - V) | G11: COMPOSIÇÃO DA DÍVIDA CONSOLIDADE BRUTA
B12: Dívida Mobiliária | C12: Dívida Contratual | D12: Precatórios Posteriores a 05/05/2000 (inclusive) Vencidos e Não Pagos | E12: Outras Dívidas | G12: Dívida Mobiliária | H12: Dívida Contratual | I12: Precatórios Posteriores a 05/05/2000 (inclusive) Vencidos e Não Pagos | J12: Outras Dívidas
A13: AC | C13: 3.7172158e+09 | D13: 45527415 | F13: ='6.'!F13 -> 7.9884488e+09 | G13: =B13/F13 -> 0 | H13: =C13/$F13 -> 0.46532385 | I13: =D13/$F13 -> 0.0056991559 | J13: =E13/$F13 -> 0
A14: AL | C14: 1.0359518e+10 | F14: ='6.'!F14 -> 13177300526 | G14: =B14/F14 -> 0 | H14: =C14/$F14 -> 0.78616391 | I14: =D14/$F14 -> 0 | J14: =E14/$F14 -> 0
A15: AM | C15: 9.0939024e+09 | F15: ='6.'!F15 -> 2.241183e+10 | G15: =B15/F15 -> 0 | H15: =C15/$F15 -> 0.40576348 | I15: =D15/$F15 -> 0 | J15: =E15/$F15 -> 0
A16: AP | C16: 5.5036883e+09 | D16: 3.5694205e+08 | F16: ='6.'!F16 -> 7.2420226e+09 | G16: =B16/F16 -> 0 | H16: =C16/$F16 -> 0.75996563 | I16: =D16/$F16 -> 0.049287619 | J16: =E16/$F16 -> 0
A17: BA | C17: 2.3537903e+10 | D17: 4.9919254e+09 | F17: ='6.'!F17 -> 5.5311501e+10 | G17: =B17/F17 -> 0 | H17: =C17/$F17 -> 0.4255517 | I17: =D17/$F17 -> 0.090251128 | J17: =E17/$F17 -> 0
A18: CE | C18: 1.6306966e+10 | D18: 5.6858429e+08 | E18: 6.9334565e+08 | F18: ='6.'!F18 -> 3.0363904e+10 | G18: =B18/F18 -> 0 | H18: =C18/$F18 -> 0.53705103 | I18: =D18/$F18 -> 0.018725665 | J18: =E18/$F18 -> 0.022834536
A19: DF | C19: 5.0605389e+09 | D19: 6.2770796e+09 | F19: ='6.'!F19 -> 2.9377546e+10 | G19: =B19/F19 -> 0 | H19: =C19/$F19 -> 0.17225873 | I19: =D19/$F19 -> 0.21366929 | J19: =E19/$F19 -> 0
A20: ES | C20: 7.2690954e+09 | F20: ='6.'!F20 -> 2.124234e+10 | G20: =B20/F20 -> 0 | H20: =C20/$F20 -> 0.34219843 | I20: =D20/$F20 -> 0 | J20: =E20/$F20 -> 0
A21: GO | C21: 2.3223696e+10 | D21: 1.1284074e+09 | E21: 2.122289e+08 | F21: ='6.'!F21 -> 3.7203041e+10 | G21: =B21/F21 -> 0 | H21: =C21/$F21 -> 0.62424188 | I21: =D21/$F21 -> 0.030331053 | J21: =E21/$F21 -> 0.0057046116
A22: MA | C22: 5.5822965e+09 | D22: 1.6564825e+09 | F22: ='6.'!F22 -> 2.2134639e+10 | G22: =B22/F22 -> 0 | H22: =C22/$F22 -> 0.25219732 | I22: =D22/$F22 -> 0.074836665 | J22: =E22/$F22 -> 0
A23: MG | C23: 1.4847211e+11 | D23: 3.0001341e+09 | E23: 7.7988939e+09 | F23: ='6.'!F23 -> 9.1403877e+10 | G23: =B23/F23 -> 0 | H23: =C23/$F23 -> 1.6243524 | I23: =D23/$F23 -> 0.032822832 | J23: =E23/$F23 -> 0.085323448
A24: MS | C24: 8.6670544e+09 | D24: 3.4329074e+08 | F24: ='6.'!F24 -> 1.8353338e+10 | G24: =B24/F24 -> 0 | H24: =C24/$F24 -> 0.47223314 | I24: =D24/$F24 -> 0.01870454 | J24: =E24/$F24 -> 0
A25: MT | B25: 0 | C25: 4.8399211e+09 | D25: 1.8518825e+08 | E25: 85004191 | F25: ='6.'!F25 -> 2.9361791e+10 | G25: =B25/F25 -> 0 | H25: =C25/$F25 -> 0.16483739 | I25: =D25/$F25 -> 0.0063071168 | J25: =E25/$F25 -> 0.0028950614
A26: PA | C26: 5.4968243e+09 | F26: ='6.'!F26 -> 3.4284613e+10 | G26: =B26/F26 -> 0 | H26: =C26/$F26 -> 0.16032919 | I26: =D26/$F26 -> 0 | J26: =E26/$F26 -> 0
A27: PB | C27: 2.7905226e+09 | D27: 2.5285853e+09 | F27: ='6.'!F27 -> 1.5755978e+10 | G27: =B27/F27 -> 0 | H27: =C27/$F27 -> 0.17710881 | I27: =D27/$F27 -> 0.16048418 | J27: =E27/$F27 -> 0
A28: PE | C28: 1.6602794e+10 | D28: 2.5490288e+08 | F28: ='6.'!F28 -> 3.6708826e+10 | G28: =B28/F28 -> 0 | H28: =C28/$F28 -> 0.45228345 | I28: =D28/$F28 -> 0.0069439127 | J28: =E28/$F28 -> 0
A29: PI | C29: 6.7795476e+09 | D29: 2.1187611e+09 | E29: 1.6913012e+08 | F29: ='6.'!F29 -> 1.3507101e+10 | G29: =B29/F29 -> 0 | H29: =C29/$F29 -> 0.50192471 | I29: =D29/$F29 -> 0.15686276 | J29: =E29/$F29 -> 0.012521571
A30: PR | C30: 2.4390063e+10 | D30: 7.8632905e+09 | F30: ='6.'!F30 -> 5.5743548e+10 | G30: =B30/F30 -> 0 | H30: =C30/$F30 -> 0.43754056 | I30: =D30/$F30 -> 0.14106189 | J30: =E30/$F30 -> 0
A31: RJ | B31: 7736297.3 | C31: 1.7294329e+11 | D31: 4.0917413e+09 | E31: 20003399 | F31: ='6.'!F31 -> 8.9631905e+10 | G31: =B31/F31 -> 8.6311869e-05 | H31: =C31/$F31 -> 1.9294836 | I31: =D31/$F31 -> 0.0456505 | J31: =E31/$F31 -> 0.00022317275
A32: RN | C32: 3.3928444e+09 | D32: 1.7781863e+09 | F32: ='6.'!F32 -> 1.4259016e+10 | G32: =B32/F32 -> 0 | H32: =C32/$F32 -> 0.2379438 | I32: =D32/$F32 -> 0.1247061 | J32: =E32/$F32 -> 0
A33: RO | C33: 2.8822523e+09 | D33: 2.2675272e+09 | F33: ='6.'!F33 -> 1.1597545e+10 | G33: =B33/F33 -> 0 | H33: =C33/$F33 -> 0.24852263 | I33: =D33/$F33 -> 0.19551787 | J33: =E33/$F33 -> 0
A34: RR | C34: 1.3320966e+09 | D34: 3.9904525e+08 | F34: ='6.'!F34 -> 6.3752931e+09 | G34: =B34/F34 -> 0 | H34: =C34/$F34 -> 0.20894673 | I34: =D34/$F34 -> 0.062592456 | J34: =E34/$F34 -> 0
A35: RS | C35: 9.3772425e+10 | D35: 1.5957736e+10 | F35: ='6.'!F35 -> 5.0590591e+10 | G35: =B35/F35 -> 0 | H35: =C35/$F35 -> 1.8535547 | I35: =D35/$F35 -> 0.31542893 | J35: =E35/$F35 -> 0
A36: SC | C36: 1.9348138e+10 | D36: 2.9483107e+09 | E36: 30143821 | F36: ='6.'!F36 -> 3.8247458e+10 | G36: =B36/F36 -> 0 | H36: =C36/$F36 -> 0.50586728 | I36: =D36/$F36 -> 0.077085142 | J36: =E36/$F36 -> 0.00078812613
A37: SE | C37: 3.4394701e+09 | D37: 1.415528e+09 | E37: 19340068 | F37: ='6.'!F37 -> 1.1293039e+10 | G37: =B37/F37 -> 0 | H37: =C37/$F37 -> 0.30456549 | I37: =D37/$F37 -> 0.12534517 | J37: =E37/$F37 -> 0.0017125653
A38: SP | C38: 3.034225e+11 | D38: 2.8780531e+10 | E38: 3813757.2 | F38: ='6.'!F38 -> 2.309805e+11 | G38: =B38/F38 -> 0 | H38: =C38/$F38 -> 1.3136282 | I38: =D38/$F38 -> 0.12460156 | J38: =E38/$F38 -> 1.6511165e-05
A39: TO | C39: 3.5710993e+09 | E39: 2.226743e+08 | F39: ='6.'!F39 -> 1.2104468e+10 | G39: =B39/F39 -> 0 | H39: =C39/$F39 -> 0.29502323 | I39: =D39/$F39 -> 0 | J39: =E39/$F39 -> 0.018396042

Sheet 9.
B2: Clique aqui para voltar ao índice
A4: SECRETARIA DO TESOURO NACIONAL
A5: Tabela 9. Gráfico 8 - Composição da Dívida Contratual
A6: Fonte: SICONFI
A7: ='1.'!A7 -> RGF 3º quadrimestre de 2022
A8: Anexo 02 - Demonstrativo da Dívida Consolidada Líquida
A9: R$ - Valores Correntes
A12: UF | B12: COMPOSIÇÃO DA DÍVIDA CONTRATUAL | H12: DÍVIDA CONSOLIDADA - DC (I) | I12: COMPOSIÇÃO DA DÍVIDA CONTRATUAL/DC
B13: Demais Dívidas Contratuais | C13: Empréstimos | D13: Financiamentos | E13: Parcelamento e Renegociação de Dívidas | F13: Reestruturação da Dívida de Estados e Municípios | G13: Dívida Contratual Total | I13: Demais Dívidas Contratuais | J13: Empréstimos | K13: Financiamentos | L13: Parcelamento e Renegociação de Dívidas | M13: Reestruturação da Dívida de Estados e Municípios
A14: AC | C14: 3.2216215e+09 | E14: 96123581 | F14: 3.9947073e+08 | G14: =SUM(B14:F14) -> 3.7172158e+09 | H14: ='7.'!B13 -> 3.7627432e+09 | I14: =B14/$H14 -> 0 | J14: =C14/$H14 -> 0.85618957 | K14: =D14/$H14 -> 0 | L14: =E14/$H14 -> 0.025546144 | M14: =F14/$H14 -> 0.10616476
A15: AL | C15: 3.7678162e+09 | E15: 1.6584507e+08 | F15: 6.4258569e+09 | G15: =SUM(B15:F15) -> 1.0359518e+10 | H15: ='7.'!B14 -> 1.0359518e+10 | I15: =B15/$H15 -> 0 | J15: =C15/$H15 -> 0.36370574 | K15: =D15/$H15 -> 0 | L15: =E15/$H15 -> 0.016008956 | M15: =F15/$H15 -> 0.62028531
A16: AM | D16: 8.7901781e+09 | E16: 8870610.7 | F16: 2.9485372e+08 | G16: =SUM(B16:F16) -> 9.0939024e+09 | H16: ='7.'!B15 -> 9.0939024e+09 | I16: =B16/$H16 -> 0 | J16: =C16/$H16 -> 0 | K16: =D16/$H16 -> 0.96660132 | L16: =E16/$H16 -> 0.00097544599 | M16: =F16/$H16 -> 0.032423233
A17: AP | C17: 1.6732659e+09 | E17: 3.7647485e+09 | F17: 65673828 | G17: =SUM(B17:F17) -> 5.5036883e+09 | H17: ='7.'!B16 -> 5.8606303e+09 | I17: =B17/$H17 -> 0 | J17: =C17/$H17 -> 0.28550955 | K17: =D17/$H17 -> 0 | L17: =E17/$H17 -> 0.64237946 | M17: =F17/$H17 -> 0.011205933
A18: BA | D18: 1.7953552e+10 | E18: 3.8451745e+08 | F18: 5.1998339e+09 | G18: =SUM(B18:F18) -> 2.3537903e+10 | H18: ='7.'!B17 -> 28529828408 | I18: =B18/$H18 -> 0 | J18: =C18/$H18 -> 0 | K18: =D18/$H18 -> 0.62929056 | L18: =E18/$H18 -> 0.013477734 | M18: =F18/$H18 -> 0.18225956
A19: CE | B19: 2.8603366e+08 | C19: 1.4737809e+10 | D19: 1.5202623e+08 | E19: 23662307 | F19: 1.1074342e+09 | G19: =SUM(B19:F19) -> 1.6306966e+10 | H19: ='7.'!B18 -> 1.7568896e+10 | I19: =B19/$H19 -> 0.016280685 | J19: =C19/$H19 -> 0.83885804 | K19: =D19/$H19 -> 0.0086531465 | L19: =E19/$H19 -> 0.0013468295 | M19: =F19/$H19 -> 0.063033794
A20: DF | C20: 5.0433873e+09 | D20: 435272.12 | E20: 16716303 | G20: =SUM(B20:F20) -> 5.0605389e+09 | H20: ='7.'!B19 -> 1.1337619e+10 | I20: =B20/$H20 -> 0 | J20: =C20/$H20 -> 0.44483657 | K20: =D20/$H20 -> 3.8391847e-05 | L20: =E20/$H20 -> 0.0014744105 | M20: =F20/$H20 -> 0
A21: ES | C21: 4.8662446e+09 | E21: 2.3509304e+08 | F21: 2.1677578e+09 | G21: =SUM(B21:F21) -> 7.2690954e+09 | H21: ='7.'!B20 -> 7.2690954e+09 | I21: =B21/$H21 -> 0 | J21: =C21/$H21 -> 0.66944294 | K21: =D21/$H21 -> 0 | L21: =E21/$H21 -> 0.032341444 | M21: =F21/$H21 -> 0.29821562
A22: GO | B22: 6020890.9 | C22: 8.3317289e+09 | E22: 1.5820625e+08 | F22: 1.472774e+10 | G22: =SUM(B22:F22) -> 2.3223696e+10 | H22: ='7.'!B21 -> 2.4564333e+10 | I22: =B22/$H22 -> 0.00024510704 | J22: =C22/$H22 -> 0.33917994 | K22: =D22/$H22 -> 0 | L22: =E22/$H22 -> 0.0064404866 | M22: =F22/$H22 -> 0.59955792
A23: MA | C23: 4.7090026e+09 | F23: 8.7329393e+08 | G23: =SUM(B23:F23) -> 5.5822965e+09 | H23: ='7.'!B22 -> 7.238779e+09 | I23: =B23/$H23 -> 0 | J23: =C23/$H23 -> 0.65052442 | K23: =D23/$H23 -> 0 | L23: =E23/$H23 -> 0 | M23: =F23/$H23 -> 0.12064105
A24: MG | C24: 2.1893964e+10 | E24: 1.330908e+09 | F24: 1.2524724e+11 | G24: =SUM(B24:F24) -> 1.4847211e+11 | H24: ='7.'!B23 -> 1.5927113e+11 | I24: =B24/$H24 -> 0 | J24: =C24/$H24 -> 0.13746348 | K24: =D24/$H24 -> 0 | L24: =E24/$H24 -> 0.0083562411 | M24: =F24/$H24 -> 0.78637749
A25: MS | C25: 2.0184124e+09 | E25: 71783227 | F25: 6.5768587e+09 | G25: =SUM(B25:F25) -> 8.6670544e+09 | H25: ='7.'!B24 -> 9.0103451e+09 | I25: =B25/$H25 -> 0 | J25: =C25/$H25 -> 0.22401055 | K25: =D25/$H25 -> 0 | L25: =E25/$H25 -> 0.0079667566 | M25: =F25/$H25 -> 0.72992307
A26: MT | B26: 0 | C26: 51204561 | D26: 2.9012046e+09 | E26: 1.1706767e+08 | F26: 1.7704442e+09 | G26: =SUM(B26:F26) -> 4.8399211e+09 | H26: ='7.'!B25 -> 5.1101135e+09 | I26: =B26/$H26 -> 0 | J26: =C26/$H26 -> 0.010020239 | K26: =D26/$H26 -> 0.5677378 | L26: =E26/$H26 -> 0.022909017 | M26: =F26/$H26 -> 0.34645888
A27: PA | C27: 4.2548491e+09 | E27: 1.7027488e+08 | F27: 1.0717002e+09 | G27: =SUM(B27:F27) -> 5.4968243e+09 | H27: ='7.'!B26 -> 5.4968243e+09 | I27: =B27/$H27 -> 0 | J27: =C27/$H27 -> 0.77405588 | K27: =D27/$H27 -> 0 | L27: =E27/$H27 -> 0.030976956 | M27: =F27/$H27 -> 0.19496716
A28: PB | C28: 1.2296609e+09 | D28: 2.1895893e+08 | E28: 1.5255803e+08 | F28: 1.1893447e+09 | G28: =SUM(B28:F28) -> 2.7905226e+09 | H28: ='7.'!B27 -> 5.3191079e+09 | I28: =B28/$H28 -> 0 | J28: =C28/$H28 -> 0.23117804 | K28: =D28/$H28 -> 0.041164597 | L28: =E28/$H28 -> 0.028681132 | M28: =F28/$H28 -> 0.22359853
A29: PE | C29: 1.2805262e+10 | E29: 45737026 | F29: 3.751795e+09 | G29: =SUM(B29:F29) -> 1.6602794e+10 | H29: ='7.'!B28 -> 1.6857697e+10 | I29: =B29/$H29 -> 0 | J29: =C29/$H29 -> 0.75960922 | K29: =D29/$H29 -> 0 | L29: =E29/$H29 -> 0.0027131242 | M29: =F29/$H29 -> 0.22255679
A30: PI | B30: 87173706 | C30: 6.4906484e+09 | E30: 2.0172548e+08 | G30: =SUM(B30:F30) -> 6.7795476e+09 | H30: ='7.'!B29 -> 9.0674389e+09 | I30: =B30/$H30 -> 0.0096139282 | J30: =C30/$H30 -> 0.71581938 | K30: =D30/$H30 -> 0 | L30: =E30/$H30 -> 0.022247239 | M30: =F30/$H30 -> 0
A31: PR | B31: 3.7476177e+08 | C31: 3.7758336e+09 | D31: 3.5455831e+09 | E31: 1.3606289e+09 | F31: 1.5333256e+10 | G31: =SUM(B31:F31) -> 2.4390063e+10 | H31: ='7.'!B30 -> 3.2253354e+10 | I31: =B31/$H31 -> 0.011619312 | J31: =C31/$H31 -> 0.11706794 | K31: =D31/$H31 -> 0.10992913 | L31: =E31/$H31 -> 0.042185656 | M31: =F31/$H31 -> 0.47540035
A32: RJ | C32: 3.3272986e+10 | E32: 8.3194258e+08 | F32: 1.3883836e+11 | G32: =SUM(B32:F32) -> 1.7294329e+11 | H32: ='7.'!B31 -> 1.7706277e+11 | I32: =B32/$H32 -> 0 | J32: =C32/$H32 -> 0.18791633 | K32: =D32/$H32 -> 0 | L32: =E32/$H32 -> 0.0046985744 | M32: =F32/$H32 -> 0.78411944
A33: RN | C33: 2.9672048e+09 | E33: 1.473551e+08 | F33: 2.7828456e+08 | G33: =SUM(B33:F33) -> 3.3928444e+09 | H33: ='7.'!B32 -> 5.1710308e+09 | I33: =B33/$H33 -> 0 | J33: =C33/$H33 -> 0.57381302 | K33: =D33/$H33 -> 0 | L33: =E33/$H33 -> 0.028496273 | M33: =F33/$H33 -> 0.053816071
A34: RO | C34: 2.6168245e+08 | E34: 45151753 | F34: 2.5754181e+09 | G34: =SUM(B34:F34) -> 2.8822523e+09 | H34: ='7.'!B33 -> 5.1497796e+09 | I34: =B34/$H34 -> 0 | J34: =C34/$H34 -> 0.050814302 | K34: =D34/$H34 -> 0 | L34: =E34/$H34 -> 0.0087677059 | M34: =F34/$H34 -> 0.5001026
A35: RR | B35: 56594115 | C35: 7.9081828e+08 | E35: 3.9252504e+08 | F35: 92159207 | G35: =SUM(B35:F35) -> 1.3320966e+09 | H35: ='7.'!B34 -> 1.7311419e+09 | I35: =B35/$H35 -> 0.032691783 | J35: =C35/$H35 -> 0.45681887 | K35: =D35/$H35 -> 0 | L35: =E35/$H35 -> 0.22674342 | M35: =F35/$H35 -> 0.053236079
A36: RS | C36: 9.3249255e+10 | E36: 5.2317009e+08 | G36: =SUM(B36:F36) -> 9.3772425e+10 | H36: ='7.'!B35 -> 1.0973016e+11 | I36: =B36/$H36 -> 0 | J36: =C36/$H36 -> 0.84980514 | K36: =D36/$H36 -> 0 | L36: =E36/$H36 -> 0.0047677875 | M36: =F36/$H36 -> 0
A37: SC | B37: 109974348 | C37: 8.1841443e+09 | D37: 6294935.5 | E37: 6.4566153e+08 | F37: 1.0402063e+10 | G37: =SUM(B37:F37) -> 1.9348138e+10 | H37: ='7.'!B36 -> 2.2326592e+10 | I37: =B37/$H37 -> 0.0049257113 | J37: =C37/$H37 -> 0.36656486 | K37: =D37/$H37 -> 0.00028194788 | L37: =E37/$H37 -> 0.028918946 | M37: =F37/$H37 -> 0.46590463
A38: SE | D38: 2.265195e+09 | E38: 98717920 | F38: 1.0755571e+09 | G38: =SUM(B38:F38) -> 3.4394701e+09 | H38: ='7.'!B37 -> 4.8743381e+09 | I38: =B38/$H38 -> 0 | J38: =C38/$H38 -> 0 | K38: =D38/$H38 -> 0.46471849 | L38: =E38/$H38 -> 0.020252579 | M38: =F38/$H38 -> 0.22065706
A39: SP | C39: 4.6436759e+10 | E39: 5.9915795e+08 | F39: 2.5638658e+11 | G39: =SUM(B39:F39) -> 3.034225e+11 | H39: ='7.'!B38 -> 3.3220685e+11 | I39: =B39/$H39 -> 0 | J39: =C39/$H39 -> 0.13978267 | K39: =D39/$H39 -> 0 | L39: =E39/$H39 -> 0.0018035689 | M39: =F39/$H39 -> 0.77176791
A40: TO | B40: 51978599 | D40: 2.8390918e+09 | E40: 6.8002887e+08 | G40: =SUM(B40:F40) -> 3.5710993e+09 | H40: ='7.'!B39 -> 3.7937736e+09 | I40: =B40/$H40 -> 0.013701028 | J40: =C40/$H40 -> 0 | K40: =D40/$H40 -> 0.74835563 | L40: =E40/$H40 -> 0.17924867 | M40: =F40/$H40 -> 0

Sheet 10.
B2: Clique aqui para voltar ao índice
A4: SECRETARIA DO TESOURO NACIONAL
A5: Tabela 10. Gráfico 9 - Precatórios
A6: Fonte: SICONFI
A7: ='1.'!A7 -> RGF 3º quadrimestre de 2022
A8: Anexo 02 - Demonstrativo da Dívida Consolidada Líquida
A9: R$ - Valores Correntes
A11: UF | B11: Precatórios Anteriores a 05/05/2000 | C11: Precatórios Posteriores a 05/05/2000 (inclusive) Vencidos e Não Pagos | D11: Precatórios Posteriores a 05/05/2000 (Não incluídos na DC) | E11: Total Precatórios | F11: RECEITA CORRENTE LÍQUIDA AJUSTADA PARA PARA CÁLCULO DOS LIMITES DE ENDIVIDAMENTO (VI) = (IV - V) | G11: % (Precatórios/RCL)
A12: ='6.'!A13 -> AC | B12: ='6.'!G13 -> 0 | C12: ='6.'!H13 -> 45527415 | D12: ='6.'!I13 -> 0 | E12: =SUM(B12:D12) -> 45527415 | F12: ='6.'!F13 -> 7.9884488e+09 | G12: =E12/F12 -> 0.0056991559
A13: ='6.'!A14 -> AL | B13: ='6.'!G14 -> 0 | C13: ='6.'!H14 -> 0 | D13: ='6.'!I14 -> 0 | E13: =SUM(B13:D13) -> 0 | F13: ='6.'!F14 -> 13177300526 | G13: =E13/F13 -> 0
A14: ='6.'!A15 -> AM | B14: ='6.'!G15 -> 0 | C14: ='6.'!H15 -> 0 | D14: ='6.'!I15 -> 0 | E14: =SUM(B14:D14) -> 0 | F14: ='6.'!F15 -> 2.241183e+10 | G14: =E14/F14 -> 0
