Workbook
Name data: [1]banco!$B$2

Sheet JAN
A3: MINISTÉRIO DA FAZENDA - MF
A4: SECRETARIA DO TESOURO NACIONAL - STN
A5: COORDENAÇÃO-GERAL DE ANÁLISE, INFORMAÇÕES EXECUÇÃO DAS TRANSFERÊNCIAS FINANCEIRAS INTERGOVERNAMENTAIS - COINT
A8: DEMONSTRATIVO DAS TRANSFERÊNCIAS DAS RECEITAS FEDERAIS AOS ESTADOS, DF E MUNICÍPIOS
A9: E AOS FUNDOS CONSTITUCIONAIS DO NORTE, NORDESTE E CENTRO-OESTE
A10: 44927
G11: R$ Mil
A12: RECEITAS | B12: DEMONSTRATIVO DA BASE DE CÁLCULO
B13: ARRECADAÇÃO | C13: DEDUÇÃO | D13: DEDUÇÃO | E13: INCENTIVOS | F13: RESTITUIÇÃO | G13: ARRECADAÇÃO
B14: BRUTA | C14: PIN | D14: PROTERRA | E14: FISCAIS | G14: LÍQUIDA
B15: (A) | C15: (B) | D15: (C) | E15: (D) | F15: (E) | G15: (F = A-B-C-D-E)
A17: Imposto de Renda de Pessoa Física | B17: 3281914.6 | C17: 0 | D17: 0 | E17: 0 | F17: 20165.55 | G17: 3261749.1
A18: Imposto de Renda de Pessoa Jurídica | B18: 16927557 | C18: 0 | D18: 0 | E18: 20492.722 | F18: 7544383.7 | G18: 9362680.8
A19: Imposto de Renda Retido na Fonte | B19: 48389372 | C19: 0 | D19: 0 | E19: 0 | F19: 916142.05 | G19: 47473230
A20: Multas e Juros (I.R.) | B20: 952493.64 | C20: 0 | D20: 0 | E20: 0 | F20: 0.49064 | G20: 952493.15
A21: SUBTOTAL | B21: 69551337 | C21: 0 | D21: 0 | E21: 20492.722 | F21: 8480691.8 | G21: 61050153
A22: Imposto sobre Produtos Industrializados | B22: 5460822.5 | C22: 0 | D22: 0 | E22: 0 | F22: 526142.76 | G22: 4934679.7
A23: Multas e Juros (IPI) | B23: 60766.055 | C23: 0 | D23: 0 | E23: 0 | F23: 0 | G23: 60766.055
A24: SUBTOTAL | B24: 5521588.6 | C24: 0 | D24: 0 | E24: 0 | F24: 526142.76 | G24: 4995445.8
A26: TOTAL | B26: 75072926 | C26: 0 | D26: 0 | E26: 20492.722 | F26: 9006834.5 | G26: 66045599
G28: R$ Mil
A29: RECEITAS | B29: DEMONSTRATIVO DA BASE DE CÁLCULO
B30: MUNICÍPIOS | C30: ESTADOS | E30: REGIÕES
B31: FPM | C31: FPE | D31: IPI-EXP | E31: FNE | F31: FNO | G31: FCO
B32: (22,5% x (F)) | C32: (21,5% x (F)) | D32: (10% x (F)) | E32: (1,8% x (F)) | F32: (0,6% x (F)) | G32: (0,6% x (F))
A34: Imposto de Renda de Pessoa Física | B34: 733893.54 | C34: 701276.05 | E34: 58711.483 | F34: 19570.494 | G34: 19570.494
A35: Imposto de Renda de Pessoa Jurídica | B35: 2106603.2 | C35: 2012976.4 | E35: 168528.25 | F35: 56176.085 | G35: 56176.085
A36: Imposto de Renda Retido na Fonte | B36: 10681477 | C36: 10206744 | E36: 854518.14 | F36: 284839.38 | G36: 284839.38
A37: Multas e Juros (I.R.) | B37: 214310.96 | C37: 204786.03 | E37: 17144.877 | F37: 5714.9589 | G37: 5714.9589
A38: SUBTOTAL | B38: 13736284 | C38: 13125783 | E38: 1098902.7 | F38: 366300.92 | G38: 366300.92
A39: Imposto sobre Produtos Industrializados | B39: 1110302.9 | C39: 1060956.1 | D39: 493467.97 | E39: 88824.235 | F39: 29608.078 | G39: 29608.078
A40: Multas e Juros (IPI) | B40: 13672.362 | C40: 13064.702 | D40: 6076.6055 | E40: 1093.789 | F40: 364.59633 | G40: 364.59633
A41: SUBTOTAL | B41: 1123975.3 | C41: 1074020.8 | D41: 499544.58 | E41: 89918.024 | F41: 29972.675 | G41: 29972.675
A43: Retenção para transferência ao Fundeb (20%) | B43: 2972051.9 | C43: 2839960.7 | D43: 99908.916
A45: TOTAL | B45: 11888208 | C45: 11359843 | D45: 399635.66 | E45: 1188820.8 | F45: 396273.59 | G45: 396273.59
A46: Observações:
A47: Receita classificada referente ao período de 21/12/2022 a 20/01/2023
A48: Na arrecadação bruta do IRPJ estão incluídos os incentivos fiscais e o PIN/PROTERRA.

Sheet FEV
A3: MINISTÉRIO DA FAZENDA - MF
A4: SECRETARIA DO TESOURO NACIONAL - STN
A5: COORDENAÇÃO-GERAL DE ANÁLISE, INFORMAÇÕES EXECUÇÃO DAS TRANSFERÊNCIAS FINANCEIRAS INTERGOVERNAMENTAIS - COINT
A8: DEMONSTRATIVO DAS TRANSFERÊNCIAS DAS RECEITAS FEDERAIS AOS ESTADOS, DF E MUNICÍPIOS
A9: E AOS FUNDOS CONSTITUCIONAIS DO NORTE, NORDESTE E CENTRO-OESTE
A10: 44958
G11: R$ Mil
A12: RECEITAS | B12: DEMONSTRATIVO DA BASE DE CÁLCULO
B13: ARRECADAÇÃO | C13: DEDUÇÃO | D13: DEDUÇÃO | E13: INCENTIVOS | F13: RESTITUIÇÃO | G13: ARRECADAÇÃO
B14: BRUTA | C14: PIN | D14: PROTERRA | E14: FISCAIS | G14: LÍQUIDA
B15: (A) | C15: (B) | D15: (C) | E15: (D) | F15: (E) | G15: (F = A-B-C-D-E)
A17: Imposto de Renda de Pessoa Física | B17: 1957493.8 | C17: 0 | D17: 0 | E17: 0 | F17: 19010.792 | G17: 1938483
A18: Imposto de Renda de Pessoa Jurídica | B18: 58607155 | C18: 0 | D18: 0 | E18: 0 | F18: 3647022.5 | G18: 54960133
A19: Imposto de Renda Retido na Fonte | B19: 28959684 | C19: 0 | D19: 0 | E19: 0 | F19: 1317790.9 | G19: 27641893
A20: Multas e Juros (I.R.) | B20: 776966.75 | C20: 0 | D20: 0 | E20: 0 | F20: 345.3159 | G20: 776621.44
A21: SUBTOTAL | B21: 90301300 | C21: 0 | D21: 0 | E21: 0 | F21: 4984169.4 | G21: 85317130
A22: Imposto sobre Produtos Industrializados | B22: 4378101.8 | C22: 0 | D22: 0 | E22: 0 | F22: 900847.48 | G22: 3477254.3
A23: Multas e Juros (IPI) | B23: 85272.365 | C23: 0 | D23: 0 | E23: 0 | F23: 172.92839 | G23: 85099.437
A24: SUBTOTAL | B24: 4463374.2 | C24: 0 | D24: 0 | E24: 0 | F24: 901020.41 | G24: 3562353.8
G25: 0
A26: TOTAL | B26: 94764674 | C26: 0 | D26: 0 | E26: 0 | F26: 5885189.8 | G26: 88879484
G28: R$ Mil
A29: RECEITAS | B29: DEMONSTRATIVO DA BASE DE CÁLCULO
B30: MUNICÍPIOS | C30: ESTADOS | E30: REGIÕES
B31: FPM | C31: FPE | D31: IPI-EXP | E31: FNE | F31: FNO | G31: FCO
B32: (22,5% x (F)) | C32: (21,5% x (F)) | D32: (10% x (F)) | E32: (1,8% x (F)) | F32: (0,6% x (F)) | G32: (0,6% x (F))
A34: Imposto de Renda de Pessoa Física | B34: 436158.67 | C34: 416773.84 | E34: 34892.694 | F34: 11630.898 | G34: 11630.898
A35: Imposto de Renda de Pessoa Jurídica | B35: 12366030 | C35: 11816429 | E35: 989282.39 | F35: 329760.8 | G35: 329760.8
A36: Imposto de Renda Retido na Fonte | B36: 6219426 | C36: 5943007.1 | E36: 497554.08 | F36: 165851.36 | G36: 165851.36
A37: Multas e Juros (I.R.) | B37: 174739.82 | C37: 166973.61 | E37: 13979.186 | F37: 4659.7286 | G37: 4659.7286
A38: SUBTOTAL | B38: 19196354 | C38: 18343183 | E38: 1535708.3 | F38: 511902.78 | G38: 511902.78
A39: Imposto sobre Produtos Industrializados | B39: 782382.22 | C39: 747609.68 | D39: 347725.43 | E39: 62590.578 | F39: 20863.526 | G39: 20863.526
A40: Multas e Juros (IPI) | B40: 19147.373 | C40: 18296.379 | D40: 8509.9437 | E40: 1531.7899 | F40: 510.59662 | G40: 510.59662
A41: SUBTOTAL | B41: 801529.59 | C41: 765906.06 | D41: 356235.38 | E41: 64122.368 | F41: 21374.123 | G41: 21374.123
A43: Retenção para transferência ao Fundeb (20%) | B43: 3999576.8 | C43: 3821817.8 | D43: 71247.075
A45: TOTAL | B45: 15998307 | C45: 15287271 | D45: 284988.3 | E45: 1599830.7 | F45: 533276.91 | G45: 533276.91
A46: Observações:
A47: Receita classificada referente ao período de 21/01/2023 a 20/02/2023
A48: Na arrecadação bruta do IRPJ estão incluídos os incentivos fiscais e o PIN/PROTERRA.

Sheet MAR
A3: MINISTÉRIO DA FAZENDA - MF
A4: SECRETARIA DO TESOURO NACIONAL - STN
A5: COORDENAÇÃO-GERAL DE ANÁLISE, INFORMAÇÕES EXECUÇÃO DAS TRANSFERÊNCIAS FINANCEIRAS INTERGOVERNAMENTAIS - COINT
A8: DEMONSTRATIVO DAS TRANSFERÊNCIAS DAS RECEITAS FEDERAIS AOS ESTADOS, DF E MUNICÍPIOS
A9: E AOS FUNDOS CONSTITUCIONAIS DO NORTE, NORDESTE E CENTRO-OESTE
A10: 44986
G11: R$ Mil
A12: RECEITAS | B12: DEMONSTRATIVO DA BASE DE CÁLCULO
B13: ARRECADAÇÃO | C13: DEDUÇÃO | D13: DEDUÇÃO | E13: INCENTIVOS | F13: RESTITUIÇÃO | G13: ARRECADAÇÃO
B14: BRUTA | C14: PIN | D14: PROTERRA | E14: FISCAIS | G14: LÍQUIDA
B15: (A) | C15: (B) | D15: (C) | E15: (D) | F15: (E) | G15: (F = A-B-C-D-E)
A17: Imposto de Renda de Pessoa Física | B17: 2259342.2 | C17: 0 | D17: 0 | E17: 0 | F17: 34176.382 | G17: 2225165.9
A18: Imposto de Renda de Pessoa Jurídica | B18: 22122007 | C18: 0 | D18: 0 | E18: 0 | F18: 3725851 | G18: 18396156
A19: Imposto de Renda Retido na Fonte | B19: 29170293 | C19: 0 | D19: 0 | E19: 0 | F19: 598073.96 | G19: 28572219
A20: Multas e Juros (I.R.) | B20: 774808.16 | C20: 0 | D20: 0 | E20: 0 | F20: 11562.679 | G20: 763245.48
A21: SUBTOTAL | B21: 54326450 | C21: 0 | D21: 0 | E21: 0 | F21: 4369664.1 | G21: 49956786
A22: Imposto sobre Produtos Industrializados | B22: 4808575.9 | C22: 0 | D22: 0 | E22: 0 | F22: 482895.73 | G22: 4325680.1
A23: Multas e Juros (IPI) | B23: 90736.418 | C23: 0 | D23: 0 | E23: 0 | F23: 1544.683 | G23: 89191.735
A24: SUBTOTAL | B24: 4899312.3 | C24: 0 | D24: 0 | E24: 0 | F24: 484440.42 | G24: 4414871.9
A26: TOTAL | B26: 59225762 | C26: 0 | D26: 0 | E26: 0 | F26: 4854104.5 | G26: 54371658
G28: R$ Mil
A29: RECEITAS | B29: DEMONSTRATIVO DA BASE DE CÁLCULO
B30: MUNICÍPIOS | C30: ESTADOS | E30: REGIÕES
B31: FPM | C31: FPE | D31: IPI-EXP | E31: FNE | F31: FNO | G31: FCO
B32: (22,5% x (F)) | C32: (21,5% x (F)) | D32: (10% x (F)) | E32: (1,8% x (F)) | F32: (0,6% x (F)) | G32: (0,6% x (F))
A34: Imposto de Renda de Pessoa Física | B34: 500662.32 | C34: 478410.66 | E34: 40052.985 | F34: 13350.995 | G34: 13350.995
A35: Imposto de Renda de Pessoa Jurídica | B35: 4139135.1 | C35: 3955173.5 | E35: 331130.81 | F35: 110376.94 | G35: 110376.94
A36: Imposto de Renda Retido na Fonte | B36: 6428749.2 | C36: 6143027 | E36: 514299.94 | F36: 171433.31 | G36: 171433.31
A37: Multas e Juros (I.R.) | B37: 171730.23 | C37: 164097.78 | E37: 13738.419 | F37: 4579.4729 | G37: 4579.4729
A38: SUBTOTAL | B38: 11240277 | C38: 10740709 | E38: 899222.15 | F38: 299740.72 | G38: 299740.72
A39: Imposto sobre Produtos Industrializados | B39: 973278.03 | C39: 930021.23 | D39: 432568.01 | E39: 77862.243 | F39: 25954.081 | G39: 25954.081
A40: Multas e Juros (IPI) | B40: 20068.14 | C40: 19176.223 | D40: 8919.1735 | E40: 1605.4512 | F40: 535.15041 | G40: 535.15041
A41: SUBTOTAL | B41: 993346.17 | C41: 949197.45 | D41: 441487.19 | E41: 79467.694 | F41: 26489.231 | G41: 26489.231
A43: Retenção para transferência ao Fundeb (20%) | B43: 2446724.6 | C43: 2337981.3 | D43: 88297.438
A45: TOTAL | B45: 9786898.4 | C45: 9351925.1 | D45: 353189.75 | E45: 978689.84 | F45: 326229.95 | G45: 326229.95
A46: Observações:
A47: Receita classificada referente ao período de 21/02/2023 a 20/03/2023
A48: Na arrecadação bruta do IRPJ estão incluídos os incentivos fiscais e o PIN/PROTERRA.

Sheet ABR
A3: MINISTÉRIO DA FAZENDA - MF
A4: SECRETARIA DO TESOURO NACIONAL - STN
A5: COORDENAÇÃO-GERAL DE ANÁLISE, INFORMAÇÕES EXECUÇÃO DAS TRANSFERÊNCIAS FINANCEIRAS INTERGOVERNAMENTAIS - COINT
A8: DEMONSTRATIVO DAS TRANSFERÊNCIAS DAS RECEITAS FEDERAIS AOS ESTADOS, DF E MUNICÍPIOS
A9: E AOS FUNDOS CONSTITUCIONAIS DO NORTE, NORDESTE E CENTRO-OESTE
A10: 45017
G11: R$ Mil
A12: RECEITAS | B12: DEMONSTRATIVO DA BASE DE CÁLCULO
B13: ARRECADAÇÃO | C13: DEDUÇÃO | D13: DEDUÇÃO | E13: INCENTIVOS | F13: RESTITUIÇÃO | G13: ARRECADAÇÃO
B14: BRUTA | C14: PIN | D14: PROTERRA | E14: FISCAIS | G14: LÍQUIDA
B15: (A) | C15: (B) | D15: (C) | E15: (D) | F15: (E) | G15: (F = A-B-C-D-E)
A17: Imposto de Renda de Pessoa Física | B17: 2326064.1 | C17: 0 | D17: 0 | E17: 0 | F17: 46121.78 | G17: 2279942.3
A18: Imposto de Renda de Pessoa Jurídica | B18: 23586220 | C18: 0 | D18: 0 | E18: 40401.694 | F18: 4125125.8 | G18: 19420692
A19: Imposto de Renda Retido na Fonte | B19: 35059465 | C19: 0 | D19: 0 | E19: 0 | F19: 537582.64 | G19: 34521882
A20: Multas e Juros (I.R.) | B20: 1234723.5 | C20: 0 | D20: 0 | E20: 0 | F20: 38.39913 | G20: 1234685.1
A21: SUBTOTAL | B21: 62206472 | C21: 0 | D21: 0 | E21: 40401.694 | F21: 4708868.6 | G21: 57457202
A22: Imposto sobre Produtos Industrializados | B22: 5383105.5 | C22: 0 | D22: 0 | E22: 0 | F22: 794147.34 | G22: 4588958.2
A23: Multas e Juros (IPI) | B23: 117866.82 | C23: 0 | D23: 0 | E23: 0 | F23: 254.52522 | G23: 117612.3
A24: SUBTOTAL | B24: 5500972.4 | C24: 0 | D24: 0 | E24: 0 | F24: 794401.86 | G24: 4706570.5
A26: TOTAL | B26: 67707445 | C26: 0 | D26: 0 | E26: 40401.694 | F26: 5503270.5 | G26: 62163773
G28: R$ Mil
A29: RECEITAS | B29: DEMONSTRATIVO DA BASE DE CÁLCULO
B30: MUNICÍPIOS | C30: ESTADOS | E30: REGIÕES
B31: FPM | C31: FPE | D31: IPI-EXP | E31: FNE | F31: FNO | G31: FCO
B32: (22,5% x (F)) | C32: (21,5% x (F)) | D32: (10% x (F)) | E32: (1,8% x (F)) | F32: (0,6% x (F)) | G32: (0,6% x (F))
A34: Imposto de Renda de Pessoa Física | B34: 512987.02 | C34: 490187.6 | E34: 41038.962 | F34: 13679.654 | G34: 13679.654
A35: Imposto de Renda de Pessoa Jurídica | B35: 4369655.8 | C35: 4175448.9 | E35: 349572.46 | F35: 116524.15 | G35: 116524.15
A36: Imposto de Renda Retido na Fonte | B36: 7767423.5 | C36: 7422204.7 | E36: 621393.88 | F36: 207131.29 | G36: 207131.29
A37: Multas e Juros (I.R.) | B37: 277804.15 | C37: 265457.3 | E37: 22224.332 | F37: 7408.1107 | G37: 7408.1107
A38: SUBTOTAL | B38: 12927870 | C38: 12353298 | E38: 1034229.6 | F38: 344743.21 | G38: 344743.21
A39: Imposto sobre Produtos Industrializados | B39: 1032515.6 | C39: 986626.02 | D39: 458895.82 | E39: 82601.248 | F39: 27533.749 | G39: 27533.749
A40: Multas e Juros (IPI) | B40: 26462.767 | C40: 25286.644 | D40: 11761.23 | E40: 2117.0214 | F40: 705.67379 | G40: 705.67379
A41: SUBTOTAL | B41: 1058978.4 | C41: 1011912.7 | D41: 470657.05 | E41: 84718.269 | F41: 28239.423 | G41: 28239.423
A43: Retenção para transferência ao Fundeb (20%) | B43: 2797369.8 | C43: 2673042.2 | D43: 94131.41
A45: TOTAL | B45: 11189479 | C45: 10692169 | D45: 376525.64 | E45: 1118947.9 | F45: 372982.64 | G45: 372982.64
A46: Observações:
A47: Receita classificada referente ao período de 21/03/2023 a 20/04/2023
A48: Na arrecadação bruta do IRPJ estão incluídos os incentivos fiscais e o PIN/PROTERRA.

Sheet MAI
A3: MINISTÉRIO DA FAZENDA - MF
A4: SECRETARIA DO TESOURO NACIONAL - STN
A5: COORDENAÇÃO-GERAL DE ANÁLISE, INFORMAÇÕES EXECUÇÃO DAS TRANSFERÊNCIAS FINANCEIRAS INTERGOVERNAMENTAIS - COINT
A8: DEMONSTRATIVO DAS TRANSFERÊNCIAS DAS RECEITAS FEDERAIS AOS ESTADOS, DF E MUNICÍPIOS
A9: E AOS FUNDOS CONSTITUCIONAIS DO NORTE, NORDESTE E CENTRO-OESTE
A10: 45047
G11: R$ Mil
A12: RECEITAS | B12: DEMONSTRATIVO DA BASE DE CÁLCULO
B13: ARRECADAÇÃO | C13: DEDUÇÃO | D13: DEDUÇÃO | E13: INCENTIVOS | F13: RESTITUIÇÃO | G13: ARRECADAÇÃO
B14: BRUTA | C14: PIN | D14: PROTERRA | E14: FISCAIS | G14: LÍQUIDA
B15: (A) | C15: (B) | D15: (C) | E15: (D) | F15: (E) | G15: (F = A-B-C-D-E)
A17: Imposto de Renda de Pessoa Física | B17: 3828614.4 | C17: 0 | D17: 0 | E17: 0 | F17: 80907.077 | G17: 3747707.3
A18: Imposto de Renda de Pessoa Jurídica | B18: 34278287 | C18: 0 | D18: 0 | E18: 0 | F18: 2895872.2 | G18: 31382415
A19: Imposto de Renda Retido na Fonte | B19: 29210741 | C19: 0 | D19: 0 | E19: 0 | F19: 363111.15 | G19: 28847630
A20: Multas e Juros (I.R.) | B20: 895171.75 | C20: 0 | D20: 0 | E20: 0 | F20: 334.707 | G20: 894837.04
A21: SUBTOTAL | B21: 68212814 | C21: 0 | D21: 0 | E21: 0 | F21: 3340225.1 | G21: 64872589
A22: Imposto sobre Produtos Industrializados | B22: 4670917.7 | C22: 0 | D22: 0 | E22: 0 | F22: 509843.87 | G22: 4161073.8
A23: Multas e Juros (IPI) | B23: 75024.998 | C23: 0 | D23: 0 | E23: 0 | F23: 3674.8655 | G23: 71350.132
A24: SUBTOTAL | B24: 4745942.7 | C24: 0 | D24: 0 | E24: 0 | F24: 513518.73 | G24: 4232424
A26: TOTAL | B26: 72958757 | C26: 0 | D26: 0 | E26: 0 | F26: 3853743.9 | G26: 69105013
G28: R$ Mil
A29: RECEITAS | B29: DEMONSTRATIVO DA BASE DE CÁLCULO
B30: MUNICÍPIOS | C30: ESTADOS | E30: REGIÕES
B31: FPM | C31: FPE | D31: IPI-EXP | E31: FNE | F31: FNO | G31: FCO
B32: (22,5% x (F)) | C32: (21,5% x (F)) | D32: (10% x (F)) | E32: (1,8% x (F)) | F32: (0,6% x (F)) | G32: (0,6% x (F))
A34: Imposto de Renda de Pessoa Física | B34: 843234.15 | C34: 805757.08 | E34: 67458.732 | F34: 22486.244 | G34: 22486.244
A35: Imposto de Renda de Pessoa Jurídica | B35: 7061043.3 | C35: 6747219.2 | E35: 564883.47 | F35: 188294.49 | G35: 188294.49
A36: Imposto de Renda Retido na Fonte | B36: 6490716.8 | C36: 6202240.5 | E36: 519257.34 | F36: 173085.78 | G36: 173085.78
A37: Multas e Juros (I.R.) | B37: 201338.33 | C37: 192389.96 | E37: 16107.067 | F37: 5369.0222 | G37: 5369.0222
A38: SUBTOTAL | B38: 14596333 | C38: 13947607 | E38: 1167706.6 | F38: 389235.54 | G38: 389235.54
A39: Imposto sobre Produtos Industrializados | B39: 936241.61 | C39: 894630.87 | D39: 416107.38 | E39: 74899.329 | F39: 24966.443 | G39: 24966.443
A40: Multas e Juros (IPI) | B40: 16053.78 | C40: 15340.278 | D40: 7135.0132 | E40: 1284.3024 | F40: 428.10079 | G40: 428.10079
A41: SUBTOTAL | B41: 952295.39 | C41: 909971.15 | D41: 423242.4 | E41: 76183.631 | F41: 25394.544 | G41: 25394.544
A43: Retenção para transferência ao Fundeb (20%) | B43: 3109725.6 | C43: 2971515.6 | D43: 84648.479
A45: TOTAL | B45: 12438902 | C45: 11886062 | D45: 338593.92 | E45: 1243890.2 | F45: 414630.08 | G45: 414630.08
A46: Observações:
A47: Receita classificada referente ao período de 21/04/2023 a 20/05/2023
A48: Na arrecadação bruta do IRPJ estão incluídos os incentivos fiscais e o PIN/PROTERRA.

Sheet JUN
A3: MINISTÉRIO DA FAZENDA - MF
A4: SECRETARIA DO TESOURO NACIONAL - STN
A5: COORDENAÇÃO-GERAL DE ANÁLISE, INFORMAÇÕES EXECUÇÃO DAS TRANSFERÊNCIAS FINANCEIRAS INTERGOVERNAMENTAIS - COINT
A8: DEMONSTRATIVO DAS TRANSFERÊNCIAS DAS RECEITAS FEDERAIS AOS ESTADOS, DF E MUNICÍPIOS
A9: E AOS FUNDOS CONSTITUCIONAIS DO NORTE, NORDESTE E CENTRO-OESTE
A10: 45078
G11: R$ Mil
A12: RECEITAS | B12: DEMONSTRATIVO DA BASE DE CÁLCULO
B13: ARRECADAÇÃO | C13: DEDUÇÃO | D13: DEDUÇÃO | E13: INCENTIVOS | F13: RESTITUIÇÃO | G13: ARRECADAÇÃO
B14: BRUTA | C14: PIN | D14: PROTERRA | E14: FISCAIS | G14: LÍQUIDA
B15: (A) | C15: (B) | D15: (C) | E15: (D) | F15: (E) | G15: (F = A-B-C-D-E)
A17: Imposto de Renda de Pessoa Física
A18: Imposto de Renda de Pessoa Jurídica
A19: Imposto de Renda Retido na Fonte
A20: Multas e Juros (I.R.)
A21: SUBTOTAL
A22: Imposto sobre Produtos Industrializados
A23: Multas e Juros (IPI)
A24: SUBTOTAL
A26: TOTAL
G28: R$ Mil
A29: RECEITAS | B29: DEMONSTRATIVO DA BASE DE CÁLCULO
B30: MUNICÍPIOS | C30: ESTADOS | E30: REGIÕES
B31: FPM | C31: FPE | D31: IPI-EXP | E31: FNE | F31: FNO | G31: FCO
B32: (22,5% x (F)) | C32: (21,5% x (F)) | D32: (10% x (F)) | E32: (1,8% x (F)) | F32: (0,6% x (F)) | G32: (0,6% x (F))
A34: Imposto de Renda de Pessoa Física
A35: Imposto de Renda de Pessoa Jurídica
A36: Imposto de Renda Retido na Fonte
A37: Multas e Juros (I.R.)
A38: SUBTOTAL
A39: Imposto sobre Produtos Industrializados
A40: Multas e Juros (IPI)
A41: SUBTOTAL
A43: Retenção para transferência ao Fundeb (20%)
A45: TOTAL
A46: Observações:
A47: Receita classificada referente ao período de 21/05/2023 a 20/06/2023
A48: Na arrecadação bruta do IRPJ estão incluídos os incentivos fiscais e o PIN/PROTERRA.

Sheet JUL
A3: MINISTÉRIO DA FAZENDA - MF
A4: SECRETARIA DO TESOURO NACIONAL - STN
A5: COORDENAÇÃO-GERAL DE ANÁLISE, INFORMAÇÕES EXECUÇÃO DAS TRANSFERÊNCIAS FINANCEIRAS INTERGOVERNAMENTAIS - COINT
A8: DEMONSTRATIVO DAS TRANSFERÊNCIAS DAS RECEITAS FEDERAIS AOS ESTADOS, DF E MUNICÍPIOS
A9: E AOS FUNDOS CONSTITUCIONAIS DO NORTE, NORDESTE E CENTRO-OESTE
A10: 45108
G11: R$ Mil
A12: RECEITAS | B12: DEMONSTRATIVO DA BASE DE CÁLCULO
B13: ARRECADAÇÃO | C13: DEDUÇÃO | D13: DEDUÇÃO | E13: INCENTIVOS | F13: RESTITUIÇÃO | G13: ARRECADAÇÃO
B14: BRUTA | C14: PIN | D14: PROTERRA | E14: FISCAIS | G14: LÍQUIDA
B15: (A) | C15: (B) | D15: (C) | E15: (D) | F15: (E) | G15: (F = A-B-C-D-E)
A17: Imposto de Renda de Pessoa Física
A18: Imposto de Renda de Pessoa Jurídica
A19: Imposto de Renda Retido na Fonte
A20: Multas e Juros (I.R.)
A21: SUBTOTAL
A22: Imposto sobre Produtos Industrializados
A23: Multas e Juros (IPI)
A24: SUBTOTAL
A26: TOTAL
G28: R$ Mil
A29: RECEITAS | B29: DEMONSTRATIVO DA BASE DE CÁLCULO
B30: MUNICÍPIOS | C30: ESTADOS | E30: REGIÕES
B31: FPM | C31: FPE | D31: IPI-EXP | E31: FNE | F31: FNO | G31: FCO
B32: (22,5% x (F)) | C32: (21,5% x (F)) | D32: (10% x (F)) | E32: (1,8% x (F)) | F32: (0,6% x (F)) | G32: (0,6% x (F))
A34: Imposto de Renda de Pessoa Física
A35: Imposto de Renda de Pessoa Jurídica
A36: Imposto de Renda Retido na Fonte
A37: Multas e Juros (I.R.)
A38: SUBTOTAL
A39: Imposto sobre Produtos Industrializados
A40: Multas e Juros (IPI)
A41: SUBTOTAL
A43: Retenção para transferência ao Fundeb (20%)
A45: TOTAL
A46: Observações:
A47: Receita classificada referente ao período de 21/06/2023 a 20/07/2023
... A54: Arrecadação acumulada de julho/2022 a junho/2023.
H55: R$ MIL
A56: RECEITAS | B56: DEMONSTRATIVO DA BASE DE CÁLCULO
...

Sheet AGO
A3: MINISTÉRIO DA FAZENDA - MF
A4: SECRETARIA DO TESOURO NACIONAL - STN
A5: COORDENAÇÃO-GERAL DE ANÁLISE, INFORMAÇÕES EXECUÇÃO DAS TRANSFERÊNCIAS FINANCEIRAS INTERGOVERNAMENTAIS - COINT
A8: DEMONSTRATIVO DAS TRANSFERÊNCIAS DAS RECEITAS FEDERAIS AOS ESTADOS, DF E MUNICÍPIOS
A9: E AOS FUNDOS CONSTITUCIONAIS DO NORTE, NORDESTE E CENTRO-OESTE
A10: 45139
G11: R$ Mil
A12: RECEITAS | B12: DEMONSTRATIVO DA BASE DE CÁLCULO
B13: ARRECADAÇÃO | C13: DEDUÇÃO | D13: DEDUÇÃO | E13: INCENTIVOS | F13: RESTITUIÇÃO | G13: ARRECADAÇÃO
B14: BRUTA | C14: PIN | D14: PROTERRA | E14: FISCAIS | G14: LÍQUIDA
B15: (A) | C15: (B) | D15: (C) | E15: (D) | F15: (E) | G15: (F = A-B-C-D-E)
A17: Imposto de Renda de Pessoa Física
A18: Imposto de Renda de Pessoa Jurídica
A19: Imposto de Renda Retido na Fonte
A20: Multas e Juros (I.R.)
A21: SUBTOTAL
A22: Imposto sobre Produtos Industrializados
A23: Multas e Juros (IPI)
A24: SUBTOTAL
A26: TOTAL
G28: R$ Mil
A29: RECEITAS | B29: DEMONSTRATIVO DA BASE DE CÁLCULO
B30: MUNICÍPIOS | C30: ESTADOS | E30: REGIÕES
B31: FPM | C31: FPE | D31: IPI-EXP | E31: FNE | F31: FNO | G31: FCO
B32: (22,5% x (F)) | C32: (21,5% x (F)) | D32: (10% x (F)) | E32: (1,8% x (F)) | F32: (0,6% x (F)) | G32: (0,6% x (F))
A34: Imposto de Renda de Pessoa Física
A35: Imposto de Renda de Pessoa Jurídica
A36: Imposto de Renda Retido na Fonte
A37: Multas e Juros (I.R.)
A38: SUBTOTAL
A39: Imposto sobre Produtos Industrializados
A40: Multas e Juros (IPI)
A41: SUBTOTAL
A43: Retenção para transferência ao Fundeb (20%)
A45: TOTAL
A46: Observações:
A47: Receita classificada referente ao período de 21/07/2023 a 20/08/2023
A48: Na arrecadação bruta do IRPJ estão incluídos os incentivos fiscais e o PIN/PROTERRA.

Sheet SET
A3: MINISTÉRIO DA FAZENDA - MF
A4: SECRETARIA DO TESOURO NACIONAL - STN
A5: COORDENAÇÃO-GERAL DE ANÁLISE, INFORMAÇÕES EXECUÇÃO DAS TRANSFERÊNCIAS FINANCEIRAS INTERGOVERNAMENTAIS - COINT
A8: DEMONSTRATIVO DAS TRANSFERÊNCIAS DAS RECEITAS FEDERAIS AOS ESTADOS, DF E MUNICÍPIOS
A9: E AOS FUNDOS CONSTITUCIONAIS DO NORTE, NORDESTE E CENTRO-OESTE
A10: 45170
G11: R$ Mil
A12: RECEITAS | B12: DEMONSTRATIVO DA BASE DE CÁLCULO
B13: ARRECADAÇÃO | C13: DEDUÇÃO | D13: DEDUÇÃO | E13: INCENTIVOS | F13: RESTITUIÇÃO | G13: ARRECADAÇÃO
B14: BRUTA | C14: PIN | D14: PROTERRA | E14: FISCAIS | G14: LÍQUIDA
B15: (A) | C15: (B) | D15: (C) | E15: (D) | F15: (E) | G15: (F = A-B-C-D-E)
A17: Imposto de Renda de Pessoa Física
A18: Imposto de Renda de Pessoa Jurídica
A19: Imposto de Renda Retido na Fonte
A20: Multas e Juros (I.R.)
A21: SUBTOTAL
A22: Imposto sobre Produtos Industrializados
A23: Multas e Juros (IPI)
A24: SUBTOTAL
A26: TOTAL
G28: R$ Mil
A29: RECEITAS | B29: DEMONSTRATIVO DA BASE DE CÁLCULO
B30: MUNICÍPIOS | C30: ESTADOS | E30: REGIÕES
B31: FPM | C31: FPE | D31: IPI-EXP | E31: FNE | F31: FNO | G31: FCO
B32: (22,5% x (F)) | C32: (21,5% x (F)) | D32: (10% x (F)) | E32: (1,8% x (F)) | F32: (0,6% x (F)) | G32: (0,6% x (F))
A34: Imposto de Renda de Pessoa Física
A35: Imposto de Renda de Pessoa Jurídica
A36: Imposto de Renda Retido na Fonte
A37: Multas e Juros (I.R.)
A38: SUBTOTAL
A39: Imposto sobre Produtos Industrializados
A40: Multas e Juros (IPI)
A41: SUBTOTAL
A43: Retenção para transferência ao Fundeb (20%)
A45: TOTAL
A46: Observações:
A47: Receita classificada referente ao período de 21/08/2023 a 20/09/2023
... A54: Arrecadação acumulada de setembro/2022 até agosto/2023.
H55: R$ MIL
A56: RECEITAS | B56: DEMONSTRATIVO DA BASE DE CÁLCULO
...

Sheet OUT
A3: MINISTÉRIO DA FAZENDA - MF
A4: SECRETARIA DO TESOURO NACIONAL - STN
A5: COORDENAÇÃO-GERAL DE ANÁLISE, INFORMAÇÕES EXECUÇÃO DAS TRANSFERÊNCIAS FINANCEIRAS INTERGOVERNAMENTAIS - COINT
A8: DEMONSTRATIVO DAS TRANSFERÊNCIAS DAS RECEITAS FEDERAIS AOS ESTADOS, DF E MUNICÍPIOS
A9: E AOS FUNDOS CONSTITUCIONAIS DO NORTE, NORDESTE E CENTRO-OESTE
A10: 45200
G11: R$ Mil
A12: RECEITAS | B12: DEMONSTRATIVO DA BASE DE CÁLCULO
B13: ARRECADAÇÃO | C13: DEDUÇÃO | D13: DEDUÇÃO | E13: INCENTIVOS | F13: RESTITUIÇÃO | G13: ARRECADAÇÃO
B14: BRUTA | C14: PIN | D14: PROTERRA | E14: FISCAIS | G14: LÍQUIDA
B15: (A) | C15: (B) | D15: (C) | E15: (D) | F15: (E) | G15: (F = A-B-C-D-E)
A17: Imposto de Renda de Pessoa Física
A18: Imposto de Renda de Pessoa Jurídica
A19: Imposto de Renda Retido na Fonte
A20: Multas e Juros (I.R.)
A21: SUBTOTAL
A22: Imposto sobre Produtos Industrializados
A23: Multas e Juros (IPI)
A24: SUBTOTAL
A26: TOTAL
G28: R$ Mil
A29: RECEITAS | B29: DEMONSTRATIVO DA BASE DE CÁLCULO
B30: MUNICÍPIOS | C30: ESTADOS | E30: REGIÕES
B31: FPM | C31: FPE | D31: IPI-EXP | E31: FNE | F31: FNO | G31: FCO
B32: (22,5% x (F)) | C32: (21,5% x (F)) | D32: (10% x (F)) | E32: (1,8% x (F)) | F32: (0,6% x (F)) | G32: (0,6% x (F))
A34: Imposto de Renda de Pessoa Física
A35: Imposto de Renda de Pessoa Jurídica
A36: Imposto de Renda Retido na Fonte
A37: Multas e Juros (I.R.)
A38: SUBTOTAL
A39: Imposto sobre Produtos Industrializados
A40: Multas e Juros (IPI)
A41: SUBTOTAL
A43: Retenção para transferência ao Fundeb (20%)
A45: TOTAL
A46: Observações:
A47: Receita classificada referente ao período de 21/09/2023 a 20/10/2023
A48: Na arrecadação bruta do IRPJ estão incluídos os incentivos fiscais e o PIN/PROTERRA.

Sheet NOV
A3: MINISTÉRIO DA FAZENDA - MF
A4: SECRETARIA DO TESOURO NACIONAL - STN
A5: COORDENAÇÃO-GERAL DE ANÁLISE, INFORMAÇÕES EXECUÇÃO DAS TRANSFERÊNCIAS FINANCEIRAS INTERGOVERNAMENTAIS - COINT
A8: DEMONSTRATIVO DAS TRANSFERÊNCIAS DAS RECEITAS FEDERAIS AOS ESTADOS, DF E MUNICÍPIOS
A9: E AOS FUNDOS CONSTITUCIONAIS DO NORTE, NORDESTE E CENTRO-OESTE
A10: 45231
G11: R$ Mil
A12: RECEITAS | B12: DEMONSTRATIVO DA BASE DE CÁLCULO
B13: ARRECADAÇÃO | C13: DEDUÇÃO | D13: DEDUÇÃO | E13: INCENTIVOS | F13: RESTITUIÇÃO | G13: ARRECADAÇÃO
B14: BRUTA | C14: PIN | D14: PROTERRA | E14: FISCAIS | G14: LÍQUIDA
B15: (A) | C15: (B) | D15: (C) | E15: (D) | F15: (E) | G15: (F = A-B-C-D-E)
A17: Imposto de Renda de Pessoa Física
A18: Imposto de Renda de Pessoa Jurídica
A19: Imposto de Renda Retido na Fonte
A20: Multas e Juros (I.R.)
A21: SUBTOTAL
A22: Imposto sobre Produtos Industrializados
A23: Multas e Juros (IPI)
A24: SUBTOTAL
A26: TOTAL
G28: R$ Mil
A29: RECEITAS | B29: DEMONSTRATIVO DA BASE DE CÁLCULO
B30: MUNICÍPIOS | C30: ESTADOS | E30: REGIÕES
B31: FPM | C31: FPE | D31: IPI-EXP | E31: FNE | F31: FNO | G31: FCO
B32: (22,5% x (F)) | C32: (21,5% x (F)) | D32: (10% x (F)) | E32: (1,8% x (F)) | F32: (0,6% x (F)) | G32: (0,6% x (F))
A34: Imposto de Renda de Pessoa Física
A35: Imposto de Renda de Pessoa Jurídica
A36: Imposto de Renda Retido na Fonte
A37: Multas e Juros (I.R.)
A38: SUBTOTAL
A39: Imposto sobre Produtos Industrializados
A40: Multas e Juros (IPI)
A41: SUBTOTAL
A43: Retenção para transferência ao Fundeb (20%)
A45: TOTAL
A46: Observações:
A47: Receita classificada referente ao período de 21/10/2023 a 20/11/2023
A48: Na arrecadação bruta do IRPJ estão incluídos os incentivos fiscais e o PIN/PROTERRA.

Sheet DEZ
A3: MINISTÉRIO DA FAZENDA - MF
A4: SECRETARIA DO TESOURO NACIONAL - STN
A5: COORDENAÇÃO-GERAL DE ANÁLISE, INFORMAÇÕES EXECUÇÃO DAS TRANSFERÊNCIAS FINANCEIRAS INTERGOVERNAMENTAIS - COINT
A8: DEMONSTRATIVO DAS TRANSFERÊNCIAS DAS RECEITAS FEDERAIS AOS ESTADOS, DF E MUNICÍPIOS
A9: E AOS FUNDOS CONSTITUCIONAIS DO NORTE, NORDESTE E CENTRO-OESTE
A10: 45261
G11: R$ Mil
A12: RECEITAS | B12: DEMONSTRATIVO DA BASE DE CÁLCULO
B13: ARRECADAÇÃO | C13: DEDUÇÃO | D13: DEDUÇÃO | E13: INCENTIVOS | F13: RESTITUIÇÃO | G13: ARRECADAÇÃO
B14: BRUTA | C14: PIN | D14: PROTERRA | E14: FISCAIS | G14: LÍQUIDA
B15: (A) | C15: (B) | D15: (C) | E15: (D) | F15: (E) | G15: (F = A-B-C-D-E)
A17: Imposto de Renda de Pessoa Física
A18: Imposto de Renda de Pessoa Jurídica
A19: Imposto de Renda Retido na Fonte
A20: Multas e Juros (I.R.)*
A21: SUBTOTAL
A22: Imposto sobre Produtos Industrializados
A23: Multas e Juros (IPI)
A24: SUBTOTAL
A26: TOTAL
G28: R$ Mil
A29: RECEITAS | B29: DEMONSTRATIVO DA BASE DE CÁLCULO
B30: MUNICÍPIOS | C30: ESTADOS | E30: REGIÕES
B31: FPM | C31: FPE | D31: IPI-EXP | E31: FNE | F31: FNO | G31: FCO
B32: (22,5% x (F)) | C32: (21,5% x (F)) | D32: (10% x (F)) | E32: (1,8% x (F)) | F32: (0,6% x (F)) | G32: (0,6% x (F))
A34: Imposto de Renda de Pessoa Física
A35: Imposto de Renda de Pessoa Jurídica
A36: Imposto de Renda Retido na Fonte
A37: Multas e Juros (I.R.)
A38: SUBTOTAL
A39: Imposto sobre Produtos Industrializados
A40: Multas e Juros (IPI)
A41: SUBTOTAL
A43: Retenção para transferência ao Fundeb (20%)
A45: TOTAL
A46: Observações:
A47: Receita classificada referente ao período de 21/11/2023 a 20/12/2023
... A54: Arrecadação acumulada de dezembro/2022 até novembro/2023.
H55: R$ MIL
A56: RECEITAS | B56: DEMONSTRATIVO DA BASE DE CÁLCULO
...

Sheet 2023 Acumulado
A3: MINISTÉRIO DA FAZENDA - MF
A4: SECRETARIA DO TESOURO NACIONAL - STN
A5: COORDENAÇÃO-GERAL DE ANÁLISE, INFORMAÇÕES EXECUÇÃO DAS TRANSFERÊNCIAS FINANCEIRAS INTERGOVERNAMENTAIS - COINT
A8: DEMONSTRATIVO DAS TRANSFERÊNCIAS DAS RECEITAS FEDERAIS AOS ESTADOS, DF E MUNICÍPIOS
A9: E AOS FUNDOS CONSTITUCIONAIS DO NORTE, NORDESTE E CENTRO-OESTE
A10: 2023
G11: R$ Mil
A12: RECEITAS | B12: DEMONSTRATIVO DA BASE DE CÁLCULO
B13: ARRECADAÇÃO | C13: DEDUÇÃO | D13: DEDUÇÃO | E13: INCENTIVOS | F13: RESTITUIÇÃO | G13: ARRECADAÇÃO
B14: BRUTA | C14: PIN | D14: PROTERRA | E14: FISCAIS | G14: LÍQUIDA
B15: (A) | C15: (B) | D15: (C) | E15: (D) | F15: (E) | G15: (F = A-B-C-D-E)
A17: Imposto de Renda de Pessoa Física | B17: =JAN!B17+FEV!B17+MAR!B17+ABR!B17+MAI!B17+JUN!B17+JUL!B17+AGO!B17+SET!B17+OUT!B17+NOV!B17+DEZ!B17 -> 13653429 | C17: =JAN!C17+FEV!C17+MAR!C17+ABR!C17+MAI!C17+JUN!C17+JUL!C17+AGO!C17+SET!C17+OUT!C17+NOV!C17+DEZ!C17 -> 0 | D17: =JAN!D17+FEV!D17+MAR!D17+ABR!D17+MAI!D17+JUN!D17+JUL!D17+AGO!D17+SET!D17+OUT!D17+NOV!D17+DEZ!D17 -> 0 | E17: =JAN!E17+FEV!E17+MAR!E17+ABR!E17+MAI!E17+JUN!E17+JUL!E17+AGO!E17+SET!E17+OUT!E17+NOV!E17+DEZ!E17 -> 0 | F17: =JAN!F17+FEV!F17+MAR!F17+ABR!F17+MAI!F17+JUN!F17+JUL!F17+AGO!F17+SET!F17+OUT!F17+NOV!F17+DEZ!F17 -> 200381.58 | G17: =JAN!G17+FEV!G17+MAR!G17+ABR!G17+MAI!G17+JUN!G17+JUL!G17+AGO!G17+SET!G17+OUT!G17+NOV!G17+DEZ!G17 -> 13453048
A18: Imposto de Renda de Pessoa Jurídica | B18: =JAN!B18+FEV!B18+MAR!B18+ABR!B18+MAI!B18+JUN!B18+JUL!B18+AGO!B18+SET!B18+OUT!B18+NOV!B18+DEZ!B18 -> 1.5552123e+08 | C18: =JAN!C18+FEV!C18+MAR!C18+ABR!C18+MAI!C18+JUN!C18+JUL!C18+AGO!C18+SET!C18+OUT!C18+NOV!C18+DEZ!C18 -> 0 | D18: =JAN!D18+FEV!D18+MAR!D18+ABR!D18+MAI!D18+JUN!D18+JUL!D18+AGO!D18+SET!D18+OUT!D18+NOV!D18+DEZ!D18 -> 0 | E18: =JAN!E18+FEV!E18+MAR!E18+ABR!E18+MAI!E18+JUN!E18+JUL!E18+AGO!E18+SET!E18+OUT!E18+NOV!E18+DEZ!E18 -> 60894.415 | F18: =JAN!F18+FEV!F18+MAR!F18+ABR!F18+MAI!F18+JUN!F18+JUL!F18+AGO!F18+SET!F18+OUT!F18+NOV!F18+DEZ!F18 -> 21938255 | G18: =JAN!G18+FEV!G18+MAR!G18+ABR!G18+MAI!G18+JUN!G18+JUL!G18+AGO!G18+SET!G18+OUT!G18+NOV!G18+DEZ!G18 -> 1.3352208e+08
A19: Imposto de Renda Retido na Fonte | B19: =JAN!B19+FEV!B19+MAR!B19+ABR!B19+MAI!B19+JUN!B19+JUL!B19+AGO!B19+SET!B19+OUT!B19+NOV!B19+DEZ!B19 -> 1.7078955e+08 | C19: =JAN!C19+FEV!C19+MAR!C19+ABR!C19+MAI!C19+JUN!C19+JUL!C19+AGO!C19+SET!C19+OUT!C19+NOV!C19+DEZ!C19 -> 0 | D19: =JAN!D19+FEV!D19+MAR!D19+ABR!D19+MAI!D19+JUN!D19+JUL!D19+AGO!D19+SET!D19+OUT!D19+NOV!D19+DEZ!D19 -> 0 | E19: =JAN!E19+FEV!E19+MAR!E19+ABR!E19+MAI!E19+JUN!E19+JUL!E19+AGO!E19+SET!E19+OUT!E19+NOV!E19+DEZ!E19 -> 0 | F19: =JAN!F19+FEV!F19+MAR!F19+ABR!F19+MAI!F19+JUN!F19+JUL!F19+AGO!F19+SET!F19+OUT!F19+NOV!F19+DEZ!F19 -> 3732700.7 | G19: =JAN!G19+FEV!G19+MAR!G19+ABR!G19+MAI!G19+JUN!G19+JUL!G19+AGO!G19+SET!G19+OUT!G19+NOV!G19+DEZ!G19 -> 1.6705685e+08
A20: Multas e Juros (I.R.) | B20: =JAN!B20+FEV!B20+MAR!B20+ABR!B20+MAI!B20+JUN!B20+JUL!B20+AGO!B20+SET!B20+OUT!B20+NOV!B20+DEZ!B20 -> 4634163.8 | C20: =JAN!C20+FEV!C20+MAR!C20+ABR!C20+MAI!C20+JUN!C20+JUL!C20+AGO!C20+SET!C20+OUT!C20+NOV!C20+DEZ!C20 -> 0 | D20: =JAN!D20+FEV!D20+MAR!D20+ABR!D20+MAI!D20+JUN!D20+JUL!D20+AGO!D20+SET!D20+OUT!D20+NOV!D20+DEZ!D20 -> 0 | E20: =JAN!E20+FEV!E20+MAR!E20+ABR!E20+MAI!E20+JUN!E20+JUL!E20+AGO!E20+SET!E20+OUT!E20+NOV!E20+DEZ!E20 -> 0 | F20: =JAN!F20+FEV!F20+MAR!F20+ABR!F20+MAI!F20+JUN!F20+JUL!F20+AGO!F20+SET!F20+OUT!F20+NOV!F20+DEZ!F20 -> 12281.591 | G20: =JAN!G20+FEV!G20+MAR!G20+ABR!G20+MAI!G20+JUN!G20+JUL!G20+AGO!G20+SET!G20+OUT!G20+NOV!G20+DEZ!G20 -> 4621882.2
A21: SUBTOTAL | B21: =SUM(B17:B20) -> 3.4459837e+08 | C21: =SUM(C17:C20) -> 0 | D21: =SUM(D17:D20) -> 0 | E21: =SUM(E17:E20) -> 60894.415 | F21: =SUM(F17:F20) -> 25883619 | G21: =JAN!G21+FEV!G21+MAR!G21+ABR!G21+MAI!G21+JUN!G21+JUL!G21+AGO!G21+SET!G21+OUT!G21+NOV!G21+DEZ!G21 -> 3.1865386e+08
A22: Imposto sobre Produtos Industrializados | B22: =JAN!B22+FEV!B22+MAR!B22+ABR!B22+MAI!B22+JUN!B22+JUL!B22+AGO!B22+SET!B22+OUT!B22+NOV!B22+DEZ!B22 -> 24701523 | C22: =JAN!C22+FEV!C22+MAR!C22+ABR!C22+MAI!C22+JUN!C22+JUL!C22+AGO!C22+SET!C22+OUT!C22+NOV!C22+DEZ!C22 -> 0 | D22: =JAN!D22+FEV!D22+MAR!D22+ABR!D22+MAI!D22+JUN!D22+JUL!D22+AGO!D22+SET!D22+OUT!D22+NOV!D22+DEZ!D22 -> 0 | E22: =JAN!E22+FEV!E22+MAR!E22+ABR!E22+MAI!E22+JUN!E22+JUL!E22+AGO!E22+SET!E22+OUT!E22+NOV!E22+DEZ!E22 -> 0 | F22: =JAN!F22+FEV!F22+MAR!F22+ABR!F22+MAI!F22+JUN!F22+JUL!F22+AGO!F22+SET!F22+OUT!F22+NOV!F22+DEZ!F22 -> 3213877.2 | G22: =JAN!G22+FEV!G22+MAR!G22+ABR!G22+MAI!G22+JUN!G22+JUL!G22+AGO!G22+SET!G22+OUT!G22+NOV!G22+DEZ!G22 -> 21487646
A23: Multas e Juros (IPI) | B23: =JAN!B23+FEV!B23+MAR!B23+ABR!B23+MAI!B23+JUN!B23+JUL!B23+AGO!B23+SET!B23+OUT!B23+NOV!B23+DEZ!B23 -> 429666.66 | C23: =JAN!C23+FEV!C23+MAR!C23+ABR!C23+MAI!C23+JUN!C23+JUL!C23+AGO!C23+SET!C23+OUT!C23+NOV!C23+DEZ!C23 -> 0 | D23: =JAN!D23+FEV!D23+MAR!D23+ABR!D23+MAI!D23+JUN!D23+JUL!D23+AGO!D23+SET!D23+OUT!D23+NOV!D23+DEZ!D23 -> 0 | E23: =JAN!E23+FEV!E23+MAR!E23+ABR!E23+MAI!E23+JUN!E23+JUL!E23+AGO!E23+SET!E23+OUT!E23+NOV!E23+DEZ!E23 -> 0 | F23: =JAN!F23+FEV!F23+MAR!F23+ABR!F23+MAI!F23+JUN!F23+JUL!F23+AGO!F23+SET!F23+OUT!F23+NOV!F23+DEZ!F23 -> 5647.0022 | G23: =JAN!G23+FEV!G23+MAR!G23+ABR!G23+MAI!G23+JUN!G23+JUL!G23+AGO!G23+SET!G23+OUT!G23+NOV!G23+DEZ!G23 -> 424019.66
A24: SUBTOTAL | B24: =SUM(B22:B23) -> 25131190 | C24: =JAN!C24+FEV!C24+MAR!C24+ABR!C24+MAI!C24+JUN!C24+JUL!C24+AGO!C24+SET!C24+OUT!C24+NOV!C24+DEZ!C24 -> 0 | D24: =JAN!D24+FEV!D24+MAR!D24+ABR!D24+MAI!D24+JUN!D24+JUL!D24+AGO!D24+SET!D24+OUT!D24+NOV!D24+DEZ!D24 -> 0 | E24: =JAN!E24+FEV!E24+MAR!E24+ABR!E24+MAI!E24+JUN!E24+JUL!E24+AGO!E24+SET!E24+OUT!E24+NOV!E24+DEZ!E24 -> 0 | F24: =JAN!F24+FEV!F24+MAR!F24+ABR!F24+MAI!F24+JUN!F24+JUL!F24+AGO!F24+SET!F24+OUT!F24+NOV!F24+DEZ!F24 -> 3219524.2 | G24: =JAN!G24+FEV!G24+MAR!G24+ABR!G24+MAI!G24+JUN!G24+JUL!G24+AGO!G24+SET!G24+OUT!G24+NOV!G24+DEZ!G24 -> 21911666
B25: =JAN!B25+FEV!B25+MAR!B25+ABR!B25+MAI!B25+JUN!B25+JUL!B25+AGO!B25+SET!B25+OUT!B25+NOV!B25+DEZ!B25 -> 0 | C25: =JAN!C25+FEV!C25+MAR!C25+ABR!C25+MAI!C25+JUN!C25+JUL!C25+AGO!C25+SET!C25+OUT!C25+NOV!C25+DEZ!C25 -> 0 | D25: =JAN!D25+FEV!D25+MAR!D25+ABR!D25+MAI!D25+JUN!D25+JUL!D25+AGO!D25+SET!D25+OUT!D25+NOV!D25+DEZ!D25 -> 0 | E25: =JAN!E25+FEV!E25+MAR!E25+ABR!E25+MAI!E25+JUN!E25+JUL!E25+AGO!E25+SET!E25+OUT!E25+NOV!E25+DEZ!E25 -> 0 | F25: =JAN!F25+FEV!F25+MAR!F25+ABR!F25+MAI!F25+JUN!F25+JUL!F25+AGO!F25+SET!F25+OUT!F25+NOV!F25+DEZ!F25 -> 0 | G25: =JAN!G25+FEV!G25+MAR!G25+ABR!G25+MAI!G25+JUN!G25+JUL!G25+AGO!G25+SET!G25+OUT!G25+NOV!G25+DEZ!G25 -> 0
A26: TOTAL | B26: =B24+B21 -> 3.6972956e+08 | C26: =C24+C21 -> 0 | D26: =D24+D21 -> 0 | E26: =E24+E21 -> 60894.415 | F26: =F24+F21 -> 29103143 | G26: =JAN!G26+FEV!G26+MAR!G26+ABR!G26+MAI!G26+JUN!G26+JUL!G26+AGO!G26+SET!G26+OUT!G26+NOV!G26+DEZ!G26 -> 3.4056553e+08
G28: R$ Mil
A29: RECEITAS | B29: DEMONSTRATIVO DA BASE DE CÁLCULO
B30: MUNICÍPIOS | C30: ESTADOS | E30: REGIÕES
B31: FPM | C31: FPE | D31: IPI-EXP | E31: FNE | F31: FNO | G31: FCO
B32: (22,5% x (F)) | C32: (21,5% x (F)) | D32: (10% x (F)) | E32: (1,8% x (F)) | F32: (0,6% x (F)) | G32: (0,6% x (F))
A34: Imposto de Renda de Pessoa Física | B34: =JAN!B34+FEV!B34+MAR!B34+ABR!B34+MAI!B34+JUN!B34+JUL!B34+AGO!B34+SET!B34+OUT!B34+NOV!B34+DEZ!B34 -> 3026935.7 | C34: =JAN!C34+FEV!C34+MAR!C34+ABR!C34+MAI!C34+JUN!C34+JUL!C34+AGO!C34+SET!C34+OUT!C34+NOV!C34+DEZ!C34 -> 2892405.2 | D34: =JAN!D34+FEV!D34+MAR!D34+ABR!D34+MAI!D34+JUN!D34+JUL!D34+AGO!D34+SET!D34+OUT!D34+NOV!D34+DEZ!D34 -> 0 | E34: =JAN!E34+FEV!E34+MAR!E34+ABR!E34+MAI!E34+JUN!E34+JUL!E34+AGO!E34+SET!E34+OUT!E34+NOV!E34+DEZ!E34 -> 242154.86 | F34: =JAN!F34+FEV!F34+MAR!F34+ABR!F34+MAI!F34+JUN!F34+JUL!F34+AGO!F34+SET!F34+OUT!F34+NOV!F34+DEZ!F34 -> 80718.285 | G34: =JAN!G34+FEV!G34+MAR!G34+ABR!G34+MAI!G34+JUN!G34+JUL!G34+AGO!G34+SET!G34+OUT!G34+NOV!G34+DEZ!G34 -> 80718.285
A35: Imposto de Renda de Pessoa Jurídica | B35: =JAN!B35+FEV!B35+MAR!B35+ABR!B35+MAI!B35+JUN!B35+JUL!B35+AGO!B35+SET!B35+OUT!B35+NOV!B35+DEZ!B35 -> 30042467 | C35: =JAN!C35+FEV!C35+MAR!C35+ABR!C35+MAI!C35+JUN!C35+JUL!C35+AGO!C35+SET!C35+OUT!C35+NOV!C35+DEZ!C35 -> 28707246 | D35: =JAN!D35+FEV!D35+MAR!D35+ABR!D35+MAI!D35+JUN!D35+JUL!D35+AGO!D35+SET!D35+OUT!D35+NOV!D35+DEZ!D35 -> 0 | E35: =JAN!E35+FEV!E35+MAR!E35+ABR!E35+MAI!E35+JUN!E35+JUL!E35+AGO!E35+SET!E35+OUT!E35+NOV!E35+DEZ!E35 -> 2403397.4 | F35: =JAN!F35+FEV!F35+MAR!F35+ABR!F35+MAI!F35+JUN!F35+JUL!F35+AGO!F35+SET!F35+OUT!F35+NOV!F35+DEZ!F35 -> 801132.46 | G35: =JAN!G35+FEV!G35+MAR!G35+ABR!G35+MAI!G35+JUN!G35+JUL!G35+AGO!G35+SET!G35+OUT!G35+NOV!G35+DEZ!G35 -> 801132.46
A36: Imposto de Renda Retido na Fonte | B36: =JAN!B36+FEV!B36+MAR!B36+ABR!B36+MAI!B36+JUN!B36+JUL!B36+AGO!B36+SET!B36+OUT!B36+NOV!B36+DEZ!B36 -> 37587792 | C36: =JAN!C36+FEV!C36+MAR!C36+ABR!C36+MAI!C36+JUN!C36+JUL!C36+AGO!C36+SET!C36+OUT!C36+NOV!C36+DEZ!C36 -> 35917224 | D36: =JAN!D36+FEV!D36+MAR!D36+ABR!D36+MAI!D36+JUN!D36+JUL!D36+AGO!D36+SET!D36+OUT!D36+NOV!D36+DEZ!D36 -> 0 | E36: =JAN!E36+FEV!E36+MAR!E36+ABR!E36+MAI!E36+JUN!E36+JUL!E36+AGO!E36+SET!E36+OUT!E36+NOV!E36+DEZ!E36 -> 3007023.4 | F36: =JAN!F36+FEV!F36+MAR!F36+ABR!F36+MAI!F36+JUN!F36+JUL!F36+AGO!F36+SET!F36+OUT!F36+NOV!F36+DEZ!F36 -> 1002341.1 | G36: =JAN!G36+FEV!G36+MAR!G36+ABR!G36+MAI!G36+JUN!G36+JUL!G36+AGO!G36+SET!G36+OUT!G36+NOV!G36+DEZ!G36 -> 1002341.1
A37: Multas e Juros (I.R.) | B37: =JAN!B37+FEV!B37+MAR!B37+ABR!B37+MAI!B37+JUN!B37+JUL!B37+AGO!B37+SET!B37+OUT!B37+NOV!B37+DEZ!B37 -> 1039923.5 | C37: =JAN!C37+FEV!C37+MAR!C37+ABR!C37+MAI!C37+JUN!C37+JUL!C37+AGO!C37+SET!C37+OUT!C37+NOV!C37+DEZ!C37 -> 993704.68 | D37: =JAN!D37+FEV!D37+MAR!D37+ABR!D37+MAI!D37+JUN!D37+JUL!D37+AGO!D37+SET!D37+OUT!D37+NOV!D37+DEZ!D37 -> 0 | E37: =JAN!E37+FEV!E37+MAR!E37+ABR!E37+MAI!E37+JUN!E37+JUL!E37+AGO!E37+SET!E37+OUT!E37+NOV!E37+DEZ!E37 -> 83193.88 | F37: =JAN!F37+FEV!F37+MAR!F37+ABR!F37+MAI!F37+JUN!F37+JUL!F37+AGO!F37+SET!F37+OUT!F37+NOV!F37+DEZ!F37 -> 27731.293 | G37: =JAN!G37+FEV!G37+MAR!G37+ABR!G37+MAI!G37+JUN!G37+JUL!G37+AGO!G37+SET!G37+OUT!G37+NOV!G37+DEZ!G37 -> 27731.293
A38: SUBTOTAL | B38: =JAN!B38+FEV!B38+MAR!B38+ABR!B38+MAI!B38+JUN!B38+JUL!B38+AGO!B38+SET!B38+OUT!B38+NOV!B38+DEZ!B38 -> 71697119 | C38: =JAN!C38+FEV!C38+MAR!C38+ABR!C38+MAI!C38+JUN!C38+JUL!C38+AGO!C38+SET!C38+OUT!C38+NOV!C38+DEZ!C38 -> 68510580 | D38: =JAN!D38+FEV!D38+MAR!D38+ABR!D38+MAI!D38+JUN!D38+JUL!D38+AGO!D38+SET!D38+OUT!D38+NOV!D38+DEZ!D38 -> 0 | E38: =JAN!E38+FEV!E38+MAR!E38+ABR!E38+MAI!E38+JUN!E38+JUL!E38+AGO!E38+SET!E38+OUT!E38+NOV!E38+DEZ!E38 -> 5735769.5 | F38: =JAN!F38+FEV!F38+MAR!F38+ABR!F38+MAI!F38+JUN!F38+JUL!F38+AGO!F38+SET!F38+OUT!F38+NOV!F38+DEZ!F38 -> 1911923.2 | G38: =JAN!G38+FEV!G38+MAR!G38+ABR!G38+MAI!G38+JUN!G38+JUL!G38+AGO!G38+SET!G38+OUT!G38+NOV!G38+DEZ!G38 -> 1911923.2
A39: Imposto sobre Produtos Industrializados | B39: =JAN!B39+FEV!B39+MAR!B39+ABR!B39+MAI!B39+JUN!B39+JUL!B39+AGO!B39+SET!B39+OUT!B39+NOV!B39+DEZ!B39 -> 4834720.4 | C39: =JAN!C39+FEV!C39+MAR!C39+ABR!C39+MAI!C39+JUN!C39+JUL!C39+AGO!C39+SET!C39+OUT!C39+NOV!C39+DEZ!C39 -> 4619843.9 | D39: =JAN!D39+FEV!D39+MAR!D39+ABR!D39+MAI!D39+JUN!D39+JUL!D39+AGO!D39+SET!D39+OUT!D39+NOV!D39+DEZ!D39 -> 2148764.6 | E39: =JAN!E39+FEV!E39+MAR!E39+ABR!E39+MAI!E39+JUN!E39+JUL!E39+AGO!E39+SET!E39+OUT!E39+NOV!E39+DEZ!E39 -> 386777.63 | F39: =JAN!F39+FEV!F39+MAR!F39+ABR!F39+MAI!F39+JUN!F39+JUL!F39+AGO!F39+SET!F39+OUT!F39+NOV!F39+DEZ!F39 -> 128925.88 | G39: =JAN!G39+FEV!G39+MAR!G39+ABR!G39+MAI!G39+JUN!G39+JUL!G39+AGO!G39+SET!G39+OUT!G39+NOV!G39+DEZ!G39 -> 128925.88
A40: Multas e Juros (IPI) | B40: =JAN!B40+FEV!B40+MAR!B40+ABR!B40+MAI!B40+JUN!B40+JUL!B40+AGO!B40+SET!B40+OUT!B40+NOV!B40+DEZ!B40 -> 95404.423 | C40: =JAN!C40+FEV!C40+MAR!C40+ABR!C40+MAI!C40+JUN!C40+JUL!C40+AGO!C40+SET!C40+OUT!C40+NOV!C40+DEZ!C40 -> 91164.227 | D40: =JAN!D40+FEV!D40+MAR!D40+ABR!D40+MAI!D40+JUN!D40+JUL!D40+AGO!D40+SET!D40+OUT!D40+NOV!D40+DEZ!D40 -> 42401.966 | E40: =JAN!E40+FEV!E40+MAR!E40+ABR!E40+MAI!E40+JUN!E40+JUL!E40+AGO!E40+SET!E40+OUT!E40+NOV!E40+DEZ!E40 -> 7632.3539 | F40: =JAN!F40+FEV!F40+MAR!F40+ABR!F40+MAI!F40+JUN!F40+JUL!F40+AGO!F40+SET!F40+OUT!F40+NOV!F40+DEZ!F40 -> 2544.118 | G40: =JAN!G40+FEV!G40+MAR!G40+ABR!G40+MAI!G40+JUN!G40+JUL!G40+AGO!G40+SET!G40+OUT!G40+NOV!G40+DEZ!G40 -> 2544.118
A41: SUBTOTAL | B41: =JAN!B41+FEV!B41+MAR!B41+ABR!B41+MAI!B41+JUN!B41+JUL!B41+AGO!B41+SET!B41+OUT!B41+NOV!B41+DEZ!B41 -> 4930124.8 | C41: =JAN!C41+FEV!C41+MAR!C41+ABR!C41+MAI!C41+JUN!C41+JUL!C41+AGO!C41+SET!C41+OUT!C41+NOV!C41+DEZ!C41 -> 4711008.2 | D41: =JAN!D41+FEV!D41+MAR!D41+ABR!D41+MAI!D41+JUN!D41+JUL!D41+AGO!D41+SET!D41+OUT!D41+NOV!D41+DEZ!D41 -> 2191166.6 | E41: =JAN!E41+FEV!E41+MAR!E41+ABR!E41+MAI!E41+JUN!E41+JUL!E41+AGO!E41+SET!E41+OUT!E41+NOV!E41+DEZ!E41 -> 394409.99 | F41: =JAN!F41+FEV!F41+MAR!F41+ABR!F41+MAI!F41+JUN!F41+JUL!F41+AGO!F41+SET!F41+OUT!F41+NOV!F41+DEZ!F41 -> 131470 | G41: =JAN!G41+FEV!G41+MAR!G41+ABR!G41+MAI!G41+JUN!G41+JUL!G41+AGO!G41+SET!G41+OUT!G41+NOV!G41+DEZ!G41 -> 131470
B42: =JAN!B42+FEV!B42+MAR!B42+ABR!B42+MAI!B42+JUN!B42+JUL!B42+AGO!B42+SET!B42+OUT!B42+NOV!B42+DEZ!B42 -> 0 | C42: =JAN!C42+FEV!C42+MAR!C42+ABR!C42+MAI!C42+JUN!C42+JUL!C42+AGO!C42+SET!C42+OUT!C42+NOV!C42+DEZ!C42 -> 0 | D42: =JAN!D42+FEV!D42+MAR!D42+ABR!D42+MAI!D42+JUN!D42+JUL!D42+AGO!D42+SET!D42+OUT!D42+NOV!D42+DEZ!D42 -> 0 | E42: =JAN!E42+FEV!E42+MAR!E42+ABR!E42+MAI!E42+JUN!E42+JUL!E42+AGO!E42+SET!E42+OUT!E42+NOV!E42+DEZ!E42 -> 0 | F42: =JAN!F42+FEV!F42+MAR!F42+ABR!F42+MAI!F42+JUN!F42+JUL!F42+AGO!F42+SET!F42+OUT!F42+NOV!F42+DEZ!F42 -> 0 | G42: =JAN!G42+FEV!G42+MAR!G42+ABR!G42+MAI!G42+JUN!G42+JUL!G42+AGO!G42+SET!G42+OUT!G42+NOV!G42+DEZ!G42 -> 0
A43: Retenção para transferência ao Fundeb (20%) | B43: =JAN!B43+FEV!B43+MAR!B43+ABR!B43+MAI!B43+JUN!B43+JUL!B43+AGO!B43+SET!B43+OUT!B43+NOV!B43+DEZ!B43 -> 15325449 | C43: =JAN!C43+FEV!C43+MAR!C43+ABR!C43+MAI!C43+JUN!C43+JUL!C43+AGO!C43+SET!C43+OUT!C43+NOV!C43+DEZ!C43 -> 14644318 | D43: =JAN!D43+FEV!D43+MAR!D43+ABR!D43+MAI!D43+JUN!D43+JUL!D43+AGO!D43+SET!D43+OUT!D43+NOV!D43+DEZ!D43 -> 438233.32 | E43: =JAN!E43+FEV!E43+MAR!E43+ABR!E43+MAI!E43+JUN!E43+JUL!E43+AGO!E43+SET!E43+OUT!E43+NOV!E43+DEZ!E43 -> 0 | F43: =JAN!F43+FEV!F43+MAR!F43+ABR!F43+MAI!F43+JUN!F43+JUL!F43+AGO!F43+SET!F43+OUT!F43+NOV!F43+DEZ!F43 -> 0 | G43: =JAN!G43+FEV!G43+MAR!G43+ABR!G43+MAI!G43+JUN!G43+JUL!G43+AGO!G43+SET!G43+OUT!G43+NOV!G43+DEZ!G43 -> 0
B44: =JAN!B44+FEV!B44+MAR!B44+ABR!B44+MAI!B44+JUN!B44+JUL!B44+AGO!B44+SET!B44+OUT!B44+NOV!B44+DEZ!B44 -> 0 | C44: =JAN!C44+FEV!C44+MAR!C44+ABR!C44+MAI!C44+JUN!C44+JUL!C44+AGO!C44+SET!C44+OUT!C44+NOV!C44+DEZ!C44 -> 0 | D44: =JAN!D44+FEV!D44+MAR!D44+ABR!D44+MAI!D44+JUN!D44+JUL!D44+AGO!D44+SET!D44+OUT!D44+NOV!D44+DEZ!D44 -> 0 | E44: =JAN!E44+FEV!E44+MAR!E44+ABR!E44+MAI!E44+JUN!E44+JUL!E44+AGO!E44+SET!E44+OUT!E44+NOV!E44+DEZ!E44 -> 0 | F44: =JAN!F44+FEV!F44+MAR!F44+ABR!F44+MAI!F44+JUN!F44+JUL!F44+AGO!F44+SET!F44+OUT!F44+NOV!F44+DEZ!F44 -> 0 | G44: =JAN!G44+FEV!G44+MAR!G44+ABR!G44+MAI!G44+JUN!G44+JUL!G44+AGO!G44+SET!G44+OUT!G44+NOV!G44+DEZ!G44 -> 0
A45: TOTAL | B45: =JAN!B45+FEV!B45+MAR!B45+ABR!B45+MAI!B45+JUN!B45+JUL!B45+AGO!B45+SET!B45+OUT!B45+NOV!B45+DEZ!B45 -> 61301795 | C45: =JAN!C45+FEV!C45+MAR!C45+ABR!C45+MAI!C45+JUN!C45+JUL!C45+AGO!C45+SET!C45+OUT!C45+NOV!C45+DEZ!C45 -> 58577271 | D45: =JAN!D45+FEV!D45+MAR!D45+ABR!D45+MAI!D45+JUN!D45+JUL!D45+AGO!D45+SET!D45+OUT!D45+NOV!D45+DEZ!D45 -> 1752933.3 | E45: =JAN!E45+FEV!E45+MAR!E45+ABR!E45+MAI!E45+JUN!E45+JUL!E45+AGO!E45+SET!E45+OUT!E45+NOV!E45+DEZ!E45 -> 6130179.5 | F45: =JAN!F45+FEV!F45+MAR!F45+ABR!F45+MAI!F45+JUN!F45+JUL!F45+AGO!F45+SET!F45+OUT!F45+NOV!F45+DEZ!F45 -> 2043393.2 | G45: =JAN!G45+FEV!G45+MAR!G45+ABR!G45+MAI!G45+JUN!G45+JUL!G45+AGO!G45+SET!G45+OUT!G45+NOV!G45+DEZ!G45 -> 2043393.2
A46: Observações:
A47: =CONCATENATE("Receita classificada referente ao período de 21/12/2022 a ", TEXT(DATE(YEAR(TODAY()),MONTH(TODAY()-30),20),"DD/MM/AA")) -> Receita classificada referente ao período de 21/12/2022 a 20/05/23
...
