Workbook

Sheet Summary
A1: General Government Finance Statistics
A2: Expenditure by Functions of Government (COFOG - Classification of Functions of Government) - OECD/UN
A5: 1. | B5: Expenditure by Functions of Government - Yearly Data
A6: 1.1. | B6: Expenditure by Functions of Government by level of Government - General Government - Brazil - Yearly - R$ Million
A7: 1.2. | B7: Expenditure by Functions of Government - Central Government - Brazil - Yearly - R$ Million
A8: 1.3. | B8: Expenditure by Functions of Government - State Governments - Brazil - Yearly - R$ Million
A9: 1.4. | B9: Expenditure by Functions of Government - Municipalities - Brazil - Yearly - R$ Million
A10: 1.5. | B10: Expenditure by Functions of Government - General Government - Brazil - Yearly - R$ Million
A11: 1.1.a | B11: Expenditure by Functions of Government by level of Government - General Government - Brazil - Yearly - % GDP
A12: 1.2.a | B12: Expenditure by Functions of Government - Central Government - Brazil - Yearly - % GDP
A13: 1.3.a | B13: Expenditure by Functions of Government - State Governments - Brazil - Yearly - % GDP
A14: 1.4.a | B14: Expenditure by Functions of Government - Municipalities - Brazil - Yearly - % GDP
A15: 1.5.a | B15: Expenditure by Functions of Government - General Government - Brazil - Yearly - % GDP
A16: 1.1.b | B16: Expenditure by Functions of Government by level of government - General Government - Brazil - Yearly - R$ Million - Constant Values - IPCA
... A34: 2.4.b | B34: Expenditure by Functions of Government - Cross-classification of expenditure by function and economic classifications - General Government - Brazil - Yearly - R$ Million - Current Values - IPCA
A36: Metadata

Sheet 1.1
A1: Table 1.1. Expenditure by Functions of Government1/ by level of Government - General Government - Brazil - Yearly
A2: R$ Million - Current Values
A5: General Government | C5: 2010 | K5: 2011 | S5: 2012 | AA5: 2013 | AI5: 2014 | AQ5: 2015 | AY5: 2016 | BG5: 2017 | BO5: 2018 | BW5: 2019 | CE5: 2020 | CM5: 2021 | CU5: 2022 | DC5: 2023 | DK5: 2024
C6: Central Government | G6: State governments 5/ | H6: Municipalities 6/ | I6: Consolidation Column 4/ | J6: General Government 7/ | K6: Central Government | O6: State governments 5/ | P6: Municipalities 6/ | Q6: Consolidation Column 4/ | R6: General Government 7/ | S6: Central Government | W6: State governments 5/ | X6: Municipalities 6/ | Y6: Consolidation Column 4/ | Z6: General Government 7/ | AA6: Central Government | AE6: State governments 5/ | AF6: Municipalities 6/ | AG6: Consolidation Column 4/ | AH6: General Government 7/ | AI6: Central Government | AM6: State governments 5/ | AN6: Municipalities 6/ | AO6: Consolidation Column 4/ | AP6: General Government 7/ | AQ6: Central Government | AU6: State governments 5/ | AV6: Municipalities 6/ | AW6: Consolidation Column 4/ | AX6: General Government 7/ | AY6: Central Government | BC6: State governments 5/ | BD6: Municipalities 6/ | BE6: Consolidation Column 4/ | BF6: General Government 7/ | BG6: Central Government | BK6: State governments 5/ | BL6: Municipalities 6/ | BM6: Consolidation Column 4/ | BN6: General Government 7/ | BO6: Central Government | BS6: State governments 5/ | BT6: Municipalities 6/ | BU6: Consolidation Column 4/ | BV6: General Government 7/ | BW6: Central Government | CA6: State governments 5/ | CB6: Municipalities 6/ | CC6: Consolidation Column 4/ | CD6: General Government 7/ | CE6: Central Government | CI6: State governments 5/ | CJ6: Municipalities 6/ | CK6: Consolidation Column 4/ | CL6: General Government 7/ | CM6: Central Government | CQ6: State governments 5/ | CR6: Municipalities 6/ | CS6: Consolidation Column 4/ | CT6: General Government 7/ | CU6: Central Government | CY6: State governments 5/ | CZ6: Municipalities 6/ | DA6: Consolidation Column 4/ | DB6: General Government 7/ | DC6: Central Government | DG6: State governments 5/ | DH6: Municipalities 6/ | DI6: Consolidation Column 4/ | DJ6: General Government 7/ | DK6: Central Government | DO6: State governments 5/ | DP6: Municipalities 6/ | DQ6: Consolidation Column 4/ | DR6: General Government 7/
C7: Budgetary 2/ | D7: Extrabudgetary 3/ | E7: Consolidation Column 4/ | F7: Central Government | K7: Budgetary 2/ | L7: Extrabudgetary 3/ | M7: Consolidation Column 4/ | N7: Central Government | S7: Budgetary 2/ | T7: Extrabudgetary 3/ | U7: Consolidation Column 4/ | V7: Central Government | AA7: Budgetary 2/ | AB7: Extrabudgetary 3/ | AC7: Consolidation Column 4/ | AD7: Central Government | AI7: Budgetary 2/ | AJ7: Extrabudgetary 3/ | AK7: Consolidation Column 4/ | AL7: Central Government | AQ7: Budgetary 2/ | AR7: Extrabudgetary 3/ | AS7: Consolidation Column 4/ | AT7: Central Government | AY7: Budgetary 2/ | AZ7: Extrabudgetary 3/ | BA7: Consolidation Column 4/ | BB7: Central Government | BG7: Budgetary 2/ | BH7: Extrabudgetary 3/ | BI7: Consolidation Column 4/ | BJ7: Central Government | BO7: Budgetary 2/ | BP7: Extrabudgetary 3/ | BQ7: Consolidation Column 4/ | BR7: Central Government | BW7: Budgetary 2/ | BX7: Extrabudgetary 3/ | BY7: Consolidation Column 4/ | BZ7: Central Government | CE7: Budgetary 2/ | CF7: Extrabudgetary 3/ | CG7: Consolidation Column 4/ | CH7: Central Government | CM7: Budgetary 2/ | CN7: Extrabudgetary 3/ | CO7: Consolidation Column 4/ | CP7: Central Government | CU7: Budgetary 2/ | CV7: Extrabudgetary 3/ | CW7: Consolidation Column 4/ | CX7: Central Government | DC7: Budgetary 2/ | DD7: Extrabudgetary 3/ | DE7: Consolidation Column 4/ | DF7: Central Government | DK7: Budgetary 2/ | DL7: Extrabudgetary 3/ | DM7: Consolidation Column 4/ | DN7: Central Government
A8: 7 | B8: Expenditure8/ | C8: 1103219.3 | D8: 0 | E8: 0 | F8: 1103219.3 | G8: 518938 | H8: 314125.31 | I8: -400756.11 | J8: 1535526.5 | K8: 1257124.6 | L8: 0 | M8: 0 | N8: 1257124.6 | O8: 541108.83 | P8: 352266.6 | Q8: -427638.63 | R8: 1722861.4 | S8: 1359120.4 | T8: 0 | U8: 0 | V8: 1359120.4 | W8: 608922.48 | X8: 403845.02 | Y8: -479229.77 | Z8: 1892658.2 | AA8: 1508757.4 | AB8: 0 | AC8: 0 | AD8: 1508757.4 | AE8: 683376.52 | AF8: 423939.56 | AG8: -495147.64 | AH8: 2120925.8 | AI8: 1700229.2 | AJ8: 0 | AK8: 0 | AL8: 1700229.2 | AM8: 745869.38 | AN8: 484741.46 | AO8: -536826 | AP8: 2394014 | AQ8: 2029683.8 | AR8: 0 | AS8: 0 | AT8: 2029683.8 | AU8: 802903.98 | AV8: 521581.35 | AW8: -584664.11 | AX8: 2769505 | AY8: 2084158.9 | AZ8: 0 | BA8: 0 | BB8: 2084158.9 | BC8: 830799.09 | BD8: 552541.07 | BE8: -614772 | BF8: 2852727.1 | BG8: 2113662 | BH8: 0 | BI8: 0 | BJ8: 2113662 | BK8: 845274.2 | BL8: 548335.35 | BM8: -590080.52 | BN8: 2917191 | BO8: 2246409.2 | BP8: 0 | BQ8: 0 | BR8: 2246409.2 | BS8: 896794.19 | BT8: 603508.5 | BU8: -652236.18 | BV8: 3094475.7 | BW8: 2281853.9 | BX8: 0 | BY8: 0 | BZ8: 2281853.9 | CA8: 922449.34 | CB8: 659645.03 | CC8: -683453.7 | CD8: 3180494.5 | CE8: 2635975.1 | CF8: 0 | CG8: 0 | CH8: 2635975.1 | CI8: 947273.06 | CJ8: 719919.47 | CK8: -789175.83 | CL8: 3513991.8 | CM8: 2629674.2 | CN8: 0 | CO8: 0 | CP8: 2629674.2 | CQ8: 1084912.7 | CR8: 772728.42 | CS8: -849024.54 | CT8: 3638290.8 | CU8: 3166261 | CV8: 0 | CW8: 0 | CX8: 3166261 | CY8: 1369766.2 | CZ8: 973459.84 | DA8: -1130338.5 | DB8: 4379148.6 | DC8: 3529839.6 | DD8: 0 | DE8: 0 | DF8: 3529839.6 | DG8: 1461197.4 | DH8: 1123666.4 | DI8: -1156351.4 | DJ8: 4958352.1 | DK8: 3786078.5 | DL8: 0 | DM8: 0 | DN8: 3786078.5 | DO8: 1581726.9 | DP8: 1303959.8 | DQ8: -1294244.6 | DR8: 5377520.6
A9: 701 | B9: General public services | C9: 437299.75 | D9: 0 | E9: 0 | F9: 437299.75 | G9: 179154.65 | H9: 56014.281 | I9: -277946.62 | J9: 394522.07 | K9: 521007.89 | L9: 0 | M9: 0 | N9: 521007.89 | O9: 174149.59 | P9: 60808.287 | Q9: -295125.35 | R9: 460840.42 | S9: 532859.45 | T9: 0 | U9: 0 | V9: 532859.45 | W9: 201278.41 | X9: 67796.923 | Y9: -325996.91 | Z9: 475937.87 | AA9: 580677.52 | AB9: 0 | AC9: 0 | AD9: 580677.52 | AE9: 210590.66 | AF9: 71838.066 | AG9: -343079.2 | AH9: 520027.04 | AI9: 661984.76 | AJ9: 0 | AK9: 0 | AL9: 661984.76 | AM9: 220398.46 | AN9: 78338.195 | AO9: -366802.47 | AP9: 593918.94 | AQ9: 947641.82 | AR9: 0 | AS9: 0 | AT9: 947641.82 | AU9: 261226.57 | AV9: 88535.134 | AW9: -412152.67 | AX9: 885250.86 | AY9: 882584.58 | AZ9: 0 | BA9: 0 | BB9: 882584.58 | BC9: 246024.26 | BD9: 85669.401 | BE9: -416831.8 | BF9: 797446.44 | BG9: 856599.17 | BH9: 0 | BI9: 0 | BJ9: 856599.17 | BK9: 226092.85 | BL9: 80612.94 | BM9: -398184.65 | BN9: 765120.31 | BO9: 920163.71 | BP9: 0 | BQ9: 0 | BR9: 920163.71 | BS9: 240991.82 | BT9: 88519.021 | BU9: -443450.16 | BV9: 806224.39 | BW9: 862724.12 | BX9: 0 | BY9: 0 | BZ9: 862724.12 | CA9: 242043.81 | CB9: 101447.59 | CC9: -469857.62 | CD9: 736357.89 | CE9: 848969.92 | CF9: 0 | CG9: 0 | CH9: 848969.92 | CI9: 224612.73 | CJ9: 108011.71 | CK9: -525543.59 | CL9: 656050.76 | CM9: 1025436.4 | CN9: 0 | CO9: 0 | CP9: 1025436.4 | CQ9: 327117.04 | CR9: 117463.83 | CS9: -578505.87 | CT9: 891511.38 | CU9: 1367226.8 | CV9: 0 | CW9: 0 | CX9: 1367226.8 | CY9: 396897.51 | CZ9: 142888.13 | DA9: -792969.74 | DB9: 1114042.7 | DC9: 1453400.4 | DD9: 0 | DE9: 0 | DF9: 1453400.4 | DG9: 408878.31 | DH9: 155158.31 | DI9: -775419.2 | DJ9: 1242017.8 | DK9: 1554396.1 | DL9: 0 | DM9: 0 | DN9: 1554396.1 | DO9: 400209.34 | DP9: 176416.3 | DQ9: -829442.11 | DR9: 1301579.6
A10: 7011 | B10: Executive and legislative organs, financial and fiscal affairs, external affairs | C10: 26795.118 | D10: 0 | E10: 0 | F10: 26795.118 | G10: 36371.417 | H10: 17092.262 | I10: -1737.236 | J10: 78521.562 | K10: 29323.63 | L10: 0 | M10: 0 | N10: 29323.63 | O10: 35244.287 | P10: 19373.534 | Q10: -1133.4504 | R10: 82808.001 | S10: 28546.015 | T10: 0 | U10: 0 | V10: 28546.015 | W10: 45124.399 | X10: 21695.789 | Y10: -1829.3563 | Z10: 93536.846 | AA10: 29203.177 | AB10: 0 | AC10: 0 | AD10: 29203.177 | AE10: 47219.364 | AF10: 24630.412 | AG10: -1652.4206 | AH10: 99400.532 | AI10: 29457.997 | AJ10: 0 | AK10: 0 | AL10: 29457.997 | AM10: 50309.679 | AN10: 27534.317 | AO10: -1934.5249 | AP10: 105367.47 | AQ10: 35486.403 | AR10: 0 | AS10: 0 | AT10: 35486.403 | AU10: 51205.134 | AV10: 30007.419 | AW10: -1654.339 | AX10: 115044.62 | AY10: 39144.802 | AZ10: 0 | BA10: 0 | BB10: 39144.802 | BC10: 46633.785 | BD10: 32882.715 | BE10: -1082.6261 | BF10: 117578.68 | BG10: 39146.357 | BH10: 0 | BI10: 0 | BJ10: 39146.357 | BK10: 46523.207 | BL10: 33467.715 | BM10: -779.89097 | BN10: 118357.39 | BO10: 43253.37 | BP10: 0 | BQ10: 0 | BR10: 43253.37 | BS10: 46603.28 | BT10: 36101.028 | BU10: -720.27343 | BV10: 125237.4 | BW10: 45621.668 | BX10: 0 | BY10: 0 | BZ10: 45621.668 | CA10: 49110.103 | CB10: 39153.726 | CC10: -539.97121 | CD10: 133345.53 | CE10: 52198.359 | CF10: 0 | CG10: 0 | CH10: 52198.359 | CI10: 44862.859 | CJ10: 42500.348 | CK10: -319.55632 | CL10: 139242.01 | CM10: 50724.876 | CN10: 0 | CO10: 0 | CP10: 50724.876 | CQ10: 101803.44 | CR10: 46906.616 | CS10: -1694.2108 | CT10: 197740.72 | CU10: 66450.865 | CV10: 0 | CW10: 0 | CX10: 66450.865 | CY10: 104551.48 | CZ10: 55081.052 | DA10: -26219.236 | DB10: 199864.16 | DC10: 93869.849 | DD10: 0 | DE10: 0 | DF10: 93869.849 | DG10: 90264.601 | DH10: 61221.992 | DI10: -1318.2997 | DJ10: 244038.14 | DK10: 45216.562 | DL10: 0 | DM10: 0 | DN10: 45216.562 | DO10: 95206.663 | DP10: 70983.526 | DQ10: -5212.1892 | DR10: 206194.56
A11: 7012 | B11: Foreign economic aid | C11: 169.90967 | D11: 0 | E11: 0 | F11: 169.90967 | G11: 0 | H11: 6.6024427 | I11: 0 | J11: 176.51211 | K11: 122.17979 | L11: 0 | M11: 0 | N11: 122.17979 | O11: 0 | P11: 5.543318 | Q11: 0 | R11: 127.72311 | S11: 23.590135 | T11: 0 | U11: 0 | V11: 23.590135 | W11: 0 | X11: 5.9816596 | Y11: 0 | Z11: 29.571794 | AA11: 30.502239 | AB11: 0 | AC11: 0 | AD11: 30.502239 | AE11: 0 | AF11: 5.8549789 | AG11: 0 | AH11: 36.357217 | AI11: 0.02 | AJ11: 0 | AK11: 0 | AL11: 0.02 | AM11: 0 | AN11: 5.7578281 | AO11: 0 | AP11: 5.7778281 | AQ11: 0 | AR11: 0 | AS11: 0 | AT11: 0 | AU11: 0 | AV11: 6.5669601 | AW11: 0 | AX11: 6.5669601 | AY11: 0 | AZ11: 0 | BA11: 0 | BB11: 0 | BC11: 0 | BD11: 6.8670001 | BE11: 0 | BF11: 6.8670001 | BG11: 0 | BH11: 0 | BI11: 0 | BJ11: 0 | BK11: 0 | BL11: 2.1776774 | BM11: 0 | BN11: 2.1776774 | BO11: 0 | BP11: 0 | BQ11: 0 | BR11: 0 | BS11: 0 | BT11: 1.3520534 | BU11: 0 | BV11: 1.3520534 | BW11: 0 | BX11: 0 | BY11: 0 | BZ11: 0 | CA11: 0 | CB11: 0 | CC11: 0 | CD11: 0 | CE11: 0 | CF11: 0 | CG11: 0 | CH11: 0 | CI11: 0 | CJ11: 0 | CK11: 0 | CL11: 0 | CM11: 0 | CN11: 0 | CO11: 0 | CP11: 0 | CQ11: 0 | CR11: 0 | CS11: 0 | CT11: 0 | CU11: 0 | CV11: 0 | CW11: 0 | CX11: 0 | CY11: 0 | CZ11: 0 | DA11: 0 | DB11: 0 | DC11: 0 | DD11: 0 | DE11: 0 | DF11: 0 | DG11: 0 | DH11: 0 | DI11: 0 | DJ11: 0 | DK11: 0 | DL11: 0 | DM11: 0 | DN11: 0 | DO11: 0 | DP11: 0 | DQ11: 0 | DR11: 0
A12: 7013 | B12: General services | C12: 3028.9431 | D12: 0 | E12: 0 | F12: 3028.9431 | G12: 4298.1947 | H12: 27565.824 | I12: -177.34265 | J12: 34715.619 | K12: 1896.6422 | L12: 0 | M12: 0 | N12: 1896.6422 | O12: 4176.4456 | P12: 31942.47 | Q12: -126.39925 | R12: 37889.159 | S12: 1873.3399 | T12: 0 | U12: 0 | V12: 1873.3399 | W12: 4754.9646 | X12: 34856.594 | Y12: -149.75222 | Z12: 41335.147 | AA12: 1968.5178 | AB12: 0 | AC12: 0 | AD12: 1968.5178 | AE12: 5641.2059 | AF12: 35859.54 | AG12: -166.16828 | AH12: 43303.095 | AI12: 1869.6495 | AJ12: 0 | AK12: 0 | AL12: 1869.6495 | AM12: 5831.1695 | AN12: 39394.346 | AO12: -441.33638 | AP12: 46653.828 | AQ12: 1939.5213 | AR12: 0 | AS12: 0 | AT12: 1939.5213 | AU12: 5085.3343 | AV12: 40623.979 | AW12: -222.92015 | AX12: 47425.915 | AY12: 1919.8377 | AZ12: 0 | BA12: 0 | BB12: 1919.8377 | BC12: 2686.8082 | BD12: 42511.636 | BE12: -149.35763 | BF12: 46968.924 | BG12: 2327.5216 | BH12: 0 | BI12: 0 | BJ12: 2327.5216 | BK12: 2898.7359 | BL12: 41194.688 | BM12: -217.24442 | BN12: 46203.701 | BO12: 2462.0912 | BP12: 0 | BQ12: 0 | BR12: 2462.0912 | BS12: 3073.7258 | BT12: 46247.184 | BU12: -135.72005 | BV12: 51647.281 | BW12: 2029.8726 | BX12: 0 | BY12: 0 | BZ12: 2029.8726 | CA12: 3193.9855 | CB12: 56294.206 | CC12: -115.10135 | CD12: 61402.963 | CE12: 1973.625 | CF12: 0 | CG12: 0 | CH12: 1973.625 | CI12: 3257.7528 | CJ12: 59188.957 | CK12: -144.98983 | CL12: 64275.345 | CM12: 1946.1261 | CN12: 0 | CO12: 0 | CP12: 1946.1261 | CQ12: 4165.9378 | CR12: 63659.012 | CS12: -157.4309 | CT12: 69613.646 | CU12: 3501.2325 | CV12: 0 | CW12: 0 | CX12: 3501.2325 | CY12: 4752.4236 | CZ12: 76710.163 | DA12: -168.0348 | DB12: 84795.784 | DC12: 5087.3917 | DD12: 0 | DE12: 0 | DF12: 5087.3917 | DG12: 5802.9097 | DH12: 82600.991 | DI12: -171.75716 | DJ12: 93319.535 | DK12: 4295.3195 | DL12: 0 | DM12: 0 | DN12: 4295.3195 | DO12: 5591.7324 | DP12: 92148.953 | DQ12: -181.82545 | DR12: 101854.18
A13: 7014 | B13: Basic research | C13: 1171.3929 | D13: 0 | E13: 0 | F13: 1171.3929 | G13: 0 | H13: 61.898612 | I13: -124.30284 | J13: 1108.9886 | K13: 1109.0174 | L13: 0 | M13: 0 | N13: 1109.0174 | O13: 0 | P13: 22.887774 | Q13: -42.564568 | R13: 1089.3406 | S13: 1448.8417 | T13: 0 | U13: 0 | V13: 1448.8417 | W13: 0 | X13: 83.089266 | Y13: -49.364018 | Z13: 1482.567 | AA13: 1333.1602 | AB13: 0 | AC13: 0 | AD13: 1333.1602 | AE13: 0 | AF13: 35.737935 | AG13: -67.73373 | AH13: 1301.1644 | AI13: 1861.2716 | AJ13: 0 | AK13: 0 | AL13: 1861.2716 | AM13: 0 | AN13: 107.69216 | AO13: -60.90585 | AP13: 1908.0579 | AQ13: 1615.712 | AR13: 0 | AS13: 0 | AT13: 1615.712 | AU13: 0 | AV13: 136.84838 | AW13: -53.44566 | AX13: 1699.1147 | AY13: 1657.7894 | AZ13: 0 | BA13: 0 | BB13: 1657.7894 | BC13: 0 | BD13: 73.472727 | BE13: -51.773986 | BF13: 1679.4882 | BG13: 1403.0867 | BH13: 0 | BI13: 0 | BJ13: 1403.0867 | BK13: 0 | BL13: 88.11192 | BM13: -20.219813 | BN13: 1470.9788 | BO13: 1299.5288 | BP13: 0 | BQ13: 0 | BR13: 1299.5288 | BS13: 0 | BT13: 124.11136 | BU13: -22.013569 | BV13: 1401.6266 | BW13: 1399.1162 | BX13: 0 | BY13: 0 | BZ13: 1399.1162 | CA13: 0 | CB13: 190.64564 | CC13: -17.731387 | CD13: 1572.0305 | CE13: 1165.8217 | CF13: 0 | CG13: 0 | CH13: 1165.8217 | CI13: 0 | CJ13: 210.72229 | CK13: -16.003752 | CL13: 1360.5403 | CM13: 1439.754 | CN13: 0 | CO13: 0 | CP13: 1439.754 | CQ13: 0 | CR13: 233.54043 | CS13: -15.15759 | CT13: 1658.1369 | CU13: 2351.5415 | CV13: 0 | CW13: 0 | CX13: 2351.5415 | CY13: 0 | CZ13: 639.80016 | DA13: -44.267344 | DB13: 2947.0743 | DC13: 2928.6869 | DD13: 0 | DE13: 0 | DF13: 2928.6869 | DG13: 0 | DH13: 794.20099 | DI13: -44.592639 | DJ13: 3678.2953 | DK13: 3584.1175 | DL13: 0 | DM13: 0 | DN13: 3584.1175 | DO13: 0 | DP13: 993.26461 | DQ13: -30.944616 | DR13: 4546.4375
A14: 7015 | B14: R&D General public services | C14: 29.704478 | D14: 0 | E14: 0 | F14: 29.704478 | G14: 61.73213 | H14: 0 | I14: -0.22445403 | J14: 91.212154 | K14: 23.718236 | L14: 0 | M14: 0 | N14: 23.718236 | O14: 66.250949 | P14: 0 | Q14: -0.25422392 | R14: 89.714961 | S14: 27.823264 | T14: 0 | U14: 0 | V14: 27.823264 | W14: 78.922027 | X14: 0 | Y14: -0.27409621 | Z14: 106.4712 | AA14: 45.994136 | AB14: 0 | AC14: 0 | AD14: 45.994136 | AE14: 89.512557 | AF14: 0 | AG14: -5.2802615 | AH14: 130.22643 | AI14: 38.356021 | AJ14: 0 | AK14: 0 | AL14: 38.356021 | AM14: 95.052201 | AN14: 0.081929446 | AO14: -0.18812694 | AP14: 133.30202 | AQ14: 50.599927 | AR14: 0 | AS14: 0 | AT14: 50.599927 | AU14: 82.95838 | AV14: 0.16006468 | AW14: -0.081966942 | AX14: 133.63641 | AY14: 33.367128 | AZ14: 0 | BA14: 0 | BB14: 33.367128 | BC14: 8.6004351 | BD14: 0.12906698 | BE14: -0.3660482 | BF14: 41.730582 | BG14: 35.494065 | BH14: 0 | BI14: 0 | BJ14: 35.494065 | BK14: 4.387839 | BL14: 0.084343178 | BM14: -0.36221598 | BN14: 39.604032 | BO14: 32.319793 | BP14: 0 | BQ14: 0 | BR14: 32.319793 | BS14: 5.0941451 | BT14: 0.14700155 | BU14: -0.2519115 | BV14: 37.309029 | BW14: 25.834328 | BX14: 0 | BY14: 0 | BZ14: 25.834328 | CA14: 5.3654208 | CB14: 0.1033932 | CC14: -0.15865433 | CD14: 31.144487 | CE14: 21.923033 | CF14: 0 | CG14: 0 | CH14: 21.923033 | CI14: 14.975954 | CJ14: 0.13875125 | CK14: -0.1063964 | CL14: 36.931342 | CM14: 22.759681 | CN14: 0 | CO14: 0 | CP14: 22.759681 | CQ14: 76.536591 | CR14: 0.15293223 | CS14: 0 | CT14: 99.449205 | CU14: 23.458403 | CV14: 0 | CW14: 0 | CX14: 23.458403 | CY14: 10.554973 | CZ14: 0.45042413 | DA14: 0 | DB14: 34.4638 | DC14: 31.426383 | DD14: 0 | DE14: 0 | DF14: 31.426383 | DG14: 12.474732 | DH14: 0.62212727 | DI14: -0.018152149 | DJ14: 44.50509 | DK14: 36.339652 | DL14: 0 | DM14: 0 | DN14: 36.339652 | DO14: 19.35648 | DP14: 0.78747773 | DQ14: -0.00049698747 | DR14: 56.483113
A15: 7016 | B15: General public services not elsewhere classified | C15: 4545.4899 | D15: 0 | E15: 0 | F15: 4545.4899 | G15: 0 | H15: 304.74586 | I15: -162.61371 | J15: 4687.6221 | K15: 4142.7808 | L15: 0 | M15: 0 | N15: 4142.7808 | O15: 0 | P15: 190.56595 | Q15: -99.070923 | R15: 4234.2758 | S15: 4833.5032 | T15: 0 | U15: 0 | V15: 4833.5032 | W15: 0 | X15: 345.39393 | Y15: -92.922229 | Z15: 5085.9749 | AA15: 4403.4842 | AB15: 0 | AC15: 0 | AD15: 4403.4842 | AE15: 0 | AF15: 510.48472 | AG15: -207.02863 | AH15: 4706.9403 | AI15: 5299.3945 | AJ15: 0 | AK15: 0 | AL15: 5299.3945 | AM15: 0 | AN15: 530.07847 | AO15: -191.29616 | AP15: 5638.1768 | AQ15: 5587.5708 | AR15: 0 | AS15: 0 | AT15: 5587.5708 | AU15: 0 | AV15: 659.61545 | AW15: -263.0962 | AX15: 5984.09 | AY15: 6751.2541 | AZ15: 0 | BA15: 0 | BB15: 6751.2541 | BC15: 7.4285733e-06 | BD15: 752.99353 | BE15: -319.29995 | BF15: 7184.9477 | BG15: 6255.1753 | BH15: 0 | BI15: 0 | BJ15: 6255.1753 | BK15: 5.3991417e-05 | BL15: 685.49654 | BM15: -281.21054 | BN15: 6659.4614 | BO15: 9035.2407 | BP15: 0 | BQ15: 0 | BR15: 9035.2407 | BS15: 5.1457844e-05 | BT15: 693.39756 | BU15: -219.61224 | BV15: 9509.0261 | BW15: 7109.9761 | BX15: 0 | BY15: 0 | BZ15: 7109.9761 | CA15: 6.1337875e-05 | CB15: 945.03511 | CC15: -207.91894 | CD15: 7847.0923 | CE15: 9536.9486 | CF15: 0 | CG15: 0 | CH15: 9536.9486 | CI15: 0 | CJ15: 1097.0124 | CK15: -267.88401 | CL15: 10366.077 | CM15: 7262.3522 | CN15: 0 | CO15: 0 | CP15: 7262.3522 | CQ15: 0 | CR15: 1228.6092 | CS15: -269.49027 | CT15: 8221.4712 | CU15: 14514.1 | CV15: 0 | CW15: 0 | CX15: 14514.1 | CY15: 0 | CZ15: 1464.9906 | DA15: -251.22049 | DB15: 15727.871 | DC15: 9234.115 | DD15: 0 | DE15: 0 | DF15: 9234.115 | DG15: 0 | DH15: 1626.5317 | DI15: -289.42369 | DJ15: 10571.223 | DK15: 15405.783 | DL15: 0 | DM15: 0 | DN15: 15405.783 | DO15: 0 | DP15: 1861.5901 | DQ15: -330.83567 | DR15: 16936.537
A16: 7017 | B16: Public debt transactions4/ | C16: 273807.33 | D16: 0 | E16: 0 | F16: 273807.33 | G16: 61401.311 | H16: 10982.949 | I16: -70971.04 | J16: 275220.55 | K16: 332233.36 | L16: 0 | M16: 0 | N16: 332233.36 | O16: 48604.1 | P16: 9273.2862 | Q16: -55508.535 | R16: 334602.21 | S16: 331572.55 | T16: 0 | U16: 0 | V16: 331572.55 | W16: 56992.84 | X16: 10809.659 | Y16: -65013.756 | Z16: 334361.3 | AA16: 366255.61 | AB16: 0 | AC16: 0 | AD16: 366255.61 | AE16: 54110.984 | AF16: 10796.036 | AG16: -60013.906 | AH16: 371148.73 | AI16: 426152.3 | AJ16: 0 | AK16: 0 | AL16: 426152.3 | AM16: 53003.253 | AN16: 10765.438 | AO16: -55708.665 | AP16: 434212.33 | AQ16: 700466.92 | AR16: 0 | AS16: 0 | AT16: 700466.92 | AU16: 89632.037 | AV16: 17100.437 | AW16: -92242.477 | AX16: 714956.92 | AY16: 606953.2 | AZ16: 0 | BA16: 0 | BB16: 606953.2 | BC16: 80342.761 | BD16: 9441.5877 | BE16: -72751.75 | BF16: 623985.8 | BG16: 576824.51 | BH16: 0 | BI16: 0 | BJ16: 576824.51 | BK16: 54313.136 | BL16: 5174.6013 | BM16: -43925.249 | BN16: 592387 | BO16: 603109.17 | BP16: 0 | BQ16: 0 | BR16: 603109.17 | BS16: 60738.703 | BT16: 5351.7259 | BU16: -50809.21 | BV16: 618390.39 | BW16: 517545.24 | BX16: 0 | BY16: 0 | BZ16: 517545.24 | CA16: 49107.515 | CB16: 4858.8584 | CC16: -39352.481 | CD16: 532159.13 | CE16: 430625.76 | CF16: 0 | CG16: 0 | CH16: 430625.76 | CI16: 36344.869 | CJ16: 5006.1788 | CK16: -31206.949 | CL16: 440769.86 | CM16: 601818 | CN16: 0 | CO16: 0 | CP16: 601818 | CQ16: 36972.956 | CR16: 5427.4149 | CS16: -30040.42 | CT16: 614177.95 | CU16: 784583.52 | CV16: 0 | CW16: 0 | CX16: 784583.52 | CY16: 94390.743 | CZ16: 8980.1072 | DA16: -77280.99 | DB16: 810673.38 | DC16: 856763.91 | DD16: 0 | DE16: 0 | DF16: 856763.91 | DG16: 116137.7 | DH16: 8904.9363 | DI16: -91440.41 | DJ16: 890366.13 | DK16: 937681.49 | DL16: 0 | DM16: 0 | DN16: 937681.49 | DO16: 102521.89 | DP16: 10409.302 | DQ16: -78621.259 | DR16: 971991.43
A17: 7018 | B17: Transfers of general character between levels of government | C17: 127751.86 | D17: 0 | E17: 0 | F17: 127751.86 | G17: 77021.993 | H17: 0 | I17: -204773.86 | J17: 0 | K17: 152156.56 | L17: 0 | M17: 0 | N17: 152156.56 | O17: 86058.509 | P17: 0 | Q17: -238215.07 | R17: 0 | S17: 164533.78 | T17: 0 | U17: 0 | V17: 164533.78 | W17: 94327.285 | X17: 0.41634225 | Y17: -258861.48 | Z17: 0 | AA17: 177437.07 | AB17: 0 | AC17: 0 | AD17: 177437.07 | AE17: 103529.6 | AF17: 0 | AG17: -280966.67 | AH17: 0 | AI17: 197305.77 | AJ17: 0 | AK17: 0 | AL17: 197305.77 | AM17: 111159.3 | AN17: 0.48340317 | AO17: -308465.56 | AP17: 0 | AQ17: 202495.1 | AR17: 0 | AS17: 0 | AT17: 202495.1 | AU17: 115221.11 | AV17: 0.10716459 | AW17: -317716.31 | AX17: 0 | AY17: 226124.32 | AZ17: 0 | BA17: 0 | BB17: 226124.32 | BC17: 116352.31 | BD17: 0 | BE17: -342476.63 | BF17: 0 | BG17: 230607.02 | BH17: 0 | BI17: 0 | BJ17: 230607.02 | BK17: 122353.39 | BL17: 0.065188343 | BM17: -352960.47 | BN17: 0 | BO17: 260971.99 | BP17: 0 | BQ17: 0 | BR17: 260971.99 | BS17: 130571.02 | BT17: 0.075570489 | BU17: -391543.08 | BV17: 0 | BW17: 288992.41 | BX17: 0 | BY17: 0 | BZ17: 288992.41 | CA17: 140626.84 | CB17: 5.0161554 | CC17: -429624.26 | CD17: 0 | CE17: 353447.48 | CF17: 0 | CG17: 0 | CH17: 353447.48 | CI17: 140132.27 | CJ17: 8.3553414 | CK17: -493588.1 | CL17: 0 | CM17: 362222.5 | CN17: 0 | CO17: 0 | CP17: 362222.5 | CQ17: 184098.17 | CR17: 8.4854262 | CS17: -546329.16 | CT17: 0 | CU17: 495802.11 | CV17: 0 | CW17: 0 | CX17: 495802.11 | CY17: 193192.31 | CZ17: 11.565955 | DA17: -689005.99 | DB17: 0 | DC17: 485485.04 | DD17: 0 | DE17: 0 | DF17: 485485.04 | DG17: 196660.62 | DH17: 9.0404263 | DI17: -682154.7 | DJ17: 0 | DK17: 548176.49 | DL17: 0 | DM17: 0 | DN17: 548176.49 | DO17: 196869.69 | DP17: 18.874811 | DQ17: -745065.05 | DR17: 0
A18: 702 | B18: Defense | C18: 29179.35 | D18: 0 | E18: 0 | F18: 29179.35 | G18: 1249.5682 | H18: 723.93257 | I18: -2046.408 | J18: 29106.443 | K18: 28317.628 | L18: 0 | M18: 0 | N18: 28317.628 | O18: 1069.3274 | P18: 922.00101 | Q18: -842.47296 | R18: 29466.483 | S18: 31604.038 | T18: 0 | U18: 0 | V18: 31604.038 | W18: 1278.2528 | X18: 944.51089 | Y18: -869.99734 | Z18: 32956.804 | AA18: 37277.482 | AB18: 0 | AC18: 0 | AD18: 37277.482 | AE18: 1476.4389 | AF18: 953.08131 | AG18: -1654.5067 | AH18: 38052.496 | AI18: 38894.195 | AJ18: 0 | AK18: 0 | AL18: 38894.195 | AM18: 1859.3157 | AN18: 891.68703 | AO18: -613.36727 | AP18: 41031.83 | AQ18: 37743.91 | AR18: 0 | AS18: 0 | AT18: 37743.91 | AU18: 1621.5165 | AV18: 833.33885 | AW18: -486.36242 | AX18: 39712.403 | AY18: 38969.15 | AZ18: 0 | BA18: 0 | BB18: 38969.15 | BC18: 1334.8321 | BD18: 883.75926 | BE18: -467.02275 | BF18: 40720.719 | BG18: 42424.388 | BH18: 0 | BI18: 0 | BJ18: 42424.388 | BK18: 1432.3439 | BL18: 843.92242 | BM18: -488.60165 | BN18: 44212.053 | BO18: 44975.944 | BP18: 0 | BQ18: 0 | BR18: 44975.944 | BS18: 1522.2695 | BT18: 813.81146 | BU18: -556.2342 | BV18: 46755.791 | BW18: 45752.698 | BX18: 0 | BY18: 0 | BZ18: 45752.698 | CA18: 1458.6441 | CB18: 1064.7652 | CC18: -400.76708 | CD18: 47875.341 | CE18: 49672.516 | CF18: 0 | CG18: 0 | CH18: 49672.516 | CI18: 1152.3247 | CJ18: 1157.6654 | CK18: -632.51728 | CL18: 51349.989 | CM18: 49277.048 | CN18: 0 | CO18: 0 | CP18: 49277.048 | CQ18: 1529.4422 | CR18: 1218.45 | CS18: -434.96415 | CT18: 51589.976 | CU18: 51583.76 | CV18: 0 | CW18: 0 | CX18: 51583.76 | CY18: 2404.2857 | CZ18: 1542.4977 | DA18: -719.93844 | DB18: 54810.605 | DC18: 52325.963 | DD18: 0 | DE18: 0 | DF18: 52325.963 | DG18: 2461.0687 | DH18: 2017.4606 | DI18: -1013.0379 | DJ18: 55791.454 | DK18: 55845.269 | DL18: 0 | DM18: 0 | DN18: 55845.269 | DO18: 3661.3098 | DP18: 2826.0044 | DQ18: -2935.716 | DR18: 59396.867
A19: 7021 | B19: Military defense | C19: 25322.417 | D19: 0 | E19: 0 | F19: 25322.417 | G19: 0 | H19: 16.644528 | I19: -3.5259709 | J19: 25335.536 | K19: 25844.58 | L19: 0 | M19: 0 | N19: 25844.58 | O19: 0 | P19: 24.812607 | Q19: 0 | R19: 25869.393 | S19: 28481.212 | T19: 0 | U19: 0 | V19: 28481.212 | W19: 0 | X19: 20.242594 | Y19: 0 | Z19: 28501.455 | AA19: 32062.1 | AB19: 0 | AC19: 0 | AD19: 32062.1 | AE19: 0 | AF19: 15.396411 | AG19: 0 | AH19: 32077.497 | AI19: 34777.791 | AJ19: 0 | AK19: 0 | AL19: 34777.791 | AM19: 0 | AN19: 18.854453 | AO19: -1.8565718 | AP19: 34794.789 | AQ19: 34923.769 | AR19: 0 | AS19: 0 | AT19: 34923.769 | AU19: 0 | AV19: 21.284479 | AW19: -2.4064829 | AX19: 34942.647 | AY19: 36129.954 | AZ19: 0 | BA19: 0 | BB19: 36129.954 | BC19: 0 | BD19: 19.168657 | BE19: -3.1969106 | BF19: 36145.926 | BG19: 39471.932 | BH19: 0 | BI19: 0 | BJ19: 39471.932 | BK19: 0 | BL19: 19.009381 | BM19: -2.8450095 | BN19: 39488.097 | BO19: 42281.23 | BP19: 0 | BQ19: 0 | BR19: 42281.23 | BS19: 0 | BT19: 28.148425 | BU19: -1.9988671 | BV19: 42307.379 | BW19: 43194.998 | BX19: 0 | BY19: 0 | BZ19: 43194.998 | CA19: 0 | CB19: 20.840287 | CC19: -1.3834912 | CD19: 43214.455 | CE19: 47238.079 | CF19: 0 | CG19: 0 | CH19: 47238.079 | CI19: 0 | CJ19: 20.627129 | CK19: -1.5442993 | CL19: 47257.161 | CM19: 47200.225 | CN19: 0 | CO19: 0 | CP19: 47200.225 | CQ19: 0 | CR19: 23.044473 | CS19: -7.5763889 | CT19: 47215.693 | CU19: 49126.892 | CV19: 0 | CW19: 0 | CX19: 49126.892 | CY19: 0 | CZ19: 28.86983 | DA19: -1.5954916 | DB19: 49154.166 | DC19: 49669.914 | DD19: 0 | DE19: 0 | DF19: 49669.914 | DG19: 0 | DH19: 40.426064 | DI19: -3.4747208 | DJ19: 49706.865 | DK19: 51466.258 | DL19: 0 | DM19: 0 | DN19: 51466.258 | DO19: 0 | DP19: 38.064391 | DQ19: -2.3431374 | DR19: 51501.979
... A87: 7109 | B87: Social protection not elsewhere classified | C87: 14624.471 | D87: 0 | E87: 0 | F87: 14624.471 | G87: 891.13682 | H87: 6571.6142 | I87: -251.40149 | J87: 21835.82 | K87: 14679.022 | L87: 0 | M87: 0 | N87: 14679.022 | O87: 1014.1589 | P87: 8089.7656 | Q87: -266.13276 | R87: 23516.814 | S87: 14821.363 | T87: 0 | U87: 0 | V87: 14821.363 | W87: 1152.1592 | X87: 8515.5357 | Y87: -383.08881 | Z87: 24105.969 | AA87: 15978.628 | AB87: 0 | AC87: 0 | AD87: 15978.628 | AE87: 1379.102 | AF87: 9127.0874 | AG87: -405.95793 | AH87: 26078.86 | AI87: 17862.492 | AJ87: 0 | AK87: 0 | AL87: 17862.492 | AM87: 1536.1978 | AN87: 10759.697 | AO87: -431.63231 | AP87: 29726.755 | AQ87: 18971.678 | AR87: 0 | AS87: 0 | AT87: 18971.678 | AU87: 1487.7794 | AV87: 11783.264 | AW87: -412.00134 | AX87: 31830.72 | AY87: 21405.723 | AZ87: 0 | BA87: 0 | BB87: 21405.723 | BC87: 1367.6743 | BD87: 12143.096 | BE87: -539.05311 | BF87: 34377.44 | BG87: 23140.519 | BH87: 0 | BI87: 0 | BJ87: 23140.519 | BK87: 1272.2589 | BL87: 11837.551 | BM87: -564.45643 | BN87: 35685.873 | BO87: 24884.575 | BP87: 0 | BQ87: 0 | BR87: 24884.575 | BS87: 1322.6344 | BT87: 13604.637 | BU87: -489.36427 | BV87: 39322.482 | BW87: 27125.926 | BX87: 0 | BY87: 0 | BZ87: 27125.926 | CA87: 1258.6938 | CB87: 14126.457 | CC87: -430.28927 | CD87: 42080.787 | CE87: 27854.886 | CF87: 0 | CG87: 0 | CH87: 27854.886 | CI87: 2604.6644 | CJ87: 16967.236 | CK87: -841.74724 | CL87: 46585.039 | CM87: 33382 | CN87: 0 | CO87: 0 | CP87: 33382 | CQ87: 1597.0392 | CR87: 18970.876 | CS87: -664.81638 | CT87: 53285.099 | CU87: 39032.845 | CV87: 0 | CW87: 0 | CX87: 39032.845 | CY87: 2857.5218 | CZ87: 23501.659 | DA87: -3582.6778 | DB87: 61809.347 | DC87: 30889.86 | DD87: 0 | DE87: 0 | DF87: 30889.86 | DG87: 2494.5419 | DH87: 26197.883 | DI87: -2276.3374 | DJ87: 57305.948 | DK87: 38838.493 | DL87: 0 | DM87: 0 | DN87: 38838.493 | DO87: 3851.1921 | DP87: 29827.554 | DQ87: -1621.4745 | DR87: 70895.765
A88: Source: STN, SOF, IBGE e BCB
A89: Note: data subject to change
A90: 1/ The compilation of expenditure follows the COFOG - Classification of Functions of Government, developed by the OECD/ONU.
A91: 2/ Source: Integrated Financial Management System (SIAFI). Composed of all the units that integrate the Fiscal and Social Security Budget, except the Central Bank of Brazil.
A92: 3/ In accordance with the most recent methodological revision, the Extrabudgetary Central Government sector no longer includes any classified institutional units. For further information, see the Methodological Note – Methodological Revision of the General Government Fiscal Statistics, available at: https://thot-arquivos.tesouro.gov.br/publicacao-anexo/22725
A93: 4/ Internal transactions that should be eliminated in the consolidation process to avoid double counting.
A94: 5/ Source: Accounting Balances Matrix, Siconfi (System of Financial and Accounting Information of the Brazilian Public Sector), RREO (Summarized Statement of Budgetary Execution) and Transparency Portals.
A95: 6/ Source: Accounting Balances Matrix, Siconfi (System of Financial and Accounting Information of the Brazilian Public Sector), RREO (Summarized Statement of Budgetary Execution) and Transparency Portals. For municipalities that did not report data, extrapolation techniques were used in order to increase coverage.
A96: 7/ The consolidated General Government result excludes grants and interest transactions between government units.
A97: 8/ Expenditure compiled on a accrual basis.
A98: 9/ Source: Central Bank of Brazil
A99: 10/ Pre-primary and primary education corresponds to the first 5 years of elementary school.

Sheet 1.2
A1: Table 1.2. Expenditure by Functions of Government1/ - Central Government - Brazil - Yearly
A2: R$ Million - Current Values
A4: Central Government 2/ | C4: 2010 | D4: 2011 | E4: 2012 | F4: 2013 | G4: 2014 | H4: 2015 | I4: 2016 | J4: 2017 | K4: 2018 | L4: 2019 | M4: 2020 | N4: 2021 | O4: 2022 | P4: 2023 | Q4: 2024
A5: 7 | B5: Expenditure3/ | C5: 1103219.3 | D5: 1257124.6 | E5: 1359120.4 | F5: 1508757.4 | G5: 1700229.2 | H5: 2029683.8 | I5: 2084158.9 | J5: 2113662 | K5: 2246409.2 | L5: 2281853.9 | M5: 2635975.1 | N5: 2629674.2 | O5: 3166261 | P5: 3529839.6 | Q5: 3786078.5
A6: 701 | B6: General public services | C6: 437299.75 | D6: 521007.89 | E6: 532859.45 | F6: 580677.52 | G6: 661984.76 | H6: 947641.82 | I6: 882584.58 | J6: 856599.17 | K6: 920163.71 | L6: 862724.12 | M6: 848969.92 | N6: 1025436.4 | O6: 1367226.8 | P6: 1453400.4 | Q6: 1554396.1
A7: 7011 | B7: Executive and legislative organs, financial and fiscal affairs, external affairs | C7: 26795.118 | D7: 29323.63 | E7: 28546.015 | F7: 29203.177 | G7: 29457.997 | H7: 35486.403 | I7: 39144.802 | J7: 39146.357 | K7: 43253.37 | L7: 45621.668 | M7: 52198.359 | N7: 50724.876 | O7: 66450.865 | P7: 93869.849 | Q7: 45216.562
A8: 7012 | B8: Foreign economic aid | C8: 169.90967 | D8: 122.17979 | E8: 23.590135 | F8: 30.502239 | G8: 0.02 | H8: 0 | I8: 0 | J8: 0 | K8: 0 | L8: 0 | M8: 0 | N8: 0 | O8: 0 | P8: 0 | Q8: 0
A9: 7013 | B9: General services | C9: 3028.9431 | D9: 1896.6422 | E9: 1873.3399 | F9: 1968.5178 | G9: 1869.6495 | H9: 1939.5213 | I9: 1919.8377 | J9: 2327.5216 | K9: 2462.0912 | L9: 2029.8726 | M9: 1973.625 | N9: 1946.1261 | O9: 3501.2325 | P9: 5087.3917 | Q9: 4295.3195
A10: 7014 | B10: Basic research | C10: 1171.3929 | D10: 1109.0174 | E10: 1448.8417 | F10: 1333.1602 | G10: 1861.2716 | H10: 1615.712 | I10: 1657.7894 | J10: 1403.0867 | K10: 1299.5288 | L10: 1399.1162 | M10: 1165.8217 | N10: 1439.754 | O10: 2351.5415 | P10: 2928.6869 | Q10: 3584.1175
A11: 7015 | B11: R&D General public services | C11: 29.704478 | D11: 23.718236 | E11: 27.823264 | F11: 45.994136 | G11: 38.356021 | H11: 50.599927 | I11: 33.367128 | J11: 35.494065 | K11: 32.319793 | L11: 25.834328 | M11: 21.923033 | N11: 22.759681 | O11: 23.458403 | P11: 31.426383 | Q11: 36.339652
A12: 7016 | B12: General public services not elsewhere classified | C12: 4545.4899 | D12: 4142.7808 | E12: 4833.5032 | F12: 4403.4842 | G12: 5299.3945 | H12: 5587.5708 | I12: 6751.2541 | J12: 6255.1753 | K12: 9035.2407 | L12: 7109.9761 | M12: 9536.9486 | N12: 7262.3522 | O12: 14514.1 | P12: 9234.115 | Q12: 15405.783
A13: 7017 | B13: Public debt transactions4/ | C13: 273807.33 | D13: 332233.36 | E13: 331572.55 | F13: 366255.61 | G13: 426152.3 | H13: 700466.92 | I13: 606953.2 | J13: 576824.51 | K13: 603109.17 | L13: 517545.24 | M13: 430625.76 | N13: 601818 | O13: 784583.52 | P13: 856763.91 | Q13: 937681.49
A14: 7018 | B14: Transfers of general character between levels of government | C14: 127751.86 | D14: 152156.56 | E14: 164533.78 | F14: 177437.07 | G14: 197305.77 | H14: 202495.1 | I14: 226124.32 | J14: 230607.02 | K14: 260971.99 | L14: 288992.41 | M14: 353447.48 | N14: 362222.5 | O14: 495802.11 | P14: 485485.04 | Q14: 548176.49
A15: 702 | B15: Defense | C15: 29179.35 | D15: 28317.628 | E15: 31604.038 | F15: 37277.482 | G15: 38894.195 | H15: 37743.91 | I15: 38969.15 | J15: 42424.388 | K15: 44975.944 | L15: 45752.698 | M15: 49672.516 | N15: 49277.048 | O15: 51583.76 | P15: 52325.963 | Q15: 55845.269
A16: 7021 | B16: Military defense | C16: 25322.417 | D16: 25844.58 | E16: 28481.212 | F16: 32062.1 | G16: 34777.791 | H16: 34923.769 | I16: 36129.954 | J16: 39471.932 | K16: 42281.23 | L16: 43194.998 | M16: 47238.079 | N16: 47200.225 | O16: 49126.892 | P16: 49669.914 | Q16: 51466.258
... A84: 7109 | B84: Social protection not elsewhere classified | C84: 14624.471 | D84: 14679.022 | E84: 14821.363 | F84: 15978.628 | G84: 17862.492 | H84: 18971.678 | I84: 21405.723 | J84: 23140.519 | K84: 24884.575 | L84: 27125.926 | M84: 27854.886 | N84: 33382 | O84: 39032.845 | P84: 30889.86 | Q84: 38838.493
A85: Source: STN, SOF, IBGE e BCB
A86: Note: data subject to change
A87: 1/ The compilation of expenditure follows the COFOG - Classification of Functions of Government, developed by the OECD/ONU.
A88: 2/ Source: Integrated Financial Management System (SIAFI).
A89: 3/ Expenditure compiled on a accrual basis.
A90: 4/ Source: Central Bank of Brazil
A91: 5/ Pre-primary and primary education corresponds to the first 5 years of elementary school.

Sheet 1.3
A1: Table 1.3. Expenditure by Functions of Government1/ - State Governments - Brazil - Yearly
A2: R$ Million - Current Values
A4: State Governments 2/ | C4: 2010 | D4: 2011 | E4: 2012 | F4: 2013 | G4: 2014 | H4: 2015 | I4: 2016 | J4: 2017 | K4: 2018 | L4: 2019 | M4: 2020 | N4: 2021 | O4: 2022 | P4: 2023 | Q4: 2024
A5: 7 | B5: Expenditure3/ | C5: 518938 | D5: 541108.83 | E5: 608922.48 | F5: 683376.52 | G5: 745869.38 | H5: 802903.98 | I5: 830799.09 | J5: 845274.2 | K5: 896794.19 | L5: 922449.34 | M5: 947273.06 | N5: 1084912.7 | O5: 1369766.2 | P5: 1461197.4 | Q5: 1581726.9
A6: 701 | B6: General public services | C6: 179154.65 | D6: 174149.59 | E6: 201278.41 | F6: 210590.66 | G6: 220398.46 | H6: 261226.57 | I6: 246024.26 | J6: 226092.85 | K6: 240991.82 | L6: 242043.81 | M6: 224612.73 | N6: 327117.04 | O6: 396897.51 | P6: 408878.31 | Q6: 400209.34
A7: 7011 | B7: Executive and legislative organs, financial and fiscal affairs, external affairs | C7: 36371.417 | D7: 35244.287 | E7: 45124.399 | F7: 47219.364 | G7: 50309.679 | H7: 51205.134 | I7: 46633.785 | J7: 46523.207 | K7: 46603.28 | L7: 49110.103 | M7: 44862.859 | N7: 101803.44 | O7: 104551.48 | P7: 90264.601 | Q7: 95206.663
A8: 7012 | B8: Foreign economic aid | C8: 0 | D8: 0 | E8: 0 | F8: 0 | G8: 0 | H8: 0 | I8: 0 | J8: 0 | K8: 0 | L8: 0 | M8: 0 | N8: 0 | O8: 0 | P8: 0 | Q8: 0
A9: 7013 | B9: General services | C9: 4298.1947 | D9: 4176.4456 | E9: 4754.9646 | F9: 5641.2059 | G9: 5831.1695 | H9: 5085.3343 | I9: 2686.8082 | J9: 2898.7359 | K9: 3073.7258 | L9: 3193.9855 | M9: 3257.7528 | N9: 4165.9378 | O9: 4752.4236 | P9: 5802.9097 | Q9: 5591.7324
A10: 7014 | B10: Basic research | C10: 0 | D10: 0 | E10: 0 | F10: 0 | G10: 0 | H10: 0 | I10: 0 | J10: 0 | K10: 0 | L10: 0 | M10: 0 | N10: 0 | O10: 0 | P10: 0 | Q10: 0
A11: 7015 | B11: R&D General public services | C11: 61.73213 | D11: 66.250949 | E11: 78.922027 | F11: 89.512557 | G11: 95.052201 | H11: 82.95838 | I11: 8.6004351 | J11: 4.387839 | K11: 5.0941451 | L11: 5.3654208 | M11: 14.975954 | N11: 76.536591 | O11: 10.554973 | P11: 12.474732 | Q11: 19.35648
A12: 7016 | B12: General public services not elsewhere classified | C12: 0 | D12: 0 | E12: 0 | F12: 0 | G12: 0 | H12: 0 | I12: 7.4285733e-06 | J12: 5.3991417e-05 | K12: 5.1457844e-05 | L12: 6.1337875e-05 | M12: 0 | N12: 0 | O12: 0 | P12: 0 | Q12: 0
A13: 7017 | B13: Public debt transactions4/ | C13: 61401.311 | D13: 48604.1 | E13: 56992.84 | F13: 54110.984 | G13: 53003.253 | H13: 89632.037 | I13: 80342.761 | J13: 54313.136 | K13: 60738.703 | L13: 49107.515 | M13: 36344.869 | N13: 36972.956 | O13: 94390.743 | P13: 116137.7 | Q13: 102521.89
A14: 7018 | B14: Transfers of general character between levels of government | C14: 77021.993 | D14: 86058.509 | E14: 94327.285 | F14: 103529.6 | G14: 111159.3 | H14: 115221.11 | I14: 116352.31 | J14: 122353.39 | K14: 130571.02 | L14: 140626.84 | M14: 140132.27 | N14: 184098.17 | O14: 193192.31 | P14: 196660.62 | Q14: 196869.69
A15: 702 | B15: Defense | C15: 1249.5682 | D15: 1069.3274 | E15: 1278.2528 | F15: 1476.4389 | G15: 1859.3157 | H15: 1621.5165 | I15: 1334.8321 | J15: 1432.3439 | K15: 1522.2695 | L15: 1458.6441 | M15: 1152.3247 | N15: 1529.4422 | O15: 2404.2857 | P15: 2461.0687 | Q15: 3661.3098
A16: 7021 | B16: Military defense | C16: 0 | D16: 0 | E16: 0 | F16: 0 | G16: 0 | H16: 0 | I16: 0 | J16: 0 | K16: 0 | L16: 0 | M16: 0 | N16: 0 | O16: 0 | P16: 0 | Q16: 0
... A84: 7109 | B84: Social protection not elsewhere classified | C84: 891.13682 | D84: 1014.1589 | E84: 1152.1592 | F84: 1379.102 | G84: 1536.1978 | H84: 1487.7794 | I84: 1367.6743 | J84: 1272.2589 | K84: 1322.6344 | L84: 1258.6938 | M84: 2604.6644 | N84: 1597.0392 | O84: 2857.5218 | P84: 2494.5419 | Q84: 3851.1921
A85: Source: STN, SOF, IBGE e BCB
A86: Note: data subject to change
A87: 1/ The compilation of expenditure follows the COFOG - Classification of Functions of Government, developed by the OECD/ONU.
A88: 2/ Source: Accounting Balances Matrix, Siconfi (System of Financial and Accounting Information of the Brazilian Public Sector), RREO (Summarized Statement of Budgetary Execution) and Transparency Portals.
A89: 3/ Expenditure compiled on a accrual basis.
A90: 4/ Source: Central Bank of Brazil
A91: 5/ Pre-primary and primary education corresponds to the first 5 years of elementary school.

Sheet 1.4
A1: Table 1.4. Expenditure by Functions of Government1/ - Municipalities - Brazil - Yearly
A2: R$ Million - Current Values
A4: Municipalities 2/ | C4: 2010 | D4: 2011 | E4: 2012 | F4: 2013 | G4: 2014 | H4: 2015 | I4: 2016 | J4: 2017 | K4: 2018 | L4: 2019 | M4: 2020 | N4: 2021 | O4: 2022 | P4: 2023 | Q4: 2024
A5: 7 | B5: Expenditure3/ | C5: 314125.31 | D5: 352266.6 | E5: 403845.02 | F5: 423939.56 | G5: 484741.46 | H5: 521581.35 | I5: 552541.07 | J5: 548335.35 | K5: 603508.5 | L5: 659645.03 | M5: 719919.47 | N5: 772728.42 | O5: 973459.84 | P5: 1123666.4 | Q5: 1303959.8
A6: 701 | B6: General public services | C6: 56014.281 | D6: 60808.287 | E6: 67796.923 | F6: 71838.066 | G6: 78338.195 | H6: 88535.134 | I6: 85669.401 | J6: 80612.94 | K6: 88519.021 | L6: 101447.59 | M6: 108011.71 | N6: 117463.83 | O6: 142888.13 | P6: 155158.31 | Q6: 176416.3
A7: 7011 | B7: Executive and legislative organs, financial and fiscal affairs, external affairs | C7: 17092.262 | D7: 19373.534 | E7: 21695.789 | F7: 24630.412 | G7: 27534.317 | H7: 30007.419 | I7: 32882.715 | J7: 33467.715 | K7: 36101.028 | L7: 39153.726 | M7: 42500.348 | N7: 46906.616 | O7: 55081.052 | P7: 61221.992 | Q7: 70983.526
A8: 7012 | B8: Foreign economic aid | C8: 6.6024427 | D8: 5.543318 | E8: 5.9816596 | F8: 5.8549789 | G8: 5.7578281 | H8: 6.5669601 | I8: 6.8670001 | J8: 2.1776774 | K8: 1.3520534 | L8: 0 | M8: 0 | N8: 0 | O8: 0 | P8: 0 | Q8: 0
A9: 7013 | B9: General services | C9: 27565.824 | D9: 31942.47 | E9: 34856.594 | F9: 35859.54 | G9: 39394.346 | H9: 40623.979 | I9: 42511.636 | J9: 41194.688 | K9: 46247.184 | L9: 56294.206 | M9: 59188.957 | N9: 63659.012 | O9: 76710.163 | P9: 82600.991 | Q9: 92148.953
A10: 7014 | B10: Basic research | C10: 61.898612 | D10: 22.887774 | E10: 83.089266 | F10: 35.737935 | G10: 107.69216 | H10: 136.84838 | I10: 73.472727 | J10: 88.11192 | K10: 124.11136 | L10: 190.64564 | M10: 210.72229 | N10: 233.54043 | O10: 639.80016 | P10: 794.20099 | Q10: 993.26461
A11: 7015 | B11: R&D General public services | C11: 0 | D11: 0 | E11: 0 | F11: 0 | G11: 0.081929446 | H11: 0.16006468 | I11: 0.12906698 | J11: 0.084343178 | K11: 0.14700155 | L11: 0.1033932 | M11: 0.13875125 | N11: 0.15293223 | O11: 0.45042413 | P11: 0.62212727 | Q11: 0.78747773
A12: 7016 | B12: General public services not elsewhere classified | C12: 304.74586 | D12: 190.56595 | E12: 345.39393 | F12: 510.48472 | G12: 530.07847 | H12: 659.61545 | I12: 752.99353 | J12: 685.49654 | K12: 693.39756 | L12: 945.03511 | M12: 1097.0124 | N12: 1228.6092 | O12: 1464.9906 | P12: 1626.5317 | Q12: 1861.5901
A13: 7017 | B13: Public debt transactions4/ | C13: 10982.949 | D13: 9273.2862 | E13: 10809.659 | F13: 10796.036 | G13: 10765.438 | H13: 17100.437 | I13: 9441.5877 | J13: 5174.6013 | K13: 5351.7259 | L13: 4858.8584 | M13: 5006.1788 | N13: 5427.4149 | O13: 8980.1072 | P13: 8904.9363 | Q13: 10409.302
A14: 7018 | B14: Transfers of general character between levels of government | C14: 0 | D14: 0 | E14: 0.41634225 | F14: 0 | G14: 0.48340317 | H14: 0.10716459 | I14: 0 | J14: 0.065188343 | K14: 0.075570489 | L14: 5.0161554 | M14: 8.3553414 | N14: 8.4854262 | O14: 11.565955 | P14: 9.0404263 | Q14: 18.874811
A15: 702 | B15: Defense | C15: 723.93257 | D15: 922.00101 | E15: 944.51089 | F15: 953.08131 | G15: 891.68703 | H15: 833.33885 | I15: 883.75926 | J15: 843.92242 | K15: 813.81146 | L15: 1064.7652 | M15: 1157.6654 | N15: 1218.45 | O15: 1542.4977 | P15: 2017.4606 | Q15: 2826.0044
A16: 7021 | B16: Military defense | C16: 16.644528 | D16: 24.812607 | E16: 20.242594 | F16: 15.396411 | G16: 18.854453 | H16: 21.284479 | I16: 19.168657 | J16: 19.009381 | K16: 28.148425 | L16: 20.840287 | M16: 20.627129 | N16: 23.044473 | O16: 28.86983 | P16: 40.426064 | Q16: 38.064391
... A84: 7109 | B84: Social protection not elsewhere classified | C84: 6571.6142 | D84: 8089.7656 | E84: 8515.5357 | F84: 9127.0874 | G84: 10759.697 | H84: 11783.264 | I84: 12143.096 | J84: 11837.551 | K84: 13604.637 | L84: 14126.457 | M84: 16967.236 | N84: 18970.876 | O84: 23501.659 | P84: 26197.883 | Q84: 29827.554
A85: Source: STN, SOF, IBGE e BCB
A86: Note: data subject to change
A87: 1/ The compilation of expenditure follows the COFOG - Classification of Functions of Government, developed by the OECD/ONU.
A88: 2/ Source: Accounting Balances Matrix, Siconfi (System of Financial and Accounting Information of the Brazilian Public Sector), RREO (Summarized Statement of Budgetary Execution) and Transparency Portals. For municipalities that did not report data, extrapolation techniques were used in order to increase coverage.
A89: 3/ Expenditure compiled on a accrual basis.
A90: 4/ Source: Central Bank of Brazil
A91: 5/ Pre-primary and primary education corresponds to the first 5 years of elementary school.

Sheet 1.5
A1: Table 1.5. Expenditure by Functions of Government1/ - General Government - Brazil - Yearly
A2: R$ Million - Current Values
A4: General Government 2/ | C4: 2010 | D4: 2011 | E4: 2012 | F4: 2013 | G4: 2014 | H4: 2015 | I4: 2016 | J4: 2017 | K4: 2018 | L4: 2019 | M4: 2020 | N4: 2021 | O4: 2022 | P4: 2023 | Q4: 2024
A5: 7 | B5: Expenditure3/ | C5: 1535526.5 | D5: 1722861.4 | E5: 1892658.2 | F5: 2120925.8 | G5: 2394014 | H5: 2769505 | I5: 2852727.1 | J5: 2917191 | K5: 3094475.7 | L5: 3180494.5 | M5: 3513991.8 | N5: 3638290.8 | O5: 4379148.6 | P5: 4958352.1 | Q5: 5377520.6
A6: 701 | B6: General public services | C6: 394522.07 | D6: 460840.42 | E6: 475937.87 | F6: 520027.04 | G6: 593918.94 | H6: 885250.86 | I6: 797446.44 | J6: 765120.31 | K6: 806224.39 | L6: 736357.89 | M6: 656050.76 | N6: 891511.38 | O6: 1114042.7 | P6: 1242017.8 | Q6: 1301579.6
A7: 7011 | B7: Executive and legislative organs, financial and fiscal affairs, external affairs | C7: 78521.562 | D7: 82808.001 | E7: 93536.846 | F7: 99400.532 | G7: 105367.47 | H7: 115044.62 | I7: 117578.68 | J7: 118357.39 | K7: 125237.4 | L7: 133345.53 | M7: 139242.01 | N7: 197740.72 | O7: 199864.16 | P7: 244038.14 | Q7: 206194.56
A8: 7012 | B8: Foreign economic aid | C8: 176.51211 | D8: 127.72311 | E8: 29.571794 | F8: 36.357217 | G8: 5.7778281 | H8: 6.5669601 | I8: 6.8670001 | J8: 2.1776774 | K8: 1.3520534 | L8: 0 | M8: 0 | N8: 0 | O8: 0 | P8: 0 | Q8: 0
A9: 7013 | B9: General services | C9: 34715.619 | D9: 37889.159 | E9: 41335.147 | F9: 43303.095 | G9: 46653.828 | H9: 47425.915 | I9: 46968.924 | J9: 46203.701 | K9: 51647.281 | L9: 61402.963 | M9: 64275.345 | N9: 69613.646 | O9: 84795.784 | P9: 93319.535 | Q9: 101854.18
A10: 7014 | B10: Basic research | C10: 1108.9886 | D10: 1089.3406 | E10: 1482.567 | F10: 1301.1644 | G10: 1908.0579 | H10: 1699.1147 | I10: 1679.4882 | J10: 1470.9788 | K10: 1401.6266 | L10: 1572.0305 | M10: 1360.5403 | N10: 1658.1369 | O10: 2947.0743 | P10: 3678.2953 | Q10: 4546.4375
A11: 7015 | B11: R&D General public services | C11: 91.212154 | D11: 89.714961 | E11: 106.4712 | F11: 130.22643 | G11: 133.30202 | H11: 133.63641 | I11: 41.730582 | J11: 39.604032 | K11: 37.309029 | L11: 31.144487 | M11: 36.931342 | N11: 99.449205 | O11: 34.4638 | P11: 44.50509 | Q11: 56.483113
A12: 7016 | B12: General public services not elsewhere classified | C12: 4687.6221 | D12: 4234.2758 | E12: 5085.9749 | F12: 4706.9403 | G12: 5638.1768 | H12: 5984.09 | I12: 7184.9477 | J12: 6659.4614 | K12: 9509.0261 | L12: 7847.0923 | M12: 10366.077 | N12: 8221.4712 | O12: 15727.871 | P12: 10571.223 | Q12: 16936.537
A13: 7017 | B13: Public debt transactions4/ | C13: 275220.55 | D13: 334602.21 | E13: 334361.3 | F13: 371148.73 | G13: 434212.33 | H13: 714956.92 | I13: 623985.8 | J13: 592387 | K13: 618390.39 | L13: 532159.13 | M13: 440769.86 | N13: 614177.95 | O13: 810673.38 | P13: 890366.13 | Q13: 971991.43
A14: 7018 | B14: Transfers of general character between levels of government | C14: 0 | D14: 0 | E14: 0 | F14: 0 | G14: 0 | H14: 0 | I14: 0 | J14: 0 | K14: 0 | L14: 0 | M14: 0 | N14: 0 | O14: 0 | P14: 0 | Q14: 0
A15: 702 | B15: Defense | C15: 29106.443 | D15: 29466.483 | E15: 32956.804 | F15: 38052.496 | G15: 41031.83 | H15: 39712.403 | I15: 40720.719 | J15: 44212.053 | K15: 46755.791 | L15: 47875.341 | M15: 51349.989 | N15: 51589.976 | O15: 54810.605 | P15: 55791.454 | Q15: 59396.867
A16: 7021 | B16: Military defense | C16: 25335.536 | D16: 25869.393 | E16: 28501.455 | F16: 32077.497 | G16: 34794.789 | H16: 34942.647 | I16: 36145.926 | J16: 39488.097 | K16: 42307.379 | L16: 43214.455 | M16: 47257.161 | N16: 47215.693 | O16: 49154.166 | P16: 49706.865 | Q16: 51501.979
... A84: 7109 | B84: Social protection not elsewhere classified | C84: 21835.82 | D84: 23516.814 | E84: 24105.969 | F84: 26078.86 | G84: 29726.755 | H84: 31830.72 | I84: 34377.44 | J84: 35685.873 | K84: 39322.482 | L84: 42080.787 | M84: 46585.039 | N84: 53285.099 | O84: 61809.347 | P84: 57305.948 | Q84: 70895.765
A85: Source: STN, SOF, IBGE e BCB
A86: Note: data subject to change
A87: 1/ The compilation of expenditure follows the COFOG - Classification of Functions of Government, developed by the OECD/ONU.
A88: 2/ General Government is composed of central government (budgetary and extrabudgetary), state governments and municipalities.
A89: 3/ Expenditure compiled on a accrual basis.
A90: 4/ Source: Central Bank of Brazil
A91: 5/ Pre-primary and primary education corresponds to the first 5 years of elementary school.

Sheet 1.1.a
A1: Table 1.1.a. Expenditure by Functions of Government1/ by level of Government - General Government - Brazil - Yearly
A2: % GDP
A5: General Government | C5: 2010 | K5: 2011 | S5: 2012 | AA5: 2013 | AI5: 2014 | AQ5: 2015 | AY5: 2016 | BG5: 2017 | BO5: 2018 | BW5: 2019 | CE5: 2020 | CM5: 2021 | CU5: 2022 | DC5: 2023 | DK5: 2024
C6: Central Government | G6: State governments 5/ | H6: Municipalities 6/ | I6: Consolidation Column 4/ | J6: General Government 7/ | K6: Central Government | O6: State governments 5/ | P6: Municipalities 6/ | Q6: Consolidation Column 4/ | R6: General Government 7/ | S6: Central Government | W6: State governments 5/ | X6: Municipalities 6/ | Y6: Consolidation Column 4/ | Z6: General Government 7/ | AA6: Central Government | AE6: State governments 5/ | AF6: Municipalities 6/ | AG6: Consolidation Column 4/ | AH6: General Government 7/ | AI6: Central Government | AM6: State governments 5/ | AN6: Municipalities 6/ | AO6: Consolidation Column 4/ | AP6: General Government 7/ | AQ6: Central Government | AU6: State governments 5/ | AV6: Municipalities 6/ | AW6: Consolidation Column 4/ | AX6: General Government 7/ | AY6: Central Government | BC6: State governments 5/ | BD6: Municipalities 6/ | BE6: Consolidation Column 4/ | BF6: General Government 7/ | BG6: Central Government | BK6: State governments 5/ | BL6: Municipalities 6/ | BM6: Consolidation Column 4/ | BN6: General Government 7/ | BO6: Central Government | BS6: State governments 5/ | BT6: Municipalities 6/ | BU6: Consolidation Column 4/ | BV6: General Government 7/ | BW6: Central Government | CA6: State governments 5/ | CB6: Municipalities 6/ | CC6: Consolidation Column 4/ | CD6: General Government 7/ | CE6: Central Government | CI6: State governments 5/ | CJ6: Municipalities 6/ | CK6: Consolidation Column 4/ | CL6: General Government 7/ | CM6: Central Government | CQ6: State governments 5/ | CR6: Municipalities 6/ | CS6: Consolidation Column 4/ | CT6: General Government 7/ | CU6: Central Government | CY6: State governments 5/ | CZ6: Municipalities 6/ | DA6: Consolidation Column 4/ | DB6: General Government 7/ | DC6: Central Government | DG6: State governments 5/ | DH6: Municipalities 6/ | DI6: Consolidation Column 4/ | DJ6: General Government 7/ | DK6: Central Government | DO6: State governments 5/ | DP6: Municipalities 6/ | DQ6: Consolidation Column 4/ | DR6: General Government 7/
C7: Budgetary 2/ | D7: Extrabudgetary 3/ | E7: Consolidation Column 4/ | F7: Central Government | K7: Budgetary 2/ | L7: Extrabudgetary 3/ | M7: Consolidation Column 4/ | N7: Central Government | S7: Budgetary 2/ | T7: Extrabudgetary 3/ | U7: Consolidation Column 4/ | V7: Central Government | AA7: Budgetary 2/ | AB7: Extrabudgetary 3/ | AC7: Consolidation Column 4/ | AD7: Central Government | AI7: Budgetary 2/ | AJ7: Extrabudgetary 3/ | AK7: Consolidation Column 4/ | AL7: Central Government | AQ7: Budgetary 2/ | AR7: Extrabudgetary 3/ | AS7: Consolidation Column 4/ | AT7: Central Government | AY7: Budgetary 2/ | AZ7: Extrabudgetary 3/ | BA7: Consolidation Column 4/ | BB7: Central Government | BG7: Budgetary 2/ | BH7: Extrabudgetary 3/ | BI7: Consolidation Column 4/ | BJ7: Central Government | BO7: Budgetary 2/ | BP7: Extrabudgetary 3/ | BQ7: Consolidation Column 4/ | BR7: Central Government | BW7: Budgetary 2/ | BX7: Extrabudgetary 3/ | BY7: Consolidation Column 4/ | BZ7: Central Government | CE7: Budgetary 2/ | CF7: Extrabudgetary 3/ | CG7: Consolidation Column 4/ | CH7: Central Government | CM7: Budgetary 2/ | CN7: Extrabudgetary 3/ | CO7: Consolidation Column 4/ | CP7: Central Government | CU7: Budgetary 2/ | CV7: Extrabudgetary 3/ | CW7: Consolidation Column 4/ | CX7: Central Government | DC7: Budgetary 2/ | DD7: Extrabudgetary 3/ | DE7: Consolidation Column 4/ | DF7: Central Government | DK7: Budgetary 2/ | DL7: Extrabudgetary 3/ | DM7: Consolidation Column 4/ | DN7: Central Government
A8: 7 | B8: Expenditure8/ | C8: 0.28390704 | D8: 0 | E8: 0 | F8: 0.28390704 | G8: 0.13354566 | H8: 0.080838312 | I8: -0.10313224 | J8: 0.39515877 | K8: 0.28725203 | L8: 0 | M8: 0 | N8: 0.28725203 | O8: 0.12364296 | P8: 0.080492654 | Q8: -0.097715107 | R8: 0.39367254 | S8: 0.28228207 | T8: 0 | U8: 0 | V8: 0.28228207 | W8: 0.12646995 | X8: 0.083876458 | Y8: -0.09953347 | Z8: 0.39309502 | AA8: 0.28298297 | AB8: 0 | AC8: 0 | AD8: 0.28298297 | AE8: 0.1281743 | AF8: 0.079514226 | AG8: -0.092870035 | AH8: 0.39780146 | AI8: 0.29421059 | AJ8: 0 | AK8: 0 | AL8: 0.29421059 | AM8: 0.12906652 | AN8: 0.083880499 | AO8: -0.092893297 | AP8: 0.41426432 | AQ8: 0.33851833 | AR8: 0 | AS8: 0 | AT8: 0.33851833 | AU8: 0.13391136 | AV8: 0.086991308 | AW8: -0.097512489 | AX8: 0.46190851 | AY8: 0.33243738 | AZ8: 0 | BA8: 0 | BB8: 0.33243738 | BC8: 0.13251804 | BD8: 0.088134019 | BE8: -0.09806027 | BF8: 0.45502917 | BG8: 0.32095797 | BH8: 0 | BI8: 0 | BJ8: 0.32095797 | BK8: 0.12835425 | BL8: 0.083264308 | BM8: -0.089603279 | BN8: 0.44297324 | BO8: 0.32072586 | BP8: 0 | BQ8: 0 | BR8: 0.32072586 | BS8: 0.12803771 | BT8: 0.086164528 | BU8: -0.093121509 | BV8: 0.44180659 | BW8: 0.30881221 | BX8: 0 | BY8: 0 | BZ8: 0.30881221 | CA8: 0.12483868 | CB8: 0.089272341 | CC8: -0.092494462 | CD8: 0.43042876 | CE8: 0.34640141 | CF8: 0 | CG8: 0 | CH8: 0.34640141 | CI8: 0.124484 | CJ8: 0.09460678 | CK8: -0.10370797 | CL8: 0.46178422 | CM8: 0.29179236 | CN8: 0 | CO8: 0 | CP8: 0.29179236 | CQ8: 0.12038345 | CR8: 0.085743036 | CS8: -0.094208961 | CT8: 0.40370989 | CU8: 0.31412327 | CV8: 0 | CW8: 0 | CX8: 0.31412327 | CY8: 0.13589386 | CZ8: 0.096576495 | DA8: -0.11214035 | DB8: 0.43445328 | DC8: 0.32255583 | DD8: 0 | DE8: 0 | DF8: 0.32255583 | DG8: 0.13352384 | DH8: 0.10268034 | DI8: -0.10566709 | DJ8: 0.45309293 | DK8: 0.32236458 | DL8: 0 | DM8: 0 | DN8: 0.32236458 | DO8: 0.13467569 | DP8: 0.11102528 | DQ8: -0.11019809 | DR8: 0.45786747
A9: 701 | B9: General public services | C9: 0.11253653 | D9: 0 | E9: 0 | F9: 0.11253653 | G9: 0.046104401 | H9: 0.014414948 | I9: -0.071527936 | J9: 0.10152795 | K9: 0.11904991 | L9: 0 | M9: 0 | N9: 0.11904991 | O9: 0.039793051 | P9: 0.013894648 | Q9: -0.06743592 | R9: 0.10530169 | S9: 0.11067207 | T9: 0 | U9: 0 | V9: 0.11067207 | W9: 0.041804453 | X9: 0.01408106 | Y9: -0.06770782 | Z9: 0.098849761 | AA9: 0.10891204 | AB9: 0 | AC9: 0 | AD9: 0.10891204 | AE9: 0.039498446 | AF9: 0.013473968 | AG9: -0.064348035 | AH9: 0.097536423 | AI9: 0.11455099 | AJ9: 0 | AK9: 0 | AL9: 0.11455099 | AM9: 0.038138129 | AN9: 0.013555776 | AO9: -0.063472133 | AP9: 0.10277276 | AQ9: 0.15805128 | AR9: 0 | AS9: 0 | AT9: 0.15805128 | AU9: 0.043568354 | AV9: 0.014766224 | AW9: -0.068740379 | AX9: 0.14764548 | AY9: 0.14077818 | AZ9: 0 | BA9: 0 | BB9: 0.14077818 | BC9: 0.039242525 | BD9: 0.013664846 | BE9: -0.066487477 | BF9: 0.12719807 | BG9: 0.13007394 | BH9: 0 | BI9: 0 | BJ9: 0.13007394 | BK9: 0.034332028 | BL9: 0.012241014 | BM9: -0.060464037 | BN9: 0.11618294 | BO9: 0.13137424 | BP9: 0 | BQ9: 0 | BR9: 0.13137424 | BS9: 0.034407048 | BT9: 0.012638098 | BU9: -0.063312569 | BV9: 0.11510682 | BW9: 0.11675583 | BX9: 0 | BY9: 0 | BZ9: 0.11675583 | CA9: 0.032756735 | CB9: 0.013729299 | CC9: -0.06358767 | CD9: 0.099654194 | CE9: 0.11156569 | CF9: 0 | CG9: 0 | CH9: 0.11156569 | CI9: 0.029517033 | CJ9: 0.014194144 | CK9: -0.069063262 | CL9: 0.086213602 | CM9: 0.11378387 | CN9: 0 | CO9: 0 | CP9: 0.11378387 | CQ9: 0.036297369 | CR9: 0.013033953 | CS9: -0.064191828 | CT9: 0.098923361 | CU9: 0.13564193 | CV9: 0 | CW9: 0 | CX9: 0.13564193 | CY9: 0.039376016 | CZ9: 0.014175864 | DA9: -0.078670156 | DB9: 0.11052366 | DC9: 0.13281135 | DD9: 0 | DE9: 0 | DF9: 0.13281135 | DG9: 0.037363194 | DH9: 0.014178327 | DI9: -0.070857606 | DJ9: 0.11349527 | DK9: 0.13234861 | DL9: 0 | DM9: 0 | DN9: 0.13234861 | DO9: 0.03407571 | DP9: 0.015020916 | DQ9: -0.070622613 | DR9: 0.11082263
A10: 7011 | B10: Executive and legislative organs, financial and fiscal affairs, external affairs | C10: 0.006895567 | D10: 0 | E10: 0 | F10: 0.006895567 | G10: 0.0093599715 | H10: 0.0043985937 | I10: -0.00044706752 | J10: 0.020207065 | K10: 0.0067004274 | L10: 0 | M10: 0 | N10: 0.0067004274 | O10: 0.0080532932 | P10: 0.004426838 | Q10: -0.00025899256 | R10: 0.018921566 | S10: 0.0059288552 | T10: 0 | U10: 0 | V10: 0.0059288552 | W10: 0.0093720972 | X10: 0.0045060997 | Y10: -0.00037994755 | Z10: 0.019427105 | AA10: 0.0054773562 | AB10: 0 | AC10: 0 | AD10: 0.0054773562 | AE10: 0.0088564776 | AF10: 0.0046196873 | AG10: -0.00030992849 | AH10: 0.018643593 | AI10: 0.0050974626 | AJ10: 0 | AK10: 0 | AL10: 0.0050974626 | AM10: 0.0087056737 | AN10: 0.0047645858 | AO10: -0.00033475352 | AP10: 0.018232969 | AQ10: 0.0059185564 | AR10: 0 | AS10: 0 | AT10: 0.0059185564 | AU10: 0.0085401857 | AV10: 0.0050047507 | AW10: -0.00027591691 | AX10: 0.019187576 | AY10: 0.0062438593 | AZ10: 0 | BA10: 0 | BB10: 0.0062438593 | BC10: 0.0074384025 | BD10: 0.0052450144 | BE10: -0.00017268615 | BF10: 0.01875459 | BG10: 0.0059443446 | BH10: 0 | BI10: 0 | BJ10: 0.0059443446 | BK10: 0.0070645137 | BL10: 0.0050820472 | BM10: -0.00011842585 | BN10: 0.01797248 | BO10: 0.0061753997 | BP10: 0 | BQ10: 0 | BR10: 0.0061753997 | BS10: 0.0066536753 | BT10: 0.0051542406 | BU10: -0.00010283537 | BV10: 0.01788048 | BW10: 0.0061741588 | BX10: 0 | BY10: 0 | BZ10: 0.0061741588 | CA10: 0.0066462623 | CB10: 0.0052988268 | CC10: -7.3076415e-05 | CD10: 0.018046172 | CE10: 0.0068595432 | CF10: 0 | CG10: 0 | CH10: 0.0068595432 | CI10: 0.005895563 | CJ10: 0.0055850984 | CK10: -4.1993857e-05 | CL10: 0.018298211 | CM10: 0.0056285038 | CN10: 0 | CO10: 0 | CP10: 0.0056285038 | CQ10: 0.011296253 | CR10: 0.0052048244 | CS10: -0.00018799202 | CT10: 0.02194159 | CU10: 0.0065925592 | CV10: 0 | CW10: 0 | CX10: 0.0065925592 | CY10: 0.010372503 | CZ10: 0.0054645653 | DA10: -0.0026011982 | DB10: 0.019828429 | DC10: 0.0085778025 | DD10: 0 | DE10: 0 | DF10: 0.0085778025 | DG10: 0.0082483559 | DH10: 0.0055944498 | DI10: -0.00012046588 | DJ10: 0.022300142 | DK10: 0.0038499513 | DL10: 0 | DM10: 0 | DN10: 0.0038499513 | DO10: 0.0081063443 | DP10: 0.0060438722 | DQ10: -0.00044379037 | DR10: 0.017556377
