Workbook
Name Nota_Técnica_nº_1.127_2013___GEPLA_COFIN_SUPOF_STN: #REF!

Sheet LISTA DE ANEXOS 2024
B1: Estrutura dos Anexos em 2024
B3: Anexo | C3: RP | D3: Nome RP | E3: Fontes | F3: Sujeitas ao Teto
B4: II | C4: 2 | D4: Discricionárias | E4: Tesouro | F4: S
B5: II-A | C5: 2 | D5: Discricionárias | E5: Tesouro | F5: N
B6: II-B | C6: 2 | D6: Discricionárias Ressalvadas | E6: Tesouro | F6: S
B7: II-C | C7: 3 | D7: Discricionárias PAC | E7: Tesouro | F7: S
B8: II-D | C8: 3 | D8: Discricionárias PAC Ressalvadas | E8: Tesouro | F8: S
B9: III | C9: 2 | D9: Discricionárias | E9: Próprias | F9: S
B10: III-A | C10: 2 | D10: Discricionárias | E10: Próprias | F10: N
B11: III-B | C11: 2 | D11: Discricionárias Ressalvadas | E11: Próprias | F11: S
B12: III-C | C12: 3 | D12: Discricionárias PAC | E12: Próprias | F12: S
B13: III-D | C13: 3 | D13: Discricionárias PAC Ressalvadas | E13: Próprias | F13: S
B14: IV | C14: 6 e 7 | D14: Emendas Individuais e de Bancada | E14: Tesouro
B15: V | C15: 8 | D15: Emendas de Comissão | E15: Tesouro
B16: VI | C16: 1 | D16: Obrigatórias com controle | E16: Tesouro
B17: VII | C17: 1 | D17: Obrigatórias com controle | E17: Próprias

Sheet Todos Anexos
A1: CHECK: TODOS OS ANEXOS ATÉ DEZ | B1: Até Dez | C1: Até Dez | D1: Até Dez | E1: Até Dez | F1: Até Dez | G1: Até Dez | H1: Até Dez | I1: Até Dez | J1: Até Dez | K1: Até Dez | L1: Até Dez | M1: Até Dez | N1: Até Dez | O1: Até Dez | P1: Até Dez
B2: Anexo II | C2: Anexo II-A | D2: Anexo II-B | E2: Anexo II-C | F2: Anexo II-D | G2: Anexo III | H2: Anexo III-A | I2: Anexo III-B | J2: Anexo III-C | K2: Anexo III-D | L2: Anexo IV | M2: Anexo V | N2: Anexo VI | O2: Anexo VII | P2: Total
A3: 20000 Presidência da República | B3: =SUMIF('Ane II'!$B:$B,$A3,'Ane II'!$N:$N) -> 1085801788 | C3: =SUMIF('Ane II-A'!$B:$B,$A3,'Ane II-A'!$N:$N) -> 0 | D3: =SUMIF('Ane II-B'!$B:$B,$A3,'Ane II-B'!$N:$N) -> 0 | E3: =SUMIF('Ane II-C'!$B:$B,$A3,'Ane II-C'!$N:$N) -> 16227258 | F3: =SUMIF('Ane II-D'!$B:$B,$A3,'Ane II-D'!$N:$N) -> 0 | G3: =SUMIF('Ane III'!$B:$B,$A3,'Ane III'!$N:$N) -> 133358710 | H3: =SUMIF('Ane III-A'!$B:$B,$A3,'Ane III-A'!$N:$N) -> 0 | I3: =SUMIF('Ane III-B'!$B:$B,$A3,'Ane III-B'!$N:$N) -> 0 | J3: =SUMIF('Ane III-C'!$B:$B,$A3,'Ane III-C'!$N:$N) -> 0 | K3: =SUMIF('Ane III-D'!$B:$B,$A3,'Ane III-D'!$N:$N) -> 0 | L3: =SUMIF('Ane IV'!$B:$B,$A3,'Ane IV'!$N:$N) -> 0 | M3: =SUMIF('Ane V'!$B:$B,$A3,'Ane V'!$N:$N) -> 0 | N3: =SUMIF('Ane VI'!$B:$B,$A3,'Ane VI'!$N:$N) -> 125144702 | O3: =SUMIF('Ane VII'!$B:$B,$A3,'Ane VII'!$N:$N) -> 0 | P3: =SUM(B3:O3) -> 1360532458
A4: 22000 Ministério da Agricultura e Pecuária | B4: =SUMIF('Ane II'!$B:$B,$A4,'Ane II'!$N:$N) -> 2101520936 | C4: =SUMIF('Ane II-A'!$B:$B,$A4,'Ane II-A'!$N:$N) -> 0 | D4: =SUMIF('Ane II-B'!$B:$B,$A4,'Ane II-B'!$N:$N) -> 148182353 | E4: =SUMIF('Ane II-C'!$B:$B,$A4,'Ane II-C'!$N:$N) -> 67162577 | F4: =SUMIF('Ane II-D'!$B:$B,$A4,'Ane II-D'!$N:$N) -> 0 | G4: =SUMIF('Ane III'!$B:$B,$A4,'Ane III'!$N:$N) -> 39369114 | H4: =SUMIF('Ane III-A'!$B:$B,$A4,'Ane III-A'!$N:$N) -> 134741944 | I4: =SUMIF('Ane III-B'!$B:$B,$A4,'Ane III-B'!$N:$N) -> 20320000 | J4: =SUMIF('Ane III-C'!$B:$B,$A4,'Ane III-C'!$N:$N) -> 0 | K4: =SUMIF('Ane III-D'!$B:$B,$A4,'Ane III-D'!$N:$N) -> 0 | L4: =SUMIF('Ane IV'!$B:$B,$A4,'Ane IV'!$N:$N) -> 0 | M4: =SUMIF('Ane V'!$B:$B,$A4,'Ane V'!$N:$N) -> 0 | N4: =SUMIF('Ane VI'!$B:$B,$A4,'Ane VI'!$N:$N) -> 355448689 | O4: =SUMIF('Ane VII'!$B:$B,$A4,'Ane VII'!$N:$N) -> 0 | P4: =SUM(B4:O4) -> 2.8667456e+09
A5: 24000 Ministério da Ciência, Tecnologia e Inovação | B5: =SUMIF('Ane II'!$B:$B,$A5,'Ane II'!$N:$N) -> 2798530247 | C5: =SUMIF('Ane II-A'!$B:$B,$A5,'Ane II-A'!$N:$N) -> 0 | D5: =SUMIF('Ane II-B'!$B:$B,$A5,'Ane II-B'!$N:$N) -> 2583937213 | E5: =SUMIF('Ane II-C'!$B:$B,$A5,'Ane II-C'!$N:$N) -> 0 | F5: =SUMIF('Ane II-D'!$B:$B,$A5,'Ane II-D'!$N:$N) -> 998791786 | G5: =SUMIF('Ane III'!$B:$B,$A5,'Ane III'!$N:$N) -> 101278322 | H5: =SUMIF('Ane III-A'!$B:$B,$A5,'Ane III-A'!$N:$N) -> 122297495 | I5: =SUMIF('Ane III-B'!$B:$B,$A5,'Ane III-B'!$N:$N) -> 1349022266 | J5: =SUMIF('Ane III-C'!$B:$B,$A5,'Ane III-C'!$N:$N) -> 0 | K5: =SUMIF('Ane III-D'!$B:$B,$A5,'Ane III-D'!$N:$N) -> 1182867539 | L5: =SUMIF('Ane IV'!$B:$B,$A5,'Ane IV'!$N:$N) -> 0 | M5: =SUMIF('Ane V'!$B:$B,$A5,'Ane V'!$N:$N) -> 0 | N5: =SUMIF('Ane VI'!$B:$B,$A5,'Ane VI'!$N:$N) -> 93719135 | O5: =SUMIF('Ane VII'!$B:$B,$A5,'Ane VII'!$N:$N) -> 0 | P5: =SUM(B5:O5) -> 9230444003
A6: 25000 Ministério da Fazenda | B6: =SUMIF('Ane II'!$B:$B,$A6,'Ane II'!$N:$N) -> 4235127714 | C6: =SUMIF('Ane II-A'!$B:$B,$A6,'Ane II-A'!$N:$N) -> 0 | D6: =SUMIF('Ane II-B'!$B:$B,$A6,'Ane II-B'!$N:$N) -> 0 | E6: =SUMIF('Ane II-C'!$B:$B,$A6,'Ane II-C'!$N:$N) -> 0 | F6: =SUMIF('Ane II-D'!$B:$B,$A6,'Ane II-D'!$N:$N) -> 0 | G6: =SUMIF('Ane III'!$B:$B,$A6,'Ane III'!$N:$N) -> 987607709 | H6: =SUMIF('Ane III-A'!$B:$B,$A6,'Ane III-A'!$N:$N) -> 0 | I6: =SUMIF('Ane III-B'!$B:$B,$A6,'Ane III-B'!$N:$N) -> 0 | J6: =SUMIF('Ane III-C'!$B:$B,$A6,'Ane III-C'!$N:$N) -> 0 | K6: =SUMIF('Ane III-D'!$B:$B,$A6,'Ane III-D'!$N:$N) -> 0 | L6: =SUMIF('Ane IV'!$B:$B,$A6,'Ane IV'!$N:$N) -> 0 | M6: =SUMIF('Ane V'!$B:$B,$A6,'Ane V'!$N:$N) -> 0 | N6: =SUMIF('Ane VI'!$B:$B,$A6,'Ane VI'!$N:$N) -> 434121545 | O6: =SUMIF('Ane VII'!$B:$B,$A6,'Ane VII'!$N:$N) -> 0 | P6: =SUM(B6:O6) -> 5656856968
A7: 26000 Ministério da Educação | B7: =SUMIF('Ane II'!$B:$B,$A7,'Ane II'!$N:$N) -> 25931633237 | C7: ='Ane II-A'!N7 -> 134490 | D7: =SUMIF('Ane II-B'!$B:$B,$A7,'Ane II-B'!$N:$N) -> 1500000 | E7: =SUMIF('Ane II-C'!$B:$B,$A7,'Ane II-C'!$N:$N) -> 1.0763984e+09 | F7: =SUMIF('Ane II-D'!$B:$B,$A7,'Ane II-D'!$N:$N) -> 0 | G7: =SUMIF('Ane III'!$B:$B,$A7,'Ane III'!$N:$N) -> 318712029 | H7: =SUMIF('Ane III-A'!$B:$B,$A7,'Ane III-A'!$N:$N) -> 1316012071 | I7: =SUMIF('Ane III-B'!$B:$B,$A7,'Ane III-B'!$N:$N) -> 405000000 | J7: =SUMIF('Ane III-C'!$B:$B,$A7,'Ane III-C'!$N:$N) -> 0 | K7: =SUMIF('Ane III-D'!$B:$B,$A7,'Ane III-D'!$N:$N) -> 0 | L7: =SUMIF('Ane IV'!$B:$B,$A7,'Ane IV'!$N:$N) -> 0 | M7: =SUMIF('Ane V'!$B:$B,$A7,'Ane V'!$N:$N) -> 0 | N7: =SUMIF('Ane VI'!$B:$B,$A7,'Ane VI'!$N:$N) -> 13310413719 | O7: =SUMIF('Ane VII'!$B:$B,$A7,'Ane VII'!$N:$N) -> 39540980 | P7: =SUM(B7:O7) -> 4.2399345e+10
A8: 28000 Ministério do Desenvolvimento, Indústria, Comércio e Serviços | B8: =SUMIF('Ane II'!$B:$B,$A8,'Ane II'!$N:$N) -> 483869153 | C8: =SUMIF('Ane II-A'!$B:$B,$A8,'Ane II-A'!$N:$N) -> 0 | D8: =SUMIF('Ane II-B'!$B:$B,$A8,'Ane II-B'!$N:$N) -> 0 | E8: =SUMIF('Ane II-C'!$B:$B,$A8,'Ane II-C'!$N:$N) -> 0 | F8: =SUMIF('Ane II-D'!$B:$B,$A8,'Ane II-D'!$N:$N) -> 0 | G8: =SUMIF('Ane III'!$B:$B,$A8,'Ane III'!$N:$N) -> 83154497 | H8: =SUMIF('Ane III-A'!$B:$B,$A8,'Ane III-A'!$N:$N) -> 206149983 | I8: =SUMIF('Ane III-B'!$B:$B,$A8,'Ane III-B'!$N:$N) -> 0 | J8: =SUMIF('Ane III-C'!$B:$B,$A8,'Ane III-C'!$N:$N) -> 0 | K8: =SUMIF('Ane III-D'!$B:$B,$A8,'Ane III-D'!$N:$N) -> 0 | L8: =SUMIF('Ane IV'!$B:$B,$A8,'Ane IV'!$N:$N) -> 0 | M8: =SUMIF('Ane V'!$B:$B,$A8,'Ane V'!$N:$N) -> 0 | N8: =SUMIF('Ane VI'!$B:$B,$A8,'Ane VI'!$N:$N) -> 28941909 | O8: =SUMIF('Ane VII'!$B:$B,$A8,'Ane VII'!$N:$N) -> 10939292 | P8: =SUM(B8:O8) -> 813054834
A9: 30000 Ministério da Justiça e Segurança Pública | B9: =SUMIF('Ane II'!$B:$B,$A9,'Ane II'!$N:$N) -> 2000511446 | C9: =SUMIF('Ane II-A'!$B:$B,$A9,'Ane II-A'!$N:$N) -> 0 | D9: =SUMIF('Ane II-B'!$B:$B,$A9,'Ane II-B'!$N:$N) -> 1116489506 | E9: =SUMIF('Ane II-C'!$B:$B,$A9,'Ane II-C'!$N:$N) -> 0 | F9: =SUMIF('Ane II-D'!$B:$B,$A9,'Ane II-D'!$N:$N) -> 0 | G9: =SUMIF('Ane III'!$B:$B,$A9,'Ane III'!$N:$N) -> 32721835 | H9: =SUMIF('Ane III-A'!$B:$B,$A9,'Ane III-A'!$N:$N) -> 0 | I9: =SUMIF('Ane III-B'!$B:$B,$A9,'Ane III-B'!$N:$N) -> 16942918 | J9: =SUMIF('Ane III-C'!$B:$B,$A9,'Ane III-C'!$N:$N) -> 0 | K9: =SUMIF('Ane III-D'!$B:$B,$A9,'Ane III-D'!$N:$N) -> 0 | L9: =SUMIF('Ane IV'!$B:$B,$A9,'Ane IV'!$N:$N) -> 0 | M9: =SUMIF('Ane V'!$B:$B,$A9,'Ane V'!$N:$N) -> 0 | N9: =SUMIF('Ane VI'!$B:$B,$A9,'Ane VI'!$N:$N) -> 3409113576 | O9: =SUMIF('Ane VII'!$B:$B,$A9,'Ane VII'!$N:$N) -> 211552761 | P9: =SUM(B9:O9) -> 6787332042
A10: 30211 Conselho Administrativo de Defesa Econômica | B10: =SUMIF('Ane II'!$B:$B,$A10,'Ane II'!$N:$N) -> 2569103 | C10: =SUMIF('Ane II-A'!$B:$B,$A10,'Ane II-A'!$N:$N) -> 0 | D10: =SUMIF('Ane II-B'!$B:$B,$A10,'Ane II-B'!$N:$N) -> 0 | E10: =SUMIF('Ane II-C'!$B:$B,$A10,'Ane II-C'!$N:$N) -> 0 | F10: =SUMIF('Ane II-D'!$B:$B,$A10,'Ane II-D'!$N:$N) -> 0 | G10: =SUMIF('Ane III'!$B:$B,$A10,'Ane III'!$N:$N) -> 38820248 | H10: =SUMIF('Ane III-A'!$B:$B,$A10,'Ane III-A'!$N:$N) -> 0 | I10: =SUMIF('Ane III-B'!$B:$B,$A10,'Ane III-B'!$N:$N) -> 0 | J10: =SUMIF('Ane III-C'!$B:$B,$A10,'Ane III-C'!$N:$N) -> 0 | K10: =SUMIF('Ane III-D'!$B:$B,$A10,'Ane III-D'!$N:$N) -> 0 | L10: =SUMIF('Ane IV'!$B:$B,$A10,'Ane IV'!$N:$N) -> 0 | M10: =SUMIF('Ane V'!$B:$B,$A10,'Ane V'!$N:$N) -> 0 | N10: =SUMIF('Ane VI'!$B:$B,$A10,'Ane VI'!$N:$N) -> 1253585 | O10: =SUMIF('Ane VII'!$B:$B,$A10,'Ane VII'!$N:$N) -> 0 | P10: =SUM(B10:O10) -> 42642936
A11: 32000 Ministério de Minas e Energia | B11: =SUMIF('Ane II'!$B:$B,$A11,'Ane II'!$N:$N) -> 343274375 | C11: =SUMIF('Ane II-A'!$B:$B,$A11,'Ane II-A'!$N:$N) -> 0 | D11: =SUMIF('Ane II-B'!$B:$B,$A11,'Ane II-B'!$N:$N) -> 0 | E11: =SUMIF('Ane II-C'!$B:$B,$A11,'Ane II-C'!$N:$N) -> 50911744 | F11: =SUMIF('Ane II-D'!$B:$B,$A11,'Ane II-D'!$N:$N) -> 0 | G11: =SUMIF('Ane III'!$B:$B,$A11,'Ane III'!$N:$N) -> 51377164 | H11: =SUMIF('Ane III-A'!$B:$B,$A11,'Ane III-A'!$N:$N) -> 0 | I11: =SUMIF('Ane III-B'!$B:$B,$A11,'Ane III-B'!$N:$N) -> 0 | J11: =SUMIF('Ane III-C'!$B:$B,$A11,'Ane III-C'!$N:$N) -> 2053214 | K11: =SUMIF('Ane III-D'!$B:$B,$A11,'Ane III-D'!$N:$N) -> 0 | L11: =SUMIF('Ane IV'!$B:$B,$A11,'Ane IV'!$N:$N) -> 0 | M11: =SUMIF('Ane V'!$B:$B,$A11,'Ane V'!$N:$N) -> 0 | N11: =SUMIF('Ane VI'!$B:$B,$A11,'Ane VI'!$N:$N) -> 116981895 | O11: =SUMIF('Ane VII'!$B:$B,$A11,'Ane VII'!$N:$N) -> 0 | P11: =SUM(B11:O11) -> 5.6459839e+08
A12: 32265 Agência Nacional do Petróleo, Gás Natural e Biocombustíveis | B12: =SUMIF('Ane II'!$B:$B,$A12,'Ane II'!$N:$N) -> 36616632 | C12: =SUMIF('Ane II-A'!$B:$B,$A12,'Ane II-A'!$N:$N) -> 0 | D12: =SUMIF('Ane II-B'!$B:$B,$A12,'Ane II-B'!$N:$N) -> 0 | E12: =SUMIF('Ane II-C'!$B:$B,$A12,'Ane II-C'!$N:$N) -> 0 | F12: =SUMIF('Ane II-D'!$B:$B,$A12,'Ane II-D'!$N:$N) -> 0 | G12: =SUMIF('Ane III'!$B:$B,$A12,'Ane III'!$N:$N) -> 103035531 | H12: =SUMIF('Ane III-A'!$B:$B,$A12,'Ane III-A'!$N:$N) -> 0 | I12: =SUMIF('Ane III-B'!$B:$B,$A12,'Ane III-B'!$N:$N) -> 0 | J12: =SUMIF('Ane III-C'!$B:$B,$A12,'Ane III-C'!$N:$N) -> 0 | K12: =SUMIF('Ane III-D'!$B:$B,$A12,'Ane III-D'!$N:$N) -> 0 | L12: =SUMIF('Ane IV'!$B:$B,$A12,'Ane IV'!$N:$N) -> 0 | M12: =SUMIF('Ane V'!$B:$B,$A12,'Ane V'!$N:$N) -> 0 | N12: =SUMIF('Ane VI'!$B:$B,$A12,'Ane VI'!$N:$N) -> 12493594 | O12: =SUMIF('Ane VII'!$B:$B,$A12,'Ane VII'!$N:$N) -> 0 | P12: =SUM(B12:O12) -> 152145757
A13: 32266 Agência Nacional de Energia Elétrica | B13: =SUMIF('Ane II'!$B:$B,$A13,'Ane II'!$N:$N) -> 155849537 | C13: =SUMIF('Ane II-A'!$B:$B,$A13,'Ane II-A'!$N:$N) -> 0 | D13: =SUMIF('Ane II-B'!$B:$B,$A13,'Ane II-B'!$N:$N) -> 0 | E13: =SUMIF('Ane II-C'!$B:$B,$A13,'Ane II-C'!$N:$N) -> 0 | F13: =SUMIF('Ane II-D'!$B:$B,$A13,'Ane II-D'!$N:$N) -> 0 | G13: =SUMIF('Ane III'!$B:$B,$A13,'Ane III'!$N:$N) -> 0 | H13: =SUMIF('Ane III-A'!$B:$B,$A13,'Ane III-A'!$N:$N) -> 0 | I13: =SUMIF('Ane III-B'!$B:$B,$A13,'Ane III-B'!$N:$N) -> 0 | J13: =SUMIF('Ane III-C'!$B:$B,$A13,'Ane III-C'!$N:$N) -> 0 | K13: =SUMIF('Ane III-D'!$B:$B,$A13,'Ane III-D'!$N:$N) -> 0 | L13: =SUMIF('Ane IV'!$B:$B,$A13,'Ane IV'!$N:$N) -> 0 | M13: =SUMIF('Ane V'!$B:$B,$A13,'Ane V'!$N:$N) -> 0 | N13: =SUMIF('Ane VI'!$B:$B,$A13,'Ane VI'!$N:$N) -> 8788145 | O13: =SUMIF('Ane VII'!$B:$B,$A13,'Ane VII'!$N:$N) -> 0 | P13: =SUM(B13:O13) -> 164637682
A14: 32396 Agência Nacional de Mineração | B14: =SUMIF('Ane II'!$B:$B,$A14,'Ane II'!$N:$N) -> 105210060 | C14: =SUMIF('Ane II-A'!$B:$B,$A14,'Ane II-A'!$N:$N) -> 0 | D14: =SUMIF('Ane II-B'!$B:$B,$A14,'Ane II-B'!$N:$N) -> 0 | E14: =SUMIF('Ane II-C'!$B:$B,$A14,'Ane II-C'!$N:$N) -> 0 | F14: =SUMIF('Ane II-D'!$B:$B,$A14,'Ane II-D'!$N:$N) -> 0 | G14: =SUMIF('Ane III'!$B:$B,$A14,'Ane III'!$N:$N) -> 0 | H14: =SUMIF('Ane III-A'!$B:$B,$A14,'Ane III-A'!$N:$N) -> 0 | I14: =SUMIF('Ane III-B'!$B:$B,$A14,'Ane III-B'!$N:$N) -> 0 | J14: =SUMIF('Ane III-C'!$B:$B,$A14,'Ane III-C'!$N:$N) -> 0 | K14: =SUMIF('Ane III-D'!$B:$B,$A14,'Ane III-D'!$N:$N) -> 0 | L14: =SUMIF('Ane IV'!$B:$B,$A14,'Ane IV'!$N:$N) -> 0 | M14: =SUMIF('Ane V'!$B:$B,$A14,'Ane V'!$N:$N) -> 0 | N14: =SUMIF('Ane VI'!$B:$B,$A14,'Ane VI'!$N:$N) -> 18954183 | O14: =SUMIF('Ane VII'!$B:$B,$A14,'Ane VII'!$N:$N) -> 0 | P14: =SUM(B14:O14) -> 124164243
A15: 33000 Ministério da Previdência Social | B15: =SUMIF('Ane II'!$B:$B,$A15,'Ane II'!$N:$N) -> 105379425 | C15: =SUMIF('Ane II-A'!$B:$B,$A15,'Ane II-A'!$N:$N) -> 0 | D15: =SUMIF('Ane II-B'!$B:$B,$A15,'Ane II-B'!$N:$N) -> 0 | E15: =SUMIF('Ane II-C'!$B:$B,$A15,'Ane II-C'!$N:$N) -> 0 | F15: =SUMIF('Ane II-D'!$B:$B,$A15,'Ane II-D'!$N:$N) -> 0 | G15: =SUMIF('Ane III'!$B:$B,$A15,'Ane III'!$N:$N) -> 1836100086 | H15: =SUMIF('Ane III-A'!$B:$B,$A15,'Ane III-A'!$N:$N) -> 0 | I15: =SUMIF('Ane III-B'!$B:$B,$A15,'Ane III-B'!$N:$N) -> 0 | J15: =SUMIF('Ane III-C'!$B:$B,$A15,'Ane III-C'!$N:$N) -> 0 | K15: =SUMIF('Ane III-D'!$B:$B,$A15,'Ane III-D'!$N:$N) -> 0 | L15: =SUMIF('Ane IV'!$B:$B,$A15,'Ane IV'!$N:$N) -> 0 | M15: =SUMIF('Ane V'!$B:$B,$A15,'Ane V'!$N:$N) -> 0 | N15: =SUMIF('Ane VI'!$B:$B,$A15,'Ane VI'!$N:$N) -> 356947272 | O15: =SUMIF('Ane VII'!$B:$B,$A15,'Ane VII'!$N:$N) -> 130864330 | P15: =SUM(B15:O15) -> 2429291113
A16: 35000 Ministério das Relações Exteriores | B16: =SUMIF('Ane II'!$B:$B,$A16,'Ane II'!$N:$N) -> 2123587261 | C16: =SUMIF('Ane II-A'!$B:$B,$A16,'Ane II-A'!$N:$N) -> 0 | D16: =SUMIF('Ane II-B'!$B:$B,$A16,'Ane II-B'!$N:$N) -> 0 | E16: =SUMIF('Ane II-C'!$B:$B,$A16,'Ane II-C'!$N:$N) -> 0 | F16: =SUMIF('Ane II-D'!$B:$B,$A16,'Ane II-D'!$N:$N) -> 0 | G16: =SUMIF('Ane III'!$B:$B,$A16,'Ane III'!$N:$N) -> 14004893 | H16: =SUMIF('Ane III-A'!$B:$B,$A16,'Ane III-A'!$N:$N) -> 0 | I16: =SUMIF('Ane III-B'!$B:$B,$A16,'Ane III-B'!$N:$N) -> 0 | J16: =SUMIF('Ane III-C'!$B:$B,$A16,'Ane III-C'!$N:$N) -> 0 | K16: =SUMIF('Ane III-D'!$B:$B,$A16,'Ane III-D'!$N:$N) -> 0 | L16: =SUMIF('Ane IV'!$B:$B,$A16,'Ane IV'!$N:$N) -> 0 | M16: =SUMIF('Ane V'!$B:$B,$A16,'Ane V'!$N:$N) -> 0 | N16: =SUMIF('Ane VI'!$B:$B,$A16,'Ane VI'!$N:$N) -> 831791860 | O16: =SUMIF('Ane VII'!$B:$B,$A16,'Ane VII'!$N:$N) -> 0 | P16: =SUM(B16:O16) -> 2969384014
A17: 36000 Ministério da Saúde | B17: =SUMIF('Ane II'!$B:$B,$A17,'Ane II'!$N:$N) -> 27762562505 | C17: =SUMIF('Ane II-A'!$B:$B,$A17,'Ane II-A'!$N:$N) -> 0 | D17: =SUMIF('Ane II-B'!$B:$B,$A17,'Ane II-B'!$N:$N) -> 0 | E17: =SUMIF('Ane II-C'!$B:$B,$A17,'Ane II-C'!$N:$N) -> 9.3607168e+08 | F17: =SUMIF('Ane II-D'!$B:$B,$A17,'Ane II-D'!$N:$N) -> 0 | G17: =SUMIF('Ane III'!$B:$B,$A17,'Ane III'!$N:$N) -> 192134340 | H17: =SUMIF('Ane III-A'!$B:$B,$A17,'Ane III-A'!$N:$N) -> 21262521 | I17: =SUMIF('Ane III-B'!$B:$B,$A17,'Ane III-B'!$N:$N) -> 0 | J17: =SUMIF('Ane III-C'!$B:$B,$A17,'Ane III-C'!$N:$N) -> 0 | K17: =SUMIF('Ane III-D'!$B:$B,$A17,'Ane III-D'!$N:$N) -> 0 | L17: =SUMIF('Ane IV'!$B:$B,$A17,'Ane IV'!$N:$N) -> 0 | M17: =SUMIF('Ane V'!$B:$B,$A17,'Ane V'!$N:$N) -> 0 | N17: =SUMIF('Ane VI'!$B:$B,$A17,'Ane VI'!$N:$N) -> 154047215575 | O17: =SUMIF('Ane VII'!$B:$B,$A17,'Ane VII'!$N:$N) -> 309243318 | P17: =SUM(B17:O17) -> 1.8326849e+11
A18: 36212 Agência Nacional de Vigilância Sanitária | B18: =SUMIF('Ane II'!$B:$B,$A18,'Ane II'!$N:$N) -> 197060841 | C18: =SUMIF('Ane II-A'!$B:$B,$A18,'Ane II-A'!$N:$N) -> 0 | D18: =SUMIF('Ane II-B'!$B:$B,$A18,'Ane II-B'!$N:$N) -> 0 | E18: =SUMIF('Ane II-C'!$B:$B,$A18,'Ane II-C'!$N:$N) -> 0 | F18: =SUMIF('Ane II-D'!$B:$B,$A18,'Ane II-D'!$N:$N) -> 0 | G18: =SUMIF('Ane III'!$B:$B,$A18,'Ane III'!$N:$N) -> 3951702 | H18: =SUMIF('Ane III-A'!$B:$B,$A18,'Ane III-A'!$N:$N) -> 0 | I18: =SUMIF('Ane III-B'!$B:$B,$A18,'Ane III-B'!$N:$N) -> 0 | J18: =SUMIF('Ane III-C'!$B:$B,$A18,'Ane III-C'!$N:$N) -> 0 | K18: =SUMIF('Ane III-D'!$B:$B,$A18,'Ane III-D'!$N:$N) -> 0 | L18: =SUMIF('Ane IV'!$B:$B,$A18,'Ane IV'!$N:$N) -> 0 | M18: =SUMIF('Ane V'!$B:$B,$A18,'Ane V'!$N:$N) -> 0 | N18: =SUMIF('Ane VI'!$B:$B,$A18,'Ane VI'!$N:$N) -> 23671697 | O18: =SUMIF('Ane VII'!$B:$B,$A18,'Ane VII'!$N:$N) -> 0 | P18: =SUM(B18:O18) -> 224684240
A19: 36213 Agência Nacional de Saúde Suplementar | B19: =SUMIF('Ane II'!$B:$B,$A19,'Ane II'!$N:$N) -> 100081326 | C19: =SUMIF('Ane II-A'!$B:$B,$A19,'Ane II-A'!$N:$N) -> 0 | D19: =SUMIF('Ane II-B'!$B:$B,$A19,'Ane II-B'!$N:$N) -> 0 | E19: =SUMIF('Ane II-C'!$B:$B,$A19,'Ane II-C'!$N:$N) -> 0 | F19: =SUMIF('Ane II-D'!$B:$B,$A19,'Ane II-D'!$N:$N) -> 0 | G19: =SUMIF('Ane III'!$B:$B,$A19,'Ane III'!$N:$N) -> 1900000 | H19: =SUMIF('Ane III-A'!$B:$B,$A19,'Ane III-A'!$N:$N) -> 0 | I19: =SUMIF('Ane III-B'!$B:$B,$A19,'Ane III-B'!$N:$N) -> 0 | J19: =SUMIF('Ane III-C'!$B:$B,$A19,'Ane III-C'!$N:$N) -> 0 | K19: =SUMIF('Ane III-D'!$B:$B,$A19,'Ane III-D'!$N:$N) -> 0 | L19: =SUMIF('Ane IV'!$B:$B,$A19,'Ane IV'!$N:$N) -> 0 | M19: =SUMIF('Ane V'!$B:$B,$A19,'Ane V'!$N:$N) -> 0 | N19: =SUMIF('Ane VI'!$B:$B,$A19,'Ane VI'!$N:$N) -> 8629910 | O19: =SUMIF('Ane VII'!$B:$B,$A19,'Ane VII'!$N:$N) -> 0 | P19: =SUM(B19:O19) -> 110611236
... A50: 84000 Ministério dos Povos Indígenas | B50: =SUMIF('Ane II'!$B:$B,$A50,'Ane II'!$N:$N) -> 91455757 | C50: =SUMIF('Ane II-A'!$B:$B,$A50,'Ane II-A'!$N:$N) -> 0 | D50: =SUMIF('Ane II-B'!$B:$B,$A50,'Ane II-B'!$N:$N) -> 336913213 | E50: =SUMIF('Ane II-C'!$B:$B,$A50,'Ane II-C'!$N:$N) -> 0 | F50: =SUMIF('Ane II-D'!$B:$B,$A50,'Ane II-D'!$N:$N) -> 0 | G50: =SUMIF('Ane III'!$B:$B,$A50,'Ane III'!$N:$N) -> 0 | H50: =SUMIF('Ane III-A'!$B:$B,$A50,'Ane III-A'!$N:$N) -> 0 | I50: =SUMIF('Ane III-B'!$B:$B,$A50,'Ane III-B'!$N:$N) -> 315313 | J50: =SUMIF('Ane III-C'!$B:$B,$A50,'Ane III-C'!$N:$N) -> 0 | K50: =SUMIF('Ane III-D'!$B:$B,$A50,'Ane III-D'!$N:$N) -> 0 | L50: =SUMIF('Ane IV'!$B:$B,$A50,'Ane IV'!$N:$N) -> 0 | M50: =SUMIF('Ane V'!$B:$B,$A50,'Ane V'!$N:$N) -> 0 | N50: =SUMIF('Ane VI'!$B:$B,$A50,'Ane VI'!$N:$N) -> 24014973 | O50: =SUMIF('Ane VII'!$B:$B,$A50,'Ane VII'!$N:$N) -> 0 | P50: =SUM(B50:O50) -> 452699256
A51: Total | B51: ='Ane II'!N51 -> 104055700771 | C51: =SUM(C3:C50) -> 15634490 | D51: =SUM(D3:D50) -> 5087291852 | E51: =SUM(E3:E50) -> 2.624905e+10 | F51: =SUM(F3:F50) -> 998797304 | G51: =SUM(G3:G50) -> 7175077415 | H51: =SUM(H3:H50) -> 1887851040 | I51: =SUM(I3:I50) -> 2199978742 | J51: =SUM(J3:J50) -> 2194707265 | ... L51: =SUM(L3:L50) -> 0 | M51: ='Ane V'!N51 -> 8665278697 | N51: =SUM(N3:N50) -> 353251046941 | O51: =SUM(O3:O50) -> 6276705747 | P51: =SUM(P3:P50) -> 5.1057471e+11
A52: Demais Emendas Individuais | L52: ='Ane IV'!N3 -> 25068535273 | P52: =SUM(B52:O52) -> 25068535273
A53: Emendas Impositivas de Bancada | L53: =SUMIF('Ane IV'!$B:$B,$A53,'Ane IV'!$N:$N) -> 8557191891 | P53: =SUM(B53:O53) -> 8557191891
A54: Emendas de Comissão - RP8 | L54: ='Ane V'!N52 -> 8665278697 | P54: =SUM(B54:O54) -> 8665278697
A55: Subtotal | B55: =SUM(B52:B53) -> 0 | L55: =SUM(L52:L53) -> 33625727164 | M55: =SUM(M52:M53) -> 0 | N55: =SUM(N52:N53) -> 0 | O55: =SUM(O52:O53) -> 0 | P55: =SUM(P52:P54) -> 42291005861
A56: Total | B56: =B51+B55 -> 104055700771 | C56: =C51+C55 -> 15634490 | D56: =D51+D55 -> 5087291852 | E56: =E51+E55 -> 2.624905e+10 | F56: =F51+F55 -> 998797304 | G56: =G51+G55 -> 7175077415 | H56: =H51+H55 -> 1887851040 | I56: =I51+I55 -> 2199978742 | ... P56: =P51+P55 -> 5.5286572e+11

Sheet Ane II
B1: ANEXO II - RP 2 e 9 DISCRICIONÁRIAS FONTES TESOURO (R$ unidades)
B2: Órgãos/Unidades | C2: Até Jan | D2: Até Fev | E2: Até Mar | F2: Até Abr | G2: Até Mai | H2: Até Jun | I2: Até Jul | J2: Até Ago | K2: Até Set | L2: Até Out | M2: Até Nov | N2: Até Dez
A3: =LEFT(B3,5) -> 20000 | B3: 20000 Presidência da República | C3: - | D3: 168690160 | E3: 245406980 | F3: 371579237 | G3: 439801876 | H3: 503924022 | I3: 574440914 | J3: 661563806 | K3: 765778910 | L3: 850365599 | M3: 937902289 | N3: 1085801788
A4: =LEFT(B4,5) -> 22000 | B4: 22000 Ministério da Agricultura e Pecuária | C4: - | D4: 224538145 | E4: 396894297 | F4: 647212357 | G4: 782258203 | H4: 896649675 | I4: 1068497044 | J4: 1220344413 | K4: 1372191782 | L4: 1521401663 | M4: 1670611544 | N4: 2101520936
A5: =LEFT(B5,5) -> 24000 | B5: 24000 Ministério da Ciência, Tecnologia e Inovação | C5: - | D5: 739078541 | E5: 1169054885 | F5: 1278635092 | G5: 1353215298 | H5: 1486353743 | I5: 1603853629 | J5: 1721353515 | K5: 1938853402 | L5: 2188740086 | M5: 2438626771 | N5: 2798530247
A6: =LEFT(B6,5) -> 25000 | B6: 25000 Ministério da Fazenda | C6: - | D6: 562157664 | E6: 861186618 | F6: 1216136065 | G6: 1520170081 | H6: 1871402189 | I6: 2100672994 | J6: 2329943799 | K6: 2559214604 | L6: 2990053604 | M6: 3562054238 | N6: 4235127714
A7: =LEFT(B7,5) -> 26000 | B7: 26000 Ministério da Educação | C7: - | D7: 3984154729 | E7: 6714355582 | F7: 8670895759 | G7: 10829436864 | H7: 14250875892 | I7: 16134160263 | J7: 18017444633 | K7: 19900729003 | L7: 22774794971 | M7: 25664601266 | N7: 25931633237
A8: =LEFT(B8,5) -> 28000 | B8: 28000 Ministério do Desenvolvimento, Indústria, Comércio e Serviços | C8: - | D8: 60513201 | E8: 88308967 | F8: 123998367 | G8: 184687767 | H8: 230373851 | I8: 266062648 | J8: 301751446 | K8: 337440243 | L8: 386421875 | M8: 435403508 | N8: 483869153
A9: =LEFT(B9,5) -> 30000 | B9: 30000 Ministério da Justiça e Segurança Pública | C9: - | D9: 345982232 | E9: 634282853 | F9: 830059909 | G9: 1037824886 | H9: 1250315663 | I9: 1408187237 | J9: 1616058810 | K9: 1923930383 | L9: 2241401542 | M9: 2463372702 | N9: 2000511446
A10: =LEFT(B10,5) -> 30211 | B10: 30211 Conselho Administrativo de Defesa Econômica | C10: - | D10: 285456 | E10: 428184 | F10: 599457 | G10: 770731 | H10: 942004 | I10: 1113278 | J10: 1284552 | K10: 1455825 | L10: 1826918 | M10: 2198010 | N10: 2569103
A11: =LEFT(B11,5) -> 32000 | B11: 32000 Ministério de Minas e Energia | C11: - | D11: 42760464 | E11: 68568325 | F11: 116423655 | G11: 157947856 | H11: 190568269 | I11: 217788681 | J11: 235009094 | K11: 255229506 | L11: 295482298 | M11: 335735090 | N11: 343274375
A12: =LEFT(B12,5) -> 32265 | B12: 32265 Agência Nacional do Petróleo, Gás Natural e Biocombustíveis | C12: - | D12: 3935270 | E12: 6036086 | F12: 8450520 | G12: 10864954 | H12: 15779389 | I12: 18193823 | J12: 22376300 | K12: 25790735 | L12: 30522009 | M12: 33485241 | N12: 36616632
A13: =LEFT(B13,5) -> 32266 | B13: 32266 Agência Nacional de Energia Elétrica | C13: - | D13: 16335978 | E13: 24781789 | F13: 37694504 | G13: 50607220 | H13: 68019935 | I13: 77932651 | J13: 91205863 | K13: 101118578 | L13: 115815730 | M13: 130512881 | N13: 155849537
A14: =LEFT(B14,5) -> 32396 | B14: 32396 Agência Nacional de Mineração | C14: - | D14: 10668283 | E14: 21127599 | F14: 32455198 | G14: 40568997 | H14: 47668037 | I14: 53767076 | J14: 62321708 | K14: 68420747 | L14: 81269049 | M14: 92511758 | N14: 105210060
... A27: =LEFT(B27,5) -> 42206 | B27: 42206 Agência Nacional do Cinema | C27: - | D27: 4817888 | E27: 7547646 | F27: 10566704 | G27: 13585763 | H27: 16604821 | I27: 19623880 | J27: 22642938 | K27: 25661996 | L27: 30713024 | M27: 35764052 | N27: 40248080
A28: =LEFT(B28,5) -> 44000 | B28: 44000 Ministério do Meio Ambiente e Mudança do Clima | C28: - | D28: 81667769 | E28: 136536939 | F28: 230111714 | G28: 322182490 | H28: 391084081 | I28: 444653524 | J28: 523222966 | K28: - | L28: - | M28: - | N28: 282877636
A29: =LEFT(B29,5) -> 46000 | B29: 46000 Ministério da Gestão e da Inovação em Serviços Públicos | C29: - | D29: 98878155 | E29: 224315887 | F29: 327938359 | G29: 390760831 | H29: 493652765 | I29: 559215140 | J29: 662777514 | K29: 728339889 | L29: 871081425 | M29: 986322962 | N29: 1177569650
A30: =LEFT(B30,5) -> 47000 | B30: 47000 Ministério do Planejamento e Orçamento | C30: - | D30: 91460266 | E30: 156536814 | F30: 216183659 | G30: 275830505 | H30: 349080133 | I30: 410929212 | J30: 473049291 | K30: 635169370 | L30: 782165549 | M30: 870270479 | N30: 949484158
A31: =LEFT(B31,5) -> 49000 | B31: 49000 Ministério do Desenvolvimento Agrário e Agricultura Familiar | C31: - | D31: 124450162 | E31: 216840316 | F31: 303576442 | G31: 390312568 | H31: 477012028 | I31: 498053487 | J31: 584782947 | K31: 671512407 | L31: 999419873 | M31: 1212327340 | N31: 1121129061
A32: =LEFT(B32,5) -> 51000 | B32: 51000 Ministério do Esporte | C32: - | D32: 42832972 | E32: 67189387 | F32: 136665142 | G32: 154881819 | H32: 180093335 | I32: 268564850 | J32: 292036365 | K32: 345507881 | L32: 395553506 | M32: 445599131 | N32: 495644756
A33: =LEFT(B33,5) -> 52000 | B33: 52000 Ministério da Defesa | C33: - | D33: 998045186 | E33: 1257148767 | F33: 2042392628 | G33: 2338276487 | H33: 2854640796 | I33: 3264667692 | J33: 3661181449 | K33: 4042300845 | L33: 4498413892 | M33: 5034723938 | N33: 5119083555
A34: =LEFT(B34,5) -> 53000 | B34: 53000 Ministério da Integração e do Desenvolvimento Regional | C34: - | D34: 337480455 | E34: 869980113 | F34: 1169985976 | G34: 1528913031 | H34: 2161606208 | I34: 2641904526 | J34: 2972202845 | K34: 2984539504 | L34: 3016527178 | M34: 3655431013 | N34: 4584579317
A35: =LEFT(B35,5) -> 53210 | B35: 53210 Agência Nacional de Águas e Saneamento Básico | C35: - | D35: 21349374 | E35: 32323747 | F35: 58853246 | G35: 77782744 | H35: 96912243 | I35: 109841742 | J35: 132571241 | K35: 0 | L35: 0 | M35: 0 | N35: 217242481
A36: =LEFT(B36,5) -> 54000 | B36: 54000 Ministério do Turismo | C36: - | D36: 48099439 | E36: 168132407 | F36: 227385370 | G36: 286638333 | H36: 343373879 | I36: 372192176 | J36: 401010472 | K36: 429828768 | L36: 474105673 | M36: 518382577 | N36: 404159481
A37: =LEFT(B37,5) -> 55000 | B37: 55000 Ministério do Desenvolvimento e Assistência Social, Família e Combate à Fome | C37: - | D37: 1293556000 | E37: 1945273211 | F37: 2638652298 | G37: 3020355832 | H37: 3828407971 | I37: 4255508740 | J37: 5171018306 | K37: 5325929306 | L37: 6327840306 | M37: 6545751306 | N37: 7808044488
A38: =LEFT(B38,5) -> 56000 | B38: 56000 Ministério das Cidades | C38: - | D38: 1786624124 | E38: 2749348515 | F38: 3789770320 | G38: 1742154199 | H38: 2356182175 | I38: 2484889115 | J38: 2513596056 | K38: 2642302996 | L38: 3149852279 | M38: 3657401562 | N38: 3299021126
A39: =LEFT(B39,5) -> 58000 | B39: 58000 Ministério da Pesca e Aquicultura | C39: - | D39: 22607557 | E39: 34818585 | F39: 48746019 | G39: 62673454 | H39: 91688888 | I39: 105616322 | J39: 119543756 | K39: 133471190 | L39: 146548584 | M39: 161636691 | N39: 170807579
A40: =LEFT(B40,5) -> 60000 | B40: 60000 Gabinete da Vice-Presidência da República | C40: - | D40: 509343 | E40: 1026165 | F40: 1340631 | G40: 1905097 | H40: 2219563 | I40: 2534029 | J40: 2848496 | K40: 3162962 | L40: 3728368 | M40: 4293774 | N40: 4859180
... A46: =LEFT(B46,5) -> 68213 | B46: 68213 Agência Nacional de Aviação Civil | C46: - | D46: 1842851 | E46: 3186693 | F46: 4301371 | G46: 6816048 | H46: 7930726 | I46: 9045403 | J46: 11653427 | K46: 12768105 | L46: 15490182 | M46: 18212258 | N46: 20655701
A47: =LEFT(B47,5) -> 69000 | B47: 69000 Ministério do Empreendedorismo, da Microempresa e da Empresa de Pequeno Porte | C47: - | D47: - | E47: 10296672 | F47: 14164120 | G47: 18031568 | H47: 21899017 | I47: 25766465 | J47: 29633913 | K47: 33501361 | L47: 52595906 | M47: 54690451 | N47: 73784996
A48: =LEFT(B48,5) -> 81000 | B48: 81000 Ministério dos Direitos Humanos e Cidadania | C48: - | D48: 27735723 | E48: 48258321 | F48: 89343649 | G48: 120429977 | H48: 155281973 | I48: 175451968 | J48: 195621963 | K48: 223291958 | L48: 249899647 | M48: 276507336 | N48: 303115025
A49: =LEFT(B49,5) -> 83000 | B49: 83000 Banco Central do Brasil | C49: - | D49: 19000000 | E49: 30100565 | F49: 42903439 | G49: 46706313 | H49: 52842520 | I49: 53645395 | J49: 57254543 | K49: 36446761 | L49: 46530343 | M49: 50143704 | N49: 65175564
A50: =LEFT(B50,5) -> 84000 | B50: 84000 Ministério dos Povos Indígenas | C50: - | D50: 35538378 | E50: 60826263 | F50: 85156768 | G50: 109487274 | H50: 133817779 | I50: 32903904 | J50: 37966042 | K50: 43028181 | L50: 49837373 | M50: 56646565 | N50: 91455757
A51: =LEFT(B51,5) -> Total | B51: Total | C51: - | D51: 19933090124 | E51: 30934007658 | F51: 41603251004 | G51: 46918534040 | H51: 56934291960 | I51: 63984548014 | J51: 71282065477 | K51: 77011489130 | L51: 87206938290 | M51: 97134542145 | N51: 104055700771

Sheet Ane II-A
B1: ANEXO II-A - RP 2 e 9 DISCRICIONÁRIAS FONTES TESOURO NÃO SUJEITAS AO TETO (R$ unidades)
B2: Órgãos/Unidades | C2: Até Jan | D2: Até Fev | E2: Até Mar | F2: Até Abr | G2: Até Mai | H2: Até Jun | I2: Até Jul | J2: Até Ago | K2: Até Set | L2: Até Out | M2: Até Nov | N2: Até Dez
A3: =LEFT(B3,5) -> 20000 | B3: 20000 Presidência da República | C3: - | D3: - | E3: - | F3: - | G3: - | H3: - | I3: - | J3: - | K3: - | L3: - | M3: - | N3: -
A4: =LEFT(B4,5) -> 22000 | B4: 22000 Ministério da Agricultura e Pecuária | C4: - | D4: - | E4: - | F4: - | G4: - | H4: - | I4: - | J4: - | K4: - | L4: - | M4: - | N4: -
A5: =LEFT(B5,5) -> 24000 | B5: 24000 Ministério da Ciência, Tecnologia e Inovação | C5: - | D5: - | E5: - | F5: - | G5: - | H5: - | I5: - | J5: - | K5: - | L5: - | M5: - | N5: -
A6: =LEFT(B6,5) -> 25000 | B6: 25000 Ministério da Fazenda | C6: - | D6: - | E6: - | F6: - | G6: - | H6: - | I6: - | J6: - | K6: - | L6: - | M6: - | N6: -
A7: =LEFT(B7,5) -> 26000 | B7: 26000 Ministério da Educação | C7: - | D7: - | E7: - | F7: 3072 | G7: 6144 | H7: 9216 | I7: 12288 | J7: 15360 | K7: 18432 | L7: 25088 | M7: 31744 | N7: 134490
A8: =LEFT(B8,5) -> 28000 | B8: 28000 Ministério do Desenvolvimento, Indústria, Comércio e Serviços | C8: - | D8: - | E8: - | F8: - | G8: - | H8: - | I8: - | J8: - | K8: - | L8: - | M8: - | N8: -
A9: =LEFT(B9,5) -> 30000 | B9: 30000 Ministério da Justiça e Segurança Pública | C9: - | D9: - | E9: - | F9: - | G9: - | H9: - | I9: - | J9: - | K9: - | L9: - | M9: - | N9: -
A10: =LEFT(B10,5) -> 30211 | B10: 30211 Conselho Administrativo de Defesa Econômica | C10: - | D10: - | E10: - | F10: - | G10: - | H10: - | I10: - | J10: - | K10: - | L10: - | M10: - | N10: -
A11: =LEFT(B11,5) -> 32000 | B11: 32000 Ministério de Minas e Energia | C11: - | D11: - | E11: - | F11: - | G11: - | H11: - | I11: - | J11: - | K11: - | L11: - | M11: - | N11: -
A12: =LEFT(B12,5) -> 32265 | B12: 32265 Agência Nacional do Petróleo, Gás Natural e Biocombustíveis | C12: - | D12: - | E12: - | F12: - | G12: - | H12: - | I12: - | J12: - | K12: - | L12: - | M12: - | N12: -
A13: =LEFT(B13,5) -> 32266 | B13: 32266 Agência Nacional de Energia Elétrica | C13: - | D13: - | E13: - | F13: - | G13: - | H13: - | I13: - | J13: - | K13: - | L13: - | M13: - | N13: -
A14: =LEFT(B14,5) -> 32396 | B14: 32396 Agência Nacional de Mineração | C14: - | D14: - | E14: - | F14: - | G14: - | H14: - | I14: - | J14: - | K14: - | L14: - | M14: - | N14: -
A15: =LEFT(B15,5) -> 33000 | B15: 33000 Ministério da Previdência Social | C15: - | D15: - | E15: - | F15: - | G15: - | H15: - | I15: - | J15: - | K15: - | L15: - | M15: - | N15: -
A16: =LEFT(B16,5) -> 35000 | B16: 35000 Ministério das Relações Exteriores | C16: - | D16: - | E16: - | F16: - | G16: - | H16: - | I16: - | J16: - | K16: - | L16: - | M16: - | N16: -
A17: =LEFT(B17,5) -> 36000 | B17: 36000 Ministério da Saúde | C17: - | D17: - | E17: - | F17: - | G17: - | H17: - | I17: - | J17: - | K17: - | L17: - | M17: - | N17: -
A18: =LEFT(B18,5) -> 36212 | B18: 36212 Agência Nacional de Vigilância Sanitária | C18: - | D18: - | E18: - | F18: - | G18: - | H18: - | I18: - | J18: - | K18: - | L18: - | M18: - | N18: -
A19: =LEFT(B19,5) -> 36213 | B19: 36213 Agência Nacional de Saúde Suplementar | C19: - | D19: - | E19: - | F19: - | G19: - | H19: - | I19: - | J19: - | K19: - | L19: - | M19: - | N19: -
... A27: =LEFT(B27,5) -> 42206 | B27: 42206 Agência Nacional do Cinema | C27: - | D27: - | E27: - | F27: - | G27: - | H27: - | I27: - | J27: - | K27: - | L27: - | M27: - | N27: -
A28: =LEFT(B28,5) -> 44000 | B28: 44000 Ministério do Meio Ambiente e Mudança do Clima | C28: - | D28: - | E28: - | F28: 1040000 | G28: 2380000 | H28: 4336667 | I28: 5543333 | J28: 6750000 | K28: 7956667 | L28: 10471111 | M28: 12985556 | N28: 15500000
A29: =LEFT(B29,5) -> 46000 | B29: 46000 Ministério da Gestão e da Inovação em Serviços Públicos | C29: - | D29: - | E29: - | F29: - | G29: - | H29: - | I29: - | J29: - | K29: - | L29: - | M29: - | N29: -
A30: =LEFT(B30,5) -> 47000 | B30: 47000 Ministério do Planejamento e Orçamento | C30: - | D30: - | E30: - | F30: - | G30: - | H30: - | I30: - | J30: - | K30: - | L30: - | M30: - | N30: -
A31: =LEFT(B31,5) -> 49000 | B31: 49000 Ministério do Desenvolvimento Agrário e Agricultura Familiar | C31: - | D31: - | E31: - | F31: - | G31: - | H31: - | I31: - | J31: - | K31: - | L31: - | M31: - | N31: -
A32: =LEFT(B32,5) -> 51000 | B32: 51000 Ministério do Esporte | C32: - | D32: - | E32: - | F32: - | G32: - | H32: - | I32: - | J32: - | K32: - | L32: - | M32: - | N32: -
A33: =LEFT(B33,5) -> 52000 | B33: 52000 Ministério da Defesa | C33: - | D33: - | E33: - | F33: - | G33: - | H33: - | I33: - | J33: - | K33: - | L33: - | M33: - | N33: -
A34: =LEFT(B34,5) -> 53000 | B34: 53000 Ministério da Integração e do Desenvolvimento Regional | C34: - | D34: - | E34: - | F34: - | G34: - | H34: - | I34: - | J34: - | K34: - | L34: - | M34: - | N34: -
A35: =LEFT(B35,5) -> 53210 | B35: 53210 Agência Nacional de Águas e Saneamento Básico | C35: - | D35: - | E35: - | F35: - | G35: - | H35: - | I35: - | J35: - | K35: - | L35: - | M35: - | N35: -
A36: =LEFT(B36,5) -> 54000 | B36: 54000 Ministério do Turismo | C36: - | D36: - | E36: - | F36: - | G36: - | H36: - | I36: - | J36: - | K36: - | L36: - | M36: - | N36: -
A37: =LEFT(B37,5) -> 55000 | B37: 55000 Ministério do Desenvolvimento e Assistência Social, Família e Combate à Fome | C37: - | D37: - | E37: - | F37: 441 | G37: - | H37: - | I37: - | J37: - | K37: - | L37: - | M37: - | N37: -
A38: =LEFT(B38,5) -> 56000 | B38: 56000 Ministério das Cidades | C38: - | D38: - | E38: - | F38: - | G38: - | H38: - | I38: - | J38: - | K38: - | L38: - | M38: - | N38: -
A39: =LEFT(B39,5) -> 58000 | B39: 58000 Ministério da Pesca e Aquicultura | C39: - | D39: - | E39: - | F39: - | G39: - | H39: - | I39: - | J39: - | K39: - | L39: - | M39: - | N39: -
A40: =LEFT(B40,5) -> 60000 | B40: 60000 Gabinete da Vice-Presidência da República | C40: - | D40: - | E40: - | F40: - | G40: - | H40: - | I40: - | J40: - | K40: - | L40: - | M40: - | N40: -
A41: =LEFT(B41,5) -> 63000 | B41: 63000 Advocacia-Geral da União | C41: - | D41: - | E41: - | F41: - | G41: - | H41: - | I41: - | J41: - | K41: - | L41: - | M41: - | N41: -
A42: =LEFT(B42,5) -> 65000 | B42: 65000 Ministério das Mulheres | C42: - | D42: - | E42: - | F42: - | G42: - | H42: - | I42: - | J42: - | K42: - | L42: - | M42: - | N42: -
A43: =LEFT(B43,5) -> 67000 | B43: 67000 Ministério da Igualdade Racial | C43: - | D43: - | E43: - | F43: - | G43: - | H43: - | I43: - | J43: - | K43: - | L43: - | M43: - | N43: -
A44: =LEFT(B44,5) -> 68000 | B44: 68000 Ministério de Portos e Aeroportos | C44: - | D44: - | E44: - | F44: - | G44: - | H44: - | I44: - | J44: - | K44: - | L44: - | M44: - | N44: -
A45: =LEFT(B45,5) -> 68201 | B45: 68201 Agência Nacional de Transportes Aquaviários | C45: - | D45: - | E45: - | F45: - | G45: - | H45: - | I45: - | J45: - | K45: - | L45: - | M45: - | N45: -
A46: =LEFT(B46,5) -> 68213 | B46: 68213 Agência Nacional de Aviação Civil | C46: - | D46: - | E46: - | F46: - | G46: - | H46: - | I46: - | J46: - | K46: - | L46: - | M46: - | N46: -
A47: =LEFT(B47,5) -> 69000 | B47: 69000 Ministério do Empreendedorismo, da Microempresa e da Empresa de Pequeno Porte | C47: - | D47: - | E47: - | F47: - | G47: - | H47: - | I47: - | J47: - | K47: - | L47: - | M47: - | N47: -
A48: =LEFT(B48,5) -> 81000 | B48: 81000 Ministério dos Direitos Humanos e Cidadania | C48: - | D48: - | E48: - | F48: - | G48: - | H48: - | I48: - | J48: - | K48: - | L48: - | M48: - | N48: -
A49: =LEFT(B49,5) -> 83000 | B49: 83000 Banco Central do Brasil | C49: - | D49: - | E49: - | F49: - | G49: - | H49: - | I49: - | J49: - | K49: - | L49: - | M49: - | N49: -
A50: =LEFT(B50,5) -> 84000 | B50: 84000 Ministério dos Povos Indígenas | C50: - | D50: - | E50: - | F50: - | G50: - | H50: - | I50: - | J50: - | K50: - | L50: - | M50: - | N50: -
A51: =LEFT(B51,5) -> Total | B51: Total | C51: - | D51: - | E51: - | F51: 1043513 | G51: 2386144 | H51: 4345883 | I51: 5555621 | J51: 6765360 | K51: 7975099 | L51: 10496199 | M51: 13017300 | N51: 15634490

Sheet Ane II-B
B1: ANEXO II-B - RP 2 e 9 DISCRICIONÁRIAS FONTES TESOURO RESSALVADAS (R$ unidades)
B2: Órgãos/Unidades | C2: Até Jan | D2: Até Fev | E2: Até Mar | F2: Até Abr | G2: Até Mai | H2: Até Jun | I2: Até Jul | J2: Até Ago | K2: Até Set | L2: Até Out | M2: Até Nov | N2: Até Dez
A3: =LEFT(B3,5) -> 20000 | B3: 20000 Presidência da República | C3: - | D3: - | E3: - | F3: - | G3: - | H3: - | I3: - | J3: - | K3: - | L3: - | M3: - | N3: -
A4: =LEFT(B4,5) -> 22000 | B4: 22000 Ministério da Agricultura e Pecuária | C4: - | D4: - | E4: - | F4: - | G4: 58000000 | H4: 112290000 | I4: 112290000 | J4: 112290000 | K4: 112290000 | L4: 112290000 | M4: 112290000 | N4: 148182353
A5: =LEFT(B5,5) -> 24000 | B5: 24000 Ministério da Ciência, Tecnologia e Inovação | C5: - | D5: - | E5: - | F5: 1099312716 | G5: 1259099005 | H5: 1329099005 | I5: 1579099005 | J5: 1829099005 | K5: 2079099005 | L5: 2634341840 | M5: 3189584676 | N5: 2583937213
A6: =LEFT(B6,5) -> 25000 | B6: 25000 Ministério da Fazenda | C6: - | D6: - | E6: - | F6: - | G6: - | H6: - | I6: - | J6: - | K6: - | L6: - | M6: - | N6: -
A7: =LEFT(B7,5) -> 26000 | B7: 26000 Ministério da Educação | C7: - | D7: - | E7: - | F7: - | G7: - | H7: 1500000 | I7: 1500000 | J7: 1500000 | K7: 1500000 | L7: 1500000 | M7: 1510800 | N7: 1500000
A8: =LEFT(B8,5) -> 28000 | B8: 28000 Ministério do Desenvolvimento, Indústria, Comércio e Serviços | C8: - | D8: - | E8: - | F8: - | G8: - | H8: - | I8: - | J8: - | K8: - | L8: - | M8: - | N8: -
A9: =LEFT(B9,5) -> 30000 | B9: 30000 Ministério da Justiça e Segurança Pública | C9: - | D9: - | E9: - | F9: 15000000 | G9: 15000000 | H9: 21000000 | I9: 21000000 | J9: 21000000 | K9: 21000000 | L9: 29000000 | M9: 29000000 | N9: 1116489506
A10: =LEFT(B10,5) -> 30211 | B10: 30211 Conselho Administrativo de Defesa Econômica | C10: - | D10: - | E10: - | F10: - | G10: - | H10: - | I10: - | J10: - | K10: - | L10: - | M10: - | N10: -
A11: =LEFT(B11,5) -> 32000 | B11: 32000 Ministério de Minas e Energia | C11: - | D11: - | E11: - | F11: - | G11: - | H11: - | I11: - | J11: - | K11: - | L11: - | M11: - | N11: -
A12: =LEFT(B12,5) -> 32265 | B12: 32265 Agência Nacional do Petróleo, Gás Natural e Biocombustíveis | C12: - | D12: - | E12: - | F12: - | G12: - | H12: - | I12: - | J12: - | K12: - | L12: - | M12: - | N12: -
A13: =LEFT(B13,5) -> 32266 | B13: 32266 Agência Nacional de Energia Elétrica | C13: - | D13: - | E13: - | F13: - | G13: - | H13: - | I13: - | J13: - | K13: - | L13: - | M13: - | N13: -
A14: =LEFT(B14,5) -> 32396 | B14: 32396 Agência Nacional de Mineração | C14: - | D14: - | E14: - | F14: - | G14: - | H14: - | I14: - | J14: - | K14: - | L14: - | M14: - | N14: -
A15: =LEFT(B15,5) -> 33000 | B15: 33000 Ministério da Previdência Social | C15: - | D15: - | E15: - | F15: - | G15: - | H15: - | I15: - | J15: - | K15: - | L15: - | M15: - | N15: -
A16: =LEFT(B16,5) -> 35000 | B16: 35000 Ministério das Relações Exteriores | C16: - | D16: - | E16: - | F16: - | G16: - | H16: - | I16: - | J16: - | K16: - | L16: - | M16: - | N16: -
A17: =LEFT(B17,5) -> 36000 | B17: 36000 Ministério da Saúde | C17: - | D17: - | E17: - | F17: - | G17: - | H17: - | I17: - | J17: - | K17: - | L17: - | M17: - | N17: -
A18: =LEFT(B18,5) -> 36212 | B18: 36212 Agência Nacional de Vigilância Sanitária | C18: - | D18: - | E18: - | F18: - | G18: - | H18: - | I18: - | J18: - | K18: - | L18: - | M18: - | N18: -
A19: =LEFT(B19,5) -> 36213 | B19: 36213 Agência Nacional de Saúde Suplementar | C19: - | D19: - | E19: - | F19: - | G19: - | H19: - | I19: - | J19: - | K19: - | L19: - | M19: - | N19: -
A20: =LEFT(B20,5) -> 37000 | B20: 37000 Controladoria-Geral da União | C20: - | D20: - | E20: - | F20: - | G20: - | H20: - | I20: - | J20: - | K20: - | L20: - | M20: - | N20: -
A21: =LEFT(B21,5) -> 39000 | B21: 39000 Ministério dos Transportes | C21: - | D21: - | E21: - | F21: - | G21: - | H21: - | I21: - | J21: - | K21: - | L21: - | M21: - | N21: -
... A23: =LEFT(B23,5) -> 40000 | B23: 40000 Ministério do Trabalho e Emprego | C23: - | D23: - | E23: - | F23: - | G23: - | H23: - | I23: - | J23: - | K23: - | L23: - | M23: - | N23: -
A24: =LEFT(B24,5) -> 41000 | B24: 41000 Ministério das Comunicações | C24: - | D24: - | E24: - | F24: - | G24: 8643166 | H24: 10752083 | I24: 12225472 | J24: 12225472 | K24: 12225472 | L24: 12225472 | M24: 12225472 | N24: 12225472
A25: =LEFT(B25,5) -> 41231 | B25: 41231 Agência Nacional de Telecomunicações | C25: - | D25: - | E25: - | F25: - | G25: - | H25: - | I25: - | J25: - | K25: - | L25: - | M25: - | N25: -
A26: =LEFT(B26,5) -> 42000 | B26: 42000 Ministério da Cultura | C26: - | D26: - | E26: - | F26: - | G26: - | H26: - | I26: - | J26: - | K26: - | L26: - | M26: - | N26: -
A27: =LEFT(B27,5) -> 42206 | B27: 42206 Agência Nacional do Cinema | C27: - | D27: - | E27: - | F27: - | G27: - | H27: - | I27: - | J27: - | K27: - | L27: - | M27: - | N27: -
A28: =LEFT(B28,5) -> 44000 | B28: 44000 Ministério do Meio Ambiente e Mudança do Clima | C28: - | D28: - | E28: - | F28: - | G28: 1504000 | H28: 1504000 | I28: 1504000 | J28: 1504000 | K28: 603296408 | L28: 687444816 | M28: 771593224 | N28: 684463954
A29: =LEFT(B29,5) -> 46000 | B29: 46000 Ministério da Gestão e da Inovação em Serviços Públicos | C29: - | D29: - | E29: - | F29: - | G29: - | H29: - | I29: - | J29: - | K29: - | L29: - | M29: - | N29: 20611160
A30: =LEFT(B30,5) -> 47000 | B30: 47000 Ministério do Planejamento e Orçamento | C30: - | D30: - | E30: - | F30: - | G30: - | H30: - | I30: 271000 | J30: 271000 | K30: 271000 | L30: 271000 | M30: 271000 | N30: 271000
A31: =LEFT(B31,5) -> 49000 | B31: 49000 Ministério do Desenvolvimento Agrário e Agricultura Familiar | C31: - | D31: - | E31: - | F31: - | G31: - | H31: - | I31: 65688000 | J31: 65688000 | K31: 65688000 | L31: 65857163 | M31: 66026327 | N31: 65688000
A32: =LEFT(B32,5) -> 51000 | B32: 51000 Ministério do Esporte | C32: - | D32: - | E32: - | F32: - | G32: - | H32: - | I32: - | J32: - | K32: - | L32: - | M32: - | N32: -
A33: =LEFT(B33,5) -> 52000 | B33: 52000 Ministério da Defesa | C33: - | D33: - | E33: - | F33: - | G33: 23895000 | H33: 23895000 | I33: 23895000 | J33: 33895000 | K33: 33895000 | L33: 57092000 | M33: 57092000 | N33: 114005223
A34: =LEFT(B34,5) -> 53000 | B34: 53000 Ministério da Integração e do Desenvolvimento Regional | C34: - | D34: - | E34: - | F34: - | G34: - | H34: - | I34: - | J34: - | K34: - | L34: 53850432 | M34: 0 | N34: 0
A35: =LEFT(B35,5) -> 53210 | B35: 53210 Agência Nacional de Águas e Saneamento Básico | C35: - | D35: - | E35: - | F35: - | G35: - | H35: - | I35: - | J35: - | K35: 145500739 | L35: 169414653 | M35: 193328567 | N35: 0
A36: =LEFT(B36,5) -> 54000 | B36: 54000 Ministério do Turismo | C36: - | D36: - | E36: - | F36: - | G36: - | H36: - | I36: - | J36: - | K36: - | L36: - | M36: - | N36: -
A37: =LEFT(B37,5) -> 55000 | B37: 55000 Ministério do Desenvolvimento e Assistência Social, Família e Combate à Fome | C37: - | D37: - | E37: - | F37: - | G37: - | H37: - | I37: - | J37: - | K37: - | L37: - | M37: - | N37: -
A38: =LEFT(B38,5) -> 56000 | B38: 56000 Ministério das Cidades | C38: - | D38: - | E38: - | F38: - | G38: - | H38: - | I38: - | J38: - | K38: - | L38: - | M38: - | N38: -
A39: =LEFT(B39,5) -> 58000 | B39: 58000 Ministério da Pesca e Aquicultura | C39: - | D39: - | E39: - | F39: - | G39: - | H39: - | I39: - | J39: - | K39: - | L39: - | M39: - | N39: -
A40: =LEFT(B40,5) -> 60000 | B40: 60000 Gabinete da Vice-Presidência da República | C40: - | D40: - | E40: - | F40: - | G40: - | H40: - | I40: - | J40: - | K40: - | L40: - | M40: - | N40: -
A41: =LEFT(B41,5) -> 63000 | B41: 63000 Advocacia-Geral da União | C41: - | D41: - | E41: - | F41: - | G41: - | H41: - | I41: - | J41: - | K41: - | L41: - | M41: - | N41: -
A42: =LEFT(B42,5) -> 65000 | B42: 65000 Ministério das Mulheres | C42: - | D42: - | E42: - | F42: - | G42: - | H42: - | I42: - | J42: - | K42: - | L42: - | M42: - | N42: -
A43: =LEFT(B43,5) -> 67000 | B43: 67000 Ministério da Igualdade Racial | C43: - | D43: - | E43: - | F43: - | G43: - | H43: - | I43: - | J43: - | K43: - | L43: - | M43: - | N43: -
A44: =LEFT(B44,5) -> 68000 | B44: 68000 Ministério de Portos e Aeroportos | C44: - | D44: - | E44: - | F44: - | G44: - | H44: - | I44: - | J44: - | K44: - | L44: - | M44: - | N44: -
A45: =LEFT(B45,5) -> 68201 | B45: 68201 Agência Nacional de Transportes Aquaviários | C45: - | D45: - | E45: - | F45: - | G45: - | H45: - | I45: - | J45: - | K45: - | L45: - | M45: - | N45: -
A46: =LEFT(B46,5) -> 68213 | B46: 68213 Agência Nacional de Aviação Civil | C46: - | D46: - | E46: - | F46: - | G46: - | H46: - | I46: - | J46: - | K46: - | L46: - | M46: - | N46: -
A47: =LEFT(B47,5) -> 69000 | B47: 69000 Ministério do Empreendedorismo, da Microempresa e da Empresa de Pequeno Porte | C47: - | D47: - | E47: - | F47: - | G47: - | H47: - | I47: - | J47: - | K47: - | L47: - | M47: - | N47: -
A48: =LEFT(B48,5) -> 81000 | B48: 81000 Ministério dos Direitos Humanos e Cidadania | C48: - | D48: - | E48: - | F48: - | G48: - | H48: - | I48: - | J48: - | K48: - | L48: 1001586 | M48: 2003172 | N48: 3004758
A49: =LEFT(B49,5) -> 83000 | B49: 83000 Banco Central do Brasil | C49: - | D49: - | E49: - | F49: - | G49: - | H49: - | I49: - | J49: - | K49: - | L49: - | M49: - | N49: -
A50: =LEFT(B50,5) -> 84000 | B50: 84000 Ministério dos Povos Indígenas | C50: - | D50: - | E50: - | F50: - | G50: - | H50: - | I50: 133911047 | J50: 154512747 | K50: 175114447 | L50: 219751462 | M50: 292276197 | N50: 336913213
A51: =LEFT(B51,5) -> Total | B51: Total | C51: - | D51: - | E51: - | F51: 1114312716 | G51: 1366141171 | H51: 1500040088 | I51: 1951383524 | J51: 2231985224 | K51: 3249880070 | L51: 4044040425 | M51: 4727201434 | N51: 5087291852

Sheet Ane II-C
B1: ANEXO II-C - RP 3 DISCRICIONÁRIAS FONTES TESOURO (R$ unidades)
B2: Órgãos/Unidades | C2: Até Jan | D2: Até Fev | E2: Até Mar | F2: Até Abr | G2: Até Mai | H2: Até Jun | I2: Até Jul | J2: Até Ago | K2: Até Set | L2: Até Out | M2: Até Nov | N2: Até Dez
A3: =LEFT(B3,5) -> 20000 | B3: 20000 Presidência da República | C3: - | D3: - | E3: - | F3: - | G3: 2949753.8 | H3: 10000000 | I3: 10655501 | J3: 11311002 | K3: 11966502 | L3: 13386754 | M3: 14807006 | N3: 16227258
A4: =LEFT(B4,5) -> 22000 | B4: 22000 Ministério da Agricultura e Pecuária | C4: - | D4: - | E4: - | F4: - | G4: 15272214 | H4: 30270570 | I4: 35774310 | J4: 39652317 | K4: 43530323 | L4: 62861213 | M4: 81894322 | N4: 67162577
A5: =LEFT(B5,5) -> 24000 | B5: 24000 Ministério da Ciência, Tecnologia e Inovação | C5: - | D5: - | E5: - | F5: - | G5: - | H5: - | I5: - | J5: - | K5: - | L5: - | M5: - | N5: -
A6: =LEFT(B6,5) -> 25000 | B6: 25000 Ministério da Fazenda | C6: - | D6: - | E6: - | F6: - | G6: - | H6: - | I6: - | J6: - | K6: - | L6: - | M6: - | N6: -
A7: =LEFT(B7,5) -> 26000 | B7: 26000 Ministério da Educação | C7: - | D7: - | E7: - | F7: - | G7: 3.9799907e+08 | H7: 4.8644331e+08 | I7: 5.7488755e+08 | J7: 6.3333179e+08 | K7: 6.9177602e+08 | L7: 8.5340521e+08 | M7: 1015034389 | N7: 1.0763984e+09
A8: =LEFT(B8,5) -> 28000 | B8: 28000 Ministério do Desenvolvimento, Indústria, Comércio e Serviços | C8: - | D8: - | E8: - | F8: - | G8: - | H8: - | I8: - | J8: - | K8: - | L8: - | M8: - | N8: -
A9: =LEFT(B9,5) -> 30000 | B9: 30000 Ministério da Justiça e Segurança Pública | C9: - | D9: - | E9: - | F9: - | G9: - | H9: - | I9: - | J9: - | K9: - | L9: - | M9: - | N9: -
A10: =LEFT(B10,5) -> 30211 | B10: 30211 Conselho Administrativo de Defesa Econômica | C10: - | D10: - | E10: - | F10: - | G10: - | H10: - | I10: - | J10: - | K10: - | L10: - | M10: - | N10: -
A11: =LEFT(B11,5) -> 32000 | B11: 32000 Ministério de Minas e Energia | C11: - | D11: - | E11: - | F11: - | G11: 6331129.1 | H11: 7738046.7 | I11: 9144964.3 | J11: 20473879 | K11: 28802794 | L11: 33673114 | M11: 38543432 | N11: 50911744
A12: =LEFT(B12,5) -> 32265 | B12: 32265 Agência Nacional do Petróleo, Gás Natural e Biocombustíveis | C12: - | D12: - | E12: - | F12: - | G12: - | H12: - | I12: - | J12: - | K12: - | L12: - | M12: - | N12: -
A13: =LEFT(B13,5) -> 32266 | B13: 32266 Agência Nacional de Energia Elétrica | C13: - | D13: - | E13: - | F13: - | G13: - | H13: - | I13: - | J13: - | K13: - | L13: - | M13: - | N13: -
A14: =LEFT(B14,5) -> 32396 | B14: 32396 Agência Nacional de Mineração | C14: - | D14: - | E14: - | F14: - | G14: - | H14: - | I14: - | J14: - | K14: - | L14: - | M14: - | N14: -
A15: =LEFT(B15,5) -> 33000 | B15: 33000 Ministério da Previdência Social | C15: - | D15: - | E15: - | F15: - | G15: - | H15: - | I15: - | J15: - | K15: - | L15: - | M15: - | N15: -
A16: =LEFT(B16,5) -> 35000 | B16: 35000 Ministério das Relações Exteriores | C16: - | D16: - | E16: - | F16: - | G16: - | H16: - | I16: - | J16: - | K16: - | L16: - | M16: - | N16: -
A17: =LEFT(B17,5) -> 36000 | B17: 36000 Ministério da Saúde | C17: - | D17: - | E17: - | F17: - | G17: 708681469 | H17: 8.5956624e+08 | I17: 1.015851e+09 | J17: 1.1072865e+09 | K17: 1.1987219e+09 | L17: 1.4724897e+09 | M17: 1.597708e+09 | N17: 9.3607168e+08
A18: =LEFT(B18,5) -> 36212 | B18: 36212 Agência Nacional de Vigilância Sanitária | C18: - | D18: - | E18: - | F18: - | G18: - | H18: - | I18: - | J18: - | K18: - | L18: - | M18: - | N18: -
A19: =LEFT(B19,5) -> 36213 | B19: 36213 Agência Nacional de Saúde Suplementar | C19: - | D19: - | E19: - | F19: - | G19: - | H19: - | I19: - | J19: - | K19: - | L19: - | M19: - | N19: -
A20: =LEFT(B20,5) -> 37000 | B20: 37000 Controladoria-Geral da União | C20: - | D20: - | E20: - | F20: - | G20: - | H20: - | I20: - | J20: - | K20: - | L20: - | M20: - | N20: -
A21: =LEFT(B21,5) -> 39000 | B21: 39000 Ministério dos Transportes | C21: - | D21: - | E21: - | F21: - | G21: 2.160536e+09 | H21: 3708136675 | I21: 4.2335206e+09 | J21: 4.8027461e+09 | K21: 5.5445715e+09 | L21: 7.1368632e+09 | M21: 8.1135692e+09 | N21: 9.4426595e+09
A22: =LEFT(B22,5) -> 39250 | B22: 39250 Agência Nacional de Transportes Terrestres | C22: - | D22: - | E22: - | F22: - | G22: - | H22: - | I22: - | J22: - | K22: - | L22: - | M22: - | N22: -
A23: =LEFT(B23,5) -> 40000 | B23: 40000 Ministério do Trabalho e Emprego | C23: - | D23: - | E23: - | F23: - | G23: - | H23: - | I23: - | J23: - | K23: - | L23: - | M23: - | N23: -
A24: =LEFT(B24,5) -> 41000 | B24: 41000 Ministério das Comunicações | C24: - | D24: - | E24: - | F24: - | G24: 10459673 | H24: 12784045 | I24: 15108417 | J24: 15517587 | K24: 15926758 | L24: 19047696 | M24: 22168634 | N24: 9713020.6
A25: =LEFT(B25,5) -> 41231 | B25: 41231 Agência Nacional de Telecomunicações | C25: - | D25: - | E25: - | F25: - | G25: - | H25: - | I25: - | J25: - | K25: - | L25: - | M25: - | N25: -
A26: =LEFT(B26,5) -> 42000 | B26: 42000 Ministério da Cultura | C26: - | D26: - | E26: - | F26: - | G26: 19357880 | H26: 23659631 | I26: 27961382 | J26: 31471904 | K26: 34982425 | L26: 43511657 | M26: 52040888 | N26: 49551385
A27: =LEFT(B27,5) -> 42206 | B27: 42206 Agência Nacional do Cinema | C27: - | D27: - | E27: - | F27: - | G27: - | H27: - | I27: - | J27: - | K27: - | L27: - | M27: - | N27: -
A28: =LEFT(B28,5) -> 44000 | B28: 44000 Ministério do Meio Ambiente e Mudança do Clima | C28: - | D28: - | E28: - | F28: - | G28: - | H28: - | I28: - | J28: - | K28: - | L28: - | M28: - | N28: -
A29: =LEFT(B29,5) -> 46000 | B29: 46000 Ministério da Gestão e da Inovação em Serviços Públicos | C29: - | D29: - | E29: - | F29: - | G29: - | H29: - | I29: - | J29: - | K29: - | L29: - | M29: - | N29: -
A30: =LEFT(B30,5) -> 47000 | B30: 47000 Ministério do Planejamento e Orçamento | C30: - | D30: - | E30: - | F30: - | G30: - | H30: - | I30: - | J30: - | K30: - | L30: - | M30: - | N30: -
A31: =LEFT(B31,5) -> 49000 | B31: 49000 Ministério do Desenvolvimento Agrário e Agricultura Familiar | C31: - | D31: - | E31: - | F31: - | G31: - | H31: - | I31: - | J31: - | K31: - | L31: - | M31: - | N31: -
A32: =LEFT(B32,5) -> 51000 | B32: 51000 Ministério do Esporte | C32: - | D32: - | E32: - | F32: - | G32: 6259078 | H32: 7649984.2 | I32: 9040890.4 | J32: 10431797 | K32: 11822703 | L32: 28016833 | M32: 44210963 | N32: 5405093.3
A33: =LEFT(B33,5) -> 52000 | B33: 52000 Ministério da Defesa | C33: - | D33: - | E33: - | F33: - | G33: 6.33965e+08 | H33: 1.0966378e+09 | I33: 1.2085083e+09 | J33: 1.642478e+09 | K33: 2.0464478e+09 | L33: 2.3071465e+09 | M33: 2.5494952e+09 | N33: 2.6504033e+09
A34: =LEFT(B34,5) -> 53000 | B34: 53000 Ministério da Integração e do Desenvolvimento Regional | C34: - | D34: - | E34: - | F34: - | G34: 3.4107881e+08 | H34: 4.7319965e+08 | I34: 5.046905e+08 | J34: 5.3618135e+08 | K34: 0 | L34: 0 | M34: 125000000 | N34: 1.0693627e+09
A35: =LEFT(B35,5) -> 53210 | B35: 53210 Agência Nacional de Águas e Saneamento Básico | C35: - | D35: - | E35: - | F35: - | G35: - | H35: - | I35: - | J35: - | K35: - | L35: - | M35: - | N35: -
A36: =LEFT(B36,5) -> 54000 | B36: 54000 Ministério do Turismo | C36: - | D36: - | E36: - | F36: - | G36: - | H36: 126750 | I36: 126750 | J36: 126750 | K36: 126750 | L36: 126750 | M36: 126750 | N36: 126750
A37: =LEFT(B37,5) -> 55000 | B37: 55000 Ministério do Desenvolvimento e Assistência Social, Família e Combate à Fome | C37: - | D37: - | E37: - | F37: - | G37: 37380788 | H37: 62301312 | I37: 70608154 | J37: 78914996 | K37: 87221838 | L37: 96919995 | M37: 1.3060447e+08 | N37: 2.2721431e+08
A38: =LEFT(B38,5) -> 56000 | B38: 56000 Ministério das Cidades | C38: - | D38: - | E38: - | F38: - | G38: 3.5380379e+09 | H38: 4.2335541e+09 | I38: 5194200292 | J38: 6.107605e+09 | K38: 6.9210098e+09 | L38: 8.2385018e+09 | M38: 9.5059938e+09 | N38: 1.025504e+10
A39: =LEFT(B39,5) -> 58000 | B39: 58000 Ministério da Pesca e Aquicultura | C39: - | D39: - | E39: - | F39: - | G39: - | H39: - | I39: - | J39: - | K39: - | L39: - | M39: - | N39: -
A40: =LEFT(B40,5) -> 60000 | B40: 60000 Gabinete da Vice-Presidência da República | C40: - | D40: - | E40: - | F40: - | G40: - | H40: - | I40: - | J40: - | K40: - | L40: - | M40: - | N40: -
A41: =LEFT(B41,5) -> 63000 | B41: 63000 Advocacia-Geral da União | C41: - | D41: - | E41: - | F41: - | G41: - | H41: - | I41: - | J41: - | K41: - | L41: - | M41: - | N41: -
A42: =LEFT(B42,5) -> 65000 | B42: 65000 Ministério das Mulheres | C42: - | D42: - | E42: - | F42: - | G42: - | H42: - | I42: - | J42: - | K42: - | L42: - | M42: - | N42: -
A43: =LEFT(B43,5) -> 67000 | B43: 67000 Ministério da Igualdade Racial | C43: - | D43: - | E43: - | F43: - | G43: - | H43: - | I43: - | J43: - | K43: - | L43: - | M43: - | N43: -
A44: =LEFT(B44,5) -> 68000 | B44: 68000 Ministério de Portos e Aeroportos | C44: - | D44: - | E44: - | F44: - | G44: 1.0487657e+08 | H44: 1.6039412e+08 | I44: 3.8306669e+08 | J44: 4.0761017e+08 | K44: 3.2615366e+08 | L44: 4.2438681e+08 | M44: 5.045931e+08 | N44: 3.9280211e+08
A45: =LEFT(B45,5) -> 68201 | B45: 68201 Agência Nacional de Transportes Aquaviários | C45: - | D45: - | E45: - | F45: - | G45: - | H45: - | I45: - | J45: - | K45: - | L45: - | M45: - | N45: -
A46: =LEFT(B46,5) -> 68213 | B46: 68213 Agência Nacional de Aviação Civil | C46: - | D46: - | E46: - | F46: - | G46: - | H46: - | I46: - | J46: - | K46: - | L46: - | M46: - | N46: -
A47: =LEFT(B47,5) -> 69000 | B47: 69000 Ministério do Empreendedorismo, da Microempresa e da Empresa de Pequeno Porte | C47: - | D47: - | E47: - | F47: - | G47: - | H47: - | I47: - | J47: - | K47: - | L47: - | M47: - | N47: -
A48: =LEFT(B48,5) -> 81000 | B48: 81000 Ministério dos Direitos Humanos e Cidadania | C48: - | D48: - | E48: - | F48: - | G48: - | H48: - | I48: - | J48: - | K48: - | L48: - | M48: - | N48: -
A49: =LEFT(B49,5) -> 83000 | B49: 83000 Banco Central do Brasil | C49: - | D49: - | E49: - | F49: - | G49: - | H49: - | I49: - | J49: - | K49: - | L49: - | M49: - | N49: -
A50: =LEFT(B50,5) -> 84000 | B50: 84000 Ministério dos Povos Indígenas | C50: - | D50: - | E50: - | F50: - | G50: - | H50: - | I50: - | J50: - | K50: - | L50: - | M50: - | N50: -
A51: =LEFT(B51,5) -> Total | B51: Total | C51: - | D51: - | E51: - | F51: - | G51: 7.9831853e+09 | H51: 1.1172462e+10 | I51: 1.3293145e+10 | J51: 1.5445139e+10 | K51: 1.6963061e+10 | L51: 2.0730337e+10 | M51: 2.379579e+10 | N51: 2.624905e+10

Sheet Ane II-D
B1: ANEXO II-D - RP 3 DISCRICIONÁRIAS FONTES TESOURO RESSALVADAS (R$ unidades)
B2: Órgãos | C2: Até Jan | D2: Até Fev | E2: Até Mar | F2: Até Abr | G2: Até Mai | H2: Até Jun | I2: Até Jul | J2: Até Ago | K2: Até Set | L2: Até Out | M2: Até Nov | N2: Até Dez
A3: =LEFT(B3,5) -> 20000 | B3: 20000 Presidência da República | C3: - | D3: - | E3: - | F3: - | G3: - | H3: - | I3: - | J3: - | K3: - | L3: - | M3: - | N3: -
A4: =LEFT(B4,5) -> 22000 | B4: 22000 Ministério da Agricultura e Pecuária | C4: - | D4: - | E4: - | F4: - | G4: - | H4: - | I4: - | J4: - | K4: - | L4: - | M4: - | N4: -
A5: =LEFT(B5,5) -> 24000 | B5: 24000 Ministério da Ciência, Tecnologia e Inovação | C5: - | D5: - | E5: - | F5: - | G5: 196747565 | H5: 163469246 | I5: 193190927 | J5: 222912608 | K5: 252634289 | L5: 289475788 | M5: 326317287 | N5: 998791786 | P5: =((N5*3)/18)+(N5/15) -> 2.3305142e+08
A6: =LEFT(B6,5) -> 25000 | B6: 25000 Ministério da Fazenda | C6: - | D6: - | E6: - | F6: - | G6: - | H6: - | I6: - | J6: - | K6: - | L6: - | M6: - | N6: -
A7: =LEFT(B7,5) -> 26000 | B7: 26000 Ministério da Educação | C7: - | D7: - | E7: - | F7: - | G7: - | H7: - | I7: - | J7: - | K7: - | L7: - | M7: - | N7: -
A8: =LEFT(B8,5) -> 28000 | B8: 28000 Ministério do Desenvolvimento, Indústria, Comércio e Serviços | C8: - | D8: - | E8: - | F8: - | G8: - | H8: - | I8: - | J8: - | K8: - | L8: - | M8: - | N8: -
A9: =LEFT(B9,5) -> 30000 | B9: 30000 Ministério da Justiça e Segurança Pública | C9: - | D9: - | E9: - | F9: - | G9: - | H9: - | I9: - | J9: - | K9: - | L9: - | M9: - | N9: -
A10: =LEFT(B10,5) -> 30211 | B10: 30211 Conselho Administrativo de Defesa Econômica | C10: - | D10: - | E10: - | F10: - | G10: - | H10: - | I10: - | J10: - | K10: - | L10: - | M10: - | N10: -
A11: =LEFT(B11,5) -> 32000 | B11: 32000 Ministério de Minas e Energia | C11: - | D11: - | E11: - | F11: - | G11: - | H11: - | I11: - | J11: - | K11: - | L11: 1100000 | M11: 2200000 | N11: -
A12: =LEFT(B12,5) -> 32265 | B12: 32265 Agência Nacional do Petróleo, Gás Natural e Biocombustíveis | C12: - | D12: - | E12: - | F12: - | G12: - | H12: - | I12: - | J12: - | K12: - | L12: - | M12: - | N12: -
A13: =LEFT(B13,5) -> 32266 | B13: 32266 Agência Nacional de Energia Elétrica | C13: - | D13: - | E13: - | F13: - | G13: - | H13: - | I13: - | J13: - | K13: - | L13: - | M13: - | N13: -
A14: =LEFT(B14,5) -> 32396 | B14: 32396 Agência Nacional de Mineração | C14: - | D14: - | E14: - | F14: - | G14: - | H14: - | I14: - | J14: - | K14: - | L14: - | M14: - | N14: -
A15: =LEFT(B15,5) -> 33000 | B15: 33000 Ministério da Previdência Social | C15: - | D15: - | E15: - | F15: - | G15: - | H15: - | I15: - | J15: - | K15: - | L15: - | M15: - | N15: -
A16: =LEFT(B16,5) -> 35000 | B16: 35000 Ministério das Relações Exteriores | C16: - | D16: - | E16: - | F16: - | G16: - | H16: - | I16: - | J16: - | K16: - | L16: - | M16: - | N16: -
A17: =LEFT(B17,5) -> 36000 | B17: 36000 Ministério da Saúde | C17: - | D17: - | E17: - | F17: - | G17: - | H17: - | I17: - | J17: - | K17: - | L17: - | M17: - | N17: -
A18: =LEFT(B18,5) -> 36212 | B18: 36212 Agência Nacional de Vigilância Sanitária | C18: - | D18: - | E18: - | F18: - | G18: - | H18: - | I18: - | J18: - | K18: - | L18: - | M18: - | N18: -
A19: =LEFT(B19,5) -> 36213 | B19: 36213 Agência Nacional de Saúde Suplementar | C19: - | D19: - | E19: - | F19: - | G19: - | H19: - | I19: - | J19: - | K19: - | L19: - | M19: - | N19: -
A20: =LEFT(B20,5) -> 37000 | B20: 37000 Controladoria-Geral da União | C20: - | D20: - | E20: - | F20: - | G20: - | H20: - | I20: - | J20: - | K20: - | L20: - | M20: - | N20: -
A21: =LEFT(B21,5) -> 39000 | B21: 39000 Ministério dos Transportes | C21: - | D21: - | E21: - | F21: - | G21: - | H21: - | I21: - | J21: - | K21: - | L21: - | M21: - | N21: -
A22: =LEFT(B22,5) -> 39250 | B22: 39250 Agência Nacional de Transportes Terrestres | C22: - | D22: - | E22: - | F22: - | G22: - | H22: - | I22: - | J22: - | K22: - | L22: - | M22: - | N22: -
A23: =LEFT(B23,5) -> 40000 | B23: 40000 Ministério do Trabalho e Emprego | C23: - | D23: - | E23: - | F23: - | G23: - | H23: - | I23: - | J23: - | K23: - | L23: - | M23: - | N23: -
... A33: =LEFT(B33,5) -> 52000 | B33: 52000 Ministério da Defesa | C33: - | D33: - | E33: - | F33: - | G33: - | H33: - | I33: - | J33: - | K33: - | L33: - | M33: - | N33: -
A34: =LEFT(B34,5) -> 53000 | B34: 53000 Ministério da Integração e do Desenvolvimento Regional | C34: - | D34: - | E34: - | F34: - | G34: - | H34: - | I34: - | J34: - | K34: 567672192 | L34: 870825806 | M34: 677465859 | N34: 0
A35: =LEFT(B35,5) -> 53210 | B35: 53210 Agência Nacional de Águas e Saneamento Básico | C35: - | D35: - | E35: - | F35: - | G35: - | H35: - | I35: - | J35: - | K35: - | L35: - | M35: - | N35: -
A36: =LEFT(B36,5) -> 54000 | B36: 54000 Ministério do Turismo | C36: - | D36: - | E36: - | F36: - | G36: - | H36: - | I36: - | J36: - | K36: - | L36: - | M36: - | N36: -
A37: =LEFT(B37,5) -> 55000 | B37: 55000 Ministério do Desenvolvimento e Assistência Social, Família e Combate à Fome | C37: - | D37: - | E37: - | F37: - | G37: 1655 | H37: 2023 | I37: 2391 | J37: 2759 | K37: 3127 | L37: 3924 | M37: 4721 | N37: 5518 | P37: =((N37*3)/18)+(N37/15) -> 1287.5333
A38: =LEFT(B38,5) -> 56000 | B38: 56000 Ministério das Cidades | C38: - | D38: - | E38: - | F38: - | G38: - | H38: - | I38: - | J38: - | K38: - | L38: - | M38: - | N38: -
A39: =LEFT(B39,5) -> 58000 | B39: 58000 Ministério da Pesca e Aquicultura | C39: - | D39: - | E39: - | F39: - | G39: - | H39: - | I39: - | J39: - | K39: - | L39: - | M39: - | N39: -
A40: =LEFT(B40,5) -> 60000 | B40: 60000 Gabinete da Vice-Presidência da República | C40: - | D40: - | E40: - | F40: - | G40: - | H40: - | I40: - | J40: - | K40: - | L40: - | M40: - | N40: -
A41: =LEFT(B41,5) -> 63000 | B41: 63000 Advocacia-Geral da União | C41: - | D41: - | E41: - | F41: - | G41: - | H41: - | I41: - | J41: - | K41: - | L41: - | M41: - | N41: -
A42: =LEFT(B42,5) -> 65000 | B42: 65000 Ministério das Mulheres | C42: - | D42: - | E42: - | F42: - | G42: - | H42: - | I42: - | J42: - | K42: - | L42: - | M42: - | N42: -
A43: =LEFT(B43,5) -> 67000 | B43: 67000 Ministério da Igualdade Racial | C43: - | D43: - | E43: - | F43: - | G43: - | H43: - | I43: - | J43: - | K43: - | L43: - | M43: - | N43: -
A44: =LEFT(B44,5) -> 68000 | B44: 68000 Ministério de Portos e Aeroportos | C44: - | D44: - | E44: - | F44: - | G44: - | H44: - | I44: - | J44: - | K44: - | L44: - | M44: - | N44: -
A45: =LEFT(B45,5) -> 68201 | B45: 68201 Agência Nacional de Transportes Aquaviários | C45: - | D45: - | E45: - | F45: - | G45: - | H45: - | I45: - | J45: - | K45: - | L45: - | M45: - | N45: -
A46: =LEFT(B46,5) -> 68213 | B46: 68213 Agência Nacional de Aviação Civil | C46: - | D46: - | E46: - | F46: - | G46: - | H46: - | I46: - | J46: - | K46: - | L46: - | M46: - | N46: -
A47: =LEFT(B47,5) -> 69000 | B47: 69000 Ministério do Empreendedorismo, da Microempresa e da Empresa de Pequeno Porte | C47: - | D47: - | E47: - | F47: - | G47: - | H47: - | I47: - | J47: - | K47: - | L47: - | M47: - | N47: -
A48: =LEFT(B48,5) -> 81000 | B48: 81000 Ministério dos Direitos Humanos e Cidadania | C48: - | D48: - | E48: - | F48: - | G48: - | H48: - | I48: - | J48: - | K48: - | L48: - | M48: - | N48: -
A49: =LEFT(B49,5) -> 83000 | B49: 83000 Banco Central do Brasil | C49: - | D49: - | E49: - | F49: - | G49: - | H49: - | I49: - | J49: - | K49: - | L49: - | M49: - | N49: -
A50: =LEFT(B50,5) -> 84000 | B50: 84000 Ministério dos Povos Indígenas | C50: - | D50: - | E50: - | F50: - | G50: - | H50: - | I50: - | J50: - | K50: - | L50: - | M50: - | N50: -
A51: =LEFT(B51,5) -> Total | B51: Total | C51: - | D51: - | E51: - | F51: - | G51: 196749220 | H51: 163471269 | I51: 193193318 | J51: 222915367 | K51: 820309608 | L51: 1161405518 | M51: 1005987867 | N51: 998797304 | P51: =SUM(P3:P50) -> 2.330527e+08

Sheet Ane III
B1: ANEXO III - RP 2 e 9 DISCRICIONÁRIAS FONTES PRÓPRIAS (R$ unidades)
B2: Órgãos/Unidades | C2: Até Jan | D2: Até Fev | E2: Até Mar | F2: Até Abr | G2: Até Mai | H2: Até Jun | I2: Até Jul | J2: Até Ago | K2: Até Set | L2: Até Out | M2: Até Nov | N2: Até Dez
A3: =LEFT(B3,5) -> 20000 | B3: 20000 Presidência da República | C3: - | D3: 15009465 | E3: 22514197 | F3: 31519876 | G3: 40525555 | H3: 85789234 | I3: 94794913 | J3: 103800592 | K3: 112806270 | L3: 120318575 | M3: 127830879 | N3: 133358710
A4: =LEFT(B4,5) -> 22000 | B4: 22000 Ministério da Agricultura e Pecuária | C4: - | D4: 12713062 | E4: 19417527 | F4: 21421654 | G4: 38325781 | H4: 40329908 | I4: 22334035 | J4: 24338162 | K4: 26342289 | L4: 30684564 | M4: 35026839 | N4: 39369114
A5: =LEFT(B5,5) -> 24000 | B5: 24000 Ministério da Ciência, Tecnologia e Inovação | C5: - | D5: 230465904 | E5: 47133901 | F5: 47133901 | G5: 81278322 | H5: 101278322 | I5: 101278322 | J5: 101278322 | K5: 101278322 | L5: 101278322 | M5: 101278322 | N5: 101278322
A6: =LEFT(B6,5) -> 25000 | B6: 25000 Ministério da Fazenda | C6: - | D6: 299558262 | E6: 365936618 | F6: 411990305 | G6: 458043993 | H6: 605197680 | I6: 651251367 | J6: 697305054 | K6: 743358742 | L6: 843141731 | M6: 892924720 | N6: 987607709
A7: =LEFT(B7,5) -> 26000 | B7: 26000 Ministério da Educação | C7: - | D7: 158788347 | E7: 360851616 | F7: 360851616 | G7: 360851616 | H7: 360851616 | I7: 360851616 | J7: 360851616 | K7: 360851616 | L7: 360851616 | M7: 345661290 | N7: 318712029
A8: =LEFT(B8,5) -> 28000 | B8: 28000 Ministério do Desenvolvimento, Indústria, Comércio e Serviços | C8: - | D8: 23603420 | E8: 35813847 | F8: 39363306 | G8: 42912766 | H8: 46465542 | I8: 50015605 | J8: 53565668 | K8: 57115731 | L8: 66474200 | M8: 75832670 | N8: 83154497
A9: =LEFT(B9,5) -> 30000 | B9: 30000 Ministério da Justiça e Segurança Pública | C9: - | D9: 20734561 | E9: 22221903 | F9: 22577331 | G9: 22932759 | H9: 23288187 | I9: 23643615 | J9: 23999043 | K9: 24354471 | L9: 25124565 | M9: 25894659 | N9: 32721835
A10: =LEFT(B10,5) -> 30211 | B10: 30211 Conselho Administrativo de Defesa Econômica | C10: - | D10: 4203462 | E10: 6305194 | F10: 9827271 | G10: 12349348 | H10: 17871426 | I10: 20393503 | J10: 22915581 | K10: 25437658 | L10: 29898521 | M10: 34359385 | N10: 38820248
A11: =LEFT(B11,5) -> 32000 | B11: 32000 Ministério de Minas e Energia | C11: - | D11: 4274325 | E11: 6424821 | F11: 8994749 | G11: 11273149 | H11: 13778294 | I11: 16283438 | J11: 18788582 | K11: 21293726 | L11: 26721539 | M11: 32149352 | N11: 51377164
A12: =LEFT(B12,5) -> 32265 | B12: 32265 Agência Nacional do Petróleo, Gás Natural e Biocombustíveis | C12: - | D12: 10942154 | E12: 26707826 | F12: 33390957 | G12: 41574087 | H12: 49257218 | I12: 55940348 | J12: 64123622 | K12: 72306896 | L12: 82349909 | M12: 91392635 | N12: 103035531
A13: =LEFT(B13,5) -> 32266 | B13: 32266 Agência Nacional de Energia Elétrica | C13: - | D13: - | E13: - | F13: - | G13: - | H13: - | I13: - | J13: - | K13: - | L13: - | M13: - | N13: -
A14: =LEFT(B14,5) -> 32396 | B14: 32396 Agência Nacional de Mineração | C14: - | D14: - | E14: - | F14: - | G14: - | H14: - | I14: - | J14: - | K14: - | L14: - | M14: - | N14: -
A15: =LEFT(B15,5) -> 33000 | B15: 33000 Ministério da Previdência Social | C15: - | D15: 260836973 | E15: 432454954 | F15: 604072937 | G15: 727454045 | H15: 865835153 | I15: 976216262 | J15: 1232406775 | K15: 1386457623 | L15: 1563001517 | M15: 1746685160 | N15: 1836100086
A16: =LEFT(B16,5) -> 35000 | B16: 35000 Ministério das Relações Exteriores | C16: - | D16: 490955 | E16: 749907 | F16: 1049870 | G16: 1349833 | H16: 1649796 | I16: 1949759 | J16: 799722 | K16: 1199684 | L16: 2299604 | M16: 3399523 | N16: 14004893
A17: =LEFT(B17,5) -> 36000 | B17: 36000 Ministério da Saúde | C17: - | D17: 7732810 | E17: 117310413 | F17: 118496327 | G17: 179682241 | H17: 180868156 | I17: 182054070 | J17: 183239984 | K17: 184425898 | L17: 186995379 | M17: 189564859 | N17: 192134340
A18: =LEFT(B18,5) -> 36212 | B18: 36212 Agência Nacional de Vigilância Sanitária | C18: - | D18: 439078 | E18: 658617 | F18: 922064 | G18: 1185511 | H18: 1448957 | I18: 1712404 | J18: 1975851 | K18: 2239298 | L18: 2810099 | M18: 3380901 | N18: 3951702
A19: =LEFT(B19,5) -> 36213 | B19: 36213 Agência Nacional de Saúde Suplementar | C19: - | D19: 52647 | E19: 78970 | F19: 110558 | G19: 142146 | H19: 173734 | I19: 1600000 | J19: 1663090 | K19: 1694678 | L19: 1763119 | M19: 1831559 | N19: 1900000
A20: =LEFT(B20,5) -> 37000 | B20: 37000 Controladoria-Geral da União | C20: - | D20: - | E20: - | F20: - | G20: - | H20: - | I20: - | J20: - | K20: - | L20: - | M20: - | N20: -
A21: =LEFT(B21,5) -> 39000 | B21: 39000 Ministério dos Transportes | C21: - | D21: 14183547 | E21: 22708460 | F21: 31791845 | G21: 55875229 | H21: 64958613 | I21: 74041997 | J21: 83125381 | K21: 92208766 | L21: 111889431 | M21: 131570097 | N21: 99418138
A22: =LEFT(B22,5) -> 39250 | B22: 39250 Agência Nacional de Transportes Terrestres | C22: - | D22: 20593557 | E22: 31527315 | F22: 52130240 | G22: 64741166 | H22: 77352092 | I22: 89963018 | J22: 104070909 | K22: 116681835 | L22: 137696711 | M22: 157214622 | N22: 178229498
A23: =LEFT(B23,5) -> 40000 | B23: 40000 Ministério do Trabalho e Emprego | C23: - | D23: 28229210 | E23: 51219753 | F23: 71707655 | G23: 92195556 | H23: 112683457 | I23: 133171359 | J23: 136587313 | K23: 140003267 | L23: 167321772 | M23: 194640277 | N23: 153525046
A24: =LEFT(B24,5) -> 41000 | B24: 41000 Ministério das Comunicações | C24: - | D24: 25092999 | E24: 38446260 | F24: 93260590 | G24: 117167309 | H24: 135194421 | I24: 153212505 | J24: 178558189 | K24: 202767877 | L24: 231115593 | M24: 294567950 | N24: 356884313
A25: =LEFT(B25,5) -> 41231 | B25: 41231 Agência Nacional de Telecomunicações | C25: - | D25: - | E25: - | F25: - | G25: - | H25: - | I25: - | J25: - | K25: - | L25: - | M25: - | N25: -
A26: =LEFT(B26,5) -> 42000 | B26: 42000 Ministério da Cultura | C26: - | D26: 5871116 | E26: 8807249 | F26: 12330149 | G26: 15853049 | H26: 19375949 | I26: 22898848 | J26: 26421748 | K26: 29944648 | L26: 37577597 | M26: 45210547 | N26: 50841491
A27: =LEFT(B27,5) -> 42206 | B27: 42206 Agência Nacional do Cinema | C27: - | D27: - | E27: - | F27: - | G27: - | H27: - | I27: - | J27: - | K27: - | L27: - | M27: - | N27: -
A28: =LEFT(B28,5) -> 44000 | B28: 44000 Ministério do Meio Ambiente e Mudança do Clima | C28: - | D28: 34592435 | E28: 58852562 | F28: 82385587 | G28: 105918611 | H28: 141250148 | I28: 164788506 | J28: 208326865 | K28: - | L28: - | M28: - | N28: 57260852
A29: =LEFT(B29,5) -> 46000 | B29: 46000 Ministério da Gestão e da Inovação em Serviços Públicos | C29: - | D29: 651877 | E29: 978710 | F29: 1369162 | G29: 718915 | H29: 741612 | I29: 764309 | J29: 2787006 | K29: 2809703 | L29: 2892924 | M29: 2976146 | N29: 3059368
A30: =LEFT(B30,5) -> 47000 | B30: 47000 Ministério do Planejamento e Orçamento | C30: - | D30: 160886 | E30: 262118 | F30: 366966 | G30: 471813 | H30: 576660 | I30: 681508 | J30: 5688540 | K30: 10695572 | L30: 16847613 | M30: 18097469 | N30: 19347325
A31: =LEFT(B31,5) -> 49000 | B31: 49000 Ministério do Desenvolvimento Agrário e Agricultura Familiar | C31: - | D31: 8043012 | E31: 13779199 | F31: 19290879 | G31: 24802559 | H31: 30314239 | I31: 35825918 | J31: 41337598 | K31: 46849278 | L31: 58791250 | M31: 70733223 | N31: 82675196
A32: =LEFT(B32,5) -> 51000 | B32: 51000 Ministério do Esporte | C32: - | D32: - | E32: - | F32: - | G32: - | H32: - | I32: - | J32: - | K32: - | L32: - | M32: - | N32: -
A33: =LEFT(B33,5) -> 52000 | B33: 52000 Ministério da Defesa | C33: - | D33: 178522439 | E33: 567050113 | F33: 838178856 | G33: 985648524 | H33: 737379847 | I33: 913861955 | J33: 990344063 | K33: 1166826171 | L33: 1449785761 | M33: 1642745352 | N33: 1593240147
A34: =LEFT(B34,5) -> 53000 | B34: 53000 Ministério da Integração e do Desenvolvimento Regional | C34: - | D34: 9767557 | E34: 15270463 | F34: 21378648 | G34: 27223348 | H34: 33272981 | I34: 39322614 | J34: 45372247 | K34: 51421880 | L34: 63512977 | M34: 75604075 | N34: 84505742
A35: =LEFT(B35,5) -> 53210 | B35: 53210 Agência Nacional de Águas e Saneamento Básico | C35: - | D35: - | E35: - | F35: - | G35: - | H35: - | I35: - | J35: - | K35: - | L35: - | M35: - | N35: -
A36: =LEFT(B36,5) -> 54000 | B36: 54000 Ministério do Turismo | C36: - | D36: 56469 | E36: 84703 | F36: 118584 | G36: 152465 | H36: 186347 | I36: 220228 | J36: 254109 | K36: 287990 | L36: 361399 | M36: 434809 | N36: 508218
A37: =LEFT(B37,5) -> 55000 | B37: 55000 Ministério do Desenvolvimento e Assistência Social, Família e Combate à Fome | C37: - | D37: - | E37: - | F37: - | G37: - | H37: - | I37: - | J37: - | K37: - | L37: - | M37: - | N37: -
A38: =LEFT(B38,5) -> 56000 | B38: 56000 Ministério das Cidades | C38: - | D38: 22881517 | E38: 37739371 | F38: 52835120 | G38: 67058043 | H38: 76826497 | I38: 90794951 | J38: 104763405 | K38: 118731859 | L38: 124968362 | M38: 131204866 | N38: 157441370
A39: =LEFT(B39,5) -> 58000 | B39: 58000 Ministério da Pesca e Aquicultura | C39: - | D39: - | E39: - | F39: - | G39: - | H39: - | I39: - | J39: - | K39: - | L39: - | M39: - | N39: -
A40: =LEFT(B40,5) -> 60000 | B40: 60000 Gabinete da Vice-Presidência da República | C40: - | D40: - | E40: - | F40: - | G40: - | H40: - | I40: - | J40: - | K40: - | L40: - | M40: - | N40: -
A41: =LEFT(B41,5) -> 63000 | B41: 63000 Advocacia-Geral da União | C41: - | D41: - | E41: - | F41: - | G41: - | H41: - | I41: 4262130 | J41: 4262130 | K41: 4262130 | L41: 6396184 | M41: 6396184 | N41: 6396184
A42: =LEFT(B42,5) -> 65000 | B42: 65000 Ministério das Mulheres | C42: - | D42: - | E42: - | F42: - | G42: - | H42: - | I42: - | J42: - | K42: - | L42: - | M42: - | N42: -
A43: =LEFT(B43,5) -> 67000 | B43: 67000 Ministério da Igualdade Racial | C43: - | D43: - | E43: - | F43: - | G43: - | H43: - | I43: - | J43: - | K43: - | L43: - | M43: - | N43: -
A44: =LEFT(B44,5) -> 68000 | B44: 68000 Ministério de Portos e Aeroportos | C44: - | D44: 43670513 | E44: 43135770 | F44: 69338078 | G44: 42665215 | H44: 48542011 | I44: 58162377 | J44: 67782743 | K44: 77403108 | L44: 92247234 | M44: 107091360 | N44: 37308246
A45: =LEFT(B45,5) -> 68201 | B45: 68201 Agência Nacional de Transportes Aquaviários | C45: - | D45: - | E45: - | F45: - | G45: - | H45: - | I45: - | J45: - | K45: - | L45: - | M45: - | N45: -
A46: =LEFT(B46,5) -> 68213 | B46: 68213 Agência Nacional de Aviação Civil | C46: - | D46: 10179907 | E46: 23192139 | F46: 29376709 | G46: 38561279 | H46: 45595850 | I46: 51780420 | J46: 60653531 | K46: 66838101 | L46: 77502341 | M46: 87316581 | N46: 94077567
A47: =LEFT(B47,5) -> 69000 | B47: 69000 Ministério do Empreendedorismo, da Microempresa e da Empresa de Pequeno Porte | C47: - | D47: - | E47: - | F47: - | G47: - | H47: - | I47: - | J47: - | K47: - | L47: - | M47: - | N47: -
A48: =LEFT(B48,5) -> 81000 | B48: 81000 Ministério dos Direitos Humanos e Cidadania | C48: - | D48: 1656325 | E48: 2506114 | F48: 4731595 | G48: 7057076 | H48: 7882557 | I48: 8708038 | J48: 9533519 | K48: 697629 | L48: 697629 | M48: 697629 | N48: 12409629
A49: =LEFT(B49,5) -> 83000 | B49: 83000 Banco Central do Brasil | C49: - | D49: 12006477 | E49: 31549941 | F49: 58927269 | G49: 85304597 | H49: 107348591 | I49: 124725919 | J49: 146220705 | K49: 169598032 | L49: 211817474 | M49: 239173847 | N49: 250422905
A50: =LEFT(B50,5) -> 84000 | B50: 84000 Ministério dos Povos Indígenas | C50: - | D50: 28028 | E50: 52552 | F50: 73573 | G50: 94594 | H50: 115615 | I50: 0 | J50: 0 | K50: 0 | L50: 0 | M50: 0 | N50: 0
A51: =LEFT(B51,5) -> Total | B51: Total | C51: - | D51: 1466033295 | E51: 2411743103 | F51: 3151314227 | G51: 3751390501 | H51: 4033680709 | I51: 4527505857 | J51: 5107141662 | K51: 5419190747 | L51: 6235135514 | M51: 6912887786 | N51: 7175077415

Sheet Ane III-A
B1: ANEXO III-A - RP 2 e 9 DISCRICIONÁRIAS FONTES PRÓPRIAS NÃO SUJEITAS AO TETO (R$ unidades)
C2: Até Jan | D2: Até Fev | E2: Até Mar | F2: Até Abr | G2: Até Mai | H2: Até Jun | I2: Até Jul | J2: Até Ago | K2: Até Set | L2: Até Out | M2: Até Nov | N2: Até Dez
A3: =LEFT(B3,5) -> 20000 | B3: 20000 Presidência da República | C3: - | D3: - | E3: - | F3: - | G3: - | H3: - | I3: - | J3: - | K3: - | L3: - | M3: - | N3: -
A4: =LEFT(B4,5) -> 22000 | B4: 22000 Ministério da Agricultura e Pecuária | C4: - | D4: - | E4: - | F4: 23762884 | G4: 29525768 | H4: 35288652 | I4: 41051535 | J4: 59355598 | K4: 77659661 | L4: 96687089 | M4: 115714516 | N4: 134741944
A5: =LEFT(B5,5) -> 24000 | B5: 24000 Ministério da Ciência, Tecnologia e Inovação | C5: - | D5: - | E5: - | F5: 9715353 | G5: 19430707 | H5: 29459772 | I5: 39232164 | J5: 49004556 | K5: 58776948 | L5: 79950464 | M5: 101123979 | N5: 122297495
A6: =LEFT(B6,5) -> 25000 | B6: 25000 Ministério da Fazenda | C6: - | D6: - | E6: - | F6: - | G6: - | H6: - | I6: - | J6: - | K6: - | L6: - | M6: - | N6: -
A7: =LEFT(B7,5) -> 26000 | B7: 26000 Ministério da Educação | C7: - | D7: - | E7: - | F7: 90847299 | G7: 181694599 | H7: 272541898 | I7: 363389198 | J7: 488863452 | K7: 614337706 | L7: 845800476 | M7: 1077263247 | N7: 1316012071
A8: =LEFT(B8,5) -> 28000 | B8: 28000 Ministério do Desenvolvimento, Indústria, Comércio e Serviços | C8: - | D8: - | E8: - | F8: 10776079 | G8: 35367157 | H8: 46143236 | I8: 56919315 | J8: 84295393 | K8: 111671472 | L8: 147014642 | M8: 182357813 | N8: 206149983
A9: =LEFT(B9,5) -> 30000 | B9: 30000 Ministério da Justiça e Segurança Pública | C9: - | D9: - | E9: - | F9: - | G9: - | H9: - | I9: - | J9: - | K9: - | L9: - | M9: - | N9: -
A10: =LEFT(B10,5) -> 30211 | B10: 30211 Conselho Administrativo de Defesa Econômica | C10: - | D10: - | E10: - | F10: - | G10: - | H10: - | I10: - | J10: - | K10: - | L10: - | M10: - | N10: -
A11: =LEFT(B11,5) -> 32000 | B11: 32000 Ministério de Minas e Energia | C11: - | D11: - | E11: - | F11: - | G11: - | H11: - | I11: - | J11: - | K11: - | L11: - | M11: - | N11: -
A12: =LEFT(B12,5) -> 32265 | B12: 32265 Agência Nacional do Petróleo, Gás Natural e Biocombustíveis | C12: - | D12: - | E12: - | F12: - | G12: - | H12: - | I12: - | J12: - | K12: - | L12: - | M12: - | N12: -
A13: =LEFT(B13,5) -> 32266 | B13: 32266 Agência Nacional de Energia Elétrica | C13: - | D13: - | E13: - | F13: - | G13: - | H13: - | I13: - | J13: - | K13: - | L13: - | M13: - | N13: -
A14: =LEFT(B14,5) -> 32396 | B14: 32396 Agência Nacional de Mineração | C14: - | D14: - | E14: - | F14: - | G14: - | H14: - | I14: - | J14: - | K14: - | L14: - | M14: - | N14: -
A15: =LEFT(B15,5) -> 33000 | B15: 33000 Ministério da Previdência Social | C15: - | D15: - | E15: - | F15: - | G15: - | H15: - | I15: - | J15: - | K15: - | L15: - | M15: - | N15: -
A16: =LEFT(B16,5) -> 35000 | B16: 35000 Ministério das Relações Exteriores | C16: - | D16: - | E16: - | F16: - | G16: - | H16: - | I16: - | J16: - | K16: - | L16: - | M16: - | N16: -
A17: =LEFT(B17,5) -> 36000 | B17: 36000 Ministério da Saúde | C17: - | D17: - | E17: - | F17: 1701002 | G17: 3402003 | H17: 5103005 | I17: 6804007 | J17: 8505008 | K17: 10206010 | L17: 13891514 | M17: 17577017 | N17: 21262521
A18: =LEFT(B18,5) -> 36212 | B18: 36212 Agência Nacional de Vigilância Sanitária | C18: - | D18: - | E18: - | F18: - | G18: - | H18: - | I18: - | J18: - | K18: - | L18: - | M18: - | N18: -
A19: =LEFT(B19,5) -> 36213 | B19: 36213 Agência Nacional de Saúde Suplementar | C19: - | D19: - | E19: - | F19: - | G19: - | H19: - | I19: - | J19: - | K19: - | L19: - | M19: - | N19: -
A20: =LEFT(B20,5) -> 37000 | B20: 37000 Controladoria-Geral da União | C20: - | D20: - | E20: - | F20: - | G20: - | H20: - | I20: - | J20: - | K20: - | L20: - | M20: - | N20: -
A21: =LEFT(B21,5) -> 39000 | B21: 39000 Ministério dos Transportes | C21: - | D21: - | E21: - | F21: - | G21: - | H21: - | I21: - | J21: - | K21: - | L21: - | M21: - | N21: -
A22: =LEFT(B22,5) -> 39250 | B22: 39250 Agência Nacional de Transportes Terrestres | C22: - | D22: - | E22: - | F22: - | G22: - | H22: - | I22: - | J22: - | K22: - | L22: - | M22: - | N22: -
A23: =LEFT(B23,5) -> 40000 | B23: 40000 Ministério do Trabalho e Emprego | C23: - | D23: - | E23: - | F23: - | G23: - | H23: - | I23: - | J23: - | K23: - | L23: - | M23: - | N23: -
A24: =LEFT(B24,5) -> 41000 | B24: 41000 Ministério das Comunicações | C24: - | D24: - | E24: - | F24: - | G24: - | H24: - | I24: - | J24: - | K24: - | L24: - | M24: - | N24: -
A25: =LEFT(B25,5) -> 41231 | B25: 41231 Agência Nacional de Telecomunicações | C25: - | D25: - | E25: - | F25: - | G25: - | H25: - | I25: - | J25: - | K25: - | L25: - | M25: - | N25: -
A26: =LEFT(B26,5) -> 42000 | B26: 42000 Ministério da Cultura | C26: - | D26: - | E26: - | F26: - | G26: - | H26: - | I26: - | J26: - | K26: - | L26: - | M26: - | N26: -
A27: =LEFT(B27,5) -> 42206 | B27: 42206 Agência Nacional do Cinema | C27: - | D27: - | E27: - | F27: - | G27: - | H27: - | I27: - | J27: - | K27: - | L27: - | M27: - | N27: -
A28: =LEFT(B28,5) -> 44000 | B28: 44000 Ministério do Meio Ambiente e Mudança do Clima | C28: - | D28: - | E28: - | F28: 8000 | G28: 41000 | H28: 49000 | I28: 57000 | J28: 65000 | K28: 73000 | L28: 82000 | M28: 91000 | N28: 100000
A29: =LEFT(B29,5) -> 46000 | B29: 46000 Ministério da Gestão e da Inovação em Serviços Públicos | C29: - | D29: - | E29: - | F29: 1031 | G29: 2062 | H29: 3094 | I29: 4125 | J29: 661150 | K29: 1318176 | L29: 1976405 | M29: 2634633 | N29: 3292862
A30: =LEFT(B30,5) -> 47000 | B30: 47000 Ministério do Planejamento e Orçamento | C30: - | D30: - | E30: - | F30: - | G30: - | H30: - | I30: - | J30: - | K30: - | L30: - | M30: - | N30: -
A31: =LEFT(B31,5) -> 49000 | B31: 49000 Ministério do Desenvolvimento Agrário e Agricultura Familiar | C31: - | D31: - | E31: - | F31: - | G31: - | H31: - | I31: - | J31: - | K31: - | L31: - | M31: - | N31: -
A32: =LEFT(B32,5) -> 51000 | B32: 51000 Ministério do Esporte | C32: - | D32: - | E32: - | F32: - | G32: - | H32: - | I32: - | J32: - | K32: - | L32: - | M32: - | N32: -
A33: =LEFT(B33,5) -> 52000 | B33: 52000 Ministério da Defesa | C33: - | D33: - | E33: - | F33: 5088392 | G33: 10176784 | H33: 44514177 | I33: 54920569 | J33: 42708402 | K33: 65496235 | L33: 100424859 | M33: 135353483 | N33: 81782107
A34: =LEFT(B34,5) -> 53000 | B34: 53000 Ministério da Integração e do Desenvolvimento Regional | C34: - | D34: - | E34: - | F34: - | G34: - | H34: - | I34: - | J34: - | K34: - | L34: - | M34: - | N34: -
A35: =LEFT(B35,5) -> 53210 | B35: 53210 Agência Nacional de Águas e Saneamento Básico | C35: - | D35: - | E35: - | F35: - | G35: - | H35: - | I35: - | J35: - | K35: - | L35: - | M35: - | N35: -
A36: =LEFT(B36,5) -> 54000 | B36: 54000 Ministério do Turismo | C36: - | D36: - | E36: - | F36: - | G36: - | H36: - | I36: - | J36: - | K36: - | L36: - | M36: - | N36: -
A37: =LEFT(B37,5) -> 55000 | B37: 55000 Ministério do Desenvolvimento e Assistência Social, Família e Combate à Fome | C37: - | D37: - | E37: - | F37: - | G37: - | H37: - | I37: - | J37: - | K37: - | L37: - | M37: - | N37: -
A38: =LEFT(B38,5) -> 56000 | B38: 56000 Ministério das Cidades | C38: - | D38: - | E38: - | F38: - | G38: - | H38: - | I38: - | J38: - | K38: - | L38: - | M38: - | N38: -
A39: =LEFT(B39,5) -> 58000 | B39: 58000 Ministério da Pesca e Aquicultura | C39: - | D39: - | E39: - | F39: - | G39: - | H39: - | I39: - | J39: - | K39: - | L39: - | M39: - | N39: -
A40: =LEFT(B40,5) -> 60000 | B40: 60000 Gabinete da Vice-Presidência da República | C40: - | D40: - | E40: - | F40: - | G40: - | H40: - | I40: - | J40: - | K40: - | L40: - | M40: - | N40: -
A41: =LEFT(B41,5) -> 63000 | B41: 63000 Advocacia-Geral da União | C41: - | D41: - | E41: - | F41: - | G41: - | H41: - | I41: - | J41: - | K41: - | L41: - | M41: - | N41: -
A42: =LEFT(B42,5) -> 65000 | B42: 65000 Ministério das Mulheres | C42: - | D42: - | E42: - | F42: - | G42: - | H42: - | I42: - | J42: - | K42: - | L42: - | M42: - | N42: -
A43: =LEFT(B43,5) -> 67000 | B43: 67000 Ministério da Igualdade Racial | C43: - | D43: - | E43: - | F43: - | G43: - | H43: - | I43: - | J43: - | K43: - | L43: - | M43: - | N43: -
A44: =LEFT(B44,5) -> 68000 | B44: 68000 Ministério de Portos e Aeroportos | C44: - | D44: - | E44: - | F44: - | G44: - | H44: - | I44: - | J44: - | K44: - | L44: - | M44: - | N44: -
A45: =LEFT(B45,5) -> 68201 | B45: 68201 Agência Nacional de Transportes Aquaviários | C45: - | D45: - | E45: - | F45: - | G45: - | H45: - | I45: - | J45: - | K45: - | L45: - | M45: - | N45: -
... A47: =LEFT(B47,5) -> 69000 | B47: 69000 Ministério do Empreendedorismo, da Microempresa e da Empresa de Pequeno Porte | C47: - | D47: - | E47: - | F47: - | G47: - | H47: - | I47: - | J47: - | K47: - | L47: - | M47: - | N47: -
A48: =LEFT(B48,5) -> 81000 | B48: 81000 Ministério dos Direitos Humanos e Cidadania | C48: - | D48: - | E48: - | F48: 176965 | G48: 353929 | H48: 530894 | I48: 707858 | J48: 884823 | K48: 1061787 | L48: 1445211 | M48: 1828634 | N48: 2212057
A49: =LEFT(B49,5) -> 83000 | B49: 83000 Banco Central do Brasil | C49: - | D49: - | E49: - | F49: - | G49: - | H49: - | I49: - | J49: - | K49: - | L49: - | M49: - | N49: -
A50: =LEFT(B50,5) -> 84000 | B50: 84000 Ministério dos Povos Indígenas | C50: - | D50: - | E50: - | F50: - | G50: - | H50: - | I50: - | J50: - | K50: - | L50: - | M50: - | N50: -
A51: =LEFT(B51,5) -> Total | B51: Total | C51: - | D51: - | E51: - | F51: 142077005 | G51: 279994010 | H51: 433633727 | I51: 563085770 | J51: 734343383 | K51: 940600996 | L51: 1287272659 | M51: 1633944323 | N51: 1887851040

Sheet Ane III-B
B1: ANEXO III-B - RP 2 e 9 DISCRICIONÁRIAS FONTES PRÓPRIAS RESSALVADAS (R$ unidades)
C2: Até Jan | D2: Até Fev | E2: Até Mar | F2: Até Abr | G2: Até Mai | H2: Até Jun | I2: Até Jul | J2: Até Ago | K2: Até Set | L2: Até Out | M2: Até Nov | N2: Até Dez
A3: =LEFT(B3,5) -> 20000 | B3: 20000 Presidência da República | C3: - | D3: - | E3: - | F3: - | G3: - | H3: - | I3: - | J3: - | K3: - | L3: - | M3: - | N3: -
A4: =LEFT(B4,5) -> 22000 | B4: 22000 Ministério da Agricultura e Pecuária | C4: - | D4: - | E4: - | F4: - | G4: 15000000 | H4: 20320000 | I4: 20320000 | J4: 20320000 | K4: 20320000 | L4: 20320000 | M4: 20320000 | N4: 20320000
A5: =LEFT(B5,5) -> 24000 | B5: 24000 Ministério da Ciência, Tecnologia e Inovação | C5: - | D5: - | E5: - | F5: 470063001 | G5: 554257770 | H5: 691541965 | I5: 828826160 | J5: 836110355 | K5: 843394549 | L5: 963646987 | M5: 1083899425 | N5: 1349022266
A6: =LEFT(B6,5) -> 25000 | B6: 25000 Ministério da Fazenda | C6: - | D6: - | E6: - | F6: - | G6: - | H6: - | I6: - | J6: - | K6: - | L6: - | M6: - | N6: -
A7: =LEFT(B7,5) -> 26000 | B7: 26000 Ministério da Educação | C7: - | D7: - | E7: - | F7: - | G7: - | H7: - | I7: - | J7: 405000000 | K7: 405000000 | L7: 405000000 | M7: 404989200 | N7: 405000000
A8: =LEFT(B8,5) -> 28000 | B8: 28000 Ministério do Desenvolvimento, Indústria, Comércio e Serviços | C8: - | D8: - | E8: - | F8: - | G8: - | H8: - | I8: - | J8: - | K8: - | L8: - | M8: - | N8: -
A9: =LEFT(B9,5) -> 30000 | B9: 30000 Ministério da Justiça e Segurança Pública | C9: - | D9: - | E9: - | F9: 6000000 | G9: 11000000 | H9: 11000000 | I9: 11000000 | J9: 11000000 | K9: 11000000 | L9: 11000000 | M9: 11000000 | N9: 16942918
A10: =LEFT(B10,5) -> 30211 | B10: 30211 Conselho Administrativo de Defesa Econômica | C10: - | D10: - | E10: - | F10: - | G10: - | H10: - | I10: - | J10: - | K10: - | L10: - | M10: - | N10: -
A11: =LEFT(B11,5) -> 32000 | B11: 32000 Ministério de Minas e Energia | C11: - | D11: - | E11: - | F11: - | G11: - | H11: - | I11: - | J11: - | K11: - | L11: - | M11: - | N11: -
A12: =LEFT(B12,5) -> 32265 | B12: 32265 Agência Nacional do Petróleo, Gás Natural e Biocombustíveis | C12: - | D12: - | E12: - | F12: - | G12: - | H12: - | I12: - | J12: - | K12: - | L12: - | M12: - | N12: -
A13: =LEFT(B13,5) -> 32266 | B13: 32266 Agência Nacional de Energia Elétrica | C13: - | D13: - | E13: - | F13: - | G13: - | H13: - | I13: - | J13: - | K13: - | L13: - | M13: - | N13: -
A14: =LEFT(B14,5) -> 32396 | B14: 32396 Agência Nacional de Mineração | C14: - | D14: - | E14: - | F14: - | G14: - | H14: - | I14: - | J14: - | K14: - | L14: - | M14: - | N14: -
A15: =LEFT(B15,5) -> 33000 | B15: 33000 Ministério da Previdência Social | C15: - | D15: - | E15: - | F15: - | G15: - | H15: - | I15: - | J15: - | K15: - | L15: - | M15: - | N15: -
A16: =LEFT(B16,5) -> 35000 | B16: 35000 Ministério das Relações Exteriores | C16: - | D16: - | E16: - | F16: - | G16: - | H16: - | I16: - | J16: - | K16: - | L16: - | M16: - | N16: -
A17: =LEFT(B17,5) -> 36000 | B17: 36000 Ministério da Saúde | C17: - | D17: - | E17: - | F17: - | G17: - | H17: - | I17: - | J17: - | K17: - | L17: - | M17: - | N17: -
A18: =LEFT(B18,5) -> 36212 | B18: 36212 Agência Nacional de Vigilância Sanitária | C18: - | D18: - | E18: - | F18: - | G18: - | H18: - | I18: - | J18: - | K18: - | L18: - | M18: - | N18: -
A19: =LEFT(B19,5) -> 36213 | B19: 36213 Agência Nacional de Saúde Suplementar | C19: - | D19: - | E19: - | F19: - | G19: - | H19: - | I19: - | J19: - | K19: - | L19: - | M19: - | N19: -
A20: =LEFT(B20,5) -> 37000 | B20: 37000 Controladoria-Geral da União | C20: - | D20: - | E20: - | F20: - | G20: - | H20: - | I20: - | J20: - | K20: - | L20: - | M20: - | N20: -
A21: =LEFT(B21,5) -> 39000 | B21: 39000 Ministério dos Transportes | C21: - | D21: - | E21: - | F21: - | G21: - | H21: - | I21: - | J21: - | K21: - | L21: - | M21: - | N21: -
... A23: =LEFT(B23,5) -> 40000 | B23: 40000 Ministério do Trabalho e Emprego | C23: - | D23: - | E23: - | F23: - | G23: - | H23: - | I23: - | J23: - | K23: - | L23: - | M23: - | N23: -
A24: =LEFT(B24,5) -> 41000 | B24: 41000 Ministério das Comunicações | C24: - | D24: - | E24: - | F24: - | G24: 407611 | H24: 1694830 | I24: 2991076 | J24: 2991076 | K24: 2991076 | L24: 2991076 | M24: 2991076 | N24: 2991076
A25: =LEFT(B25,5) -> 41231 | B25: 41231 Agência Nacional de Telecomunicações | C25: - | D25: - | E25: - | F25: - | G25: - | H25: - | I25: - | J25: - | K25: - | L25: - | M25: - | N25: -
A26: =LEFT(B26,5) -> 42000 | B26: 42000 Ministério da Cultura | C26: - | D26: - | E26: - | F26: - | G26: - | H26: - | I26: - | J26: - | K26: - | L26: - | M26: - | N26: -
A27: =LEFT(B27,5) -> 42206 | B27: 42206 Agência Nacional do Cinema | C27: - | D27: - | E27: - | F27: - | G27: - | H27: - | I27: - | J27: - | K27: - | L27: - | M27: - | N27: -
A28: =LEFT(B28,5) -> 44000 | B28: 44000 Ministério do Meio Ambiente e Mudança do Clima | C28: - | D28: - | E28: - | F28: - | G28: - | H28: - | I28: - | J28: - | K28: 251865223 | L28: 302275272 | M28: 352685322 | N28: 391072561
A29: =LEFT(B29,5) -> 46000 | B29: 46000 Ministério da Gestão e da Inovação em Serviços Públicos | C29: - | D29: - | E29: - | F29: - | G29: - | H29: - | I29: - | J29: - | K29: - | L29: - | M29: - | N29: -
A30: =LEFT(B30,5) -> 47000 | B30: 47000 Ministério do Planejamento e Orçamento | C30: - | D30: - | E30: - | F30: - | G30: - | H30: - | I30: - | J30: - | K30: - | L30: - | M30: - | N30: -
A31: =LEFT(B31,5) -> 49000 | B31: 49000 Ministério do Desenvolvimento Agrário e Agricultura Familiar | C31: - | D31: - | E31: - | F31: - | G31: - | H31: - | I31: - | J31: - | K31: - | L31: - | M31: - | N31: -
A32: =LEFT(B32,5) -> 51000 | B32: 51000 Ministério do Esporte | C32: - | D32: - | E32: - | F32: - | G32: - | H32: - | I32: - | J32: - | K32: - | L32: - | M32: - | N32: -
A33: =LEFT(B33,5) -> 52000 | B33: 52000 Ministério da Defesa | C33: - | D33: - | E33: - | F33: - | G33: 250000 | H33: 250000 | I33: 250000 | J33: 250000 | K33: 250000 | L33: 250000 | M33: 250000 | N33: 2187611
A34: =LEFT(B34,5) -> 53000 | B34: 53000 Ministério da Integração e do Desenvolvimento Regional | C34: - | D34: - | E34: - | F34: - | G34: - | H34: - | I34: - | J34: - | K34: 250000 | L34: 500000 | M34: - | N34: -
A35: =LEFT(B35,5) -> 53210 | B35: 53210 Agência Nacional de Águas e Saneamento Básico | C35: - | D35: - | E35: - | F35: - | G35: - | H35: - | I35: - | J35: - | K35: - | L35: - | M35: - | N35: -
A36: =LEFT(B36,5) -> 54000 | B36: 54000 Ministério do Turismo | C36: - | D36: - | E36: - | F36: - | G36: - | H36: - | I36: - | J36: - | K36: - | L36: - | M36: - | N36: -
A37: =LEFT(B37,5) -> 55000 | B37: 55000 Ministério do Desenvolvimento e Assistência Social, Família e Combate à Fome | C37: - | D37: - | E37: - | F37: - | G37: - | H37: - | I37: - | J37: - | K37: - | L37: - | M37: - | N37: -
A38: =LEFT(B38,5) -> 56000 | B38: 56000 Ministério das Cidades | C38: - | D38: - | E38: - | F38: - | G38: - | H38: - | I38: - | J38: - | K38: - | L38: - | M38: - | N38: -
A39: =LEFT(B39,5) -> 58000 | B39: 58000 Ministério da Pesca e Aquicultura | C39: - | D39: - | E39: - | F39: - | G39: - | H39: - | I39: - | J39: - | K39: - | L39: - | M39: - | N39: -
A40: =LEFT(B40,5) -> 60000 | B40: 60000 Gabinete da Vice-Presidência da República | C40: - | D40: - | E40: - | F40: - | G40: - | H40: - | I40: - | J40: - | K40: - | L40: - | M40: - | N40: -
A41: =LEFT(B41,5) -> 63000 | B41: 63000 Advocacia-Geral da União | C41: - | D41: - | E41: - | F41: - | G41: - | H41: - | I41: - | J41: - | K41: - | L41: - | M41: - | N41: -
A42: =LEFT(B42,5) -> 65000 | B42: 65000 Ministério das Mulheres | C42: - | D42: - | E42: - | F42: - | G42: - | H42: - | I42: - | J42: - | K42: - | L42: - | M42: - | N42: -
A43: =LEFT(B43,5) -> 67000 | B43: 67000 Ministério da Igualdade Racial | C43: - | D43: - | E43: - | F43: - | G43: - | H43: - | I43: - | J43: - | K43: - | L43: - | M43: - | N43: -
A44: =LEFT(B44,5) -> 68000 | B44: 68000 Ministério de Portos e Aeroportos | C44: - | D44: - | E44: - | F44: - | G44: - | H44: - | I44: - | J44: - | K44: - | L44: - | M44: - | N44: -
A45: =LEFT(B45,5) -> 68201 | B45: 68201 Agência Nacional de Transportes Aquaviários | C45: - | D45: - | E45: - | F45: - | G45: - | H45: - | I45: - | J45: - | K45: - | L45: - | M45: - | N45: -
A46: =LEFT(B46,5) -> 68213 | B46: 68213 Agência Nacional de Aviação Civil | C46: - | D46: - | E46: - | F46: - | G46: - | H46: - | I46: - | J46: - | K46: - | L46: - | M46: - | N46: -
A47: =LEFT(B47,5) -> 69000 | B47: 69000 Ministério do Empreendedorismo, da Microempresa e da Empresa de Pequeno Porte | C47: - | D47: - | E47: - | F47: - | G47: - | H47: - | I47: - | J47: - | K47: - | L47: - | M47: - | N47: -
A48: =LEFT(B48,5) -> 81000 | B48: 81000 Ministério dos Direitos Humanos e Cidadania | C48: - | D48: - | E48: - | F48: - | G48: - | H48: - | I48: - | J48: - | K48: 9661371 | L48: 10483246 | M48: 11305122 | N48: 12126997
A49: =LEFT(B49,5) -> 83000 | B49: 83000 Banco Central do Brasil | C49: - | D49: - | E49: - | F49: - | G49: - | H49: - | I49: - | J49: - | K49: - | L49: - | M49: - | N49: -
A50: =LEFT(B50,5) -> 84000 | B50: 84000 Ministério dos Povos Indígenas | C50: - | D50: - | E50: - | F50: - | G50: - | H50: - | I50: 136636 | J50: 157657 | K50: 178677 | L50: 224223 | M50: 269768 | N50: 315313
A51: =LEFT(B51,5) -> Total | B51: Total | C51: - | D51: - | E51: - | F51: 476063001 | G51: 580915381 | H51: 724806795 | I51: 863523871 | J51: 1275829087 | K51: 1544910896 | L51: 1716690804 | M51: 1887709912 | N51: 2199978742

Sheet Ane III-C
B1: ANEXO III-C RP 3 DISCRICIONÁRIAS FONTES PRÓPRIAS (R$ unidades)
B2: Órgãos/Unidades | C2: Até Jan | D2: Até Fev | E2: Até Mar | F2: Até Abr | G2: Até Mai | H2: Até Jun | I2: Até Jul | J2: Até Ago | K2: Até Set | L2: Até Out | M2: Até Nov | N2: Até Dez
A3: =LEFT(B3,5) -> 20000 | B3: 20000 Presidência da República | C3: - | D3: - | E3: - | F3: - | G3: - | H3: - | I3: - | J3: - | K3: - | L3: - | M3: - | N3: -
A4: =LEFT(B4,5) -> 22000 | B4: 22000 Ministério da Agricultura e Pecuária | C4: - | D4: - | E4: - | F4: - | G4: - | H4: - | I4: - | J4: - | K4: - | L4: - | M4: - | N4: -
A5: =LEFT(B5,5) -> 24000 | B5: 24000 Ministério da Ciência, Tecnologia e Inovação | C5: - | D5: - | E5: - | F5: - | G5: - | H5: - | I5: - | J5: - | K5: - | L5: - | M5: - | N5: -
A6: =LEFT(B6,5) -> 25000 | B6: 25000 Ministério da Fazenda | C6: - | D6: - | E6: - | F6: - | G6: - | H6: - | I6: - | J6: - | K6: - | L6: - | M6: - | N6: -
A7: =LEFT(B7,5) -> 26000 | B7: 26000 Ministério da Educação | C7: - | D7: - | E7: - | F7: - | G7: - | H7: - | I7: - | J7: - | K7: - | L7: - | M7: - | N7: -
A8: =LEFT(B8,5) -> 28000 | B8: 28000 Ministério do Desenvolvimento, Indústria, Comércio e Serviços | C8: - | D8: - | E8: - | F8: - | G8: - | H8: - | I8: - | J8: - | K8: - | L8: - | M8: - | N8: -
A9: =LEFT(B9,5) -> 30000 | B9: 30000 Ministério da Justiça e Segurança Pública | C9: - | D9: - | E9: - | F9: - | G9: - | H9: - | I9: - | J9: - | K9: - | L9: - | M9: - | N9: -
A10: =LEFT(B10,5) -> 30211 | B10: 30211 Conselho Administrativo de Defesa Econômica | C10: - | D10: - | E10: - | F10: - | G10: - | H10: - | I10: - | J10: - | K10: - | L10: - | M10: - | N10: -
A11: =LEFT(B11,5) -> 32000 | B11: 32000 Ministério de Minas e Energia | C11: - | D11: - | E11: - | F11: - | G11: 291529 | H11: 356313 | I11: 421097 | J11: 485881 | K11: 550665 | L11: 691031 | M11: 831396 | N11: 2053214 | P11: =((N11*3)/18)+(N11/15) -> 479083.27
A12: =LEFT(B12,5) -> 32265 | B12: 32265 Agência Nacional do Petróleo, Gás Natural e Biocombustíveis | C12: - | D12: - | E12: - | F12: - | G12: - | H12: - | I12: - | J12: - | K12: - | L12: - | M12: - | N12: -
A13: =LEFT(B13,5) -> 32266 | B13: 32266 Agência Nacional de Energia Elétrica | C13: - | D13: - | E13: - | F13: - | G13: - | H13: - | I13: - | J13: - | K13: - | L13: - | M13: - | N13: -
A14: =LEFT(B14,5) -> 32396 | B14: 32396 Agência Nacional de Mineração | C14: - | D14: - | E14: - | F14: - | G14: - | H14: - | I14: - | J14: - | K14: - | L14: - | M14: - | N14: -
A15: =LEFT(B15,5) -> 33000 | B15: 33000 Ministério da Previdência Social | C15: - | D15: - | E15: - | F15: - | G15: - | H15: - | I15: - | J15: - | K15: - | L15: - | M15: - | N15: -
A16: =LEFT(B16,5) -> 35000 | B16: 35000 Ministério das Relações Exteriores | C16: - | D16: - | E16: - | F16: - | G16: - | H16: - | I16: - | J16: - | K16: - | L16: - | M16: - | N16: -
A17: =LEFT(B17,5) -> 36000 | B17: 36000 Ministério da Saúde | C17: - | D17: - | E17: - | F17: - | G17: - | H17: - | I17: - | J17: - | K17: - | L17: - | M17: - | N17: -
A18: =LEFT(B18,5) -> 36212 | B18: 36212 Agência Nacional de Vigilância Sanitária | C18: - | D18: - | E18: - | F18: - | G18: - | H18: - | I18: - | J18: - | K18: - | L18: - | M18: - | N18: -
A19: =LEFT(B19,5) -> 36213 | B19: 36213 Agência Nacional de Saúde Suplementar | C19: - | D19: - | E19: - | F19: - | G19: - | H19: - | I19: - | J19: - | K19: - | L19: - | M19: - | N19: -
A20: =LEFT(B20,5) -> 37000 | B20: 37000 Controladoria-Geral da União | C20: - | D20: - | E20: - | F20: - | G20: - | H20: - | I20: - | J20: - | K20: - | L20: - | M20: - | N20: -
A21: =LEFT(B21,5) -> 39000 | B21: 39000 Ministério dos Transportes | C21: - | D21: - | E21: - | F21: - | G21: - | H21: - | I21: - | J21: - | K21: - | L21: - | M21: - | N21: -
A22: =LEFT(B22,5) -> 39250 | B22: 39250 Agência Nacional de Transportes Terrestres | C22: - | D22: - | E22: - | F22: - | G22: - | H22: - | I22: - | J22: - | K22: - | L22: - | M22: - | N22: -
A23: =LEFT(B23,5) -> 40000 | B23: 40000 Ministério do Trabalho e Emprego | C23: - | D23: - | E23: - | F23: - | G23: - | H23: - | I23: - | J23: - | K23: - | L23: - | M23: - | N23: -
... A32: =LEFT(B32,5) -> 51000 | B32: 51000 Ministério do Esporte | C32: - | D32: - | E32: - | F32: - | G32: - | H32: - | I32: - | J32: - | K32: - | L32: - | M32: - | N32: -
A33: =LEFT(B33,5) -> 52000 | B33: 52000 Ministério da Defesa | C33: - | D33: - | E33: - | F33: - | G33: 176909076 | H33: 665063345 | I33: 712349408 | J33: 764635471 | K33: 811921534 | L33: 937041337 | M33: 1030161139 | N33: 2093381432 | P33: =((N33*3)/18)+(N33/15) -> 4.8845567e+08
A34: =LEFT(B34,5) -> 53000 | B34: 53000 Ministério da Integração e do Desenvolvimento Regional | C34: - | D34: - | E34: - | F34: - | G34: 263484 | H34: 322036 | I34: 380588 | J34: 439140 | K34: 0 | L34: 0 | M34: 0 | N34: 2927603 | P34: =((N34*3)/18)+(N34/15) -> 683107.37
A35: =LEFT(B35,5) -> 53210 | B35: 53210 Agência Nacional de Águas e Saneamento Básico | C35: - | D35: - | E35: - | F35: - | G35: - | H35: - | I35: - | J35: - | K35: - | L35: - | M35: - | N35: -
A36: =LEFT(B36,5) -> 54000 | B36: 54000 Ministério do Turismo | C36: - | D36: - | E36: - | F36: - | G36: - | H36: - | I36: - | J36: - | K36: - | L36: - | M36: - | N36: -
A37: =LEFT(B37,5) -> 55000 | B37: 55000 Ministério do Desenvolvimento e Assistência Social, Família e Combate à Fome | C37: - | D37: - | E37: - | F37: - | G37: - | H37: - | I37: - | J37: - | K37: - | L37: - | M37: - | N37: -
A38: =LEFT(B38,5) -> 56000 | B38: 56000 Ministério das Cidades | C38: - | D38: - | E38: - | F38: - | G38: 872826 | H38: 1066787 | I38: 1260748 | J38: 1454709 | K38: 1648670 | L38: 2068920 | M38: 2489169 | N38: 2909418 | P38: =((N38*3)/18)+(N38/15) -> 678864.2
A39: =LEFT(B39,5) -> 58000 | B39: 58000 Ministério da Pesca e Aquicultura | C39: - | D39: - | E39: - | F39: - | G39: - | H39: - | I39: - | J39: - | K39: - | L39: - | M39: - | N39: -
A40: =LEFT(B40,5) -> 60000 | B40: 60000 Gabinete da Vice-Presidência da República | C40: - | D40: - | E40: - | F40: - | G40: - | H40: - | I40: - | J40: - | K40: - | L40: - | M40: - | N40: -
A41: =LEFT(B41,5) -> 63000 | B41: 63000 Advocacia-Geral da União | C41: - | D41: - | E41: - | F41: - | G41: - | H41: - | I41: - | J41: - | K41: - | L41: - | M41: - | N41: -
A42: =LEFT(B42,5) -> 65000 | B42: 65000 Ministério das Mulheres | C42: - | D42: - | E42: - | F42: - | G42: - | H42: - | I42: - | J42: - | K42: - | L42: - | M42: - | N42: -
A43: =LEFT(B43,5) -> 67000 | B43: 67000 Ministério da Igualdade Racial | C43: - | D43: - | E43: - | F43: - | G43: - | H43: - | I43: - | J43: - | K43: - | L43: - | M43: - | N43: -
A44: =LEFT(B44,5) -> 68000 | B44: 68000 Ministério de Portos e Aeroportos | C44: - | D44: - | E44: - | F44: - | G44: 70875171 | H44: 86625209 | I44: 16375247 | J44: 32125285 | K44: 47875323 | L44: 82000406 | M44: 103191486 | N44: 93435598 | P44: =((N44*3)/18)+(N44/15) -> 21801640
A45: =LEFT(B45,5) -> 68201 | B45: 68201 Agência Nacional de Transportes Aquaviários | C45: - | D45: - | E45: - | F45: - | G45: - | H45: - | I45: - | J45: - | K45: - | L45: - | M45: - | N45: -
A46: =LEFT(B46,5) -> 68213 | B46: 68213 Agência Nacional de Aviação Civil | C46: - | D46: - | E46: - | F46: - | G46: - | H46: - | I46: - | J46: - | K46: - | L46: - | M46: - | N46: -
A47: =LEFT(B47,5) -> 69000 | B47: 69000 Ministério do Empreendedorismo, da Microempresa e da Empresa de Pequeno Porte | C47: - | D47: - | E47: - | F47: - | G47: - | H47: - | I47: - | J47: - | K47: - | L47: - | M47: - | N47: -
A48: =LEFT(B48,5) -> 81000 | B48: 81000 Ministério dos Direitos Humanos e Cidadania | C48: - | D48: - | E48: - | F48: - | G48: - | H48: - | I48: - | J48: - | K48: - | L48: - | M48: - | N48: -
A49: =LEFT(B49,5) -> 83000 | B49: 83000 Banco Central do Brasil | C49: - | D49: - | E49: - | F49: - | G49: - | H49: - | I49: - | J49: - | K49: - | L49: - | M49: - | N49: -
A50: =LEFT(B50,5) -> 84000 | B50: 84000 Ministério dos Povos Indígenas | C50: - | D50: - | E50: - | F50: - | G50: - | H50: - | I50: - | J50: - | K50: - | L50: - | M50: - | N50: -
A51: =LEFT(B51,5) -> Total | B51: Total | C51: - | D51: - | E51: - | F51: - | G51: 249212085 | H51: 753433690 | I51: 730787089 | J51: 799140487 | K51: 861996192 | L51: 1021801693 | M51: 1136673191 | N51: 2194707265 | P51: =SUM(P3:P50) -> 5.1209836e+08

Sheet Ane III-D
B1: ANEXO III-D RP 3 DISCRICIONÁRIAS FONTES PRÓPRIAS RESSALVADAS (R$ unidades)
B2: Órgãos/Unidades | C2: Até Jan | D2: Até Fev | E2: Até Mar | F2: Até Abr | G2: Até Mai | H2: Até Jun | I2: Até Jul | J2: Até Ago | K2: Até Set | L2: Até Out | M2: Até Nov | N2: Até Dez
A3: =LEFT(B3,5) -> 20000 | B3: 20000 Presidência da República | C3: - | D3: - | E3: - | F3: - | G3: - | H3: - | I3: - | J3: - | K3: - | L3: - | M3: - | N3: -
A4: =LEFT(B4,5) -> 22000 | B4: 22000 Ministério da Agricultura e Pecuária | C4: - | D4: - | E4: - | F4: - | G4: - | H4: - | I4: - | J4: - | K4: - | L4: - | M4: - | N4: -
A5: =LEFT(B5,5) -> 24000 | B5: 24000 Ministério da Ciência, Tecnologia e Inovação | C5: - | D5: - | E5: - | F5: - | G5: 68257833 | H5: 160426240 | I5: 189594647 | J5: 348763054 | K5: 528598069 | L5: 712462892 | M5: 896327716 | N5: 1182867539
A6: =LEFT(B6,5) -> 25000 | B6: 25000 Ministério da Fazenda | C6: - | D6: - | E6: - | F6: - | G6: - | H6: - | I6: - | J6: - | K6: - | L6: - | M6: - | N6: -
A7: =LEFT(B7,5) -> 26000 | B7: 26000 Ministério da Educação | C7: - | D7: - | E7: - | F7: - | G7: - | H7: - | I7: - | J7: - | K7: - | L7: - | M7: - | N7: -
A8: =LEFT(B8,5) -> 28000 | B8: 28000 Ministério do Desenvolvimento, Indústria, Comércio e Serviços | C8: - | D8: - | E8: - | F8: - | G8: - | H8: - | I8: - | J8: - | K8: - | L8: - | M8: - | N8: -
A9: =LEFT(B9,5) -> 30000 | B9: 30000 Ministério da Justiça e Segurança Pública | C9: - | D9: - | E9: - | F9: - | G9: - | H9: - | I9: - | J9: - | K9: - | L9: - | M9: - | N9: -
A10: =LEFT(B10,5) -> 30211 | B10: 30211 Conselho Administrativo de Defesa Econômica | C10: - | D10: - | E10: - | F10: - | G10: - | H10: - | I10: - | J10: - | K10: - | L10: - | M10: - | N10: -
A11: =LEFT(B11,5) -> 32000 | B11: 32000 Ministério de Minas e Energia | C11: - | D11: - | E11: - | F11: - | G11: - | H11: - | I11: - | J11: - | K11: - | L11: - | M11: - | N11: -
A12: =LEFT(B12,5) -> 32265 | B12: 32265 Agência Nacional do Petróleo, Gás Natural e Biocombustíveis | C12: - | D12: - | E12: - | F12: - | G12: - | H12: - | I12: - | J12: - | K12: - | L12: - | M12: - | N12: -
A13: =LEFT(B13,5) -> 32266 | B13: 32266 Agência Nacional de Energia Elétrica | C13: - | D13: - | E13: - | F13: - | G13: - | H13: - | I13: - | J13: - | K13: - | L13: - | M13: - | N13: -
A14: =LEFT(B14,5) -> 32396 | B14: 32396 Agência Nacional de Mineração | C14: - | D14: - | E14: - | F14: - | G14: - | H14: - | I14: - | J14: - | K14: - | L14: - | M14: - | N14: -
A15: =LEFT(B15,5) -> 33000 | B15: 33000 Ministério da Previdência Social | C15: - | D15: - | E15: - | F15: - | G15: - | H15: - | I15: - | J15: - | K15: - | L15: - | M15: - | N15: -
A16: =LEFT(B16,5) -> 35000 | B16: 35000 Ministério das Relações Exteriores | C16: - | D16: - | E16: - | F16: - | G16: - | H16: - | I16: - | J16: - | K16: - | L16: - | M16: - | N16: -
A17: =LEFT(B17,5) -> 36000 | B17: 36000 Ministério da Saúde | C17: - | D17: - | E17: - | F17: - | G17: - | H17: - | I17: - | J17: - | K17: - | L17: - | M17: - | N17: -
... A33: =LEFT(B33,5) -> 52000 | B33: 52000 Ministério da Defesa | C33: - | D33: - | E33: - | F33: - | G33: - | H33: - | I33: - | J33: - | K33: - | L33: - | M33: - | N33: -
A34: =LEFT(B34,5) -> 53000 | B34: 53000 Ministério da Integração e do Desenvolvimento Regional | C34: - | D34: - | E34: - | F34: - | G34: - | H34: - | I34: - | J34: - | K34: 497693 | L34: 1307663 | M34: 165897 | N34: 0
A35: =LEFT(B35,5) -> 53210 | B35: 53210 Agência Nacional de Águas e Saneamento Básico | C35: - | D35: - | E35: - | F35: - | G35: - | H35: - | I35: - | J35: - | K35: - | L35: - | M35: - | N35: -
A36: =LEFT(B36,5) -> 54000 | B36: 54000 Ministério do Turismo | C36: - | D36: - | E36: - | F36: - | G36: - | H36: - | I36: - | J36: - | K36: - | L36: - | M36: - | N36: -
A37: =LEFT(B37,5) -> 55000 | B37: 55000 Ministério do Desenvolvimento e Assistência Social, Família e Combate à Fome | C37: - | D37: - | E37: - | F37: - | G37: - | H37: - | I37: - | J37: - | K37: - | L37: - | M37: - | N37: -
A38: =LEFT(B38,5) -> 56000 | B38: 56000 Ministério das Cidades | C38: - | D38: - | E38: - | F38: - | G38: - | H38: - | I38: - | J38: - | K38: - | L38: - | M38: - | N38: -
A39: =LEFT(B39,5) -> 58000 | B39: 58000 Ministério da Pesca e Aquicultura | C39: - | D39: - | E39: - | F39: - | G39: - | H39: - | I39: - | J39: - | K39: - | L39: - | M39: - | N39: -
A40: =LEFT(B40,5) -> 60000 | B40: 60000 Gabinete da Vice-Presidência da República | C40: - | D40: - | E40: - | F40: - | G40: - | H40: - | I40: - | J40: - | K40: - | L40: - | M40: - | N40: -
A41: =LEFT(B41,5) -> 63000 | B41: 63000 Advocacia-Geral da União | C41: - | D41: - | E41: - | F41: - | G41: - | H41: - | I41: - | J41: - | K41: - | L41: - | M41: - | N41: -
A42: =LEFT(B42,5) -> 65000 | B42: 65000 Ministério das Mulheres | C42: - | D42: - | E42: - | F42: - | G42: - | H42: - | I42: - | J42: - | K42: - | L42: - | M42: - | N42: -
A43: =LEFT(B43,5) -> 67000 | B43: 67000 Ministério da Igualdade Racial | C43: - | D43: - | E43: - | F43: - | G43: - | H43: - | I43: - | J43: - | K43: - | L43: - | M43: - | N43: -
A44: =LEFT(B44,5) -> 68000 | B44: 68000 Ministério de Portos e Aeroportos | C44: - | D44: - | E44: - | F44: - | G44: - | H44: - | I44: - | J44: - | K44: - | L44: - | M44: - | N44: -
A45: =LEFT(B45,5) -> 68201 | B45: 68201 Agência Nacional de Transportes Aquaviários | C45: - | D45: - | E45: - | F45: - | G45: - | H45: - | I45: - | J45: - | K45: - | L45: - | M45: - | N45: -
A46: =LEFT(B46,5) -> 68213 | B46: 68213 Agência Nacional de Aviação Civil | C46: - | D46: - | E46: - | F46: - | G46: - | H46: - | I46: - | J46: - | K46: - | L46: - | M46: - | N46: -
... A50: =LEFT(B50,5) -> 84000 | B50: 84000 Ministério dos Povos Indígenas | C50: - | D50: - | E50: - | F50: - | G50: - | H50: - | I50: - | J50: - | K50: - | L50: - | M50: - | N50: -
A51: =LEFT(B51,5) -> Total | B51: Total | C51: - | D51: - | E51: - | F51: - | G51: 68257833 | H51: 160426240 | I51: 189594647 | J51: 348763054 | K51: 529095762 | L51: 713770555 | M51: 896493613 | N51: 1182867539

Sheet Ane IV
B1: ANEXO IV - Emendas Individuais (RP 6) e de Bancada (RP 7) (R$ 1,00 )
C2: Até Jan | D2: Até Fev | E2: Até Mar | F2: Até Abr | G2: Até Mai | H2: Até Jun | I2: Até Jul | J2: Até Ago | K2: Até Set | L2: Até Out | M2: Até Nov | N2: Até Dez
A3: =LEFT(B3,5) -> Emend | B3: Emendas Individuais Impositivas | C3: - | D3: 4178089212 | E3: 6267133818 | F3: 8356178424 | G3: 10445223030 | H3: 15755771059 | I3: 17128926015 | J3: 18502080971 | K3: 19875235927 | L3: 21606335709 | M3: 23337435491 | N3: 25068535273
A4: =LEFT(B4,5) -> Emend | B4: Emendas Impositivas de Bancada | C4: - | D4: 1426198649 | E4: 2139297973 | F4: 2852397297 | G4: 3565496621 | H4: 4278595946 | I4: 4991695270 | J4: 5674082018 | K4: 6356468767 | L4: 7090043142 | M4: 7823617516 | N4: 8557191891
B5: Total | C5: - | D5: 5604287861 | E5: 8406431791 | F5: 11208575721 | G5: 14010719652 | H5: 20034367004 | I5: 22120621284 | J5: 24176162989 | K5: 26231704694 | L5: 28696378851 | M5: 31161053007 | N5: 33625727164

Sheet Ane V
B1: ANEXO V - RP 8 Emendas Comissão Fontes Tesouro (R$ unidades)
B2: Órgãos/Unidades | C2: Até Jan | D2: Até Fev | E2: Até Mar | F2: Até Abr | G2: Até Mai | H2: Até Jun | I2: Até Jul | J2: Até Ago | K2: Até Set | L2: Até Out | M2: Até Nov | N2: Até Dez
A3: =LEFT(B3,5) -> 20000 | B3: 20000 Presidência da República | C3: - | D3: - | E3: - | F3: - | G3: - | H3: - | I3: - | J3: - | K3: - | L3: - | M3: - | N3: -
A4: =LEFT(B4,5) -> 22000 | B4: 22000 Ministério da Agricultura e Pecuária | C4: - | D4: 42953333 | E4: - | F4: - | G4: - | H4: - | I4: - | J4: - | K4: - | L4: - | M4: - | N4: -
A5: =LEFT(B5,5) -> 24000 | B5: 24000 Ministério da Ciência, Tecnologia e Inovação | C5: - | D5: - | E5: - | F5: - | G5: - | H5: - | I5: - | J5: - | K5: - | L5: - | M5: - | N5: -
A6: =LEFT(B6,5) -> 25000 | B6: 25000 Ministério da Fazenda | C6: - | D6: - | E6: - | F6: - | G6: - | H6: - | I6: - | J6: - | K6: - | L6: - | M6: - | N6: -
A7: =LEFT(B7,5) -> 26000 | B7: 26000 Ministério da Educação | C7: - | D7: 22122352 | E7: - | F7: - | G7: - | H7: - | I7: - | J7: - | K7: - | L7: - | M7: - | N7: -
A8: =LEFT(B8,5) -> 28000 | B8: 28000 Ministério do Desenvolvimento, Indústria, Comércio e Serviços | C8: - | D8: - | E8: - | F8: - | G8: - | H8: - | I8: - | J8: - | K8: - | L8: - | M8: - | N8: -
A9: =LEFT(B9,5) -> 30000 | B9: 30000 Ministério da Justiça e Segurança Pública | C9: - | D9: 81333333 | E9: - | F9: - | G9: - | H9: - | I9: - | J9: - | K9: - | L9: - | M9: - | N9: -
A10: =LEFT(B10,5) -> 30211 | B10: 30211 Conselho Administrativo de Defesa Econômica | C10: - | D10: - | E10: - | F10: - | G10: - | H10: - | I10: - | J10: - | K10: - | L10: - | M10: - | N10: -
A11: =LEFT(B11,5) -> 32000 | B11: 32000 Ministério de Minas e Energia | C11: - | D11: 4030947 | E11: - | F11: - | G11: - | H11: - | I11: - | J11: - | K11: - | L11: - | M11: - | N11: -
A12: =LEFT(B12,5) -> 32265 | B12: 32265 Agência Nacional do Petróleo, Gás Natural e Biocombustíveis | C12: - | D12: - | E12: - | F12: - | G12: - | H12: - | I12: - | J12: - | K12: - | L12: - | M12: - | N12: -
A13: =LEFT(B13,5) -> 32266 | B13: 32266 Agência Nacional de Energia Elétrica | C13: - | D13: - | E13: - | F13: - | G13: - | H13: - | I13: - | J13: - | K13: - | L13: - | M13: - | N13: -
A14: =LEFT(B14,5) -> 32396 | B14: 32396 Agência Nacional de Mineração | C14: - | D14: - | E14: - | F14: - | G14: - | H14: - | I14: - | J14: - | K14: - | L14: - | M14: - | N14: -
A15: =LEFT(B15,5) -> 33000 | B15: 33000 Ministério da Previdência Social | C15: - | D15: - | E15: - | F15: - | G15: - | H15: - | I15: - | J15: - | K15: - | L15: - | M15: - | N15: -
A16: =LEFT(B16,5) -> 35000 | B16: 35000 Ministério das Relações Exteriores | C16: - | D16: - | E16: - | F16: - | G16: - | H16: - | I16: - | J16: - | K16: - | L16: - | M16: - | N16: -
A17: =LEFT(B17,5) -> 36000 | B17: 36000 Ministério da Saúde | C17: - | D17: 505392705 | E17: - | F17: - | G17: - | H17: - | I17: - | J17: - | K17: - | L17: - | M17: - | N17: -
A18: =LEFT(B18,5) -> 36212 | B18: 36212 Agência Nacional de Vigilância Sanitária | C18: - | D18: - | E18: - | F18: - | G18: - | H18: - | I18: - | J18: - | K18: - | L18: - | M18: - | N18: -
A19: =LEFT(B19,5) -> 36213 | B19: 36213 Agência Nacional de Saúde Suplementar | C19: - | D19: - | E19: - | F19: - | G19: - | H19: - | I19: - | J19: - | K19: - | L19: - | M19: - | N19: -
A20: =LEFT(B20,5) -> 37000 | B20: 37000 Controladoria-Geral da União | C20: - | D20: - | E20: - | F20: - | G20: - | H20: - | I20: - | J20: - | K20: - | L20: - | M20: - | N20: -
A21: =LEFT(B21,5) -> 39000 | B21: 39000 Ministério dos Transportes | C21: - | D21: 5839671 | E21: - | F21: - | G21: - | H21: - | I21: - | J21: - | K21: - | L21: - | M21: - | N21: -
A22: =LEFT(B22,5) -> 39250 | B22: 39250 Agência Nacional de Transportes Terrestres | C22: - | D22: - | E22: - | F22: - | G22: - | H22: - | I22: - | J22: - | K22: - | L22: - | M22: - | N22: -
A23: =LEFT(B23,5) -> 40000 | B23: 40000 Ministério do Trabalho e Emprego | C23: - | D23: - | E23: - | F23: - | G23: - | H23: - | I23: - | J23: - | K23: - | L23: - | M23: - | N23: -
A24: =LEFT(B24,5) -> 41000 | B24: 41000 Ministério das Comunicações | C24: - | D24: 44444 | E24: - | F24: - | G24: - | H24: - | I24: - | J24: - | K24: - | L24: - | M24: - | N24: -
A25: =LEFT(B25,5) -> 41231 | B25: 41231 Agência Nacional de Telecomunicações | C25: - | D25: - | E25: - | F25: - | G25: - | H25: - | I25: - | J25: - | K25: - | L25: - | M25: - | N25: -
A26: =LEFT(B26,5) -> 42000 | B26: 42000 Ministério da Cultura | C26: - | D26: 1900130 | E26: - | F26: - | G26: - | H26: - | I26: - | J26: - | K26: - | L26: - | M26: - | N26: -
A27: =LEFT(B27,5) -> 42206 | B27: 42206 Agência Nacional do Cinema | C27: - | D27: - | E27: - | F27: - | G27: - | H27: - | I27: - | J27: - | K27: - | L27: - | M27: - | N27: -
A28: =LEFT(B28,5) -> 44000 | B28: 44000 Ministério do Meio Ambiente e Mudança do Clima | C28: - | D28: 1122222 | E28: - | F28: - | G28: - | H28: - | I28: - | J28: - | K28: - | L28: - | M28: - | N28: -
A29: =LEFT(B29,5) -> 46000 | B29: 46000 Ministério da Gestão e da Inovação em Serviços Públicos | C29: - | D29: 111111 | E29: - | F29: - | G29: - | H29: - | I29: - | J29: - | K29: - | L29: - | M29: - | N29: -
A30: =LEFT(B30,5) -> 47000 | B30: 47000 Ministério do Planejamento e Orçamento | C30: - | D30: - | E30: - | F30: - | G30: - | H30: - | I30: - | J30: - | K30: - | L30: - | M30: - | N30: -
A31: =LEFT(B31,5) -> 49000 | B31: 49000 Ministério do Desenvolvimento Agrário e Agricultura Familiar | C31: - | D31: - | E31: - | F31: - | G31: - | H31: - | I31: - | J31: - | K31: - | L31: - | M31: - | N31: -
A32: =LEFT(B32,5) -> 51000 | B32: 51000 Ministério do Esporte | C32: - | D32: 72444041 | E32: - | F32: - | G32: - | H32: - | I32: - | J32: - | K32: - | L32: - | M32: - | N32: -
A33: =LEFT(B33,5) -> 52000 | B33: 52000 Ministério da Defesa | C33: - | D33: 14892352 | E33: - | F33: - | G33: - | H33: - | I33: - | J33: - | K33: - | L33: - | M33: - | N33: -
A34: =LEFT(B34,5) -> 53000 | B34: 53000 Ministério da Integração e do Desenvolvimento Regional | C34: - | D34: 158377778 | E34: - | F34: - | G34: - | H34: - | I34: - | J34: - | K34: - | L34: - | M34: - | N34: -
A35: =LEFT(B35,5) -> 53210 | B35: 53210 Agência Nacional de Águas e Saneamento Básico | C35: - | D35: - | E35: - | F35: - | G35: - | H35: - | I35: - | J35: - | K35: - | L35: - | M35: - | N35: -
A36: =LEFT(B36,5) -> 54000 | B36: 54000 Ministério do Turismo | C36: - | D36: 65961612 | E36: - | F36: - | G36: - | H36: - | I36: - | J36: - | K36: - | L36: - | M36: - | N36: -
A37: =LEFT(B37,5) -> 55000 | B37: 55000 Ministério do Desenvolvimento e Assistência Social, Família e Combate à Fome | C37: - | D37: 4536007 | E37: - | F37: - | G37: - | H37: - | I37: - | J37: - | K37: - | L37: - | M37: - | N37: -
A38: =LEFT(B38,5) -> 56000 | B38: 56000 Ministério das Cidades | C38: - | D38: 211609344 | E38: - | F38: - | G38: - | H38: - | I38: - | J38: - | K38: - | L38: - | M38: - | N38: -
A39: =LEFT(B39,5) -> 58000 | B39: 58000 Ministério da Pesca e Aquicultura | C39: - | D39: - | E39: - | F39: - | G39: - | H39: - | I39: - | J39: - | K39: - | L39: - | M39: - | N39: -
A40: =LEFT(B40,5) -> 60000 | B40: 60000 Gabinete da Vice-Presidência da República | C40: - | D40: - | E40: - | F40: - | G40: - | H40: - | I40: - | J40: - | K40: - | L40: - | M40: - | N40: -
A41: =LEFT(B41,5) -> 63000 | B41: 63000 Advocacia-Geral da União | C41: - | D41: - | E41: - | F41: - | G41: - | H41: - | I41: - | J41: - | K41: - | L41: - | M41: - | N41: -
A42: =LEFT(B42,5) -> 65000 | B42: 65000 Ministério das Mulheres | C42: - | D42: 16050937 | E42: - | F42: - | G42: - | H42: - | I42: - | J42: - | K42: - | L42: - | M42: - | N42: -
A43: =LEFT(B43,5) -> 67000 | B43: 67000 Ministério da Igualdade Racial | C43: - | D43: 333333 | E43: - | F43: - | G43: - | H43: - | I43: - | J43: - | K43: - | L43: - | M43: - | N43: -
A44: =LEFT(B44,5) -> 68000 | B44: 68000 Ministério de Portos e Aeroportos | C44: - | D44: 15716058 | E44: - | F44: - | G44: - | H44: - | I44: - | J44: - | K44: - | L44: - | M44: - | N44: -
A45: =LEFT(B45,5) -> 68201 | B45: 68201 Agência Nacional de Transportes Aquaviários | C45: - | D45: - | E45: - | F45: - | G45: - | H45: - | I45: - | J45: - | K45: - | L45: - | M45: - | N45: -
A46: =LEFT(B46,5) -> 68213 | B46: 68213 Agência Nacional de Aviação Civil | C46: - | D46: - | E46: - | F46: - | G46: - | H46: - | I46: - | J46: - | K46: - | L46: - | M46: - | N46: -
A47: =LEFT(B47,5) -> 69000 | B47: 69000 Ministério do Empreendedorismo, da Microempresa e da Empresa de Pequeno Porte | C47: - | D47: - | E47: - | F47: - | G47: - | H47: - | I47: - | J47: - | K47: - | L47: - | M47: - | N47: -
A48: =LEFT(B48,5) -> 81000 | B48: 81000 Ministério dos Direitos Humanos e Cidadania | C48: - | D48: 1639544 | E48: - | F48: - | G48: - | H48: - | I48: - | J48: - | K48: - | L48: - | M48: - | N48: -
A49: =LEFT(B49,5) -> 83000 | B49: 83000 Banco Central do Brasil | C49: - | D49: - | E49: - | F49: - | G49: - | H49: - | I49: - | J49: - | K49: - | L49: - | M49: - | N49: -
A50: =LEFT(B50,5) -> 84000 | B50: 84000 Ministério dos Povos Indígenas | C50: - | D50: 1039020 | E50: - | F50: - | G50: - | H50: - | I50: - | J50: - | K50: - | L50: - | M50: - | N50: -
A51: =LEFT(B51,7) -> Emendas | B51: Emendas de Comissão | C51: - | D51: - | E51: 1524958749 | F51: 2171023359 | G51: 2467087969 | H51: 9821212554 | I51: 9820097216 | J51: 9883410813 | K51: 10061202975 | L51: 10425838575 | M51: 11018474176 | N51: 8665278697
A52: =LEFT(B52,5) -> Total | B52: Total | C52: - | D52: 1227450276 | E52: =E51 -> 1524958749 | F52: =F51 -> 2171023359 | G52: =G51 -> 2467087969 | H52: =H51 -> 9821212554 | I52: =I51 -> 9820097216 | J52: =J51 -> 9883410813 | K52: =K51 -> 10061202975 | L52: =L51 -> 10425838575 | ... N52: =N51 -> 8665278697

Sheet Ane VI
B1: ANEXO VI - RP 1 OBRIGATÓRIAS FONTES TESOURO (R$ unidades)
B2: Órgãos/Unidades | C2: Até Jan | D2: Até Fev | E2: Até Mar | F2: Até Abr | G2: Até Mai | H2: Até Jun | I2: Até Jul | J2: Até Ago | K2: Até Set | L2: Até Out | M2: Até Nov | N2: Até Dez
A3: =LEFT(B3,5) -> 20000 | B3: 20000 Presidência da República | C3: - | D3: 18141655 | E3: 27212483 | F3: 36727754 | G3: 46243026 | H3: 62273039 | I3: 72874101 | J3: 83525163 | K3: 94176225 | L3: 104081381 | M3: 113986537 | N3: 125144702
A4: =LEFT(B4,5) -> 22000 | B4: 22000 Ministério da Agricultura e Pecuária | C4: - | D4: 50380089 | E4: 75570134 | F4: 105760179 | G4: 140950223 | H4: 174861501 | I4: 201505085 | J4: 228148668 | K4: 254792252 | L4: 260732022 | M4: 266671793 | N4: 355448689
A5: =LEFT(B5,5) -> 24000 | B5: 24000 Ministério da Ciência, Tecnologia e Inovação | C5: - | D5: 12610226 | E5: 18915339 | F5: 25231562 | G5: 31547786 | H5: 45463942 | I5: 53046822 | J5: 60629701 | K5: 68212580 | L5: 76307182 | M5: 84401785 | N5: 93719135
A6: =LEFT(B6,5) -> 25000 | B6: 25000 Ministério da Fazenda | C6: - | D6: 97192369 | E6: 145788553 | F6: 194940293 | G6: 244092033 | H6: 341953908 | I6: 399224004 | J6: 456494100 | K6: 513764196 | L6: 569803613 | M6: 625843030 | N6: 434121545
A7: =LEFT(B7,5) -> 26000 | B7: 26000 Ministério da Educação | C7: - | D7: 2028121290 | E7: 3042181935 | F7: 4056242580 | G7: 5070303225 | H7: 6557112784 | I7: 7649964914 | J7: 9962817045 | K7: 11075669175 | L7: 11844792966 | M7: 12613916757 | N7: 13310413719
A8: =LEFT(B8,5) -> 28000 | B8: 28000 Ministério do Desenvolvimento, Indústria, Comércio e Serviços | C8: - | D8: 3180996 | E8: 4771493 | F8: 6420476 | G8: 8069458 | H8: 13372250 | I8: 15630200 | J8: 17888151 | K8: 20146101 | L8: 22949774 | M8: 25753446 | N8: 28941909
A9: =LEFT(B9,5) -> 30000 | B9: 30000 Ministério da Justiça e Segurança Pública | C9: - | D9: 478006942 | E9: 707010413 | F9: 953184957 | G9: 1199359502 | H9: 1602060513 | I9: 1874322802 | J9: 2146585091 | K9: 2418847380 | L9: 2680507864 | M9: 2942168349 | N9: 3409113576
A10: =LEFT(B10,5) -> 30211 | B10: 30211 Conselho Administrativo de Defesa Econômica | C10: - | D10: 140503 | E10: 210755 | F10: 281006 | G10: 351258 | H10: 503019 | I10: 586856 | J10: 670692 | K10: 754529 | L10: 920881 | M10: 1087233 | N10: 1253585
A11: =LEFT(B11,5) -> 32000 | B11: 32000 Ministério de Minas e Energia | C11: - | D11: 15089091 | E11: 22633636 | F11: 31205882 | G11: 39778129 | H11: 51744446 | I11: 60882370 | J11: 70020295 | K11: 79158220 | L11: 90716307 | M11: 102274393 | N11: 116981895
A12: =LEFT(B12,5) -> 32265 | B12: 32265 Agência Nacional do Petróleo, Gás Natural e Biocombustíveis | C12: - | D12: 1583759 | E12: 2375638 | F12: 3167517 | G12: 3959397 | H12: 6200143 | I12: 7233500 | J12: 8266857 | K12: 9300215 | L12: 10353600 | M12: 11406986 | N12: 12493594
A13: =LEFT(B13,5) -> 32266 | B13: 32266 Agência Nacional de Energia Elétrica | C13: - | D13: 1154618 | E13: 1731927 | F13: 2312478 | G13: 2893029 | H13: 4379209 | I13: 5110698 | J13: 5842188 | K13: 6573677 | L13: 7311833 | M13: 8049989 | N13: 8788145
A14: =LEFT(B14,5) -> 32396 | B14: 32396 Agência Nacional de Mineração | C14: - | D14: 2489441 | E14: 3734162 | F14: 4978882 | G14: 6223603 | H14: 9162092 | I14: 10689107 | J14: 12216122 | K14: 13743137 | L14: 15463486 | M14: 17183834 | N14: 18954183
... A46: =LEFT(B46,5) -> 68213 | B46: 68213 Agência Nacional de Aviação Civil | C46: - | D46: 2527559 | E46: 3791338 | F46: 5084007 | G46: 6376675 | H46: 10102806 | I46: 11801052 | J46: 13499297 | K46: 15197543 | L46: 16932828 | M46: 18668114 | N46: 20403400
A47: =LEFT(B47,5) -> 69000 | B47: 69000 Ministério do Empreendedorismo, da Microempresa e da Empresa de Pequeno Porte | C47: - | D47: - | E47: - | F47: 63738 | G47: 127475 | H47: 341946 | I47: 430805 | J47: 519665 | K47: 608525 | L47: 784356 | M47: 960188 | N47: 1290019
A48: =LEFT(B48,5) -> 81000 | B48: 81000 Ministério dos Direitos Humanos e Cidadania | C48: - | D48: 751883 | E48: 1127825 | F48: 1520433 | G48: 1913042 | H48: 2446459 | I48: 2862535 | J48: 3278611 | K48: 3314269 | L48: 3349927 | M48: 3385584 | N48: 3541242
A49: =LEFT(B49,5) -> 83000 | B49: 83000 Banco Central do Brasil | C49: - | D49: 41487817 | E49: 62231725 | F49: 82975633 | G49: 108719542 | H49: 136922789 | I49: 158909921 | J49: 180897052 | K49: 202884184 | L49: 225288405 | M49: 246692626 | N49: 266918918
A50: =LEFT(B50,5) -> 84000 | B50: 84000 Ministério dos Povos Indígenas | C50: - | D50: 3250207 | E50: 4875311 | F50: 6500414 | G50: 8125518 | H50: 11817487 | I50: 13787068 | J50: 15756649 | K50: 17726230 | L50: 19795811 | M50: 21865392 | N50: 24014973
A51: =LEFT(B51,5) -> Total | B51: Total | C51: - | D51: 58947786718 | E51: 88721680076 | F51: 118189279717 | G51: 146772665938 | H51: 176982116165 | I51: 206383806906 | J51: 236988012550 | K51: 266176694371 | L51: 295177228634 | M51: 324176762898 | N51: 353251046941

Sheet Ane VII
B1: ANEXO VII - RP 1 OBRIGATÓRIAS FONTES PRÓPRIAS (R$ unidades)
B2: Órgãos/Unidades | C2: Até Jan | D2: Até Fev | E2: Até Mar | F2: Até Abr | G2: Até Mai | H2: Até Jun | I2: Até Jul | J2: Até Ago | K2: Até Set | L2: Até Out | M2: Até Nov | N2: Até Dez
A3: =LEFT(B3,5) -> 20000 | B3: 20000 Presidência da República | C3: - | D3: - | E3: - | F3: - | G3: - | H3: - | I3: - | J3: - | K3: - | L3: - | M3: - | N3: -
A4: =LEFT(B4,5) -> 22000 | B4: 22000 Ministério da Agricultura e Pecuária | C4: - | D4: - | E4: - | F4: - | G4: - | H4: - | I4: - | J4: - | K4: - | L4: - | M4: - | N4: -
A5: =LEFT(B5,5) -> 24000 | B5: 24000 Ministério da Ciência, Tecnologia e Inovação | C5: - | D5: - | E5: - | F5: - | G5: - | H5: - | I5: - | J5: - | K5: - | L5: - | M5: - | N5: -
A6: =LEFT(B6,5) -> 25000 | B6: 25000 Ministério da Fazenda | C6: - | D6: - | E6: - | F6: - | G6: - | H6: - | I6: - | J6: - | K6: - | L6: - | M6: - | N6: -
A7: =LEFT(B7,5) -> 26000 | B7: 26000 Ministério da Educação | C7: - | D7: 5423497 | E7: 8135245 | F7: 10846993 | G7: 13558742 | H7: 16270490 | I7: 18982238 | J7: 23693987 | K7: 26405735 | L7: 29117483 | M7: 30829232 | N7: 39540980
A8: =LEFT(B8,5) -> 28000 | B8: 28000 Ministério do Desenvolvimento, Indústria, Comércio e Serviços | C8: - | D8: 1823215 | E8: 2734823 | F8: 3646431 | G8: 4558038 | H8: 5469646 | I8: 6381254 | J8: 7292861 | K8: 8204469 | L8: 9116077 | M8: 10027684 | N8: 10939292
A9: =LEFT(B9,5) -> 30000 | B9: 30000 Ministério da Justiça e Segurança Pública | C9: - | D9: 33592127 | E9: 60388190 | F9: 77184254 | G9: 93980317 | H9: 110776381 | I9: 127572444 | J9: 144368507 | K9: 161164571 | L9: 177960634 | M9: 194756698 | N9: 211552761
A10: =LEFT(B10,5) -> 30211 | B10: 30211 Conselho Administrativo de Defesa Econômica | C10: - | D10: - | E10: - | F10: - | G10: - | H10: - | I10: - | J10: - | K10: - | L10: - | M10: - | N10: -
A11: =LEFT(B11,5) -> 32000 | B11: 32000 Ministério de Minas e Energia | C11: - | D11: - | E11: - | F11: - | G11: - | H11: - | I11: - | J11: - | K11: - | L11: - | M11: - | N11: -
A12: =LEFT(B12,5) -> 32265 | B12: 32265 Agência Nacional do Petróleo, Gás Natural e Biocombustíveis | C12: - | D12: - | E12: - | F12: - | G12: - | H12: - | I12: - | J12: - | K12: - | L12: - | M12: - | N12: -
A13: =LEFT(B13,5) -> 32266 | B13: 32266 Agência Nacional de Energia Elétrica | C13: - | D13: - | E13: - | F13: - | G13: - | H13: - | I13: - | J13: - | K13: - | L13: - | M13: - | N13: -
A14: =LEFT(B14,5) -> 32396 | B14: 32396 Agência Nacional de Mineração | C14: - | D14: - | E14: - | F14: - | G14: - | H14: - | I14: - | J14: - | K14: - | L14: - | M14: - | N14: -
A15: =LEFT(B15,5) -> 33000 | B15: 33000 Ministério da Previdência Social | C15: - | D15: 21810722 | E15: 32716083 | F15: 43621443 | G15: 54526804 | H15: 65432165 | I15: 76337526 | J15: 87242887 | K15: 98148248 | L15: 109053608 | M15: 119958969 | N15: 130864330
A16: =LEFT(B16,5) -> 35000 | B16: 35000 Ministério das Relações Exteriores | C16: - | D16: - | E16: - | F16: - | G16: - | H16: - | I16: - | J16: - | K16: - | L16: - | M16: - | N16: -
A17: =LEFT(B17,5) -> 36000 | B17: 36000 Ministério da Saúde | C17: - | D17: 51540553 | E17: 77310830 | F17: 103081106 | G17: 128851383 | H17: 154621659 | I17: 180391936 | J17: 206162212 | K17: 231932489 | L17: 257702765 | M17: 283473042 | N17: 309243318
A18: =LEFT(B18,5) -> 36212 | B18: 36212 Agência Nacional de Vigilância Sanitária | C18: - | D18: - | E18: - | F18: - | G18: - | H18: - | I18: - | J18: - | K18: - | L18: - | M18: - | N18: -
A19: =LEFT(B19,5) -> 36213 | B19: 36213 Agência Nacional de Saúde Suplementar | C19: - | D19: - | E19: - | F19: - | G19: - | H19: - | I19: - | J19: - | K19: - | L19: - | M19: - | N19: -
A20: =LEFT(B20,5) -> 37000 | B20: 37000 Controladoria-Geral da União | C20: - | D20: - | E20: - | F20: - | G20: - | H20: - | I20: - | J20: - | K20: - | L20: - | M20: - | N20: -
A21: =LEFT(B21,5) -> 39000 | B21: 39000 Ministério dos Transportes | C21: - | D21: - | E21: - | F21: - | G21: - | H21: - | I21: - | J21: - | K21: - | L21: - | M21: - | N21: -
A22: =LEFT(B22,5) -> 39250 | B22: 39250 Agência Nacional de Transportes Terrestres | C22: - | D22: - | E22: - | F22: - | G22: - | H22: - | I22: - | J22: - | K22: - | L22: - | M22: - | N22: -
A23: =LEFT(B23,5) -> 40000 | B23: 40000 Ministério do Trabalho e Emprego | C23: - | D23: - | E23: - | F23: - | G23: - | H23: - | I23: - | J23: - | K23: - | L23: - | M23: - | N23: -
A24: =LEFT(B24,5) -> 41000 | B24: 41000 Ministério das Comunicações | C24: - | D24: - | E24: - | F24: - | G24: - | H24: - | I24: - | J24: - | K24: - | L24: - | M24: - | N24: -
A25: =LEFT(B25,5) -> 41231 | B25: 41231 Agência Nacional de Telecomunicações | C25: - | D25: - | E25: - | F25: 827000 | G25: 827000 | H25: 827000 | I25: 5827000 | J25: 7827000 | K25: 10668471 | L25: 10668471 | M25: 10668471 | N25: 10668471
A26: =LEFT(B26,5) -> 42000 | B26: 42000 Ministério da Cultura | C26: - | D26: - | E26: - | F26: - | G26: - | H26: - | I26: - | J26: - | K26: - | L26: - | M26: - | N26: -
A27: =LEFT(B27,5) -> 42206 | B27: 42206 Agência Nacional do Cinema | C27: - | D27: - | E27: - | F27: - | G27: - | H27: - | I27: - | J27: - | K27: - | L27: - | M27: - | N27: -
A28: =LEFT(B28,5) -> 44000 | B28: 44000 Ministério do Meio Ambiente e Mudança do Clima | C28: - | D28: - | E28: - | F28: - | G28: - | H28: - | I28: - | J28: - | K28: - | L28: - | M28: - | N28: -
A29: =LEFT(B29,5) -> 46000 | B29: 46000 Ministério da Gestão e da Inovação em Serviços Públicos | C29: - | D29: - | E29: - | F29: - | G29: - | H29: - | I29: - | J29: - | K29: - | L29: - | M29: - | N29: -
A30: =LEFT(B30,5) -> 47000 | B30: 47000 Ministério do Planejamento e Orçamento | C30: - | D30: - | E30: - | F30: - | G30: - | H30: - | I30: - | J30: - | K30: - | L30: - | M30: - | N30: -
A31: =LEFT(B31,5) -> 49000 | B31: 49000 Ministério do Desenvolvimento Agrário e Agricultura Familiar | C31: - | D31: - | E31: - | F31: - | G31: - | H31: - | I31: - | J31: - | K31: - | L31: - | M31: - | N31: -
A32: =LEFT(B32,5) -> 51000 | B32: 51000 Ministério do Esporte | C32: - | D32: - | E32: - | F32: - | G32: - | H32: - | I32: - | J32: - | K32: - | L32: - | M32: - | N32: -
A33: =LEFT(B33,5) -> 52000 | B33: 52000 Ministério da Defesa | C33: - | D33: 898601976 | E33: 1347902964 | F33: 1922203952 | G33: 2291504940 | H33: 2720805928 | I33: 3140106916 | J33: 3589407904 | K33: 4088708892 | L33: 4588009880 | M33: 4977310868 | N33: 5556641595
A34: =LEFT(B34,5) -> 53000 | B34: 53000 Ministério da Integração e do Desenvolvimento Regional | C34: - | D34: - | E34: - | F34: - | G34: - | H34: - | I34: - | J34: - | K34: - | L34: - | M34: - | N34: -
A35: =LEFT(B35,5) -> 53210 | B35: 53210 Agência Nacional de Águas e Saneamento Básico | C35: - | D35: - | E35: - | F35: - | G35: - | H35: - | I35: - | J35: - | K35: - | L35: - | M35: - | N35: -
A36: =LEFT(B36,5) -> 54000 | B36: 54000 Ministério do Turismo | C36: - | D36: - | E36: - | F36: - | G36: - | H36: - | I36: - | J36: - | K36: - | L36: - | M36: - | N36: -
A37: =LEFT(B37,5) -> 55000 | B37: 55000 Ministério do Desenvolvimento e Assistência Social, Família e Combate à Fome | C37: - | D37: - | E37: - | F37: - | G37: - | H37: - | I37: - | J37: - | K37: - | L37: - | M37: - | N37: -
A38: =LEFT(B38,5) -> 56000 | B38: 56000 Ministério das Cidades | C38: - | D38: - | E38: - | F38: - | G38: - | H38: - | I38: - | J38: - | K38: - | L38: - | M38: - | N38: -
A39: =LEFT(B39,5) -> 58000 | B39: 58000 Ministério da Pesca e Aquicultura | C39: - | D39: - | E39: - | F39: - | G39: - | H39: - | I39: - | J39: - | K39: - | L39: - | M39: - | N39: -
A40: =LEFT(B40,5) -> 60000 | B40: 60000 Gabinete da Vice-Presidência da República | C40: - | D40: - | E40: - | F40: - | G40: - | H40: - | I40: - | J40: - | K40: - | L40: - | M40: - | N40: -
A41: =LEFT(B41,5) -> 63000 | B41: 63000 Advocacia-Geral da União | C41: - | D41: - | E41: - | F41: - | G41: - | H41: - | I41: - | J41: - | K41: - | L41: - | M41: - | N41: -
A42: =LEFT(B42,5) -> 65000 | B42: 65000 Ministério das Mulheres | C42: - | D42: - | E42: - | F42: - | G42: - | H42: - | I42: - | J42: - | K42: - | L42: - | M42: - | N42: -
A43: =LEFT(B43,5) -> 67000 | B43: 67000 Ministério da Igualdade Racial | C43: - | D43: - | E43: - | F43: - | G43: - | H43: - | I43: - | J43: - | K43: - | L43: - | M43: - | N43: -
A44: =LEFT(B44,5) -> 68000 | B44: 68000 Ministério de Portos e Aeroportos | C44: - | D44: 166667 | E44: 250000 | F44: 333333 | G44: 416667 | H44: 500000 | I44: 583333 | J44: 666667 | K44: 7255000 | L44: 7255000 | M44: 7255000 | N44: 7255000
A45: =LEFT(B45,5) -> 68201 | B45: 68201 Agência Nacional de Transportes Aquaviários | C45: - | D45: - | E45: - | F45: - | G45: - | H45: - | I45: - | J45: - | K45: - | L45: - | M45: - | N45: -
A46: =LEFT(B46,5) -> 68213 | B46: 68213 Agência Nacional de Aviação Civil | C46: - | D46: - | E46: - | F46: - | G46: - | H46: - | I46: - | J46: - | K46: - | L46: - | M46: - | N46: -
A47: =LEFT(B47,5) -> 69000 | B47: 69000 Ministério do Empreendedorismo, da Microempresa e da Empresa de Pequeno Porte | C47: - | D47: - | E47: - | F47: - | G47: - | H47: - | I47: - | J47: - | K47: - | L47: - | M47: - | N47: -
A48: =LEFT(B48,5) -> 81000 | B48: 81000 Ministério dos Direitos Humanos e Cidadania | C48: - | D48: - | E48: - | F48: - | G48: - | H48: - | I48: - | J48: - | K48: - | L48: - | M48: - | N48: -
A49: =LEFT(B49,5) -> 83000 | B49: 83000 Banco Central do Brasil | C49: - | D49: - | E49: - | F49: - | G49: - | H49: - | I49: - | J49: - | K49: - | L49: - | M49: - | N49: -
A50: =LEFT(B50,5) -> 84000 | B50: 84000 Ministério dos Povos Indígenas | C50: - | D50: - | E50: - | F50: - | G50: - | H50: - | I50: - | J50: - | K50: - | L50: - | M50: - | N50: -
A51: =LEFT(B51,5) -> Total | B51: Total | C51: - | D51: 1012958756 | E51: 1529438134 | F51: 2161744512 | G51: 2588223890 | H51: 3074703269 | I51: 3556182647 | J51: 4066662025 | K51: 4632487874 | L51: 5188883918 | M51: 5634279963 | N51: 6276705747
