Workbook
Name Nota_Técnica_nº_1.127_2013___GEPLA_COFIN_SUPOF_STN: #REF!

Sheet LISTA DE ANEXOS 2024
B1: Estrutura dos Anexos em 2024
B3: Anexo | C3: RP | D3: Nome RP | E3: Fontes | F3: Sujeitas ao Teto
B4: II | C4: 2 | D4: Discricionárias | E4: Tesouro | F4: S
B5: II-A | C5: 2 | D5: Discricionárias | E5: Tesouro | F5: N
B6: II-B | C6: 2 | D6: Discricionárias Ressalvadas | E6: Tesouro | F6: S
B7: II-C | C7: 3 | D7: Discricionárias PAC | E7: Tesouro | F7: S
B8: II-D | C8: 3 | D8: Discricionárias PAC Ressalvadas | E8: Tesouro | F8: S
B9: III | C9: 2 | D9: Discricionárias | E9: Próprias | F9: S
B10: III-A | C10: 2 | D10: Discricionárias | E10: Próprias | F10: N
B11: III-B | C11: 2 | D11: Discricionárias Ressalvadas | E11: Próprias | F11: S
B12: III-C | C12: 3 | D12: Discricionárias PAC | E12: Próprias | F12: S
B13: III-D | C13: 3 | D13: Discricionárias PAC Ressalvadas | E13: Próprias | F13: S
B14: IV | C14: 6 e 7 | D14: Emendas Individuais e de Bancada | E14: Tesouro
B15: V | C15: 8 | D15: Emendas de Comissão | E15: Tesouro
B16: VI | C16: 1 | D16: Obrigatórias com controle | E16: Tesouro
B17: VII | C17: 1 | D17: Obrigatórias com controle | E17: Próprias

Sheet Todos Anexos
A1: CHECK: TODOS OS ANEXOS ATÉ DEZ | B1: Até Dez | C1: Até Dez | D1: Até Dez | E1: Até Dez | F1: Até Dez | G1: Até Dez | H1: Até Dez | I1: Até Dez | J1: Até Dez | K1: Até Dez | L1: Até Dez | M1: Até Dez | N1: Até Dez | O1: Até Dez | P1: Até Dez
B2: Anexo II | C2: Anexo II-A | D2: Anexo II-B | E2: Anexo II-C | F2: Anexo II-D | G2: Anexo III | H2: Anexo III-A | I2: Anexo III-B | J2: Anexo III-C | K2: Anexo III-D | L2: Anexo IV | M2: Anexo V | N2: Anexo VI | O2: Anexo VII | P2: Total
A3: 20000 Presidência da República | B3: =SUMIF('Ane II'!$B:$B,$A3,'Ane II'!$N:$N) -> 1085801788 | C3: =SUMIF('Ane II-A'!$B:$B,$A3,'Ane II-A'!$N:$N) -> 0 | D3: =SUMIF('Ane II-B'!$B:$B,$A3,'Ane II-B'!$N:$N) -> 0 | E3: =SUMIF('Ane II-C'!$B:$B,$A3,'Ane II-C'!$N:$N) -> 16227258 | F3: =SUMIF('Ane II-D'!$B:$B,$A3,'Ane II-D'!$N:$N) -> 0 | G3: =SUMIF('Ane III'!$B:$B,$A3,'Ane III'!$N:$N) -> 133358710 | H3: =SUMIF('Ane III-A'!$B:$B,$A3,'Ane III-A'!$N:$N) -> 0 | I3: =SUMIF('Ane III-B'!$B:$B,$A3,'Ane III-B'!$N:$N) -> 0 | J3: =SUMIF('Ane III-C'!$B:$B,$A3,'Ane III-C'!$N:$N) -> 0 | K3: =SUMIF('Ane III-D'!$B:$B,$A3,'Ane III-D'!$N:$N) -> 0 | L3: =SUMIF('Ane IV'!$B:$B,$A3,'Ane IV'!$N:$N) -> 0 | M3: =SUMIF('Ane V'!$B:$B,$A3,'Ane V'!$N:$N) -> 0 | N3: =SUMIF('Ane VI'!$B:$B,$A3,'Ane VI'!$N:$N) -> 125144702 | O3: =SUMIF('Ane VII'!$B:$B,$A3,'Ane VII'!$N:$N) -> 0 | P3: =SUM(B3:O3) -> 1360532458
A4: 22000 Ministério da Agricultura e Pecuária | B4: =SUMIF('Ane II'!$B:$B,$A4,'Ane II'!$N:$N) -> 2101520936 | C4: =SUMIF('Ane II-A'!$B:$B,$A4,'Ane II-A'!$N:$N) -> 0 | D4: =SUMIF('Ane II-B'!$B:$B,$A4,'Ane II-B'!$N:$N) -> 148182353 | E4: =SUMIF('Ane II-C'!$B:$B,$A4,'Ane II-C'!$N:$N) -> 67162577 | F4: =SUMIF('Ane II-D'!$B:$B,$A4,'Ane II-D'!$N:$N) -> 0 | G4: =SUMIF('Ane III'!$B:$B,$A4,'Ane III'!$N:$N) -> 39369114 | H4: =SUMIF('Ane III-A'!$B:$B,$A4,'Ane III-A'!$N:$N) -> 134741944 | I4: =SUMIF('Ane III-B'!$B:$B,$A4,'Ane III-B'!$N:$N) -> 20320000 | J4: =SUMIF('Ane III-C'!$B:$B,$A4,'Ane III-C'!$N:$N) -> 0 | K4: =SUMIF('Ane III-D'!$B:$B,$A4,'Ane III-D'!$N:$N) -> 0 | L4: =SUMIF('Ane IV'!$B:$B,$A4,'Ane IV'!$N:$N) -> 0 | M4: =SUMIF('Ane V'!$B:$B,$A4,'Ane V'!$N:$N) -> 0 | N4: =SUMIF('Ane VI'!$B:$B,$A4,'Ane VI'!$N:$N) -> 355448689 | O4: =SUMIF('Ane VII'!$B:$B,$A4,'Ane VII'!$N:$N) -> 0 | P4: =SUM(B4:O4) -> 2.8667456e+09
A5: 24000 Ministério da Ciência, Tecnologia e Inovação | B5: =SUMIF('Ane II'!$B:$B,$A5,'Ane II'!$N:$N) -> 2798530247 | C5: =SUMIF('Ane II-A'!$B:$B,$A5,'Ane II-A'!$N:$N) -> 0 | D5: =SUMIF('Ane II-B'!$B:$B,$A5,'Ane II-B'!$N:$N) -> 2583937213 | E5: =SUMIF('Ane II-C'!$B:$B,$A5,'Ane II-C'!$N:$N) -> 0 | F5: =SUMIF('Ane II-D'!$B:$B,$A5,'Ane II-D'!$N:$N) -> 998791786 | G5: =SUMIF('Ane III'!$B:$B,$A5,'Ane III'!$N:$N) -> 101278322 | H5: =SUMIF('Ane III-A'!$B:$B,$A5,'Ane III-A'!$N:$N) -> 122297495 | I5: =SUMIF('Ane III-B'!$B:$B,$A5,'Ane III-B'!$N:$N) -> 1349022266 | J5: =SUMIF('Ane III-C'!$B:$B,$A5,'Ane III-C'!$N:$N) -> 0 | K5: =SUMIF('Ane III-D'!$B:$B,$A5,'Ane III-D'!$N:$N) -> 1182867539 | L5: =SUMIF('Ane IV'!$B:$B,$A5,'Ane IV'!$N:$N) -> 0 | M5: =SUMIF('Ane V'!$B:$B,$A5,'Ane V'!$N:$N) -> 0 | N5: =SUMIF('Ane VI'!$B:$B,$A5,'Ane VI'!$N:$N) -> 93719135 | O5: =SUMIF('Ane VII'!$B:$B,$A5,'Ane VII'!$N:$N) -> 0 | P5: =SUM(B5:O5) -> 9230444003
A6: 25000 Ministério da Fazenda | B6: =SUMIF('Ane II'!$B:$B,$A6,'Ane II'!$N:$N) -> 4235127714 | C6: =SUMIF('Ane II-A'!$B:$B,$A6,'Ane II-A'!$N:$N) -> 0 | D6: =SUMIF('Ane II-B'!$B:$B,$A6,'Ane II-B'!$N:$N) -> 0 | E6: =SUMIF('Ane II-C'!$B:$B,$A6,'Ane II-C'!$N:$N) -> 0 | F6: =SUMIF('Ane II-D'!$B:$B,$A6,'Ane II-D'!$N:$N) -> 0 | G6: =SUMIF('Ane III'!$B:$B,$A6,'Ane III'!$N:$N) -> 987607709 | H6: =SUMIF('Ane III-A'!$B:$B,$A6,'Ane III-A'!$N:$N) -> 0 | I6: =SUMIF('Ane III-B'!$B:$B,$A6,'Ane III-B'!$N:$N) -> 0 | J6: =SUMIF('Ane III-C'!$B:$B,$A6,'Ane III-C'!$N:$N) -> 0 | K6: =SUMIF('Ane III-D'!$B:$B,$A6,'Ane III-D'!$N:$N) -> 0 | L6: =SUMIF('Ane IV'!$B:$B,$A6,'Ane IV'!$N:$N) -> 0 | M6: =SUMIF('Ane V'!$B:$B,$A6,'Ane V'!$N:$N) -> 0 | N6: =SUMIF('Ane VI'!$B:$B,$A6,'Ane VI'!$N:$N) -> 434121545 | O6: =SUMIF('Ane VII'!$B:$B,$A6,'Ane VII'!$N:$N) -> 0 | P6: =SUM(B6:O6) -> 5656856968
A7: 26000 Ministério da Educação | B7: =SUMIF('Ane II'!$B:$B,$A7,'Ane II'!$N:$N) -> 25931633237 | C7: ='Ane II-A'!N7 -> 134490 | D7: =SUMIF('Ane II-B'!$B:$B,$A7,'Ane II-B'!$N:$N) -> 1500000 | E7: =SUMIF('Ane II-C'!$B:$B,$A7,'Ane II-C'!$N:$N) -> 1.0763984e+09 | F7: =SUMIF('Ane II-D'!$B:$B,$A7,'Ane II-D'!$N:$N) -> 0 | G7: =SUMIF('Ane III'!$B:$B,$A7,'Ane III'!$N:$N) -> 318712029 | H7: =SUMIF('Ane III-A'!$B:$B,$A7,'Ane III-A'!$N:$N) -> 1316012071 | I7: =SUMIF('Ane III-B'!$B:$B,$A7,'Ane III-B'!$N:$N) -> 405000000 | J7: =SUMIF('Ane III-C'!$B:$B,$A7,'Ane III-C'!$N:$N) -> 0 | K7: =SUMIF('Ane III-D'!$B:$B,$A7,'Ane III-D'!$N:$N) -> 0 | L7: =SUMIF('Ane IV'!$B:$B,$A7,'Ane IV'!$N:$N) -> 0 | M7: =SUMIF('Ane V'!$B:$B,$A7,'Ane V'!$N:$N) -> 0 | N7: =SUMIF('Ane VI'!$B:$B,$A7,'Ane VI'!$N:$N) -> 13310413719 | O7: =SUMIF('Ane VII'!$B:$B,$A7,'Ane VII'!$N:$N) -> 39540980 | P7: =SUM(B7:O7) -> 4.2399345e+10
A8: 28000 Ministério do Desenvolvimento, Indústria, Comércio e Serviços | B8: =SUMIF('Ane II'!$B:$B,$A8,'Ane II'!$N:$N) -> 483869153 | C8: =SUMIF('Ane II-A'!$B:$B,$A8,'Ane II-A'!$N:$N) -> 0 | D8: =SUMIF('Ane II-B'!$B:$B,$A8,'Ane II-B'!$N:$N) -> 0 | E8: =SUMIF('Ane II-C'!$B:$B,$A8,'Ane II-C'!$N:$N) -> 0 | F8: =SUMIF('Ane II-D'!$B:$B,$A8,'Ane II-D'!$N:$N) -> 0 | G8: =SUMIF('Ane III'!$B:$B,$A8,'Ane III'!$N:$N) -> 83154497 | H8: =SUMIF('Ane III-A'!$B:$B,$A8,'Ane III-A'!$N:$N) -> 206149983 | I8: =SUMIF('Ane III-B'!$B:$B,$A8,'Ane III-B'!$N:$N) -> 0 | J8: =SUMIF('Ane III-C'!$B:$B,$A8,'Ane III-C'!$N:$N) -> 0 | K8: =SUMIF('Ane III-D'!$B:$B,$A8,'Ane III-D'!$N:$N) -> 0 | L8: =SUMIF('Ane IV'!$B:$B,$A8,'Ane IV'!$N:$N) -> 0 | M8: =SUMIF('Ane V'!$B:$B,$A8,'Ane V'!$N:$N) -> 0 | N8: =SUMIF('Ane VI'!$B:$B,$A8,'Ane VI'!$N:$N) -> 28941909 | O8: =SUMIF('Ane VII'!$B:$B,$A8,'Ane VII'!$N:$N) -> 10939292 | P8: =SUM(B8:O8) -> 813054834
A9: 30000 Ministério da Justiça e Segurança Pública | B9: =SUMIF('Ane II'!$B:$B,$A9,'Ane II'!$N:$N) -> 2000511446 | C9: =SUMIF('Ane II-A'!$B:$B,$A9,'Ane II-A'!$N:$N) -> 0 | D9: =SUMIF('Ane II-B'!$B:$B,$A9,'Ane II-B'!$N:$N) -> 1116489506 | E9: =SUMIF('Ane II-C'!$B:$B,$A9,'Ane II-C'!$N:$N) -> 0 | F9: =SUMIF('Ane II-D'!$B:$B,$A9,'Ane II-D'!$N:$N) -> 0 | G9: =SUMIF('Ane III'!$B:$B,$A9,'Ane III'!$N:$N) -> 32721835 | H9: =SUMIF('Ane III-A'!$B:$B,$A9,'Ane III-A'!$N:$N) -> 0 | I9: =SUMIF('Ane III-B'!$B:$B,$A9,'Ane III-B'!$N:$N) -> 16942918 | J9: =SUMIF('Ane III-C'!$B:$B,$A9,'Ane III-C'!$N:$N) -> 0 | K9: =SUMIF('Ane III-D'!$B:$B,$A9,'Ane III-D'!$N:$N) -> 0 | L9: =SUMIF('Ane IV'!$B:$B,$A9,'Ane IV'!$N:$N) -> 0 | M9: =SUMIF('Ane V'!$B:$B,$A9,'Ane V'!$N:$N) -> 0 | N9: =SUMIF('Ane VI'!$B:$B,$A9,'Ane VI'!$N:$N) -> 3409113576 | O9: =SUMIF('Ane VII'!$B:$B,$A9,'Ane VII'!$N:$N) -> 211552761 | P9: =SUM(B9:O9) -> 6787332042
A10: 30211 Conselho Administrativo de Defesa Econômica | B10: =SUMIF('Ane II'!$B:$B,$A10,'Ane II'!$N:$N) -> 2569103 | C10: =SUMIF('Ane II-A'!$B:$B,$A10,'Ane II-A'!$N:$N) -> 0 | D10: =SUMIF('Ane II-B'!$B:$B,$A10,'Ane II-B'!$N:$N) -> 0 | E10: =SUMIF('Ane II-C'!$B:$B,$A10,'Ane II-C'!$N:$N) -> 0 | F10: =SUMIF('Ane II-D'!$B:$B,$A10,'Ane II-D'!$N:$N) -> 0 | G10: =SUMIF('Ane III'!$B:$B,$A10,'Ane III'!$N:$N) -> 38820248 | H10: =SUMIF('Ane III-A'!$B:$B,$A10,'Ane III-A'!$N:$N) -> 0 | I10: =SUMIF('Ane III-B'!$B:$B,$A10,'Ane III-B'!$N:$N) -> 0 | J10: =SUMIF('Ane III-C'!$B:$B,$A10,'Ane III-C'!$N:$N) -> 0 | K10: =SUMIF('Ane III-D'!$B:$B,$A10,'Ane III-D'!$N:$N) -> 0 | L10: =SUMIF('Ane IV'!$B:$B,$A10,'Ane IV'!$N:$N) -> 0 | M10: =SUMIF('Ane V'!$B:$B,$A10,'Ane V'!$N:$N) -> 0 | N10: =SUMIF('Ane VI'!$B:$B,$A10,'Ane VI'!$N:$N) -> 1253585 | O10: =SUMIF('Ane VII'!$B:$B,$A10,'Ane VII'!$N:$N) -> 0 | P10: =SUM(B10:O10) -> 42642936
A11: 32000 Ministério de Minas e Energia | B11: =SUMIF('Ane II'!$B:$B,$A11,'Ane II'!$N:$N) -> 343274375 | C11: =SUMIF('Ane II-A'!$B:$B,$A11,'Ane II-A'!$N:$N) -> 0 | D11: =SUMIF('Ane II-B'!$B:$B,$A11,'Ane II-B'!$N:$N) -> 0 | E11: =SUMIF('Ane II-C'!$B:$B,$A11,'Ane II-C'!$N:$N) -> 50911744 | F11: =SUMIF('Ane II-D'!$B:$B,$A11,'Ane II-D'!$N:$N) -> 0 | G11: =SUMIF('Ane III'!$B:$B,$A11,'Ane III'!$N:$N) -> 51377164 | H11: =SUMIF('Ane III-A'!$B:$B,$A11,'Ane III-A'!$N:$N) -> 0 | I11: =SUMIF('Ane III-B'!$B:$B,$A11,'Ane III-B'!$N:$N) -> 0 | J11: =SUMIF('Ane III-C'!$B:$B,$A11,'Ane III-C'!$N:$N) -> 2053214 | K11: =SUMIF('Ane III-D'!$B:$B,$A11,'Ane III-D'!$N:$N) -> 0 | L11: =SUMIF('Ane IV'!$B:$B,$A11,'Ane IV'!$N:$N) -> 0 | M11: =SUMIF('Ane V'!$B:$B,$A11,'Ane V'!$N:$N) -> 0 | N11: =SUMIF('Ane VI'!$B:$B,$A11,'Ane VI'!$N:$N) -> 116981895 | O11: =SUMIF('Ane VII'!$B:$B,$A11,'Ane VII'!$N:$N) -> 0 | P11: =SUM(B11:O11) -> 5.6459839e+08
A12: 32265 Agência Nacional do Petróleo, Gás Natural e Biocombustíveis | B12: =SUMIF('Ane II'!$B:$B,$A12,'Ane II'!$N:$N) -> 36616632 | C12: =SUMIF('Ane II-A'!$B:$B,$A12,'Ane II-A'!$N:$N) -> 0 | D12: =SUMIF('Ane II-B'!$B:$B,$A12,'Ane II-B'!$N:$N) -> 0 | E12: =SUMIF('Ane II-C'!$B:$B,$A12,'Ane II-C'!$N:$N) -> 0 | F12: =SUMIF('Ane II-D'!$B:$B,$A12,'Ane II-D'!$N:$N) -> 0 | G12: =SUMIF('Ane III'!$B:$B,$A12,'Ane III'!$N:$N) -> 103035531 | H12: =SUMIF('Ane III-A'!$B:$B,$A12,'Ane III-A'!$N:$N) -> 0 | I12: =SUMIF('Ane III-B'!$B:$B,$A12,'Ane III-B'!$N:$N) -> 0 | J12: =SUMIF('Ane III-C'!$B:$B,$A12,'Ane III-C'!$N:$N) -> 0 | K12: =SUMIF('Ane III-D'!$B:$B,$A12,'Ane III-D'!$N:$N) -> 0 | L12: =SUMIF('Ane IV'!$B:$B,$A12,'Ane IV'!$N:$N) -> 0 | M12: =SUMIF('Ane V'!$B:$B,$A12,'Ane V'!$N:$N) -> 0 | N12: =SUMIF('Ane VI'!$B:$B,$A12,'Ane VI'!$N:$N) -> 12493594 | O12: =SUMIF('Ane VII'!$B:$B,$A12,'Ane VII'!$N:$N) -> 0 | P12: =SUM(B12:O12) -> 152145757
A13: 32266 Agência Nacional de Energia Elétrica | B13: =SUMIF('Ane II'!$B:$B,$A13,'Ane II'!$N:$N) -> 155849537 | C13: =SUMIF('Ane II-A'!$B:$B,$A13,'Ane II-A'!$N:$N) -> 0 | D13: =SUMIF('Ane II-B'!$B:$B,$A13,'Ane II-B'!$N:$N) -> 0 | E13: =SUMIF('Ane II-C'!$B:$B,$A13,'Ane II-C'!$N:$N) -> 0 | F13: =SUMIF('Ane II-D'!$B:$B,$A13,'Ane II-D'!$N:$N) -> 0 | G13: =SUMIF('Ane III'!$B:$B,$A13,'Ane III'!$N:$N) -> 0 | H13: =SUMIF('Ane III-A'!$B:$B,$A13,'Ane III-A'!$N:$N) -> 0 | I13: =SUMIF('Ane III-B'!$B:$B,$A13,'Ane III-B'!$N:$N) -> 0 | J13: =SUMIF('Ane III-C'!$B:$B,$A13,'Ane III-C'!$N:$N) -> 0 | K13: =SUMIF('Ane III-D'!$B:$B,$A13,'Ane III-D'!$N:$N) -> 0 | L13: =SUMIF('Ane IV'!$B:$B,$A13,'Ane IV'!$N:$N) -> 0 | M13: =SUMIF('Ane V'!$B:$B,$A13,'Ane V'!$N:$N) -> 0 | N13: =SUMIF('Ane VI'!$B:$B,$A13,'Ane VI'!$N:$N) -> 8788145 | O13: =SUMIF('Ane VII'!$B:$B,$A13,'Ane VII'!$N:$N) -> 0 | P13: =SUM(B13:O13) -> 164637682
A14: 32396 Agência Nacional de Mineração | B14: =SUMIF('Ane II'!$B:$B,$A14,'Ane II'!$N:$N) -> 105210060 | C14: =SUMIF('Ane II-A'!$B:$B,$A14,'Ane II-A'!$N:$N) -> 0 | D14: =SUMIF('Ane II-B'!$B:$B,$A14,'Ane II-B'!$N:$N) -> 0 | E14: =SUMIF('Ane II-C'!$B:$B,$A14,'Ane II-C'!$N:$N) -> 0 | F14: =SUMIF('Ane II-D'!$B:$B,$A14,'Ane II-D'!$N:$N) -> 0 | G14: =SUMIF('Ane III'!$B:$B,$A14,'Ane III'!$N:$N) -> 0 | H14: =SUMIF('Ane III-A'!$B:$B,$A14,'Ane III-A'!$N:$N) -> 0 | I14: =SUMIF('Ane III-B'!$B:$B,$A14,'Ane III-B'!$N:$N) -> 0 | J14: =SUMIF('Ane III-C'!$B:$B,$A14,'Ane III-C'!$N:$N) -> 0 | K14: =SUMIF('Ane III-D'!$B:$B,$A14,'Ane III-D'!$N:$N) -> 0 | L14: =SUMIF('Ane IV'!$B:$B,$A14,'Ane IV'!$N:$N) -> 0 | M14: =SUMIF('Ane V'!$B:$B,$A14,'Ane V'!$N:$N) -> 0 | N14: =SUMIF('Ane VI'!$B:$B,$A14,'Ane VI'!$N:$N) -> 18954183 | O14: =SUMIF('Ane VII'!$B:$B,$A14,'Ane VII'!$N:$N) -> 0 | P14: =SUM(B14:O14) -> 124164243
A15: 33000 Ministério da Previdência Social | B15: =SUMIF('Ane II'!$B:$B,$A15,'Ane II'!$N:$N) -> 105379425 | C15: =SUMIF('Ane II-A'!$B:$B,$A15,'Ane II-A'!$N:$N) -> 0 | D15: =SUMIF('Ane II-B'!$B:$B,$A15,'Ane II-B'!$N:$N) -> 0 | E15: =SUMIF('Ane II-C'!$B:$B,$A15,'Ane II-C'!$N:$N) -> 0 | F15: =SUMIF('Ane II-D'!$B:$B,$A15,'Ane II-D'!$N:$N) -> 0 | G15: =SUMIF('Ane III'!$B:$B,$A15,'Ane III'!$N:$N) -> 1836100086 | H15: =SUMIF('Ane III-A'!$B:$B,$A15,'Ane III-A'!$N:$N) -> 0 | I15: =SUMIF('Ane III-B'!$B:$B,$A15,'Ane III-B'!$N:$N) -> 0 | J15: =SUMIF('Ane III-C'!$B:$B,$A15,'Ane III-C'!$N:$N) -> 0 | K15: =SUMIF('Ane III-D'!$B:$B,$A15,'Ane III-D'!$N:$N) -> 0 | L15: =SUMIF('Ane IV'!$B:$B,$A15,'Ane IV'!$N:$N) -> 0 | M15: =SUMIF('Ane V'!$B:$B,$A15,'Ane V'!$N:$N) -> 0 | N15: =SUMIF('Ane VI'!$B:$B,$A15,'Ane VI'!$N:$N) -> 356947272 | O15: =SUMIF('Ane VII'!$B:$B,$A15,'Ane VII'!$N:$N) -> 130864330 | P15: =SUM(B15:O15) -> 2429291113
A16: 35000 Ministério das Relações Exteriores | B16: =SUMIF('Ane II'!$B:$B,$A16,'Ane II'!$N:$N) -> 2123587261 | C16: =SUMIF('Ane II-A'!$B:$B,$A16,'Ane II-A'!$N:$N) -> 0 | D16: =SUMIF('Ane II-B'!$B:$B,$A16,'Ane II-B'!$N:$N) -> 0 | E16: =SUMIF('Ane II-C'!$B:$B,$A16,'Ane II-C'!$N:$N) -> 0 | F16: =SUMIF('Ane II-D'!$B:$B,$A16,'Ane II-D'!$N:$N) -> 0 | G16: =SUMIF('Ane III'!$B:$B,$A16,'Ane III'!$N:$N) -> 14004893 | H16: =SUMIF('Ane III-A'!$B:$B,$A16,'Ane III-A'!$N:$N) -> 0 | I16: =SUMIF('Ane III-B'!$B:$B,$A16,'Ane III-B'!$N:$N) -> 0 | J16: =SUMIF('Ane III-C'!$B:$B,$A16,'Ane III-C'!$N:$N) -> 0 | K16: =SUMIF('Ane III-D'!$B:$B,$A16,'Ane III-D'!$N:$N) -> 0 | L16: =SUMIF('Ane IV'!$B:$B,$A16,'Ane IV'!$N:$N) -> 0 | M16: =SUMIF('Ane V'!$B:$B,$A16,'Ane V'!$N:$N) -> 0 | N16: =SUMIF('Ane VI'!$B:$B,$A16,'Ane VI'!$N:$N) -> 831791860 | O16: =SUMIF('Ane VII'!$B:$B,$A16,'Ane VII'!$N:$N) -> 0 | P16: =SUM(B16:O16) -> 2969384014
A17: 36000 Ministério da Saúde | B17: =SUMIF('Ane II'!$B:$B,$A17,'Ane II'!$N:$N) -> 27762562505 | C17: =SUMIF('Ane II-A'!$B:$B,$A17,'Ane II-A'!$N:$N) -> 0 | D17: =SUMIF('Ane II-B'!$B:$B,$A17,'Ane II-B'!$N:$N) -> 0 | E17: =SUMIF('Ane II-C'!$B:$B,$A17,'Ane II-C'!$N:$N) -> 9.3607168e+08 | F17: =SUMIF('Ane II-D'!$B:$B,$A17,'Ane II-D'!$N:$N) -> 0 | G17: =SUMIF('Ane III'!$B:$B,$A17,'Ane III'!$N:$N) -> 192134340 | H17: =SUMIF('Ane III-A'!$B:$B,$A17,'Ane III-A'!$N:$N) -> 21262521 | I17: =SUMIF('Ane III-B'!$B:$B,$A17,'Ane III-B'!$N:$N) -> 0 | J17: =SUMIF('Ane III-C'!$B:$B,$A17,'Ane III-C'!$N:$N) -> 0 | K17: =SUMIF('Ane III-D'!$B:$B,$A17,'Ane III-D'!$N:$N) -> 0 | L17: =SUMIF('Ane IV'!$B:$B,$A17,'Ane IV'!$N:$N) -> 0 | M17: =SUMIF('Ane V'!$B:$B,$A17,'Ane V'!$N:$N) -> 0 | N17: =SUMIF('Ane VI'!$B:$B,$A17,'Ane VI'!$N:$N) -> 154047215575 | O17: =SUMIF('Ane VII'!$B:$B,$A17,'Ane VII'!$N:$N) -> 309243318 | P17: =SUM(B17:O17) -> 1.8326849e+11
A18: 36212 Agência Nacional de Vigilância Sanitária | B18: =SUMIF('Ane II'!$B:$B,$A18,'Ane II'!$N:$N) -> 197060841 | C18: =SUMIF('Ane II-A'!$B:$B,$A18,'Ane II-A'!$N:$N) -> 0 | D18: =SUMIF('Ane II-B'!$B:$B,$A18,'Ane II-B'!$N:$N) -> 0 | E18: =SUMIF('Ane II-C'!$B:$B,$A18,'Ane II-C'!$N:$N) -> 0 | F18: =SUMIF('Ane II-D'!$B:$B,$A18,'Ane II-D'!$N:$N) -> 0 | G18: =SUMIF('Ane III'!$B:$B,$A18,'Ane III'!$N:$N) -> 3951702 | H18: =SUMIF('Ane III-A'!$B:$B,$A18,'Ane III-A'!$N:$N) -> 0 | I18: =SUMIF('Ane III-B'!$B:$B,$A18,'Ane III-B'!$N:$N) -> 0 | J18: =SUMIF('Ane III-C'!$B:$B,$A18,'Ane III-C'!$N:$N) -> 0 | K18: =SUMIF('Ane III-D'!$B:$B,$A18,'Ane III-D'!$N:$N) -> 0 | L18: =SUMIF('Ane IV'!$B:$B,$A18,'Ane IV'!$N:$N) -> 0 | M18: =SUMIF('Ane V'!$B:$B,$A18,'Ane V'!$N:$N) -> 0 | N18: =SUMIF('Ane VI'!$B:$B,$A18,'Ane VI'!$N:$N) -> 23671697 | O18: =SUMIF('Ane VII'!$B:$B,$A18,'Ane VII'!$N:$N) -> 0 | P18: =SUM(B18:O18) -> 224684240
A19: 36213 Agência Nacional de Saúde Suplementar | B19: =SUMIF('Ane II'!$B:$B,$A19,'Ane II'!$N:$N) -> 100081326 | C19: =SUMIF('Ane II-A'!$B:$B,$A19,'Ane II-A'!$N:$N) -> 0 | D19: =SUMIF('Ane II-B'!$B:$B,$A19,'Ane II-B'!$N:$N) -> 0 | E19: =SUMIF('Ane II-C'!$B:$B,$A19,'Ane II-C'!$N:$N) -> 0 | F19: =SUMIF('Ane II-D'!$B:$B,$A19,'Ane II-D'!$N:$N) -> 0 | G19: =SUMIF('Ane III'!$B:$B,$A19,'Ane III'!$N:$N) -> 1900000 | H19: =SUMIF('Ane III-A'!$B:$B,$A19,'Ane III-A'!$N:$N) -> 0 | I19: =SUMIF('Ane III-B'!$B:$B,$A19,'Ane III-B'!$N:$N) -> 0 | J19: =SUMIF('Ane III-C'!$B:$B,$A19,'Ane III-C'!$N:$N) -> 0 | K19: =SUMIF('Ane III-D'!$B:$B,$A19,'Ane III-D'!$N:$N) -> 0 | L19: =SUMIF('Ane IV'!$B:$B,$A19,'Ane IV'!$N:$N) -> 0 | M19: =SUMIF('Ane V'!$B:$B,$A19,'Ane V'!$N:$N) -> 0 | N19: =SUMIF('Ane VI'!$B:$B,$A19,'Ane VI'!$N:$N) -> 8629910 | O19: =SUMIF('Ane VII'!$B:$B,$A19,'Ane VII'!$N:$N) -> 0 | P19: =SUM(B19:O19) -> 110611236
... A50: 84000 Ministério dos Povos Indígenas | B50: =SUMIF('Ane II'!$B:$B,$A50,'Ane II'!$N:$N) -> 91455757 | C50: =SUMIF('Ane II-A'!$B:$B,$A50,'Ane II-A'!$N:$N) -> 0 | D50: =SUMIF('Ane II-B'!$B:$B,$A50,'Ane II-B'!$N:$N) -> 336913213 | E50: =SUMIF('Ane II-C'!$B:$B,$A50,'Ane II-C'!$N:$N) -> 0 | F50: =SUMIF('Ane II-D'!$B:$B,$A50,'Ane II-D'!$N:$N) -> 0 | G50: =SUMIF('Ane III'!$B:$B,$A50,'Ane III'!$N:$N) -> 0 | H50: =SUMIF('Ane III-A'!$B:$B,$A50,'Ane III-A'!$N:$N) -> 0 | I50: =SUMIF('Ane III-B'!$B:$B,$A50,'Ane III-B'!$N:$N) -> 315313 | J50: =SUMIF('Ane III-C'!$B:$B,$A50,'Ane III-C'!$N:$N) -> 0 | K50: =SUMIF('Ane III-D'!$B:$B,$A50,'Ane III-D'!$N:$N) -> 0 | L50: =SUMIF('Ane IV'!$B:$B,$A50,'Ane IV'!$N:$N) -> 0 | M50: =SUMIF('Ane V'!$B:$B,$A50,'Ane V'!$N:$N) -> 0 | N50: =SUMIF('Ane VI'!$B:$B,$A50,'Ane VI'!$N:$N) -> 24014973 | O50: =SUMIF('Ane VII'!$B:$B,$A50,'Ane VII'!$N:$N) -> 0 | P50: =SUM(B50:O50) -> 452699256
A51: Total | B51: ='Ane II'!N51 -> 104055700771 | C51: =SUM(C3:C50) -> 15634490 | D51: =SUM(D3:D50) -> 5087291852 | E51: =SUM(E3:E50) -> 2.624905e+10 | F51: =SUM(F3:F50) -> 998797304 | G51: =SUM(G3:G50) -> 7175077415 | H51: =SUM(H3:H50) -> 1887851040 | I51: =SUM(I3:I50) -> 2199978742 | J51: =SUM(J3:J50) -> 2194707265 | ... L51: =SUM(L3:L50) -> 0 | M51: ='Ane V'!N51 -> 8665278697 | N51: =SUM(N3:N50) -> 353251046941 | O51: =SUM(O3:O50) -> 6276705747 | P51: =SUM(P3:P50) -> 5.1057471e+11
A52: Demais Emendas Individuais | L52: ='Ane IV'!N3 -> 25068535273 | P52: =SUM(B52:O52) -> 25068535273
A53: Emendas Impositivas de Bancada | L53: =SUMIF('Ane IV'!$B:$B,$A53,'Ane IV'!$N:$N) -> 8557191891 | P53: =SUM(B53:O53) -> 8557191891
A54: Emendas de Comissão - RP8 | L54: ='Ane V'!N52 -> 8665278697 | P54: =SUM(B54:O54) -> 8665278697
A55: Subtotal | B55: =SUM(B52:B53) -> 0 | L55: =SUM(L52:L53) -> 33625727164 | M55: =SUM(M52:M53) -> 0 | N55: =SUM(N52:N53) -> 0 | O55: =SUM(O52:O53) -> 0 | P55: =SUM(P52:P54) -> 42291005861
A56: Total | B56: =B51+B55 -> 104055700771 | C56: =C51+C55 -> 15634490 | D56: =D51+D55 -> 5087291852 | E56: =E51+E55 -> 2.624905e+10 | F56: =F51+F55 -> 998797304 | G56: =G51+G55 -> 7175077415 | H56: =H51+H55 -> 1887851040 | I56: =I51+I55 -> 2199978742 | ... P56: =P51+P55 -> 5.5286572e+11

Sheet Ane II
B1: ANEXO II - RP 2 e 9 DISCRICIONÁRIAS FONTES TESOURO (R$ unidades)
B2: Órgãos/Unidades | C2: Até Jan | D2: Até Fev | E2: Até Mar | F2: Até Abr | G2: Até Mai | H2: Até Jun | I2: Até Jul | J2: Até Ago | K2: Até Set | L2: Até Out | M2: Até Nov | N2: Até Dez
A3: =LEFT(B3,5) -> 20000 | B3: 20000 Presidência da República | C3: - | D3: 168690160 | E3: 245406980 | F3: 371579237 | G3: 439801876 | H3: 503924022 | I3: 574440914 | J3: 661563806 | K3: 765778910 | L3: 850365599 | M3: 937902289 | N3: 1085801788
A4: =LEFT(B4,5) -> 22000 | B4: 22000 Ministério da Agricultura e Pecuária | C4: - | D4: 224538145 | E4: 396894297 | F4: 647212357 | G4: 782258203 | H4: 896649675 | I4: 1068497044 | J4: 1220344413 | K4: 1372191782 | L4: 1521401663 | M4: 1670611544 | N4: 2101520936
A5: =LEFT(B5,5) -> 24000 | B5: 24000 Ministério da Ciência, Tecnologia e Inovação | C5: - | D5: 739078541 | E5: 1169054885 | F5: 1278635092 | G5: 1353215298 | H5: 1486353743 | I5: 1603853629 | J5: 1721353515 | K5: 1938853402 | L5: 2188740086 | M5: 2438626771 | N5: 2798530247
A6: =LEFT(B6,5) -> 25000 | B6: 25000 Ministério da Fazenda | C6: - | D6: 562157664 | E6: 861186618 | F6: 1216136065 | G6: 1520170081 | H6: 1871402189 | I6: 2100672994 | J6: 2329943799 | K6: 2559214604 | L6: 2990053604 | M6: 3562054238 | N6: 4235127714
A7: =LEFT(B7,5) -> 26000 | B7: 26000 Ministério da Educação | C7: - | D7: 3984154729 | E7: 6714355582 | F7: 8670895759 | G7: 10829436864 | H7: 14250875892 | I7: 16134160263 | J7: 18017444633 | K7: 19900729003 | L7: 22774794971 | M7: 25664601266 | N7: 25931633237
A8: =LEFT(B8,5) -> 28000 | B8: 28000 Ministério do Desenvolvimento, Indústria, Comércio e Serviços | C8: - | D8: 60513201 | E8: 88308967 | F8: 123998367 | G8: 184687767 | H8: 230373851 | I8: 266062648 | J8: 301751446 | K8: 337440243 | L8: 386421875 | M8: 435403508 | N8: 483869153
A9: =LEFT(B9,5) -> 30000 | B9: 30000 Ministério da Justiça e Segurança Pública | C9: - | D9: 345982232 | E9: 634282853 | F9: 830059909 | G9: 1037824886 | H9: 1250315663 | I9: 1408187237 | J9: 1616058810 | K9: 1923930383 | L9: 2241401542 | M9: 2463372702 | N9: 2000511446
A10: =LEFT(B10,5) -> 30211 | B10: 30211 Conselho Administrativo de Defesa Econômica | C10: - | D10: 285456 | E10: 428184 | F10: 599457 | G10: 770731 | H10: 942004 | I10: 1113278 | J10: 1284552 | K10: 1455825 | L10: 1826918 | M10: 2198010 | N10: 2569103
A11: =LEFT(B11,5) -> 32000 | B11: 32000 Ministério de Minas e Energia | C11: - | D11: 42760464 | E11: 68568325 | F11: 116423655 | G11: 157947856 | H11: 190568269 | I11: 217788681 | J11: 235009094 | K11: 255229506 | L11: 295482298 | M11: 335735090 | N11: 343274375
A12: =LEFT(B12,5) -> 32265 | B12: 32265 Agência Nacional do Petróleo, Gás Natural e Biocombustíveis | C12: - | D12: 3935270 | E12: 6036086 | F12: 8450520 | G12: 10864954 | H12: 15779389 | I12: 18193823 | J12: 22376300 | K12: 25790735 | L12: 30522009 | M12: 33485241 | N12: 36616632
A13: =LEFT(B13,5) -> 32266 | B13: 32266 Agência Nacional de Energia Elétrica | C13: - | D13: 16335978 | E13: 24781789 | F13: 37694504 | G13: 50607220 | H13: 68019935 | I13: 77932651 | J13: 91205863 | K13: 101118578 | L13: 115815730 | M13: 130512881 | N13: 155849537
A14: =LEFT(B14,5) -> 32396 | B14: 32396 Agência Nacional de Mineração | C14: - | D14: 10668283 | E14: 21127599 | F14: 32455198 | G14: 40568997 | H14: 47668037 | I14: 53767076 | J14: 62321708 | K14: 68420747 | L14: 81269049 | M14: 92511758 | N14: 105210060
... A27: =LEFT(B27,5) -> 42206 | B27: 42206 Agência Nacional do Cinema | C27: - | D27: 4817888 | E27: 7547646 | F27: 10566704 | G27: 13585763 | H27: 16604821 | I27: 19623880 | J27: 22642938 | K27: 25661996 | L27: 30713024 | M27: 35764052 | N27: 40248080
A28: =LEFT(B28,5) -> 44000 | B28: 44000 Ministério do Meio Ambiente e Mudança do Clima | C28: - | D28: 81667769 | E28: 136536939 | F28: 230111714 | G28: 322182490 | H28: 391084081 | I28: 444653524 | J28: 523222966 | K28: - | L28: - | M28: - | N28: 282877636
A29: =LEFT(B29,5) -> 46000 | B29: 46000 Ministério da Gestão e da Inovação em Serviços Públicos | C29: - | D29: 98878155 | E29: 224315887 | F29: 327938359 | G29: 390760831 | H29: 493652765 | I29: 559215140 | J29: 662777514 | K29: 728339889 | L29: 871081425 | M29: 986322962 | N29: 1177569650
A30: =LEFT(B30,5) -> 47000 | B30: 47000 Ministério do Planejamento e Orçamento | C30: - | D30: 91460266 | E30: 156536814 | F30: 216183659 | G30: 275830505 | H30: 349080133 | I30: 410929212 | J30: 473049291 | K30: 635169370 | L30: 782165549 | M30: 870270479 | N30: 949484158
A31: =LEFT(B31,5) -> 49000 | B31: 49000 Ministério do Desenvolvimento Agrário e Agricultura Familiar | C31: - | D31: 124450162 | E31: 216840316 | F31: 303576442 | G31: 390312568 | H31: 477012028 | I31: 498053487 | J31: 584782947 | K31: 671512407 | L31: 999419873 | M31: 1212327340 | N31: 1121129061
A32: =LEFT(B32,5) -> 51000 | B32: 51000 Ministério do Esporte | C32: - | D32: 42832972 | E32: 67189387 | F32: 136665142 | G32: 154881819 | H32: 180093335 | I32: 268564850 | J32: 292036365 | K32: 345507881 | L32: 395553506 | M32: 445599131 | N32: 495644756
A33: =LEFT(B33,5) -> 52000 | B33: 52000 Ministério da Defesa | C33: - | D33: 998045186 | E33: 1257148767 | F33: 2042392628 | G33: 2338276487 | H33: 2854640796 | I33: 3264667692 | J33: 3661181449 | K33: 4042300845 | L33: 4498413892 | M33: 5034723938 | N33: 5119083555
A34: =LEFT(B34,5) -> 53000 | B34: 53000 Ministério da Integração e do Desenvolvimento Regional | C34: - | D34: 337480455 | E34: 869980113 | F34: 1169985976 | G34: 1528913031 | H34: 2161606208 | I34: 2641904526 | J34: 2972202845 | K34: 2984539504 | L34: 3016527178 | M34: 3655431013 | N34: 4584579317
A35: =LEFT(B35,5) -> 53210 | B35: 53210 Agência Nacional de Águas e Saneamento Básico | C35: - | D35: 21349374 | E35: 32323747 | F35: 58853246 | G35: 77782744 | H35: 96912243 | I35: 109841742 | J35: 132571241 | K35: 0 | L35: 0 | M35: 0 | N35: 217242481
A36: =LEFT(B36,5) -> 54000 | B36: 54000 Ministério do Turismo | C36: - | D36: 48099439 | E36: 168132407 | F36: 227385370 | G36: 286638333 | H36: 343373879 | I36: 372192176 | J36: 401010472 | K36: 429828768 | L36: 474105673 | M36: 518382577 | N36: 404159481
A37: =LEFT(B37,5) -> 55000 | B37: 55000 Ministério do Desenvolvimento e Assistência Social, Família e Combate à Fome | C37: - | D37: 1293556000 | E37: 1945273211 | F37: 2638652298 | G37: 3020355832 | H37: 3828407971 | I37: 4255508740 | J37: 5171018306 | K37: 5325929306 | L37: 6327840306 | M37: 6545751306 | N37: 7808044488
A38: =LEFT(B38,5) -> 56000 | B38: 56000 Ministério das Cidades | C38: - | D38: 1786624124 | E38: 2749348515 | F38: 3789770320 | G38: 1742154199 | H38: 2356182175 | I38: 2484889115 | J38: 2513596056 | K38: 2642302996 | L38: 3149852279 | M38: 3657401562 | N38: 3299021126
A39: =LEFT(B39,5) -> 58000 | B39: 58000 Ministério da Pesca e Aquicultura | C39: - | D39: 22607557 | E39: 34818585 | F39: 48746019 | G39: 62673454 | H39: 91688888 | I39: 105616322 | J39: 119543756 | K39: 133471190 | L39: 146548584 | M39: 161636691 | N39: 170807579
A40: =LEFT(B40,5) -> 60000 | B40: 60000 Gabinete da Vice-Presidência da República | C40: - | D40: 509343 | E40: 1026165 | F40: 1340631 | G40: 1905097 | H40: 2219563 | I40: 2534029 | J40: 2848496 | K40: 3162962 | L40: 3728368 | M40: 4293774 | N40: 4859180
... A46: =LEFT(B46,5) -> 68213 | B46: 68213 Agência Nacional de Aviação Civil | C46: - | D46: 1842851 | E46: 3186693 | F46: 4301371 | G46: 6816048 | H46: 7930726 | I46: 9045403 | J46: 11653427 | K46: 12768105 | L46: 15490182 | M46: 18212258 | N46: 20655701
A47: =LEFT(B47,5) -> 69000 | B47: 69000 Ministério do Empreendedorismo, da Microempresa e da Empresa de Pequeno Porte | C47: - | D47: - | E47: 10296672 | F47: 14164120 | G47: 18031568 | H47: 21899017 | I47: 25766465 | J47: 29633913 | K47: 33501361 | L47: 52595906 | M47: 54690451 | N47: 73784996
A48: =LEFT(B48,5) -> 81000 | B48: 81000 Ministério dos Direitos Humanos e Cidadania | C48: - | D48: 27735723 | E48: 48258321 | F48: 89343649 | G48: 120429977 | H48: 155281973 | I48: 175451968 | J48: 195621963 | K48: 223291958 | L48: 249899647 | M48: 276507336 | N48: 303115025
A49: =LEFT(B49,5) -> 83000 | B49: 83000 Banco Central do Brasil | C49: - | D49: 19000000 | E49: 30100565 | F49: 42903439 | G49: 46706313 | H49: 52842520 | I49: 53645395 | J49: 57254543 | K49: 36446761 | L49: 46530343 | M49: 50143704 | N49: 65175564
A50: =LEFT(B50,5) -> 84000 | B50: 84000 Ministério dos Povos Indígenas | C50: - | D50: 35538378 | E50: 60826263 | F50: 85156768 | G50: 109487274 | H50: 133817779 | I50: 32903904 | J50: 37966042 | K50: 43028181 | L50: 49837373 | M50: 56646565 | N50: 91455757
A51: =LEFT(B51,5) -> Total | B51: Total | C51: - | D51: 19933090124 | E51: 30934007658 | F51: 41603251004 | G51: 46918534040 | H51: 56934291960 | I51: 63984548014 | J51: 71282065477 | K51: 77011489130 | L51: 87206938290 | M51: 97134542145 | N51: 104055700771

Sheet Ane II-A
B1: ANEXO II-A - RP 2 e 9 DISCRICIONÁRIAS FONTES TESOURO NÃO SUJEITAS AO TETO (R$ unidades)
B2: Órgãos/Unidades | C2: Até Jan | D2: Até Fev | E2: Até Mar | F2: Até Abr | G2: Até Mai | H2: Até Jun | I2: Até Jul | J2: Até Ago | K2: Até Set | L2: Até Out | M2: Até Nov | N2: Até Dez
A3: =LEFT(B3,5) -> 20000 | B3: 20000 Presidência da República | C3: - | D3: - | E3: - | F3: - | G3: - | H3: - | I3: - | J3: - | K3: - | L3: - | M3: - | N3: -
A4: =LEFT(B4,5) -> 22000 | B4: 22000 Ministério da Agricultura e Pecuária | C4: - | D4: - | E4: - | F4: - | G4: - | H4: - | I4: - | J4: - | K4: - | L4: - | M4: - | N4: -
A5: =LEFT(B5,5) -> 24000 | B5: 24000 Ministério da Ciência, Tecnologia e Inovação | C5: - | D5: - | E5: - | F5: - | G5: - | H5: - | I5: - | J5: - | K5: - | L5: - | M5: - | N5: -
A6: =LEFT(B6,5) -> 25000 | B6: 25000 Ministério da Fazenda | C6: - | D6: - | E6: - | F6: - | G6: - | H6: - | I6: - | J6: - | K6: - | L6: - | M6: - | N6: -
A7: =LEFT(B7,5) -> 26000 | B7: 26000 Ministério da Educação | C7: - | D7: - | E7: - | F7: 3072 | G7: 6144 | H7: 9216 | I7: 12288 | J7: 15360 | K7: 18432 | L7: 25088 | M7: 31744 | N7: 134490
A8: =LEFT(B8,5) -> 28000 | B8: 28000 Ministério do Desenvolvimento, Indústria, Comércio e Serviços | C8: - | D8: - | E8: - | F8: - | G8: - | H8: - | I8: - | J8: - | K8: - | L8: - | M8: - | N8: -
A9: =LEFT(B9,5) -> 30000 | B9: 30000 Ministério da Justiça e Segurança Pública | C9: - | D9: - | E9: - | F9: - | G9: - | H9: - | I9: - | J9: - | K9: - | L9: - | M9: - | N9: -
A10: =LEFT(B10,5) -> 30211 | B10: 30211 Conselho Administrativo de Defesa Econômica | C10: - | D10: - | E10: - | F10: - | G10: - | H10: - | I10: - | J10: - | K10: - | L10: - | M10: - | N10: -
A11: =LEFT(B11,5) -> 32000 | B11: 32000 Ministério de Minas e Energia | C11: - | D11: - | E11: - | F11: - | G11: - | H11: - | I11: - | J11: - | K11: - | L11: - | M11: - | N11: -
A12: =LEFT(B12,5) -> 32265 | B12: 32265 Agência Nacional do Petróleo, Gás Natural e Biocombustíveis | C12: - | D12: - | E12: - | F12: - | G12: - | H12: - | I12: - | J12: - | K12: - | L12: - | M12: - | N12: -
A13: =LEFT(B13,5) -> 32266 | B13: 32266 Agência Nacional de Energia Elétrica | C13: - | D13: - | E13: - | F13: - | G13: - | H13: - | I13: - | J13: - | K13: - | L13: - | M13: - | N13: -
A14: =LEFT(B14,5) -> 32396 | B14: 32396 Agência Nacional de Mineração | C14: - | D14: - | E14: - | F14: - | G14: - | H14: - | I14: - | J14: - | K14: - | L14: - | M14: - | N14: -
A15: =LEFT(B15,5) -> 33000 | B15: 33000 Ministério da Previdência Social | C15: - | D15: - | E15: - | F15: - | G15: - | H15: - | I15: - | J15: - | K15: - | L15: - | M15: - | N15: -
A16: =LEFT(B16,5) -> 35000 | B16: 35000 Ministério das Relações Exteriores | C16: - | D16: - | E16: - | F16: - | G16: - | H16: - | I16: - | J16: - | K16: - | L16: - | M16: - | N16: -
A17: =LEFT(B17,5) -> 36000 | B17: 36000 Ministério da Saúde | C17: - | D17: - | E17: - | F17: - | G17: - | H17: - | I17: - | J17: - | K17: - | L17: - | M17: - | N17: -
A18: =LEFT(B18,5) -> 36212 | B18: 36212 Agência Nacional de Vigilância Sanitária | C18: - | D18: - | E18: - | F18: - | G18: - | H18: - | I18: - | J18: - | K18: - | L18: - | M18: - | N18: -
A19: =LEFT(B19,5) -> 36213 | B19: 36213 Agência Nacional de Saúde Suplementar | C19: - | D19: - | E19: - | F19: - | G19: - | H19: - | I19: - | J19: - | K19: - | L19: - | M19: - | N19: -
... A27: =LEFT(B27,5) -> 42206 | B27: 42206 Agência Nacional do Cinema | C27: - | D27: - | E27: - | F27: - | G27: - | H27: - | I27: - | J27: - | K27: - | L27: - | M27: - | N27: -
A28: =LEFT(B28,5) -> 44000 | B28: 44000 Ministério do Meio Ambiente e Mudança do Clima | C28: - | D28: - | E28: - | F28: 1040000 | G28: 2380000 | H28: 4336667 | I28: 5543333 | J28: 6750000 | K28: 7956667 | L28: 10471111 | M28: 12985556 | N28: 15500000
A29: =LEFT(B29,5) -> 46000 | B29: 46000 Ministério da Gestão e da Inovação em Serviços Públicos | C29: - | D29: - | E29: - | F29: - | G29: - | H29: - | I29: - | J29: - | K29: - | L29: - | M29: - | N29: -
A30: =LEFT(B30,5) -> 47000 | B30: 47000 Ministério do Planejamento e Orçamento | C30: - | D30: - | E30: - | F30: - | G30: - | H30: - | I30: - | J30: - | K30: - | L30: - | M30: - | N30: -
A31: =LEFT(B31,5) -> 49000 | B31: 49000 Ministério do Desenvolvimento Agrário e Agricultura Familiar | C31: - | D31: - | E31: - | F31: - | G31: - | H31: - | I31: - | J31: - | K31: - | L31: - | M31: - | N31: -
A32: =LEFT(B32,5) -> 51000 | B32: 51000 Ministério do Esporte | C32: - | D32: - | E32: - | F32: - | G32: - | H32: - | I32: - | J32: - | K32: - | L32: - | M32: - | N32: -
A33: =LEFT(B33,5) -> 52000 | B33: 52000 Ministério da Defesa | C33: - | D33: - | E33: - | F33: - | G33: - | H33: - | I33: - | J33: - | K33: - | L33: - | M33: - | N33: -
A34: =LEFT(B34,5) -> 53000 | B34: 53000 Ministério da Integração e do Desenvolvimento Regional | C34: - | D34: - | E34: - | F34: - | G34: - | H34: - | I34: - | J34: - | K34: - | L34: - | M34: - | N34: -
A35: =LEFT(B35,5) -> 53210 | B35: 53210 Agência Nacional de Águas e Saneamento Básico | C35: - | D35: - | E35: - | F35: - | G35: - | H35: - | I35: - | J35: - | K35: - | L35: - | M35: - | N35: -
A36: =LEFT(B36,5) -> 54000 | B36: 54000 Ministério do Turismo | C36: - | D36: - | E36: - | F36: - | G36: - | H36: - | I36: - | J36: - | K36: - | L36: - | M36: - | N36: -
A37: =LEFT(B37,5) -> 55000 | B37: 55000 Ministério do Desenvolvimento e Assistência Social, Família e Combate à Fome | C37: - | D37: - | E37: - | F37: 441 | G37: - | H37: - | I37: - | J37: - | K37: - | L37: - | M37: - | N37: -
A38: =LEFT(B38,5) -> 56000 | B38: 56000 Ministério das Cidades | C38: - | D38: - | E38: - | F38: - | G38: - | H38: - | I38: - | J38: - | K38: - | L38: - | M38: - | N38: -
A39: =LEFT(B39,5) -> 58000 | B39: 58000 Ministério da Pesca e Aquicultura | C39: - | D39: - | E39: - | F39: - | G39: - | H39: - | I39: - | J39: - | K39: - | L39: - | M39: - | N39: -
A40: =LEFT(B40,5) -> 60000 | B40: 60000 Gabinete da Vice-Presidência da República | C40: - | D40: - | E40: - | F40: - | G40: - | H40: - | I40: - | J40: - | K40: - | L40: - | M40: - | N40: -
A41: =LEFT(B41,5) -> 63000 | B41: 63000 Advocacia-Geral da União | C41: - | D41: - | E41: - | F41: - | G41: - | H41: - | I41: - | J41: - | K41: - | L41: - | M41: - | N41: -
A42: =LEFT(B42,5) -> 65000 | B42: 65000 Ministério das Mulheres | C42: - | D42: - | E42: - | F42: - | G42: - | H42: - | I42: - | J42: - | K42: - | L42: - | M42: - | N42: -
A43: =LEFT(B43,5) -> 67000 | B43: 67000 Ministério da Igualdade Racial | C43: - | D43: - | E43: - | F43: - | G43: - | H43: - | I43: - | J43: - | K43: - | L43: - | M43: - | N43: -
A44: =LEFT(B44,5) -> 68000 | B44: 68000 Ministério de Portos e Aeroportos | C44: - | D44: - | E44: - | F44: - | G44: - | H44: - | I44: - | J44: - | K44: - | L44: - | M44: - | N44: -
A45: =LEFT(B45,5) -> 68201 | B45: 68201 Agência Nacional de Transportes Aquaviários | C45: - | D45: - | E45: - | F45: - | G45: - | H45: - | I45: - | J45: - | K45: - | L45: - | M45: - | N45: -
A46: =LEFT(B46,5) -> 68213 | B46: 68213 Agência Nacional de Aviação Civil | C46: - | D46: - | E46: - | F46: - | G46: - | H46: - | I46: - | J46: - | K46: - | L46: - | M46: - | N46: -
A47: =LEFT(B47,5) -> 69000 | B47: 69000 Ministério do Empreendedorismo, da Microempresa e da Empresa de Pequeno Porte | C47: - | D47: - | E47: - | F47: - | G47: - | H47: - | I47: - | J47: - | K47: - | L47: - | M47: - | N47: -
...

Sheet Ane II-B
B1: ANEXO II-B - RP 2 e 9 DISCRICIONÁRIAS FONTES TESOURO RESSALVADAS (R$ unidades)
B2: Órgãos/Unidades | C2: Até Jan | D2: Até Fev | E2: Até Mar | F2: Até Abr | G2: Até Mai | H2: Até Jun | I2: Até Jul | J2: Até Ago | K2: Até Set | L2: Até Out | M2: Até Nov | N2: Até Dez
A3: =LEFT(B3,5) -> 20000 | B3: 20000 Presidência da República | C3: - | D3: - | E3: - | F3: - | G3: - | H3: - | I3: - | J3: - | K3: - | L3: - | M3: - | N3: -
A4: =LEFT(B4,5) -> 22000 | B4: 22000 Ministério da Agricultura e Pecuária | C4: - | D4: - | E4: - | F4: - | G4: 58000000 | H4: 112290000 | I4: 112290000 | J4: 112290000 | K4: 112290000 | L4: 112290000 | M4: 112290000 | N4: 148182353
A5: =LEFT(B5,5) -> 24000 | B5: 24000 Ministério da Ciência, Tecnologia e Inovação | C5: - | D5: - | E5: - | F5: 1099312716 | G5: 1259099005 | H5: 1329099005 | I5: 1579099005 | J5: 1829099005 | K5: 2079099005 | L5: 2634341840 | M5: 3189584676 | N5: 2583937213
A6: =LEFT(B6,5) -> 25000 | B6: 25000 Ministério da Fazenda | C6: - | D6: - | E6: - | F6: - | G6: - | H6: - | I6: - | J6: - | K6: - | L6: - | M6: - | N6: -
A7: =LEFT(B7,5) -> 26000 | B7: 26000 Ministério da Educação | C7: - | D7: - | E7: - | F7: - | G7: - | H7: 1500000 | I7: 1500000 | J7: 1500000 | K7: 1500000 | L7: 1500000 | M7: 1510800 | N7: 1500000
A8: =LEFT(B8,5) -> 28000 | B8: 28000 Ministério do Desenvolvimento, Indústria, Comércio e Serviços | C8: - | D8: - | E8: - | F8: - | G8: - | H8: - | I8: - | J8: - | K8: - | L8: - | M8: - | N8: -
A9: =LEFT(B9,5) -> 30000 | B9: 30000 Ministério da Justiça e Segurança Pública | C9: - | D9: - | E9: - | F9: 15000000 | G9: 15000000 | H9: 21000000 | I9: 21000000 | J9: 21000000 | K9: 21000000 | L9: 29000000 | M9: 29000000 | N9: 1116489506
A10: =LEFT(B10,5) -> 30211 | B10: 30211 Conselho Administrativo de Defesa Econômica | C10: - | D10: - | E10: - | F10: - | G10: - | H10: - | I10: - | J10: - | K10: - | L10: - | M10: - | N10: -
A11: =LEFT(B11,5) -> 32000 | B11: 32000 Ministério de Minas e Energia | C11: - | D11: - | E11: - | F11: - | G11: - | H11: - | I11: - | J11: - | K11: - | L11: - | M11: - | N11: -
A12: =LEFT(B12,5) -> 32265 | B12: 32265 Agência Nacional do Petróleo, Gás Natural e Biocombustíveis | C12: - | D12: - | E12: - | F12: - | G12: - | H12: - | I12: - | J12: - | K12: - | L12: - | M12: - | N12: -
A13: =LEFT(B13,5) -> 32266 | B13: 32266 Agência Nacional de Energia Elétrica | C13: - | D13: - | E13: - | F13: - | G13: - | H13: - | I13: - | J13: - | K13: - | L13: - | M13: - | N13: -
A14: =LEFT(B14,5) -> 32396 | B14: 32396 Agência Nacional de Mineração | C14: - | D14: - | E14: - | F14: - | G14: - | H14: - | I14: - | J14: - | K14: - | L14: - | M14: - | N14: -
A15: =LEFT(B15,5) -> 33000 | B15: 33000 Ministério da Previdência Social | C15: - | D15: - | E15: - | F15: - | G15: - | H15: - | I15: - | J15: - | K15: - | L15: - | M15: - | N15: -
A16: =LEFT(B16,5) -> 35000 | B16: 35000 Ministério das Relações Exteriores | C16: - | D16: - | E16: - | F16: - | G16: - | H16: - | I16: - | J16: - | K16: - | L16: - | M16: - | N16: -
A17: =LEFT(B17,5) -> 36000 | B17: 36000 Ministério da Saúde | C17: - | D17: - | E17: - | F17: - | G17: - | H17: - | I17: - | J17: - | K17: - | L17: - | M17: - | N17: -
A18: =LEFT(B18,5) -> 36212 | B18: 36212 Agência Nacional de Vigilância Sanitária | C18: - | D18: - | E18: - | F18: - | G18: - | H18: - | I18: - | J18: - | K18: - | L18: - | M18: - | N18: -
A19: =LEFT(B19,5) -> 36213 | B19: 36213 Agência Nacional de Saúde Suplementar | C19: - | D19: - | E19: - | F19: - | G19: - | H19: - | I19: - | J19: - | K19: - | L19: - | M19: - | N19: -
A20: =LEFT(B20,5) -> 37000 | B20: 37000 Controladoria-Geral da União | C20: - | D20: - | E20: - | F20: - | G20: - | H20: - | I20: - | J20: - | K20: - | L20: - | M20: - | N20: -
A21: =LEFT(B21,5) -> 39000 | B21: 39000 Ministério dos Transportes | C21: - | D21: - | E21: - | F21: - | G21: - | H21: - | I21: - | J21: - | K21: - | L21: - | M21: - | N21: -
... A23: =LEFT(B23,5) -> 40000 | B23: 40000 Ministério do Trabalho e Emprego | C23: - | D23: - | E23: - | F23: - | G23: - | H23: - | I23: - | J23: - | K23: - | L23: - | M23: - | N23: -
A24: =LEFT(B24,5) -> 41000 | B24: 41000 Ministério das Comunicações | C24: - | D24: - | E24: - | F24: - | G24: 8643166 | H24: 10752083 | I24: 12225472 | J24: 12225472 | K24: 12225472 | L24: 12225472 | M24: 12225472 | N24: 12225472
A25: =LEFT(B25,5) -> 41231 | B25: 41231 Agência Nacional de Telecomunicações | C25: - | D25: - | E25: - | F25: - | G25: - | H25: - | I25: - | J25: - | K25: - | L25: - | M25: - | N25: -
A26: =LEFT(B26,5) -> 42000 | B26: 42000 Ministério da Cultura | C26: - | D26: - | E26: - | F26: - | G26: - | H26: - | I26: - | J26: - | K26: - | L26: - | M26: - | N26: -
A27: =LEFT(B27,5) -> 42206 | B27: 42206 Agência Nacional do Cinema | C27: - | D27: - | E27: - | F27: - | G27: - | H27: - | I27: - | J27: - | K27: - | L27: - | M27: - | N27: -
A28: =LEFT(B28,5) -> 44000 | B28: 44000 Ministério do Meio Ambiente e Mudança do Clima | C28: - | D28: - | E28: - | F28: - | G28: 1504000 | H28: 1504000 | I28: 1504000 | J28: 1504000 | K28: 603296408 | L28: 687444816 | M28: 771593224 | N28: 684463954
A29: =LEFT(B29,5) -> 46000 | B29: 46000 Ministério da Gestão e da Inovação em Serviços Públicos | C29: - | D29: - | E29: - | F29: - | G29: - | H29: - | I29: - | J29: - | K29: - | L29: - | M29: - | N29: 20611160
A30: =LEFT(B30,5) -> 47000 | B30: 47000 Ministério do Planejamento e Orçamento | C30: - | D30: - | E30: - | F30: - | G30: - | H30: - | I30: 271000 | J30: 271000 | K30: 271000 | L30: 271000 | M30: 271000 | N30: 271000
A31: =LEFT(B31,5) -> 49000 | B31: 49000 Ministério do Desenvolvimento Agrário e Agricultura Familiar | C31: - | D31: - | E31: - | F31: - | G31: - | H31: - | I31: 65688000 | J31: 65688000 | K31: 65688000 | L31: 65857163 | M31: 66026327 | N31: 65688000
A32: =LEFT(B32,5) -> 51000 | B32: 51000 Ministério do Esporte | C32: - | D32: - | E32: - | F32: - | G32: - | H32: - | I32: - | J32: - | K32: - | L32: - | M32: - | N32: -
A33: =LEFT(B33,5) -> 52000 | B33: 52000 Ministério da Defesa | C33: - | D33: - | E33: - | F33: - | G33: 23895000 | H33: 23895000 | I33: 23895000 | J33: 33895000 | K33: 33895000 | L33: 57092000 | M33: 57092000 | N33: 114005223
A34: =LEFT(B34,5) -> 53000 | B34: 53000 Ministério da Integração e do Desenvolvimento Regional | C34: - | D34: - | E34: - | F34: - | G34: - | H34: - | I34: - | J34: - | K34: - | L34: 53850432 | M34: 0 | N34: 0
A35: =LEFT(B35,5) -> 53210 | B35: 53210 Agência Nacional de Águas e Saneamento Básico | C35: - | D35: - | E35: - | F35: - | G35: - | H35: - | I35: - | J35: - | K35: 145500739 | L35: 169414653 | M35: 193328567 | N35: 0
A36: =LEFT(B36,5) -> 54000 | B36: 54000 Ministério do Turismo | C36: - | D36: - | E36: - | F36: - | G36: - | H36: - | I36: - | J36: - | K36: - | L36: - | M36: - | N36: -
A37: =LEFT(B37,5) -> 55000 | B37: 55000 Ministério do Desenvolvimento e Assistência Social, Família e Combate à Fome | C37: - | D37: - | E37: - | F37: - | G37: - | H37: - | I37: - | J37: - | K37: - | L37: - | M37: - | N37: -
A38: =LEFT(B38,5) -> 56000 | B38: 56000 Ministério das Cidades | C38: - | D38: - | E38: - | F38: - | G38: - | H38: - | I38: - | J38: - | K38: - | L38: - | M38: - | N38: -
A39: =LEFT(B39,5) -> 58000 | B39: 58000 Ministério da Pesca e Aquicultura | C39: - | D39: - | E39: - | F39: - | G39: - | H39: - | I39: - | J39: - | K39: - | L39: - | M39: - | N39: -
A40: =LEFT(B40,5) -> 60000 | B40: 60000 Gabinete da Vice-Presidência da República | C40: - | D40: - | E40: - | F40: - | G40: - | H40: - | I40: - | J40: - | K40: - | L40: - | M40: - | N40: -
A41: =LEFT(B41,5) -> 63000 | B41: 63000 Advocacia-Geral da União | C41: - | D41: - | E41: - | F41: - | G41: - | H41: - | I41: - | J41: - | K41: - | L41: - | M41: - | N41: -
...

Sheet Ane II-C
B1: ANEXO II-C - RP 3 DISCRICIONÁRIAS FONTES TESOURO (R$ unidades)
B2: Órgãos/Unidades | C2: Até Jan | D2: Até Fev | E2: Até Mar | F2: Até Abr | G2: Até Mai | H2: Até Jun | I2: Até Jul | J2: Até Ago | K2: Até Set | L2: Até Out | M2: Até Nov | N2: Até Dez
A3: =LEFT(B3,5) -> 20000 | B3: 20000 Presidência da República | C3: - | D3: - | E3: - | F3: - | G3: 2949753.8 | H3: 10000000 | I3: 10655501 | J3: 11311002 | K3: 11966502 | L3: 13386754 | M3: 14807006 | N3: 16227258
A4: =LEFT(B4,5) -> 22000 | B4: 22000 Ministério da Agricultura e Pecuária | C4: - | D4: - | E4: - | F4: - | G4: 15272214 | H4: 30270570 | I4: 35774310 | J4: 39652317 | K4: 43530323 | L4: 62861213 | M4: 81894322 | N4: 67162577
A5: =LEFT(B5,5) -> 24000 | B5: 24000 Ministério da Ciência, Tecnologia e Inovação | C5: - | D5: - | E5: - | F5: - | G5: - | H5: - | I5: - | J5: - | K5: - | L5: - | M5: - | N5: -
A6: =LEFT(B6,5) -> 25000 | B6: 25000 Ministério da Fazenda | C6: - | D6: - | E6: - | F6: - | G6: - | H6: - | I6: - | J6: - | K6: - | L6: - | M6: - | N6: -
A7: =LEFT(B7,5) -> 26000 | B7: 26000 Ministério da Educação | C7: - | D7: - | E7: - | F7: - | G7: 3.9799907e+08 | H7: 4.8644331e+08 | I7: 5.7488755e+08 | J7: 6.3333179e+08 | K7: 6.9177602e+08 | L7: 8.5340521e+08 | M7: 1015034389 | N7: 1.0763984e+09
A8: =LEFT(B8,5) -> 28000 | B8: 28000 Ministério do Desenvolvimento, Indústria, Comércio e Serviços | C8: - | D8: - | E8: - | F8: - | G8: - | H8: - | I8: - | J8: - | K8: - | L8: - | M8: - | N8: -
A9: =LEFT(B9,5) -> 30000 | B9: 30000 Ministério da Justiça e Segurança Pública | C9: - | D9: - | E9: - | F9: - | G9: - | H9: - | I9: - | J9: - | K9: - | L9: - | M9: - | N9: -
A10: =LEFT(B10,5) -> 30211 | B10: 30211 Conselho Administrativo de Defesa Econômica | C10: - | D10: - | E10: - | F10: - | G10: - | H10: - | I10: - | J10: - | K10: - | L10: - | M10: - | N10: -
A11: =LEFT(B11,5) -> 32000 | B11: 32000 Ministério de Minas e Energia | C11: - | D11: - | E11: - | F11: - | G11: 6331129.1 | H11: 7738046.7 | I11: 9144964.3 | J11: 20473879 | K11: 28802794 | L11: 33673114 | M11: 38543432 | N11: 50911744
A12: =LEFT(B12,5) -> 32265 | B12: 32265 Agência Nacional do Petróleo, Gás Natural e Biocombustíveis | C12: - | D12: - | E12: - | F12: - | G12: - | H12: - | I12: - | J12: - | K12: - | L12: - | M12: - | N12: -
A13: =LEFT(B13,5) -> 32266 | B13: 32266 Agência Nacional de Energia Elétrica | C13: - | D13: - | E13: - | F13: - | G13: - | H13: - | I13: - | J13: - | K13: - | L13: - | M13: - | N13: -
A14: =LEFT(B14,5) -> 32396 | B14: 32396 Agência Nacional de Mineração | C14: - | D14: - | E14: - | F14: - | G14: - | H14: - | I14: - | J14: - | K14: - | L14: - | M14: - | N14: -
A15: =LEFT(B15,5) -> 33000 | B15: 33000 Ministério da Previdência Social | C15: - | D15: - | E15: - | F15: - | G15: - | H15: - | I15: - | J15: - | K15: - | L15: - | M15: - | N15: -
A16: =LEFT(B16,5) -> 35000 | B16: 35000 Ministério das Relações Exteriores | C16: - | D16: - | E16: - | F16: - | G16: - | H16: - | I16: - | J16: - | K16: - | L16: - | M16: - | N16: -
A17: =LEFT(B17,5) -> 36000 | B17: 36000 Ministério da Saúde | C17: - | D17: - | E17: - | F17: - | G17: 708681469 | H17: 8.5956624e+08 | I17: 1.015851e+09 | J17: 1.1072865e+09 | K17: 1.1987219e+09 | L17: 1.4724897e+09 | M17: 1.597708e+09 | N17: 9.3607168e+08
A18: =LEFT(B18,5) -> 36212 | B18: 36212 Agência Nacional de Vigilância Sanitária | C18: - | D18: - | E18: - | F18: - | G18: - | H18: - | I18: - | J18: - | K18: - | L18: - | M18: - | N18: -
A19: =LEFT(B19,5) -> 36213 | B19: 36213 Agência Nacional de Saúde Suplementar | C19: - | D19: - | E19: - | F19: - | G19: - | H19: - | I19: - | J19: - | K19: - | L19: - | M19: - | N19: -
A20: =LEFT(B20,5) -> 37000 | B20: 37000 Controladoria-Geral da União | C20: - | D20: - | E20: - | F20: - | G20: - | H20: - | I20: - | J20: - | K20: - | L20: - | M20: - | N20: -
A21: =LEFT(B21,5) -> 39000 | B21: 39000 Ministério dos Transportes | C21: - | D21: - | E21: - | F21: - | G21: 2.160536e+09 | H21: 3708136675 | I21: 4.2335206e+09 | J21: 4.8027461e+09 | K21: 5.5445715e+09 | L21: 7.1368632e+09 | M21: 8.1135692e+09 | N21: 9.4426595e+09
A22: =LEFT(B22,5) -> 39250 | B22: 39250 Agência Nacional de Transportes Terrestres | C22: - | D22: - | E22: - | F22: - | G22: - | H22: - | I22: - | J22: - | K22: - | L22: - | M22: - | N22: -
A23: =LEFT(B23,5) -> 40000 | B23: 40000 Ministério do Trabalho e Emprego | C23: - | D23: - | E23: - | F23: - | G23: - | H23: - | I23: - | J23: - | K23: - | L23: - | M23: - | N23: -
A24: =LEFT(B24,5) -> 41000 | B24: 41000 Ministério das Comunicações | C24: - | D24: - | E24: - | F24: - | G24: 10459673 | H24: 12784045 | I24: 15108417 | J24: 15517587 | K24: 15926758 | L24: 19047696 | M24: 22168634 | N24: 9713020.6
A25: =LEFT(B25,5) -> 41231 | B25: 41231 Agência Nacional de Telecomunicações | C25: - | D25: - | E25: - | F25: - | G25: - | H25: - | I25: - | J25: - | K25: - | L25: - | M25: - | N25: -
A26: =LEFT(B26,5) -> 42000 | B26: 42000 Ministério da Cultura | C26: - | D26: - | E26: - | F26: - | G26: 19357880 | H26: 23659631 | I26: 27961382 | J26: 31471904 | K26: 34982425 | L26: 43511657 | M26: 52040888 | N26: 49551385
A27: =LEFT(B27,5) -> 42206 | B27: 42206 Agência Nacional do Cinema | C27: - | D27: - | E27: - | F27: - | G27: - | H27: - | I27: - | J27: - | K27: - | L27: - | M27: - | N27: -
A28: =LEFT(B28,5) -> 44000 | B28: 44000 Ministério do Meio Ambiente e Mudança do Clima | C28: - | D28: - | E28: - | F28: - | G28: - | H28: - | I28: - | J28: - | K28: - | L28: - | M28: - | N28: -
A29: =LEFT(B29,5) -> 46000 | B29: 46000 Ministério da Gestão e da Inovação em Serviços Públicos | C29: - | D29: - | E29: - | F29: - | G29: - | H29: - | I29: - | J29: - | K29: - | L29: - | M29: - | N29: -
A30: =LEFT(B30,5) -> 47000 | B30: 47000 Ministério do Planejamento e Orçamento | C30: - | D30: - | E30: - | F30: - | G30: - | H30: - | I30: - | J30: - | K30: - | L30: - | M30: - | N30: -
A31: =LEFT(B31,5) -> 49000 | B31: 49000 Ministério do Desenvolvimento Agrário e Agricultura Familiar | C31: - | D31: - | E31: - | F31: - | G31: - | H31: - | I31: - | J31: - | K31: - | L31: - | M31: - | N31: -
A32: =LEFT(B32,5) -> 51000 | B32: 51000 Ministério do Esporte | C32: - | D32: - | E32: - | F32: - | G32: 6259078 | H32: 7649984.2 | I32: 9040890.4 | J32: 10431797 | K32: 11822703 | L32: 28016833 | M32: 44210963 | N32: 5405093.3
A33: =LEFT(B33,5) -> 52000 | B33: 52000 Ministério da Defesa | C33: - | D33: - | E33: - | F33: - | G33: 6.33965e+08 | H33: 1.0966378e+09 | I33: 1.2085083e+09 | J33: 1.642478e+09 | K33: 2.0464478e+09 | L33: 2.3071465e+09 | M33: 2.5494952e+09 | N33: 2.6504033e+09
A34: =LEFT(B34,5) -> 53000 | B34: 53000 Ministério da Integração e do Desenvolvimento Regional | C34: - | D34: - | E34: - | F34: - | G34: 3.4107881e+08 | H34: 4.7319965e+08 | I34: 5.046905e+08 | J34: 5.3618135e+08 | K34: 0 | L34: 0 | M34: 125000000 | N34: 1.0693627e+09
A35: =LEFT(B35,5) -> 53210 | B35: 53210 Agência Nacional de Águas e Saneamento Básico | C35: - | D35: - | E35: - | F35: - | G35: - | H35: - | I35: - | J35: - | K35: - | L35: - | M35: - | N35: -
A36: =LEFT(B36,5) -> 54000 | B36: 54000 Ministério do Turismo | C36: - | D36: - | E36: - | F36: - | G36: - | H36: 126750 | I36: 126750 | J36: 126750 | K36: 126750 | L36: 126750 | M36: 126750 | N36: 126750
A37: =LEFT(B37,5) -> 55000 | B37: 55000 Ministério do Desenvolvimento e Assistência Social, Família e Combate à Fome | C37: - | D37: - | E37: - | F37: - | G37: 37380788 | H37: 62301312 | I37: 70608154 | J37: 78914996 | K37: 87221838 | L37: 96919995 | M37: 1.3060447e+08 | N37: 2.2721431e+08
A38: =LEFT(B38,5) -> 56000 | B38: 56000 Ministério das Cidades | C38: - | D38: - | E38: - | F38: - | G38: 3.5380379e+09 | H38: 4.2335541e+09 | I38: 5194200292 | J38: 6.107605e+09 | K38: 6.9210098e+09 | L38: 8.2385018e+09 | M38: 9.5059938e+09 | N38: 1.025504e+10
A39: =LEFT(B39,5) -> 58000 | B39: 58000 Ministério da Pesca e Aquicultura | C39: - | D39: - | E39: - | F39: - | G39: - | H39: - | I39: - | J39: - | K39: - | L39: - | M39: - | N39: -
A40: =LEFT(B40,5) -> 60000 | B40: 60000 Gabinete da Vice-Presidência da República | C40: - | D40: - | E40: - | F40: - | G40: - | H40: - | I40: - | J40: - | K40: - | L40: - | M40: - | N40: -
...

Sheet Ane II-D
B1: ANEXO II-D - RP 3 DISCRICIONÁRIAS FONTES TESOURO RESSALVADAS (R$ unidades)
B2: Órgãos | C2: Até Jan | D2: Até Fev | E2: Até Mar | F2: Até Abr | G2: Até Mai | H2: Até Jun | I2: Até Jul | J2: Até Ago | K2: Até Set | L2: Até Out | M2: Até Nov | N2: Até Dez
A3: =LEFT(B3,5) -> 20000 | B3: 20000 Presidência da República | C3: - | D3: - | E3: - | F3: - | G3: - | H3: - | I3: - | J3: - | K3: - | L3: - | M3: - | N3: -
A4: =LEFT(B4,5) -> 22000 | B4: 22000 Ministério da Agricultura e Pecuária | C4: - | D4: - | E4: - | F4: - | G4: - | H4: - | I4: - | J4: - | K4: - | L4: - | M4: - | N4: -
A5: =LEFT(B5,5) -> 24000 | B5: 24000 Ministério da Ciência, Tecnologia e Inovação | C5: - | D5: - | E5: - | F5: - | G5: 196747565 | H5: 163469246 | I5: 193190927 | J5: 222912608 | K5: 252634289 | L5: 289475788 | M5: 326317287 | N5: 998791786 | P5: =((N5*3)/18)+(N5/15) -> 2.3305142e+08
A6: =LEFT(B6,5) -> 25000 | B6: 25000 Ministério da Fazenda | C6: - | D6: - | E6: - | F6: - | G6: - | H6: - | I6: - | J6: - | K6: - | L6: - | M6: - | N6: -
A7: =LEFT(B7,5) -> 26000 | B7: 26000 Ministério da Educação | C7: - | D7: - | E7: - | F7: - | G7: - | H7: - | I7: - | J7: - | K7: - | L7: - | M7: - | N7: -
A8: =LEFT(B8,5) -> 28000 | B8: 28000 Ministério do Desenvolvimento, Indústria, Comércio e Serviços | C8: - | D8: - | E8: - | F8: - | G8: - | H8: - | I8: - | J8: - | K8: - | L8: - | M8: - | N8: -
A9: =LEFT(B9,5) -> 30000 | B9: 30000 Ministério da Justiça e Segurança Pública | C9: - | D9: - | E9: - | F9: - | G9: - | H9: - | I9: - | J9: - | K9: - | L9: - | M9: - | N9: -
A10: =LEFT(B10,5) -> 30211 | B10: 30211 Conselho Administrativo de Defesa Econômica | C10: - | D10: - | E10: - | F10: - | G10: - | H10: - | I10: - | J10: - | K10: - | L10: - | M10: - | N10: -
A11: =LEFT(B11,5) -> 32000 | B11: 32000 Ministério de Minas e Energia | C11: - | D11: - | E11: - | F11: - | G11: - | H11: - | I11: - | J11: - | K11: - | L11: 1100000 | M11: 2200000 | N11: -
A12: =LEFT(B12,5) -> 32265 | B12: 32265 Agência Nacional do Petróleo, Gás Natural e Biocombustíveis | C12: - | D12: - | E12: - | F12: - | G12: - | H12: - | I12: - | J12: - | K12: - | L12: - | M12: - | N12: -
A13: =LEFT(B13,5) -> 32266 | B13: 32266 Agência Nacional de Energia Elétrica | C13: - | D13: - | E13: - | F13: - | G13: - | H13: - | I13: - | J13: - | K13: - | L13: - | M13: - | N13: -
A14: =LEFT(B14,5) -> 32396 | B14: 32396 Agência Nacional de Mineração | C14: - | D14: - | E14: - | F14: - | G14: - | H14: - | I14: - | J14: - | K14: - | L14: - | M14: - | N14: -
A15: =LEFT(B15,5) -> 33000 | B15: 33000 Ministério da Previdência Social | C15: - | D15: - | E15: - | F15: - | G15: - | H15: - | I15: - | J15: - | K15: - | L15: - | M15: - | N15: -
A16: =LEFT(B16,5) -> 35000 | B16: 35000 Ministério das Relações Exteriores | C16: - | D16: - | E16: - | F16: - | G16: - | H16: - | I16: - | J16: - | K16: - | L16: - | M16: - | N16: -
A17: =LEFT(B17,5) -> 36000 | B17: 36000 Ministério da Saúde | C17: - | D17: - | E17: - | F17: - | G17: - | H17: - | I17: - | J17: - | K17: - | L17: - | M17: - | N17: -
A18: =LEFT(B18,5) -> 36212 | B18: 36212 Agência Nacional de Vigilância Sanitária | C18: - | D18: - | E18: - | F18: - | G18: - | H18: - | I18: - | J18: - | K18: - | L18: - | M18: - | N18: -
A19: =LEFT(B19,5) -> 36213 | B19: 36213 Agência Nacional de Saúde Suplementar | C19: - | D19: - | E19: - | F19: - | G19: - | H19: - | I19: - | J19: - | K19: - | L19: - | M19: - | N19: -
A20: =LEFT(B20,5) -> 37000 | B20: 37000 Controladoria-Geral da União | C20: - | D20: - | E20: - | F20: - | G20: - | H20: - | I20: - | J20: - | K20: - | L20: - | M20: - | N20: -
A21: =LEFT(B21,5) -> 39000 | B21: 39000 Ministério dos Transportes | C21: - | D21: - | E21: - | F21: - | G21: - | H21: - | I21: - | J21: - | K21: - | L21: - | M21: - | N21: -
A22: =LEFT(B22,5) -> 39250 | B22: 39250 Agência Nacional de Transportes Terrestres | C22: - | D22: - | E22: - | F22: - | G22: - | H22: - | I22: - | J22: - | K22: - | L22: - | M22: - | N22: -
A23: =LEFT(B23,5) -> 40000 | B23: 40000 Ministério do Trabalho e Emprego | C23: - | D23: - | E23: - | F23: - | G23: - | H23: - | I23: - | J23: - | K23: - | L23: - | M23: - | N23: -
... A33: =LEFT(B33,5) -> 52000 | B33: 52000 Ministério da Defesa | C33: - | D33: - | E33: - | F33: - | G33: - | H33: - | I33: - | J33: - | K33: - | L33: - | M33: - | N33: -
A34: =LEFT(B34,5) -> 53000 | B34: 53000 Ministério da Integração e do Desenvolvimento Regional | C34: - | D34: - | E34: - | F34: - | G34: - | H34: - | I34: - | J34: - | K34: 567672192 | L34: 870825806 | M34: 677465859 | N34: 0
A35: =LEFT(B35,5) -> 53210 | B35: 53210 Agência Nacional de Águas e Saneamento Básico | C35: - | D35: - | E35: - | F35: - | G35: - | H35: - | I35: - | J35: - | K35: - | L35: - | M35: - | N35: -
A36: =LEFT(B36,5) -> 54000 | B36: 54000 Ministério do Turismo | C36: - | D36: - | E36: - | F36: - | G36: - | H36: - | I36: - | J36: - | K36: - | L36: - | M36: - | N36: -
A37: =LEFT(B37,5) -> 55000 | B37: 55000 Ministério do Desenvolvimento e Assistência Social, Família e Combate à Fome | C37: - | D37: - | E37: - | F37: - | G37: 1655 | H37: 2023 | I37: 2391 | J37: 2759 | K37: 3127 | L37: 3924 | M37: 4721 | N37: 5518 | P37: =((N37*3)/18)+(N37/15) -> 1287.5333
A38: =LEFT(B38,5) -> 56000 | B38: 56000 Ministério das Cidades | C38: - | D38: - | E38: - | F38: - | G38: - | H38: - | I38: - | J38: - | K38: - | L38: - | M38: - | N38: -
A39: =LEFT(B39,5) -> 58000 | B39: 58000 Ministério da Pesca e Aquicultura | C39: - | D39: - | E39: - | F39: - | G39: - | H39: - | I39: - | J39: - | K39: - | L39: - | M39: - | N39: -
A40: =LEFT(B40,5) -> 60000 | B40: 60000 Gabinete da Vice-Presidência da República | C40: - | D40: - | E40: - | F40: - | G40: - | H40: - | I40: - | J40: - | K40: - | L40: - | M40: - | N40: -
A41: =LEFT(B41,5) -> 63000 | B41: 63000 Advocacia-Geral da União | C41: - | D41: - | E41: - | F41: - | G41: - | H41: - | I41: - | J41: - | K41: - | L41: - | M41: - | N41: -
A42: =LEFT(B42,5) -> 65000 | B42: 65000 Ministério das Mulheres | C42: - | D42: - | E42: - | F42: - | G42: - | H42: - | I42: - | J42: - | K42: - | L42: - | M42: - | N42: -
A43: =LEFT(B43,5) -> 67000 | B43: 67000 Ministério da Igualdade Racial | C43: - | D43: - | E43: - | F43: - | G43: - | H43: - | I43: - | J43: - | K43: - | L43: - | M43: - | N43: -
A44: =LEFT(B44,5) -> 68000 | B44: 68000 Ministério de Portos e Aeroportos | C44: - | D44: - | E44: - | F44: - | G44: - | H44: - | I44: - | J44: - | K44: - | L44: - | M44: - | N44: -
A45: =LEFT(B45,5) -> 68201 | B45: 68201 Agência Nacional de Transportes Aquaviários | C45: - | D45: - | E45: - | F45: - | G45: - | H45: - | I45: - | J45: - | K45: - | L45: - | M45: - | N45: -
A46: =LEFT(B46,5) -> 68213 | B46: 68213 Agência Nacional de Aviação Civil | C46: - | D46: - | E46: - | F46: - | G46: - | H46: - | I46: - | J46: - | K46: - | L46: - | M46: - | N46: -
A47: =LEFT(B47,5) -> 69000 | B47: 69000 Ministério do Empreendedorismo, da Microempresa e da Empresa de Pequeno Porte | C47: - | D47: - | E47: - | F47: - | G47: - | H47: - | I47: - | J47: - | K47: - | L47: - | M47: - | N47: -
A48: =LEFT(B48,5) -> 81000 | B48: 81000 Ministério dos Direitos Humanos e Cidadania | C48: - | D48: - | E48: - | F48: - | G48: - | H48: - | I48: - | J48: - | K48: - | L48: - | M48: - | N48: -
A49: =LEFT(B49,5) -> 83000 | B49: 83000 Banco Central do Brasil | C49: - | D49: - | E49: - | F49: - | G49: - | H49: - | I49: - | J49: - | K49: - | L49: - | M49: - | N49: -
...

Sheet Ane III
B1: ANEXO III - RP 2 e 9 DISCRICIONÁRIAS FONTES PRÓPRIAS (R$ unidades)
B2: Órgãos/Unidades | C2: Até Jan | D2: Até Fev | E2: Até Mar | F2: Até Abr | G2: Até Mai | H2: Até Jun | I2: Até Jul | J2: Até Ago | K2: Até Set | L2: Até Out | M2: Até Nov | N2: Até Dez
A3: =LEFT(B3,5) -> 20000 | B3: 20000 Presidência da República | C3: - | D3: 15009465 | E3: 22514197 | F3: 31519876 | G3: 40525555 | H3: 85789234 | I3: 94794913 | J3: 103800592 | K3: 112806270 | L3: 120318575 | M3: 127830879 | N3: 133358710
A4: =LEFT(B4,5) -> 22000 | B4: 22000 Ministério da Agricultura e Pecuária | C4: - | D4: 12713062 | E4: 19417527 | F4: 21421654 | G4: 38325781 | H4: 40329908 | I4: 22334035 | J4: 24338162 | K4: 26342289 | L4: 30684564 | M4: 35026839 | N4: 39369114
