Workbook

Sheet Todos Anexos
A1: CHECK: TODOS OS ANEXOS ATÉ DEZ | B1: Até Dez | C1: Até Dez | D1: Até Dez | E1: Até Dez | F1: Até Dez | G1: Até Dez | H1: Até Dez | I1: Até Dez | J1: Até Dez | K1: Até Dez | L1: Até Dez | M1: Até Dez | N1: Até Dez
B2: Anexo II | C2: Anexo II-A | D2: Anexo II-B | E2: Anexo II-C | F2: Anexo III | G2: Anexo III-A | H2: Anexo III-B | I2: Anexo III-C | J2: Anexo IV | K2: Anexo V | L2: Anexo VI | M2: Anexo VII | N2: Total
A3: 20000 Presidência da República | B3: ='Ane II'!N3 -> 2.1272214e+09 | C3: ='Ane II-A'!N3 -> 0 | D3: ='Ane II-B'!N3 -> 27883140 | E3: ='Ane II-C'!N3 -> 0 | F3: ='Ane III'!N3 -> 1.4803134e+08 | G3: ='Ane III-A'!N3 -> 0 | H3: ='Ane III-B'!N3 -> 0 | I3: ='Ane III-C'!N3 -> 0 | L3: ='Ane VI'!N3 -> 138392156 | M3: ='Ane VII'!N3 -> 0 | N3: =SUM(B3:I3,L3,M3) -> 2.441528e+09
A4: 22000 Ministério da Agricultura e Pecuária | B4: ='Ane II'!N4 -> 2.0289101e+09 | C4: ='Ane II-A'!N4 -> 214297455 | D4: ='Ane II-B'!N4 -> 1.4818441e+08 | E4: ='Ane II-C'!N4 -> 0 | F4: ='Ane III'!N4 -> 21950549 | G4: ='Ane III-A'!N4 -> 66730791 | H4: ='Ane III-B'!N4 -> 0 | I4: ='Ane III-C'!N4 -> 0 | L4: ='Ane VI'!N4 -> 3.9043145e+08 | M4: ='Ane VII'!N4 -> 0 | N4: =SUM(B4:I4,L4,M4) -> 2.8705048e+09
A5: 24000 Ministério da Ciência, Tecnologia e Inovação | B5: ='Ane II'!N5 -> 2.7439704e+09 | C5: ='Ane II-A'!N5 -> 3.3191868e+09 | D5: ='Ane II-B'!N5 -> 0 | E5: ='Ane II-C'!N5 -> 1.6545692e+09 | F5: ='Ane III'!N5 -> 67261171 | G5: ='Ane III-A'!N5 -> 1.2889535e+09 | H5: ='Ane III-B'!N5 -> 0 | I5: ='Ane III-C'!N5 -> 1.1085771e+09 | L5: ='Ane VI'!N5 -> 1.0221036e+08 | M5: ='Ane VII'!N5 -> 0 | N5: =SUM(B5:I5,L5,M5) -> 10284728442
A6: 25000 Ministério da Fazenda | B6: ='Ane II'!N6 -> 4.8752503e+09 | C6: ='Ane II-A'!N6 -> 0 | D6: ='Ane II-B'!N6 -> 0 | E6: ='Ane II-C'!N6 -> 0 | F6: ='Ane III'!N6 -> 9.0506666e+08 | G6: ='Ane III-A'!N6 -> 0 | H6: ='Ane III-B'!N6 -> 0 | I6: ='Ane III-C'!N6 -> 0 | L6: ='Ane VI'!N6 -> 7.4244584e+08 | M6: ='Ane VII'!N6 -> 0 | N6: =SUM(B6:I6,L6,M6) -> 6522762767
A7: 26000 Ministério da Educação | B7: ='Ane II'!N7 -> 2.6321903e+10 | C7: ='Ane II-A'!N7 -> 666666 | D7: ='Ane II-B'!N7 -> 4.2878095e+09 | E7: ='Ane II-C'!N7 -> 0 | F7: ='Ane III'!N7 -> 2.1517387e+08 | G7: ='Ane III-A'!N7 -> 1619923703 | H7: ='Ane III-B'!N7 -> 0 | I7: ='Ane III-C'!N7 -> 0 | L7: ='Ane VI'!N7 -> 1.4094881e+10 | M7: ='Ane VII'!N7 -> 36376647 | N7: =SUM(B7:I7,L7,M7) -> 4.6576734e+10
A8: 28000 Ministério do Desenvolvimento, Indústria, Comércio e Serviços | B8: ='Ane II'!N8 -> 5.6951976e+08 | C8: ='Ane II-A'!N8 -> 0 | D8: ='Ane II-B'!N8 -> 0 | E8: ='Ane II-C'!N8 -> 0 | F8: ='Ane III'!N8 -> 87760149 | G8: ='Ane III-A'!N8 -> 246218577 | H8: ='Ane III-B'!N8 -> 0 | I8: ='Ane III-C'!N8 -> 0 | L8: ='Ane VI'!N8 -> 28595063 | M8: ='Ane VII'!N8 -> 15041185 | N8: =SUM(B8:I8,L8,M8) -> 947134736
A9: 30000 Ministério da Justiça e Segurança Pública | B9: ='Ane II'!N9 -> 2.7164207e+09 | C9: ='Ane II-A'!N9 -> 6.0290817e+08 | D9: ='Ane II-B'!N9 -> 0 | E9: ='Ane II-C'!N9 -> 0 | F9: ='Ane III'!N9 -> 29545733 | G9: ='Ane III-A'!N9 -> 20344753 | H9: ='Ane III-B'!N9 -> 0 | I9: ='Ane III-C'!N9 -> 0 | L9: ='Ane VI'!N9 -> 3.0700084e+09 | M9: ='Ane VII'!N9 -> 4.9621501e+08 | N9: =SUM(B9:I9,L9,M9) -> 6935442827
A10: 30211 Conselho Administrativo de Defesa Econômica | B10: ='Ane II'!N10 -> 8655063.4 | C10: ='Ane II-A'!N10 -> 0 | D10: ='Ane II-B'!N10 -> 0 | E10: ='Ane II-C'!N10 -> 0 | F10: ='Ane III'!N10 -> 39246579 | G10: ='Ane III-A'!N10 -> 0 | H10: ='Ane III-B'!N10 -> 0 | I10: ='Ane III-C'!N10 -> 0 | L10: ='Ane VI'!N10 -> 1529771 | M10: ='Ane VII'!N10 -> 0 | N10: =SUM(B10:I10,L10,M10) -> 49431413
A11: 30212 Agência Nacional de Proteção de Dados | B11: ='Ane II'!N11 -> 13958003 | C11: ='Ane II-A'!N11 -> 0 | D11: ='Ane II-B'!N11 -> 0 | E11: ='Ane II-C'!N11 -> 0 | F11: ='Ane III'!N11 -> 0 | G11: ='Ane III-A'!N11 -> 0 | H11: ='Ane III-B'!N11 -> 0 | I11: ='Ane III-C'!N11 -> 0 | L11: ='Ane VI'!N11 -> 204615 | M11: ='Ane VII'!N11 -> 0 | N11: =SUM(B11:I11,L11,M11) -> 14162618
A12: 32000 Ministério de Minas e Energia | B12: ='Ane II'!N12 -> 3.1424262e+08 | C12: ='Ane II-A'!N12 -> 0 | D12: ='Ane II-B'!N12 -> 63821752 | E12: ='Ane II-C'!N12 -> 0 | F12: ='Ane III'!N12 -> 98800271 | G12: ='Ane III-A'!N12 -> 0 | H12: ='Ane III-B'!N12 -> 805688.76 | I12: ='Ane III-C'!N12 -> 0 | L12: ='Ane VI'!N12 -> 132855031 | M12: ='Ane VII'!N12 -> 0 | N12: =SUM(B12:I12,L12,M12) -> 610525368
A13: 32265 Agência Nacional do Petróleo, Gás Natural e Biocombustíveis | B13: ='Ane II'!N13 -> 535000 | C13: ='Ane II-A'!N13 -> 0 | D13: ='Ane II-B'!N13 -> 0 | E13: ='Ane II-C'!N13 -> 0 | F13: ='Ane III'!N13 -> 167910812 | G13: ='Ane III-A'!N13 -> 0 | H13: ='Ane III-B'!N13 -> 0 | I13: ='Ane III-C'!N13 -> 0 | L13: ='Ane VI'!N13 -> 20398376 | M13: ='Ane VII'!N13 -> 0 | N13: =SUM(B13:I13,L13,M13) -> 188844188
A14: 32266 Agência Nacional de Energia Elétrica | B14: ='Ane II'!N14 -> 147715174 | C14: ='Ane II-A'!N14 -> 0 | D14: ='Ane II-B'!N14 -> 0 | E14: ='Ane II-C'!N14 -> 0 | F14: ='Ane III'!N14 -> 0 | G14: ='Ane III-A'!N14 -> 0 | H14: ='Ane III-B'!N14 -> 0 | I14: ='Ane III-C'!N14 -> 0 | L14: ='Ane VI'!N14 -> 9981315 | M14: ='Ane VII'!N14 -> 0 | N14: =SUM(B14:I14,L14,M14) -> 157696489
... A51: 84000 Ministério dos Povos Indígenas | B51: ='Ane II'!N51 -> 374669263 | C51: ='Ane II-A'!N51 -> 3.0381552e+08 | D51: ='Ane II-B'!N51 -> 0 | E51: ='Ane II-C'!N51 -> 0 | F51: ='Ane III'!N51 -> 414474 | G51: ='Ane III-A'!N51 -> 0 | H51: ='Ane III-B'!N51 -> 0 | I51: ='Ane III-C'!N51 -> 0 | L51: ='Ane VI'!N51 -> 29072929 | M51: ='Ane VII'!N51 -> 0 | N51: =SUM(B51:I51,L51,M51) -> 707972185
A52: Total | B52: =SUM(B3:B51) -> 9.9389291e+10 | C52: =SUM(C3:C51) -> 5.9471805e+09 | D52: =SUM(D3:D51) -> 4.3662422e+10 | E52: #VALUE! | F52: =SUM(F3:F51) -> 7.247766e+09 | G52: =SUM(G3:G51) -> 4.1655019e+09 | H52: =SUM(H3:H51) -> 1.406986e+09 | I52: =SUM(I3:I51) -> 1.1085771e+09 | J52: =SUM(J3:J51) -> 0 | K52: =SUM(K3:K51) -> 0 | L52: =SUM(L3:L51) -> 3.5778255e+11 | M52: =SUM(M3:M51) -> 6.836285e+09 | N52: =SUM(N3:N51) -> 5.2920114e+11
A53: Demais Emendas Individuais | J53: ='Ane IV'!N3 -> 2.4598475e+10 | N53: =SUM(B53:M53) -> 2.4598475e+10
A54: Emendas Impositivas de Bancada | J54: ='Ane IV'!N4 -> 11486070654 | N54: =SUM(B54:M54) -> 11486070654
A55: Emendas de Comissão - RP8 | K55: ='Ane V'!N3 -> 9452900000 | N55: =SUM(B55:M55) -> 9452900000
A56: Subtotal | B56: =SUM(B53:B54) -> 0 | F56: =SUM(F53:F54) -> 0 | J56: =SUM(J53:J54) -> 36084545412 | K56: =K55 -> 9452900000 | L56: =SUM(L53:L54) -> 0 | M56: =SUM(M53:M54) -> 0 | N56: =SUM(N53:N55) -> 45537445412
A57: Total | B57: =B52+B56 -> 9.9389291e+10 | C57: =C52+C56 -> 5.9471805e+09 | D57: =D52+D56 -> 4.3662422e+10 | E57: =E52+E56 -> #VALUE! | F57: =F52+F56 -> 7.247766e+09 | G57: =G52+G56 -> 4.1655019e+09 | H57: =H52+H56 -> 1.406986e+09 | I57: =I52+I56 -> 1.1085771e+09 | J57: =J56 -> 36084545412 | K57: =K56 -> 9452900000 | L57: =L52+L56 -> 3.5778255e+11 | M57: =M52+M56 -> 6.836285e+09 | N57: =N52+N56 -> 5.7473858e+11

Sheet Ane II
B1: ANEXO II - RP 2 e 9 DISCRICIONÁRIAS FONTES TESOURO (R$ unidades)
B2: Órgãos/Unidades | C2: Até Jan | D2: Até Fev | E2: Até Mar | F2: Até Abr | G2: Até Mai | H2: Até Jun | I2: Até Jul | J2: Até Ago | K2: Até Set | L2: Até Out | M2: Até Nov | N2: Até Dez
A3: =LEFT(B3,5) -> 20000 | B3: 20000 Presidência da República | C3: 0 | D3: 0 | E3: 0 | F3: 7.383556e+08 | G3: 8.6511537e+08 | H3: 9.8659165e+08 | I3: 1.1989549e+09 | J3: 1.4045136e+09 | K3: 1.7465838e+09 | L3: 1.8985282e+09 | M3: 2.0504726e+09 | N3: 2.1272214e+09
A4: =LEFT(B4,5) -> 22000 | B4: 22000 Ministério da Agricultura e Pecuária | C4: 0 | D4: 0 | E4: 0 | F4: 537459586 | G4: 6.7182448e+08 | H4: 8.0618938e+08 | I4: 1.1041145e+09 | J4: 1.3097383e+09 | K4: 1.4986502e+09 | L4: 1.6435724e+09 | M4: 1.7884945e+09 | N4: 2.0289101e+09
A5: =LEFT(B5,5) -> 24000 | B5: 24000 Ministério da Ciência, Tecnologia e Inovação | C5: 0 | D5: 0 | E5: 0 | F5: 7.9798073e+08 | G5: 9.4642591e+08 | H5: 1.188006e+09 | I5: 1.4195861e+09 | J5: 1.6698671e+09 | K5: 1.9201481e+09 | L5: 2.116146e+09 | M5: 2.3121439e+09 | N5: 2.7439704e+09
A6: =LEFT(B6,5) -> 25000 | B6: 25000 Ministério da Fazenda | C6: 0 | D6: 0 | E6: 0 | F6: 1304731752 | G6: 1570385940 | H6: 1.8081724e+09 | I6: 2.063295e+09 | J6: 2.6347097e+09 | K6: 3.2824687e+09 | L6: 3.6307008e+09 | M6: 3.978933e+09 | N6: 4.8752503e+09
A7: =LEFT(B7,5) -> 26000 | B7: 26000 Ministério da Educação | C7: 0 | D7: 0 | E7: 0 | F7: 6.976314e+09 | G7: 9.0163925e+09 | H7: 1.0744487e+10 | I7: 1.3472581e+10 | J7: 1.5710705e+10 | K7: 1.8501359e+10 | L7: 2.0381495e+10 | M7: 2.2261631e+10 | N7: 2.6321903e+10
A8: =LEFT(B8,5) -> 28000 | B8: 28000 Ministério do Desenvolvimento, Indústria, Comércio e Serviços | C8: 0 | D8: 0 | E8: 0 | F8: 1.5103735e+08 | G8: 1.8879669e+08 | H8: 2.1887472e+08 | I8: 2.4895276e+08 | J8: 2.8692074e+08 | K8: 3.7601428e+08 | L8: 4.1669426e+08 | M8: 4.5737424e+08 | N8: 5.6951976e+08
A9: =LEFT(B9,5) -> 30000 | B9: 30000 Ministério da Justiça e Segurança Pública | C9: 0 | D9: 0 | E9: 0 | F9: 7.7927456e+08 | G9: 8.7658908e+08 | H9: 1.0454077e+09 | I9: 1.2344903e+09 | J9: 1.6399276e+09 | K9: 1.9365699e+09 | L9: 2.1305999e+09 | M9: 2.32463e+09 | N9: 2.7164207e+09
A10: =LEFT(B10,5) -> 30211 | B10: 30211 Conselho Administrativo de Defesa Econômica | C10: 0 | D10: 0 | E10: 0 | F10: 2904501.3 | G10: 3630626.7 | H10: 3785740.5 | I10: 3940854.4 | J10: 4517858.6 | K10: 5793079.9 | L10: 6411298.7 | M10: 7029517.5 | N10: 8655063.4
A11: =LEFT(B11,5) -> 30212 | B11: 30212 Agência Nacional de Proteção de Dados | F11: 0 | G11: 0 | H11: 0 | I11: 0 | J11: 0 | K11: 8374801.8 | L11: 9371802 | M11: 10368802 | N11: 13958003
A12: =LEFT(B12,5) -> 32000 | B12: 32000 Ministério de Minas e Energia | C12: 0 | D12: 0 | E12: 0 | F12: 99974937 | G12: 1.2496867e+08 | H12: 1.4751814e+08 | I12: 1.7006761e+08 | J12: 2.1103367e+08 | K12: 2.5834195e+08 | L12: 2.8078785e+08 | M12: 3.0323375e+08 | N12: 3.1424262e+08
A13: =LEFT(B13,5) -> 32265 | B13: 32265 Agência Nacional do Petróleo, Gás Natural e Biocombustíveis | C13: 0 | D13: 0 | E13: 0 | F13: 0 | G13: 0 | H13: 0 | I13: 535000 | J13: 535000 | K13: 535000 | L13: 535000 | M13: 535000 | N13: 535000
A14: =LEFT(B14,5) -> 32266 | B14: 32266 Agência Nacional de Energia Elétrica | C14: 0 | D14: 0 | E14: 0 | F14: 34585791 | G14: 51878686 | H14: 60525134 | I14: 68326002 | J14: 88325231 | K14: 98172909 | L14: 1.0872399e+08 | M14: 1.1927508e+08 | N14: 147715174
A15: =LEFT(B15,5) -> 32396 | B15: 32396 Agência Nacional de Mineração | C15: 0 | D15: 0 | E15: 0 | F15: 25724034 | G15: 38586052 | H15: 45017060 | I15: 50819148 | J15: 62628678 | K15: 74438209 | L15: 82285838 | M15: 90133466 | N15: 1.098668e+08
A16: =LEFT(B16,5) -> 33000 | B16: 33000 Ministério da Previdência Social | C16: 0 | D16: 0 | E16: 0 | F16: 60527944 | G16: 74909931 | H16: 87885429 | I16: 1.0086093e+08 | J16: 1.1724097e+08 | K16: 1.3362101e+08 | L16: 1.5117106e+08 | M16: 1.687211e+08 | N16: 2.4570062e+08
A17: =LEFT(B17,5) -> 35000 | B17: 35000 Ministério das Relações Exteriores | C17: 0 | D17: 0 | E17: 0 | F17: 6.7012695e+08 | G17: 8.9015868e+08 | H17: 1.014383e+09 | I17: 1.3173983e+09 | J17: 1.5189381e+09 | K17: 1.7174624e+09 | L17: 1.8852825e+09 | M17: 2.0531026e+09 | N17: 2.3494812e+09
A18: =LEFT(B18,5) -> 36000 | B18: 36000 Ministério da Saúde | C18: 0 | D18: 0 | E18: 0 | F18: 7.2545891e+09 | G18: 9.0575614e+09 | H18: 1.0950534e+10 | I18: 1.3873089e+10 | J18: 1.6531507e+10 | K18: 1.9269326e+10 | L18: 2.1133319e+10 | M18: 2.2997313e+10 | N18: 2.6095912e+10
A19: =LEFT(B19,5) -> 36212 | B19: 36212 Agência Nacional de Vigilância Sanitária | C19: 0 | D19: 0 | E19: 0 | F19: 52428020 | G19: 65535025 | H19: 77360230 | I19: 90467235 | J19: 1.2239517e+08 | K19: 1.373231e+08 | L19: 1.5331731e+08 | M19: 1.6931152e+08 | N19: 2.2391896e+08
A20: =LEFT(B20,5) -> 36213 | B20: 36213 Agência Nacional de Saúde Suplementar | C20: 0 | D20: 0 | E20: 0 | F20: 27408442 | G20: 34260552 | H20: 41112662 | I20: 48788465 | J20: 56592523 | K20: 67896581 | L20: 76258072 | M20: 84619563 | N20: 1.1706087e+08
A21: =LEFT(B21,5) -> 37000 | B21: 37000 Controladoria-Geral da União | C21: 0 | D21: 0 | E21: 0 | F21: 37771947 | G21: 49157921 | H21: 57350908 | I21: 64742661 | J21: 76073880 | K21: 95190099 | L21: 1.0464741e+08 | M21: 1.1410471e+08 | N21: 1.3240231e+08
A22: =LEFT(B22,5) -> 39000 | B22: 39000 Ministério dos Transportes | C22: 0 | D22: 0 | E22: 0 | F22: 3.1076468e+08 | G22: 3.6970586e+08 | H22: 5.7288287e+08 | I22: 6.3905989e+08 | J22: 7.3380089e+08 | K22: 8.0397614e+08 | L22: 8.7784933e+08 | M22: 9.5172253e+08 | N22: 1.0342247e+09
A23: =LEFT(B23,5) -> 39250 | B23: 39250 Agência Nacional de Transportes Terrestres | C23: 0 | D23: 0 | E23: 0 | F23: 20323028 | G23: 25403785 | H23: 30484542 | I23: 37588706 | J23: 43375320 | K23: 50761935 | L23: 56961879 | M23: 63161823 | N23: 86799219
... A51: =LEFT(B51,5) -> 84000 | B51: 84000 Ministério dos Povos Indígenas | C51: 0 | D51: 0 | E51: 0 | F51: 37224259 | G51: 46530324 | H51: 54926301 | I51: 63322279 | J51: 73921214 | K51: 84520148 | L51: 1.1128224e+08 | M51: 1.3804433e+08 | N51: 374669263
A52: =LEFT(B52,5) -> Total | B52: Total | C52: 0 | D52: =SUM(D3:D51) -> 0 | E52: =SUM(E3:E51) -> 0 | F52: =SUM(F3:F51) -> 2.8023099e+10 | G52: =SUM(G3:G51) -> 3.5055366e+10 | H52: =SUM(H3:H51) -> 4.1869384e+10 | I52: =SUM(I3:I51) -> 5.0716674e+10 | J52: =SUM(J3:J51) -> 6.0713471e+10 | K52: =SUM(K3:K51) -> 7.0165713e+10 | ... N52: =SUM(N3:N51) -> 9.9389291e+10

Sheet Ane II-A
B1: ANEXO II.A - RP 2 e 9 DISCRICIONÁRIAS FONTES TESOURO RESSALVADAS (R$ unidades)
B2: Órgãos/Unidades | C2: Até Jan | D2: Até Fev | E2: Até Mar | F2: Até Abr | G2: Até Mai | H2: Até Jun | I2: Até Jul | J2: Até Ago | K2: Até Set | L2: Até Out | M2: Até Nov | N2: Até Dez
A3: =LEFT(B3,5) -> 20000 | B3: 20000 Presidência da República | C3: 0 | D3: 0 | E3: 0 | F3: 0 | G3: 0 | H3: 0 | I3: 0 | J3: 0 | K3: 0 | L3: 0 | M3: 0 | N3: 0
A4: =LEFT(B4,5) -> 22000 | B4: 22000 Ministério da Agricultura e Pecuária | C4: 0 | D4: 0 | E4: 0 | F4: 47621657 | G4: 59527071 | H4: 73813568 | I4: 88100065 | J4: 1.0238656e+08 | K4: 1.1667306e+08 | L4: 1.3198002e+08 | M4: 1.4728698e+08 | N4: 214297455
A5: =LEFT(B5,5) -> 24000 | B5: 24000 Ministério da Ciência, Tecnologia e Inovação | C5: 0 | D5: 0 | E5: 0 | F5: 8.2602928e+08 | G5: 9.125365e+08 | H5: 1.0543452e+09 | I5: 1.4261538e+09 | J5: 1.6466292e+09 | K5: 1.9471045e+09 | L5: 2.1841893e+09 | M5: 2.421274e+09 | N5: 3.3191868e+09
A6: =LEFT(B6,5) -> 25000 | B6: 25000 Ministério da Fazenda | C6: 0 | D6: 0 | E6: 0 | F6: 0 | G6: 0 | H6: 0 | I6: 0 | J6: 0 | K6: 0 | L6: 0 | M6: 0 | N6: 0
A7: =LEFT(B7,5) -> 26000 | B7: 26000 Ministério da Educação | C7: 0 | D7: 0 | E7: 0 | F7: 161481.33 | G7: 201851.67 | H7: 250296.07 | I7: 298740.47 | J7: 343184.87 | K7: 387629.27 | L7: 435248.27 | M7: 482867.27 | N7: 666666
A8: =LEFT(B8,5) -> 28000 | B8: 28000 Ministério do Desenvolvimento, Indústria, Comércio e Serviços | C8: 0 | D8: 0 | E8: 0 | F8: 0 | G8: 0 | H8: 0 | I8: 0 | J8: 0 | K8: 0 | L8: 0 | M8: 0 | N8: 0
A9: =LEFT(B9,5) -> 30000 | B9: 30000 Ministério da Justiça e Segurança Pública | C9: 0 | D9: 0 | E9: 0 | F9: 1.0449189e+08 | G9: 1.7477785e+08 | H9: 2.117989e+08 | I9: 2.8637708e+08 | J9: 3.4629832e+08 | K9: 3.9313718e+08 | L9: 4.3620205e+08 | M9: 4.7926692e+08 | N9: 6.0290817e+08
A10: =LEFT(B10,5) -> 30211 | B10: 30211 Conselho Administrativo de Defesa Econômica | C10: 0 | D10: 0 | E10: 0 | F10: 0 | G10: 0 | H10: 0 | I10: 0 | J10: 0 | K10: 0 | L10: 0 | M10: 0 | N10: 0
A11: =LEFT(B11,5) -> 30212 | B11: 30212 Agência Nacional de Proteção de Dados | F11: 0 | G11: 0 | H11: 0 | I11: 0 | J11: 0 | K11: 0 | L11: 0 | M11: 0 | N11: 0
A12: =LEFT(B12,5) -> 32000 | B12: 32000 Ministério de Minas e Energia | C12: 0 | D12: 0 | E12: 0 | F12: 0 | G12: 0 | H12: 0 | I12: 0 | J12: 0 | K12: 0 | L12: 0 | M12: 0 | N12: 0
A13: =LEFT(B13,5) -> 32265 | B13: 32265 Agência Nacional do Petróleo, Gás Natural e Biocombustíveis | C13: 0 | D13: 0 | E13: 0 | F13: 0 | G13: 0 | H13: 0 | I13: 0 | J13: 0 | K13: 0 | L13: 0 | M13: 0 | N13: 0
A14: =LEFT(B14,5) -> 32266 | B14: 32266 Agência Nacional de Energia Elétrica | C14: 0 | D14: 0 | E14: 0 | F14: 0 | G14: 0 | H14: 0 | I14: 0 | J14: 0 | K14: 0 | L14: 0 | M14: 0 | N14: 0
A15: =LEFT(B15,5) -> 32396 | B15: 32396 Agência Nacional de Mineração | C15: 0 | D15: 0 | E15: 0 | F15: 0 | G15: 0 | H15: 0 | I15: 0 | J15: 0 | K15: 0 | L15: 0 | M15: 0 | N15: 0
A16: =LEFT(B16,5) -> 33000 | B16: 33000 Ministério da Previdência Social | C16: 0 | D16: 0 | E16: 0 | F16: 0 | G16: 0 | H16: 0 | I16: 0 | J16: 0 | K16: 0 | L16: 0 | M16: 0 | N16: 0
A17: =LEFT(B17,5) -> 35000 | B17: 35000 Ministério das Relações Exteriores | C17: 0 | D17: 0 | E17: 0 | F17: 0 | G17: 0 | H17: 0 | I17: 0 | J17: 0 | K17: 0 | L17: 0 | M17: 0 | N17: 0
A18: =LEFT(B18,5) -> 36000 | B18: 36000 Ministério da Saúde | C18: 0 | D18: 0 | E18: 0 | F18: 0 | G18: 0 | H18: 3775564.9 | I18: 7551129.7 | J18: 11326695 | K18: 15102259 | L18: 40247295 | M18: 65392331 | N18: 352030500
A19: =LEFT(B19,5) -> 36212 | B19: 36212 Agência Nacional de Vigilância Sanitária | C19: 0 | D19: 0 | E19: 0 | F19: 0 | G19: 0 | H19: 0 | I19: 0 | J19: 0 | K19: 0 | L19: 0 | M19: 0 | N19: 0
A20: =LEFT(B20,5) -> 36213 | B20: 36213 Agência Nacional de Saúde Suplementar | C20: 0 | D20: 0 | E20: 0 | F20: 0 | G20: 0 | H20: 0 | I20: 0 | J20: 0 | K20: 0 | L20: 0 | M20: 0 | N20: 0
A21: =LEFT(B21,5) -> 37000 | B21: 37000 Controladoria-Geral da União | C21: 0 | D21: 0 | E21: 0 | F21: 0 | G21: 0 | H21: 0 | I21: 0 | J21: 0 | K21: 0 | L21: 0 | M21: 0 | N21: 0
A22: =LEFT(B22,5) -> 39000 | B22: 39000 Ministério dos Transportes | C22: 0 | D22: 0 | E22: 0 | F22: 0 | G22: 0 | H22: 0 | I22: 0 | J22: 0 | K22: 0 | L22: 0 | M22: 0 | N22: 0
A23: =LEFT(B23,5) -> 39250 | B23: 39250 Agência Nacional de Transportes Terrestres | C23: 0 | D23: 0 | E23: 0 | F23: 0 | G23: 0 | H23: 0 | I23: 0 | J23: 0 | K23: 0 | L23: 0 | M23: 0 | N23: 0
... A51: =LEFT(B51,5) -> 84000 | B51: 84000 Ministério dos Povos Indígenas | C51: 0 | D51: 0 | E51: 0 | F51: 1.1926411e+08 | G51: 1.4908014e+08 | H51: 1.8485938e+08 | I51: 2.2063861e+08 | J51: 2.5641785e+08 | K51: 2.6826726e+08 | L51: 2.8011668e+08 | M51: 2.919661e+08 | N51: 3.0381552e+08
A52: =LEFT(B52,5) -> Total | B52: Total | C52: 0 | D52: 0 | E52: 0 | F52: =SUM(F3:F51) -> 1.3434087e+09 | G52: =SUM(G3:G51) -> 1.5831631e+09 | H52: =SUM(H3:H51) -> 1.889754e+09 | I52: =SUM(I3:I51) -> 2.546805e+09 | J52: =SUM(J3:J51) -> 2.9891437e+09 | K52: =SUM(K3:K51) -> 3.4453831e+09 | L52: =SUM(L3:L51) -> 3.8544399e+09 | M52: =SUM(M3:M51) -> 4.2642839e+09 | N52: =SUM(N3:N51) -> 5.9471805e+09

Sheet Ane II-B
B1: ANEXO II.B - RP 3 DISCRICIONÁRIAS FONTES TESOURO PAC (R$ unidades)
B2: Órgãos/Unidades | C2: Até Jan | D2: Até Fev | E2: Até Mar | F2: Até Abr | G2: Até Mai | H2: Até Jun | I2: Até Jul | J2: Até Ago | K2: Até Set | L2: Até Out | M2: Até Nov | N2: Até Dez
A3: =LEFT(B3,5) -> 20000 | B3: 20000 Presidência da República | C3: 0 | D3: 0 | E3: 0 | F3: 20420786 | G3: 13525983 | H3: 14148202 | I3: 14770420 | J3: 16629296 | K3: 18488172 | L3: 20479825 | M3: 22471478 | N3: 27883140
A4: =LEFT(B4,5) -> 22000 | B4: 22000 Ministério da Agricultura e Pecuária | C4: 0 | D4: 0 | E4: 0 | F4: 32929870 | G4: 41162337 | H4: 50095368 | I4: 59028399 | J4: 68907360 | K4: 94962316 | L4: 1.0554692e+08 | M4: 1.1613152e+08 | N4: 1.4818441e+08
A5: =LEFT(B5,5) -> 24000 | B5: 24000 Ministério da Ciência, Tecnologia e Inovação | C5: 0 | D5: 0 | E5: 0 | F5: 0 | G5: 0 | H5: 0 | I5: 0 | J5: 0 | K5: 0 | L5: 0 | M5: 0 | N5: 0
A6: =LEFT(B6,5) -> 25000 | B6: 25000 Ministério da Fazenda | C6: 0 | D6: 0 | E6: 0 | F6: 0 | G6: 0 | H6: 0 | I6: 0 | J6: 0 | K6: 0 | L6: 0 | M6: 0 | N6: 0
A7: =LEFT(B7,5) -> 26000 | B7: 26000 Ministério da Educação | C7: 0 | D7: 0 | E7: 0 | F7: 9.5284656e+08 | G7: 1.1910582e+09 | H7: 1.4769122e+09 | I7: 2.0627661e+09 | J7: 2.3486201e+09 | K7: 2.6344741e+09 | L7: 2.9407462e+09 | M7: 3.2470183e+09 | N7: 4.2878095e+09
A8: =LEFT(B8,5) -> 28000 | B8: 28000 Ministério do Desenvolvimento, Indústria, Comércio e Serviços | C8: 0 | D8: 0 | E8: 0 | F8: 0 | G8: 0 | H8: 0 | I8: 0 | J8: 0 | K8: 0 | L8: 0 | M8: 0 | N8: 0
A9: =LEFT(B9,5) -> 30000 | B9: 30000 Ministério da Justiça e Segurança Pública | C9: 0 | D9: 0 | E9: 0 | F9: 0 | G9: 0 | H9: 0 | I9: 0 | J9: 0 | K9: 0 | L9: 0 | M9: 0 | N9: 0
A10: =LEFT(B10,5) -> 30211 | B10: 30211 Conselho Administrativo de Defesa Econômica | C10: 0 | D10: 0 | E10: 0 | F10: 0 | G10: 0 | H10: 0 | I10: 0 | J10: 0 | K10: 0 | L10: 0 | M10: 0 | N10: 0
A11: =LEFT(B11,5) -> 30212 | B11: 30212 Agência Nacional de Proteção de Dados | F11: 0 | G11: 0 | H11: 0 | I11: 0 | J11: 0 | K11: 0 | L11: 0 | M11: 0 | N11: 0
A12: =LEFT(B12,5) -> 32000 | B12: 32000 Ministério de Minas e Energia | C12: 0 | D12: 0 | E12: 0 | F12: 16458889 | G12: 20573611 | H12: 23502798 | I12: 26431984 | J12: 30686768 | K12: 34941551 | L12: 39500248 | M12: 44058945 | N12: 63821752
A13: =LEFT(B13,5) -> 32265 | B13: 32265 Agência Nacional do Petróleo, Gás Natural e Biocombustíveis | C13: 0 | D13: 0 | E13: 0 | F13: 0 | G13: 0 | H13: 0 | I13: 0 | J13: 0 | K13: 0 | L13: 0 | M13: 0 | N13: 0
A14: =LEFT(B14,5) -> 32266 | B14: 32266 Agência Nacional de Energia Elétrica | C14: 0 | D14: 0 | E14: 0 | F14: 0 | G14: 0 | H14: 0 | I14: 0 | J14: 0 | K14: 0 | L14: 0 | M14: 0 | N14: 0
A15: =LEFT(B15,5) -> 32396 | B15: 32396 Agência Nacional de Mineração | C15: 0 | D15: 0 | E15: 0 | F15: 0 | G15: 0 | H15: 0 | I15: 0 | J15: 0 | K15: 0 | L15: 0 | M15: 0 | N15: 0
A16: =LEFT(B16,5) -> 33000 | B16: 33000 Ministério da Previdência Social | C16: 0 | D16: 0 | E16: 0 | F16: 0 | G16: 0 | H16: 0 | I16: 0 | J16: 0 | K16: 0 | L16: 0 | M16: 0 | N16: 0
A17: =LEFT(B17,5) -> 35000 | B17: 35000 Ministério das Relações Exteriores | C17: 0 | D17: 0 | E17: 0 | F17: 0 | G17: 0 | H17: 0 | I17: 0 | J17: 0 | K17: 0 | L17: 0 | M17: 0 | N17: 0
A18: =LEFT(B18,5) -> 36000 | B18: 36000 Ministério da Saúde | C18: 0 | D18: 0 | E18: 0 | F18: 1.7843551e+09 | G18: 2.4104439e+09 | H18: 2.7710601e+09 | I18: 3.5018671e+09 | J18: 3.862438e+09 | K18: 4.6147153e+09 | L18: 5.0425222e+09 | M18: 5.470329e+09 | N18: 5989295917
A19: =LEFT(B19,5) -> 36212 | B19: 36212 Agência Nacional de Vigilância Sanitária | C19: 0 | D19: 0 | E19: 0 | F19: 0 | G19: 0 | H19: 0 | I19: 0 | J19: 0 | K19: 0 | L19: 0 | M19: 0 | N19: 0
A20: =LEFT(B20,5) -> 36213 | B20: 36213 Agência Nacional de Saúde Suplementar | C20: 0 | D20: 0 | E20: 0 | F20: 0 | G20: 0 | H20: 0 | I20: 0 | J20: 0 | K20: 0 | L20: 0 | M20: 0 | N20: 0
A21: =LEFT(B21,5) -> 37000 | B21: 37000 Controladoria-Geral da União | C21: 0 | D21: 0 | E21: 0 | F21: 0 | G21: 0 | H21: 0 | I21: 0 | J21: 0 | K21: 0 | L21: 0 | M21: 0 | N21: 0
A22: =LEFT(B22,5) -> 39000 | B22: 39000 Ministério dos Transportes | C22: 0 | D22: 0 | E22: 0 | F22: 3.900364e+09 | G22: 4.65738e+09 | H22: 5.3361868e+09 | I22: 6.6627767e+09 | J22: 8.2580239e+09 | K22: 9.6654925e+09 | L22: 1.0625178e+10 | M22: 1.1584864e+10 | N22: 1.3435597e+10
A23: =LEFT(B23,5) -> 39250 | B23: 39250 Agência Nacional de Transportes Terrestres | C23: 0 | D23: 0 | E23: 0 | F23: 0 | G23: 0 | H23: 0 | I23: 0 | J23: 0 | K23: 0 | L23: 0 | M23: 0 | N23: 0
... A51: =LEFT(B51,5) -> 84000 | B51: 84000 Ministério dos Povos Indígenas | C51: 0 | D51: 0 | E51: 0 | F51: 0 | G51: 0 | H51: 0 | I51: 0 | J51: 0 | K51: 0 | L51: 0 | M51: 0 | N51: 0
A52: =LEFT(B52,5) -> Total | B52: Total | C52: 0 | D52: 0 | E52: 0 | F52: =SUM(F3:F51) -> 1.1869745e+10 | G52: =SUM(G3:G51) -> 1.4821184e+10 | H52: =SUM(H3:H51) -> 1.7313828e+10 | I52: =SUM(I3:I51) -> 2.1258816e+10 | J52: =SUM(J3:J51) -> 2.5143561e+10 | K52: =SUM(K3:K51) -> 2.911056e+10 | L52: =SUM(L3:L51) -> 3.2229248e+10 | M52: =SUM(M3:M51) -> 3.5347937e+10 | N52: =SUM(N3:N51) -> 4.3662422e+10

Sheet Ane II-C
B1: ANEXO II.C - RP 3 DISCRICIONÁRIAS FONTES TESOURO PAC RESSALVADAS (R$ unidades)
B2: Órgãos/Unidades | C2: Até Jan | D2: Até Fev | E2: Até Mar | F2: Até Abr | G2: Até Mai | H2: Até Jun | I2: Até Jul | J2: Até Ago | K2: Até Set | L2: Até Out | M2: Até Nov | N2: Até Dez
A3: =LEFT(B3,5) -> 20000 | B3: 20000 Presidência da República | C3: 0 | D3: 0 | E3: 0 | F3: 0 | G3: 0 | H3: 0 | I3: 0 | J3: 0 | K3: 0 | L3: 0 | M3: 0 | N3: 0
A4: =LEFT(B4,5) -> 22000 | B4: 22000 Ministério da Agricultura e Pecuária | C4: 0 | D4: 0 | E4: 0 | F4: 0 | G4: 0 | H4: 0 | I4: 0 | J4: 0 | K4: 0 | L4: 0 | M4: 0 | N4: 0
A5: =LEFT(B5,5) -> 24000 | B5: 24000 Ministério da Ciência, Tecnologia e Inovação | C5: 0 | D5: 0 | E5: 0 | F5: 443777458 | G5: 5.5097182e+08 | H5: 6.7960506e+08 | I5: 9.6688956e+08 | J5: 1.1909276e+09 | K5: 1.3833424e+09 | L5: 1.5015259e+09 | M5: 1.6197094e+09 | N5: 1.6545692e+09
A6: =LEFT(B6,5) -> 25000 | B6: 25000 Ministério da Fazenda | C6: 0 | D6: 0 | E6: 0 | F6: 0 | G6: 0 | H6: 0 | I6: 0 | J6: 0 | K6: 0 | L6: 0 | M6: 0 | N6: 0
A7: =LEFT(B7,5) -> 26000 | B7: 26000 Ministério da Educação | C7: 0 | D7: 0 | E7: 0 | F7: 0 | G7: 0 | H7: 0 | I7: 0 | J7: 0 | K7: 0 | L7: 0 | M7: 0 | N7: 0
A8: =LEFT(B8,5) -> 28000 | B8: 28000 Ministério do Desenvolvimento, Indústria, Comércio e Serviços | C8: 0 | D8: 0 | E8: 0 | F8: 0 | G8: 0 | H8: 0 | I8: 0 | J8: 0 | K8: 0 | L8: 0 | M8: 0 | N8: 0
A9: =LEFT(B9,5) -> 30000 | B9: 30000 Ministério da Justiça e Segurança Pública | C9: 0 | D9: 0 | E9: 0 | F9: 0 | G9: 0 | H9: 0 | I9: 0 | J9: 0 | K9: 0 | L9: 0 | M9: 0 | N9: 0
A10: =LEFT(B10,5) -> 30211 | B10: 30211 Conselho Administrativo de Defesa Econômica | C10: 0 | D10: 0 | E10: 0 | F10: 0 | G10: 0 | H10: 0 | I10: 0 | J10: 0 | K10: 0 | L10: 0 | M10: 0 | N10: 0
A11: =LEFT(B11,5) -> 30212 | B11: 30212 Agência Nacional de Proteção de Dados | F11: 0 | G11: 0 | H11: 0 | I11: 0 | J11: 0 | K11: 0 | L11: 0 | M11: 0 | N11: 0
A12: =LEFT(B12,5) -> 32000 | B12: 32000 Ministério de Minas e Energia | C12: 0 | D12: 0 | E12: 0 | F12: 0 | G12: 0 | H12: 0 | I12: 0 | J12: 0 | K12: 0 | L12: 0 | M12: 0 | N12: 0
A13: =LEFT(B13,5) -> 32265 | B13: 32265 Agência Nacional do Petróleo, Gás Natural e Biocombustíveis | C13: 0 | D13: 0 | E13: 0 | F13: 0 | G13: 0 | H13: 0 | I13: 0 | J13: 0 | K13: 0 | L13: 0 | M13: 0 | N13: 0
A14: =LEFT(B14,5) -> 32266 | B14: 32266 Agência Nacional de Energia Elétrica | C14: 0 | D14: 0 | E14: 0 | F14: 0 | G14: 0 | H14: 0 | I14: 0 | J14: 0 | K14: 0 | L14: 0 | M14: 0 | N14: 0
A15: =LEFT(B15,5) -> 32396 | B15: 32396 Agência Nacional de Mineração | C15: 0 | D15: 0 | E15: 0 | F15: 0 | G15: 0 | H15: 0 | I15: 0 | J15: 0 | K15: 0 | L15: 0 | M15: 0 | N15: 0
A16: =LEFT(B16,5) -> 33000 | B16: 33000 Ministério da Previdência Social | C16: 0 | D16: 0 | E16: 0 | F16: 0 | G16: 0 | H16: 0 | I16: 0 | J16: 0 | K16: 0 | L16: 0 | M16: 0 | N16: 0
A17: =LEFT(B17,5) -> 35000 | B17: 35000 Ministério das Relações Exteriores | C17: 0 | D17: 0 | E17: 0 | F17: 0 | G17: 0 | H17: 0 | I17: 0 | J17: 0 | K17: 0 | L17: 0 | M17: 0 | N17: 0
A18: =LEFT(B18,5) -> 36000 | B18: 36000 Ministério da Saúde | C18: 0 | D18: 0 | E18: 0 | F18: 0 | G18: 0 | H18: 0 | I18: 0 | J18: 0 | K18: 0 | L18: 0 | M18: 0 | N18: 0
A19: =LEFT(B19,5) -> 36212 | B19: 36212 Agência Nacional de Vigilância Sanitária | C19: 0 | D19: 0 | E19: 0 | F19: 0 | G19: 0 | H19: 0 | I19: 0 | J19: 0 | K19: 0 | L19: 0 | M19: 0 | N19: 0
A20: =LEFT(B20,5) -> 36213 | B20: 36213 Agência Nacional de Saúde Suplementar | C20: 0 | D20: 0 | E20: 0 | F20: 0 | G20: 0 | H20: 0 | I20: 0 | J20: 0 | K20: 0 | L20: 0 | M20: 0 | N20: 0
A21: =LEFT(B21,5) -> 37000 | B21: 37000 Controladoria-Geral da União | C21: 0 | D21: 0 | E21: 0 | F21: 0 | G21: 0 | H21: 0 | I21: 0 | J21: 0 | K21: 0 | L21: 0 | M21: 0 | N21: 0
A22: =LEFT(B22,5) -> 39000 | B22: 39000 Ministério dos Transportes | C22: 0 | D22: 0 | E22: 0 | F22: 0 | G22: 0 | H22: 0 | I22: 0 | J22: 0 | K22: 0 | L22: 0 | M22: 0 | N22: 0
A23: =LEFT(B23,5) -> 39250 | B23: 39250 Agência Nacional de Transportes Terrestres | C23: 0 | D23: 0 | E23: 0 | F23: 0 | G23: 0 | H23: 0 | I23: 0 | J23: 0 | K23: 0 | L23: 0 | M23: 0 | N23: 0
... A51: =LEFT(B51,5) -> 84000 | B51: 84000 Ministério dos Povos Indígenas | C51: 0 | D51: 0 | E51: 0 | F51: 0 | G51: 0 | H51: 0 | I51: 0 | J51: 0 | K51: 0 | L51: 0 | M51: 0 | N51: 0
A52: =LEFT(B52,5) -> Total | B52: Total | C52: 0 | D52: 0 | E52: 0 | F52: =SUM(F3:F51) -> 4.437804e+08 | G52: =SUM(G3:G51) -> 5.509755e+08 | H52: =SUM(H3:H51) -> 6.7960962e+08 | I52: =SUM(I3:I51) -> 9.6689501e+08 | J52: =SUM(J3:J51) -> 1.1909339e+09 | K52: =SUM(K3:K51) -> 1.3833496e+09 | L52: =SUM(L3:L51) -> 1.501534e+09 | M52: =SUM(M3:M51) -> 1.6197185e+09 | N52: =SUM(N3:N51) -> 1.6545825e+09

Sheet Ane III
B1: ANEXO III - RP 2 e 9 DISCRICIONÁRIAS FONTES PRÓPRIAS (R$ unidades)
B2: Órgãos/Unidades | C2: Até Jan | D2: Até Fev | E2: Até Mar | F2: Até Abr | G2: Até Mai | H2: Até Jun | I2: Até Jul | J2: Até Ago | K2: Até Set | L2: Até Out | M2: Até Nov | N2: Até Dez
A3: =LEFT(B3,5) -> 20000 | B3: 20000 Presidência da República | C3: 0 | D3: 0 | E3: 0 | F3: 37001200 | G3: 46251500 | H3: 54597166 | I3: 62942833 | J3: 73478255 | K3: 84013678 | L3: 94587344 | M3: 1.0516101e+08 | N3: 1.4803134e+08
A4: =LEFT(B4,5) -> 22000 | B4: 22000 Ministério da Agricultura e Pecuária | C4: 0 | D4: 0 | E4: 0 | F4: 7515207.3 | G4: 9394009.2 | H4: 11089096 | I4: 12784183 | J4: 14580886 | K4: 16377590 | L4: 17945486 | M4: 19513382 | N4: 21950549
A5: =LEFT(B5,5) -> 24000 | B5: 24000 Ministério da Ciência, Tecnologia e Inovação | C5: 0 | D5: 0 | E5: 0 | F5: 15028056 | G5: 18799757 | H5: 22298152 | I5: 25796546 | J5: 30212859 | K5: 34629171 | L5: 39433540 | M5: 44237910 | N5: 67261171
A6: =LEFT(B6,5) -> 25000 | B6: 25000 Ministério da Fazenda | C6: 0 | D6: 0 | E6: 0 | F6: 2.035398e+08 | G6: 2.5442475e+08 | H6: 3.053097e+08 | I6: 3.7974245e+08 | J6: 4.4008023e+08 | K6: 5.0041801e+08 | L6: 5.6506562e+08 | M6: 6.2971324e+08 | N6: 9.0506666e+08
A7: =LEFT(B7,5) -> 26000 | B7: 26000 Ministério da Educação | C7: 0 | D7: 0 | E7: 0 | F7: 82154223 | G7: 1.3269278e+08 | H7: 1.5733905e+08 | I7: 1.8198531e+08 | J7: 1.8873634e+08 | K7: 1.9548737e+08 | L7: 2.0204954e+08 | M7: 2.086117e+08 | N7: 2.1517387e+08
A8: =LEFT(B8,5) -> 28000 | B8: 28000 Ministério do Desenvolvimento, Indústria, Comércio e Serviços | C8: 0 | D8: 0 | E8: 0 | F8: 19832667 | G8: 24790834 | H8: 29425465 | I8: 37306558 | J8: 43157235 | K8: 57414011 | L8: 63682594 | M8: 69951176 | N8: 87760149
A9: =LEFT(B9,5) -> 30000 | B9: 30000 Ministério da Justiça e Segurança Pública | C9: 0 | D9: 0 | E9: 0 | F9: 130454.22 | G9: 12535391 | H9: 13062641 | I9: 14349264 | J9: 15417184 | K9: 15485104 | L9: 20171980 | M9: 24858856 | N9: 29545733
A10: =LEFT(B10,5) -> 30211 | B10: 30211 Conselho Administrativo de Defesa Econômica | C10: 0 | D10: 0 | E10: 0 | F10: 8311111.1 | G10: 12466667 | H10: 15044445 | I10: 18004557 | J10: 23392690 | K10: 27722031 | L10: 30525358 | M10: 33328685 | N10: 39246579
A11: =LEFT(B11,5) -> 30212 | B11: 30212 Agência Nacional de Proteção de Dados | F11: 0 | G11: 0 | H11: 0 | I11: 0 | J11: 0 | K11: 0 | L11: 0 | M11: 0 | N11: 0
A12: =LEFT(B12,5) -> 32000 | B12: 32000 Ministério de Minas e Energia | C12: 0 | D12: 0 | E12: 0 | F12: 8995299.1 | G12: 11244124 | H12: 13273025 | I12: 15301926 | J12: 17863174 | K12: 20424423 | L12: 27481585 | M12: 34538747 | N12: 98800271
A13: =LEFT(B13,5) -> 32265 | B13: 32265 Agência Nacional do Petróleo, Gás Natural e Biocombustíveis | C13: 0 | D13: 0 | E13: 0 | F13: 31244785 | G13: 45055982 | H13: 52867178 | I13: 60254176 | J13: 78861053 | K13: 87721773 | L13: 99715403 | M13: 1.1170903e+08 | N13: 167910812
A14: =LEFT(B14,5) -> 32266 | B14: 32266 Agência Nacional de Energia Elétrica | C14: 0 | D14: 0 | E14: 0 | F14: 0 | G14: 0 | H14: 0 | I14: 0 | J14: 0 | K14: 0 | L14: 0 | M14: 0 | N14: 0
A15: =LEFT(B15,5) -> 32396 | B15: 32396 Agência Nacional de Mineração | C15: 0 | D15: 0 | E15: 0 | F15: 0 | G15: 0 | H15: 0 | I15: 0 | J15: 0 | K15: 0 | L15: 0 | M15: 0 | N15: 0
A16: =LEFT(B16,5) -> 33000 | B16: 33000 Ministério da Previdência Social | C16: 0 | D16: 0 | E16: 0 | F16: 6.1757488e+08 | G16: 7.3446861e+08 | H16: 8.5136233e+08 | I16: 1.0518244e+09 | J16: 1.2319579e+09 | K16: 1.4120914e+09 | L16: 1.5547344e+09 | M16: 1.6973775e+09 | N16: 1.9970024e+09
A17: =LEFT(B17,5) -> 35000 | B17: 35000 Ministério das Relações Exteriores | C17: 0 | D17: 0 | E17: 0 | F17: 854256 | G17: 1067820 | H17: 1260498.5 | I17: 1453177 | J17: 1697460.8 | K17: 1941744.6 | L17: 2203477.3 | M17: 2465209.9 | N17: 3664257.1
A18: =LEFT(B18,5) -> 36000 | B18: 36000 Ministério da Saúde | C18: 0 | D18: 0 | E18: 0 | F18: 4492032.2 | G18: 5615040.3 | H18: 12870630 | I18: 14126219 | J18: 15454957 | K18: 16783695 | L18: 17686258 | M18: 18588821 | N18: 19491384
A19: =LEFT(B19,5) -> 36212 | B19: 36212 Agência Nacional de Vigilância Sanitária | C19: 0 | D19: 0 | E19: 0 | F19: 628421.56 | G19: 785526.94 | H19: 927268.2 | I19: 1069009.5 | J19: 1247941.1 | K19: 1426872.8 | L19: 1618585.3 | M19: 1810297.8 | N19: 2683975.1
A20: =LEFT(B20,5) -> 36213 | B20: 36213 Agência Nacional de Saúde Suplementar | C20: 0 | D20: 0 | E20: 0 | F20: 93647.111 | G20: 117058.89 | H20: 138181.11 | I20: 159303.33 | J20: 185967.65 | K20: 212631.97 | L20: 241200.89 | M20: 269769.8 | N20: 399964.81
A21: =LEFT(B21,5) -> 37000 | B21: 37000 Controladoria-Geral da União | C21: 0 | D21: 0 | E21: 0 | F21: 0 | G21: 0 | H21: 0 | I21: 0 | J21: 0 | K21: 0 | L21: 0 | M21: 0 | N21: 0
A22: =LEFT(B22,5) -> 39000 | B22: 39000 Ministério dos Transportes | C22: 0 | D22: 0 | E22: 0 | F22: 30843180 | G22: 36053975 | H22: 40755180 | I22: 60456385 | J22: 67391103 | K22: 74325821 | L22: 81755877 | M22: 89185932 | N22: 1.0402078e+08
A23: =LEFT(B23,5) -> 39250 | B23: 39250 Agência Nacional de Transportes Terrestres | C23: 0 | D23: 0 | E23: 0 | F23: 46027150 | G23: 57533938 | H23: 69040726 | I23: 85130081 | J23: 98235479 | K23: 1.2094088e+08 | L23: 1.3498238e+08 | M23: 1.4902387e+08 | N23: 1.9658098e+08
... A51: =LEFT(B51,5) -> 84000 | B51: 84000 Ministério dos Povos Indígenas | C51: 0 | D51: 0 | E51: 0 | F51: 0 | G51: 0 | H51: 0 | I51: 0 | J51: 0 | K51: 0 | L51: 29605.286 | M51: 59210.571 | N51: 414474
A52: =LEFT(B52,5) -> Total | B52: Total | C52: 0 | D52: 0 | E52: 0 | F52: =SUM(F3:F51) -> 1.8518417e+09 | G52: =SUM(G3:G51) -> 2.4281575e+09 | H52: =SUM(H3:H51) -> 2.8475537e+09 | I52: =SUM(I3:I51) -> 3.4449401e+09 | J52: =SUM(J3:J51) -> 4.0913797e+09 | K52: =SUM(K3:K51) -> 4.6195971e+09 | L52: =SUM(L3:L51) -> 5.1220683e+09 | M52: =SUM(M3:M51) -> 5.6245395e+09 | N52: =SUM(N3:N51) -> 7.247766e+09

Sheet Ane III-A
B1: ANEXO III.A - RP 2 e 9 DISCRICIONÁRIAS FONTES PRÓPRIAS RESSALVADAS (R$ unidades)
C2: Até Jan | D2: Até Fev | E2: Até Mar | F2: Até Abr | G2: Até Mai | H2: Até Jun | I2: Até Jul | J2: Até Ago | K2: Até Set | L2: Até Out | M2: Até Nov | N2: Até Dez
A3: =LEFT(B3,5) -> 20000 | B3: 20000 Presidência da República | C3: 0 | D3: 0 | E3: 0 | F3: 0 | G3: 0 | H3: 0 | I3: 0 | J3: 0 | K3: 0 | L3: 0 | M3: 0 | N3: 0
A4: =LEFT(B4,5) -> 22000 | B4: 22000 Ministério da Agricultura e Pecuária | C4: 0 | D4: 0 | E4: 0 | F4: 14829065 | G4: 18536331 | H4: 25421253 | I4: 34398134 | J4: 41667024 | K4: 48081918 | L4: 52848404 | M4: 57614889 | N4: 66730791
A5: =LEFT(B5,5) -> 24000 | B5: 24000 Ministério da Ciência, Tecnologia e Inovação | C5: 0 | D5: 0 | E5: 0 | F5: 4.6834597e+08 | G5: 6.2595536e+08 | H5: 7.8356474e+08 | I5: 8.0296565e+08 | J5: 8.2236656e+08 | K5: 8.4176746e+08 | L5: 9.3383557e+08 | M5: 1.0259037e+09 | N5: 1.2889535e+09
A6: =LEFT(B6,5) -> 25000 | B6: 25000 Ministério da Fazenda | C6: 0 | D6: 0 | E6: 0 | F6: 0 | G6: 0 | H6: 0 | I6: 0 | J6: 0 | K6: 0 | L6: 0 | M6: 0 | N6: 0
A7: =LEFT(B7,5) -> 26000 | B7: 26000 Ministério da Educação | C7: 0 | D7: 0 | E7: 0 | F7: 3.0945819e+08 | G7: 4.8682274e+08 | H7: 5.7966019e+08 | I7: 7.424127e+08 | J7: 8.35255e+08 | K7: 9.2809729e+08 | L7: 1.0438061e+09 | M7: 1.159515e+09 | N7: 1619923703
A8: =LEFT(B8,5) -> 28000 | B8: 28000 Ministério do Desenvolvimento, Indústria, Comércio e Serviços | C8: 0 | D8: 0 | E8: 0 | F8: 15524474 | G8: 19405592 | H8: 29153497 | I8: 62097786 | J8: 71845691 | K8: 95628764 | L8: 1.1321581e+08 | M8: 1.3080285e+08 | N8: 246218577
A9: =LEFT(B9,5) -> 30000 | B9: 30000 Ministério da Justiça e Segurança Pública | C9: 0 | D9: 0 | E9: 0 | F9: 1449654.7 | G9: 4280875 | H9: 5380358.5 | I9: 5979842 | J9: 6612658.9 | K9: 7245475.7 | L9: 8698672.3 | M9: 10151869 | N9: 20344753
A10: =LEFT(B10,5) -> 30211 | B10: 30211 Conselho Administrativo de Defesa Econômica | C10: 0 | D10: 0 | E10: 0 | F10: 0 | G10: 0 | H10: 0 | I10: 0 | J10: 0 | K10: 0 | L10: 0 | M10: 0 | N10: 0
A11: =LEFT(B11,5) -> 30212 | B11: 30212 Agência Nacional de Proteção de Dados | F11: 0 | G11: 0 | H11: 0 | I11: 0 | J11: 0 | K11: 0 | L11: 0 | M11: 0 | N11: 0
A12: =LEFT(B12,5) -> 32000 | B12: 32000 Ministério de Minas e Energia | C12: 0 | D12: 0 | E12: 0 | F12: 0 | G12: 0 | H12: 0 | I12: 0 | J12: 0 | K12: 0 | L12: 0 | M12: 0 | N12: 0
A13: =LEFT(B13,5) -> 32265 | B13: 32265 Agência Nacional do Petróleo, Gás Natural e Biocombustíveis | C13: 0 | D13: 0 | E13: 0 | F13: 0 | G13: 0 | H13: 0 | I13: 0 | J13: 0 | K13: 0 | L13: 0 | M13: 0 | N13: 0
A14: =LEFT(B14,5) -> 32266 | B14: 32266 Agência Nacional de Energia Elétrica | C14: 0 | D14: 0 | E14: 0 | F14: 0 | G14: 0 | H14: 0 | I14: 0 | J14: 0 | K14: 0 | L14: 0 | M14: 0 | N14: 0
A15: =LEFT(B15,5) -> 32396 | B15: 32396 Agência Nacional de Mineração | C15: 0 | D15: 0 | E15: 0 | F15: 0 | G15: 0 | H15: 0 | I15: 0 | J15: 0 | K15: 0 | L15: 0 | M15: 0 | N15: 0
A16: =LEFT(B16,5) -> 33000 | B16: 33000 Ministério da Previdência Social | C16: 0 | D16: 0 | E16: 0 | F16: 0 | G16: 0 | H16: 0 | I16: 0 | J16: 0 | K16: 0 | L16: 0 | M16: 0 | N16: 0
A17: =LEFT(B17,5) -> 35000 | B17: 35000 Ministério das Relações Exteriores | C17: 0 | D17: 0 | E17: 0 | F17: 0 | G17: 0 | H17: 0 | I17: 0 | J17: 0 | K17: 0 | L17: 0 | M17: 0 | N17: 0
A18: =LEFT(B18,5) -> 36000 | B18: 36000 Ministério da Saúde | C18: 0 | D18: 0 | E18: 0 | F18: 694539.56 | G18: 868174.44 | H18: 5076536.3 | I18: 6284898.2 | J18: 6826593.4 | K18: 7368288.6 | L18: 7909983.8 | M18: 8017705.9 | N18: 8125428
A19: =LEFT(B19,5) -> 36212 | B19: 36212 Agência Nacional de Vigilância Sanitária | C19: 0 | D19: 0 | E19: 0 | F19: 0 | G19: 0 | H19: 0 | I19: 0 | J19: 0 | K19: 0 | L19: 0 | M19: 0 | N19: 0
A20: =LEFT(B20,5) -> 36213 | B20: 36213 Agência Nacional de Saúde Suplementar | C20: 0 | D20: 0 | E20: 0 | F20: 0 | G20: 0 | H20: 0 | I20: 0 | J20: 0 | K20: 0 | L20: 0 | M20: 0 | N20: 0
A21: =LEFT(B21,5) -> 37000 | B21: 37000 Controladoria-Geral da União | C21: 0 | D21: 0 | E21: 0 | F21: 0 | G21: 0 | H21: 0 | I21: 0 | J21: 0 | K21: 0 | L21: 0 | M21: 0 | N21: 0
A22: =LEFT(B22,5) -> 39000 | B22: 39000 Ministério dos Transportes | C22: 0 | D22: 0 | E22: 0 | F22: 0 | G22: 0 | H22: 0 | I22: 0 | J22: 0 | K22: 0 | L22: 0 | M22: 0 | N22: 0
A23: =LEFT(B23,5) -> 39250 | B23: 39250 Agência Nacional de Transportes Terrestres | C23: 0 | D23: 0 | E23: 0 | F23: 0 | G23: 0 | H23: 0 | I23: 0 | J23: 0 | K23: 0 | L23: 0 | M23: 0 | N23: 0
... A51: =LEFT(B51,5) -> 84000 | B51: 84000 Ministério dos Povos Indígenas | C51: 0 | D51: 0 | E51: 0 | F51: 92105.333 | G51: 115131.67 | H51: 142763.27 | I51: 170394.87 | J51: 198026.47 | K51: 0 | L51: 0 | M51: 0 | N51: 0
A52: =LEFT(B52,5) -> Total | B52: Total | C52: 0 | D52: 0 | E52: 0 | F52: =SUM(F3:F51) -> 9.711111e+08 | G52: =SUM(G3:G51) -> 1.4062415e+09 | H52: =SUM(H3:H51) -> 1.730674e+09 | I52: =SUM(I3:I51) -> 2.0308306e+09 | J52: =SUM(J3:J51) -> 2.264345e+09 | K52: =SUM(K3:K51) -> 2.4735963e+09 | L52: =SUM(L3:L51) -> 2.7710926e+09 | M52: =SUM(M3:M51) -> 3.0681548e+09 | N52: =SUM(N3:N51) -> 4.1655019e+09

Sheet Ane III-B
B1: ANEXO III.B - RP 3 DISCRICIONÁRIAS FONTES PRÓPRIAS PAC (R$ unidades)
C2: Até Jan | D2: Até Fev | E2: Até Mar | F2: Até Abr | G2: Até Mai | H2: Até Jun | I2: Até Jul | J2: Até Ago | K2: Até Set | L2: Até Out | M2: Até Nov | N2: Até Dez
A3: =LEFT(B3,5) -> 20000 | B3: 20000 Presidência da República | C3: 0 | D3: 0 | E3: 0 | F3: 0 | G3: 0 | H3: 0 | I3: 0 | J3: 0 | K3: 0 | L3: 0 | M3: 0 | N3: 0
A4: =LEFT(B4,5) -> 22000 | B4: 22000 Ministério da Agricultura e Pecuária | C4: 0 | D4: 0 | E4: 0 | F4: 0 | G4: 0 | H4: 0 | I4: 0 | J4: 0 | K4: 0 | L4: 0 | M4: 0 | N4: 0
A5: =LEFT(B5,5) -> 24000 | B5: 24000 Ministério da Ciência, Tecnologia e Inovação | C5: 0 | D5: 0 | E5: 0 | F5: 0 | G5: 0 | H5: 0 | I5: 0 | J5: 0 | K5: 0 | L5: 0 | M5: 0 | N5: 0
A6: =LEFT(B6,5) -> 25000 | B6: 25000 Ministério da Fazenda | C6: 0 | D6: 0 | E6: 0 | F6: 0 | G6: 0 | H6: 0 | I6: 0 | J6: 0 | K6: 0 | L6: 0 | M6: 0 | N6: 0
A7: =LEFT(B7,5) -> 26000 | B7: 26000 Ministério da Educação | C7: 0 | D7: 0 | E7: 0 | F7: 0 | G7: 0 | H7: 0 | I7: 0 | J7: 0 | K7: 0 | L7: 0 | M7: 0 | N7: 0
A8: =LEFT(B8,5) -> 28000 | B8: 28000 Ministério do Desenvolvimento, Indústria, Comércio e Serviços | C8: 0 | D8: 0 | E8: 0 | F8: 0 | G8: 0 | H8: 0 | I8: 0 | J8: 0 | K8: 0 | L8: 0 | M8: 0 | N8: 0
A9: =LEFT(B9,5) -> 30000 | B9: 30000 Ministério da Justiça e Segurança Pública | C9: 0 | D9: 0 | E9: 0 | F9: 0 | G9: 0 | H9: 0 | I9: 0 | J9: 0 | K9: 0 | L9: 0 | M9: 0 | N9: 0
A10: =LEFT(B10,5) -> 30211 | B10: 30211 Conselho Administrativo de Defesa Econômica | C10: 0 | D10: 0 | E10: 0 | F10: 0 | G10: 0 | H10: 0 | I10: 0 | J10: 0 | K10: 0 | L10: 0 | M10: 0 | N10: 0
A11: =LEFT(B11,5) -> 30212 | B11: 30212 Agência Nacional de Proteção de Dados | F11: 0 | G11: 0 | H11: 0 | I11: 0 | J11: 0 | K11: 0 | L11: 0 | M11: 0 | N11: 0
A12: =LEFT(B12,5) -> 32000 | B12: 32000 Ministério de Minas e Energia | C12: 0 | D12: 0 | E12: 0 | F12: 207777.78 | G12: 259722.22 | H12: 296700.41 | I12: 333678.6 | J12: 387391.18 | K12: 441103.77 | L12: 498652.97 | M12: 556202.16 | N12: 805688.76
A13: =LEFT(B13,5) -> 32265 | B13: 32265 Agência Nacional do Petróleo, Gás Natural e Biocombustíveis | C13: 0 | D13: 0 | E13: 0 | F13: 0 | G13: 0 | H13: 0 | I13: 0 | J13: 0 | K13: 0 | L13: 0 | M13: 0 | N13: 0
A14: =LEFT(B14,5) -> 32266 | B14: 32266 Agência Nacional de Energia Elétrica | C14: 0 | D14: 0 | E14: 0 | F14: 0 | G14: 0 | H14: 0 | I14: 0 | J14: 0 | K14: 0 | L14: 0 | M14: 0 | N14: 0
A15: =LEFT(B15,5) -> 32396 | B15: 32396 Agência Nacional de Mineração | C15: 0 | D15: 0 | E15: 0 | F15: 0 | G15: 0 | H15: 0 | I15: 0 | J15: 0 | K15: 0 | L15: 0 | M15: 0 | N15: 0
A16: =LEFT(B16,5) -> 33000 | B16: 33000 Ministério da Previdência Social | C16: 0 | D16: 0 | E16: 0 | F16: 0 | G16: 0 | H16: 0 | I16: 0 | J16: 0 | K16: 0 | L16: 0 | M16: 0 | N16: 0
A17: =LEFT(B17,5) -> 35000 | B17: 35000 Ministério das Relações Exteriores | C17: 0 | D17: 0 | E17: 0 | F17: 0 | G17: 0 | H17: 0 | I17: 0 | J17: 0 | K17: 0 | L17: 0 | M17: 0 | N17: 0
A18: =LEFT(B18,5) -> 36000 | B18: 36000 Ministério da Saúde | C18: 0 | D18: 0 | E18: 0 | F18: 0 | G18: 0 | H18: 0 | I18: 0 | J18: 0 | K18: 0 | L18: 0 | M18: 0 | N18: 0
A19: =LEFT(B19,5) -> 36212 | B19: 36212 Agência Nacional de Vigilância Sanitária | C19: 0 | D19: 0 | E19: 0 | F19: 0 | G19: 0 | H19: 0 | I19: 0 | J19: 0 | K19: 0 | L19: 0 | M19: 0 | N19: 0
A20: =LEFT(B20,5) -> 36213 | B20: 36213 Agência Nacional de Saúde Suplementar | C20: 0 | D20: 0 | E20: 0 | F20: 0 | G20: 0 | H20: 0 | I20: 0 | J20: 0 | K20: 0 | L20: 0 | M20: 0 | N20: 0
A21: =LEFT(B21,5) -> 37000 | B21: 37000 Controladoria-Geral da União | C21: 0 | D21: 0 | E21: 0 | F21: 0 | G21: 0 | H21: 0 | I21: 0 | J21: 0 | K21: 0 | L21: 0 | M21: 0 | N21: 0
A22: =LEFT(B22,5) -> 39000 | B22: 39000 Ministério dos Transportes | C22: 0 | D22: 0 | E22: 0 | F22: 15907924 | G22: 19884905 | H22: 24239039 | I22: 2593173 | J22: 5610863.4 | K22: 8628553.8 | L22: 11861793 | M22: 15095033 | N22: 45265356
A23: =LEFT(B23,5) -> 39250 | B23: 39250 Agência Nacional de Transportes Terrestres | C23: 0 | D23: 0 | E23: 0 | F23: 0 | G23: 0 | H23: 0 | I23: 0 | J23: 0 | K23: 0 | L23: 0 | M23: 0 | N23: 0
... A51: =LEFT(B51,5) -> 84000 | B51: 84000 Ministério dos Povos Indígenas | C51: 0 | D51: 0 | E51: 0 | F51: 0 | G51: 0 | H51: 0 | I51: 0 | J51: 0 | K51: 0 | L51: 0 | M51: 0 | N51: 0
A52: =LEFT(B52,5) -> Total | B52: Total | C52: 0 | D52: 0 | E52: 0 | F52: =SUM(F3:F51) -> 3.9184974e+08 | G52: =SUM(G3:G51) -> 5.2981217e+08 | H52: =SUM(H3:H51) -> 6.2299454e+08 | I52: =SUM(I3:I51) -> 6.775859e+08 | J52: =SUM(J3:J51) -> 7.722941e+08 | K52: =SUM(K3:K51) -> 8.670023e+08 | L52: =SUM(L3:L51) -> 9.675013e+08 | M52: =SUM(M3:M51) -> 1.0680003e+09 | N52: =SUM(N3:N51) -> 1.406986e+09

Sheet Ane III-C
B1: ANEXO III.C - RP 3 DISCRICIONÁRIAS FONTES PRÓPRIAS PAC RESSALVADAS (R$ unidades)
C2: Até Jan | D2: Até Fev | E2: Até Mar | F2: Até Abr | G2: Até Mai | H2: Até Jun | I2: Até Jul | J2: Até Ago | K2: Até Set | L2: Até Out | M2: Até Nov | N2: Até Dez
A3: =LEFT(B3,5) -> 20000 | B3: 20000 Presidência da República | C3: 0 | D3: 0 | E3: 0 | F3: 0 | G3: 0 | H3: 0 | I3: 0 | J3: 0 | K3: 0 | L3: 0 | M3: 0 | N3: 0
A4: =LEFT(B4,5) -> 22000 | B4: 22000 Ministério da Agricultura e Pecuária | C4: 0 | D4: 0 | E4: 0 | F4: 0 | G4: 0 | H4: 0 | I4: 0 | J4: 0 | K4: 0 | L4: 0 | M4: 0 | N4: 0
A5: =LEFT(B5,5) -> 24000 | B5: 24000 Ministério da Ciência, Tecnologia e Inovação | C5: 0 | D5: 0 | E5: 0 | F5: 3.0301712e+08 | G5: 3.7952569e+08 | H5: 4.5543082e+08 | I5: 5.3133596e+08 | J5: 6.072411e+08 | K5: 6.8314623e+08 | L5: 7.6233031e+08 | M5: 8.4151438e+08 | N5: 1.1085771e+09
A6: =LEFT(B6,5) -> 25000 | B6: 25000 Ministério da Fazenda | C6: 0 | D6: 0 | E6: 0 | F6: 0 | G6: 0 | H6: 0 | I6: 0 | J6: 0 | K6: 0 | L6: 0 | M6: 0 | N6: 0
A7: =LEFT(B7,5) -> 26000 | B7: 26000 Ministério da Educação | C7: 0 | D7: 0 | E7: 0 | F7: 0 | G7: 0 | H7: 0 | I7: 0 | J7: 0 | K7: 0 | L7: 0 | M7: 0 | N7: 0
A8: =LEFT(B8,5) -> 28000 | B8: 28000 Ministério do Desenvolvimento, Indústria, Comércio e Serviços | C8: 0 | D8: 0 | E8: 0 | F8: 0 | G8: 0 | H8: 0 | I8: 0 | J8: 0 | K8: 0 | L8: 0 | M8: 0 | N8: 0
A9: =LEFT(B9,5) -> 30000 | B9: 30000 Ministério da Justiça e Segurança Pública | C9: 0 | D9: 0 | E9: 0 | F9: 0 | G9: 0 | H9: 0 | I9: 0 | J9: 0 | K9: 0 | L9: 0 | M9: 0 | N9: 0
A10: =LEFT(B10,5) -> 30211 | B10: 30211 Conselho Administrativo de Defesa Econômica | C10: 0 | D10: 0 | E10: 0 | F10: 0 | G10: 0 | H10: 0 | I10: 0 | J10: 0 | K10: 0 | L10: 0 | M10: 0 | N10: 0
A11: =LEFT(B11,5) -> 30212 | B11: 30212 Agência Nacional de Proteção de Dados | F11: 0 | G11: 0 | H11: 0 | I11: 0 | J11: 0 | K11: 0 | L11: 0 | M11: 0 | N11: 0
A12: =LEFT(B12,5) -> 32000 | B12: 32000 Ministério de Minas e Energia | C12: 0 | D12: 0 | E12: 0 | F12: 0 | G12: 0 | H12: 0 | I12: 0 | J12: 0 | K12: 0 | L12: 0 | M12: 0 | N12: 0
A13: =LEFT(B13,5) -> 32265 | B13: 32265 Agência Nacional do Petróleo, Gás Natural e Biocombustíveis | C13: 0 | D13: 0 | E13: 0 | F13: 0 | G13: 0 | H13: 0 | I13: 0 | J13: 0 | K13: 0 | L13: 0 | M13: 0 | N13: 0
A14: =LEFT(B14,5) -> 32266 | B14: 32266 Agência Nacional de Energia Elétrica | C14: 0 | D14: 0 | E14: 0 | F14: 0 | G14: 0 | H14: 0 | I14: 0 | J14: 0 | K14: 0 | L14: 0 | M14: 0 | N14: 0
A15: =LEFT(B15,5) -> 32396 | B15: 32396 Agência Nacional de Mineração | C15: 0 | D15: 0 | E15: 0 | F15: 0 | G15: 0 | H15: 0 | I15: 0 | J15: 0 | K15: 0 | L15: 0 | M15: 0 | N15: 0
A16: =LEFT(B16,5) -> 33000 | B16: 33000 Ministério da Previdência Social | C16: 0 | D16: 0 | E16: 0 | F16: 0 | G16: 0 | H16: 0 | I16: 0 | J16: 0 | K16: 0 | L16: 0 | M16: 0 | N16: 0
A17: =LEFT(B17,5) -> 35000 | B17: 35000 Ministério das Relações Exteriores | C17: 0 | D17: 0 | E17: 0 | F17: 0 | G17: 0 | H17: 0 | I17: 0 | J17: 0 | K17: 0 | L17: 0 | M17: 0 | N17: 0
A18: =LEFT(B18,5) -> 36000 | B18: 36000 Ministério da Saúde | C18: 0 | D18: 0 | E18: 0 | F18: 0 | G18: 0 | H18: 0 | I18: 0 | J18: 0 | K18: 0 | L18: 0 | M18: 0 | N18: 0
A19: =LEFT(B19,5) -> 36212 | B19: 36212 Agência Nacional de Vigilância Sanitária | C19: 0 | D19: 0 | E19: 0 | F19: 0 | G19: 0 | H19: 0 | I19: 0 | J19: 0 | K19: 0 | L19: 0 | M19: 0 | N19: 0
A20: =LEFT(B20,5) -> 36213 | B20: 36213 Agência Nacional de Saúde Suplementar | C20: 0 | D20: 0 | E20: 0 | F20: 0 | G20: 0 | H20: 0 | I20: 0 | J20: 0 | K20: 0 | L20: 0 | M20: 0 | N20: 0
A21: =LEFT(B21,5) -> 37000 | B21: 37000 Controladoria-Geral da União | C21: 0 | D21: 0 | E21: 0 | F21: 0 | G21: 0 | H21: 0 | I21: 0 | J21: 0 | K21: 0 | L21: 0 | M21: 0 | N21: 0
A22: =LEFT(B22,5) -> 39000 | B22: 39000 Ministério dos Transportes | C22: 0 | D22: 0 | E22: 0 | F22: 0 | G22: 0 | H22: 0 | I22: 0 | J22: 0 | K22: 0 | L22: 0 | M22: 0 | N22: 0
A23: =LEFT(B23,5) -> 39250 | B23: 39250 Agência Nacional de Transportes Terrestres | C23: 0 | D23: 0 | E23: 0 | F23: 0 | G23: 0 | H23: 0 | I23: 0 | J23: 0 | K23: 0 | L23: 0 | M23: 0 | N23: 0
... A51: =LEFT(B51,5) -> 84000 | B51: 84000 Ministério dos Povos Indígenas | C51: 0 | D51: 0 | E51: 0 | F51: 0 | G51: 0 | H51: 0 | I51: 0 | J51: 0 | K51: 0 | L51: 0 | M51: 0 | N51: 0
A52: =LEFT(B52,5) -> Total | B52: Total | C52: 0 | D52: 0 | E52: 0 | F52: =SUM(F3:F51) -> 3.0301712e+08 | G52: =SUM(G3:G51) -> 3.7952569e+08 | H52: =SUM(H3:H51) -> 4.5543082e+08 | I52: =SUM(I3:I51) -> 5.3133596e+08 | J52: =SUM(J3:J51) -> 6.072411e+08 | K52: =SUM(K3:K51) -> 6.8314623e+08 | L52: =SUM(L3:L51) -> 7.6233031e+08 | M52: =SUM(M3:M51) -> 8.4151438e+08 | N52: =SUM(N3:N51) -> 1.1085771e+09

Sheet Ane IV
B1: ANEXO IV - Emendas Individuais (RP 6) e de Bancada (RP 7) (R$ 1,00 )
C2: Até Jan | D2: Até Fev | E2: Até Mar | F2: Até Abr | G2: Até Mai | H2: Até Jun | I2: Até Jul | J2: Até Ago | K2: Até Set | L2: Até Out | M2: Até Nov | N2: Até Dez
A3: =LEFT(B3,5) -> Emend | B3: Emendas Individuais Impositivas | C3: 0 | D3: 0 | E3: 0 | F3: 5466327724 | G3: 6832909655 | H3: 8.472808e+09 | I3: 1.0112706e+10 | J3: 1.1752605e+10 | K3: 1.6992503e+10 | L3: 1.8749537e+10 | M3: 2.0506571e+10 | N3: 2.4598475e+10
A4: =LEFT(B4,5) -> Emend | B4: Emendas Impositivas de Bancada | C4: 0 | D4: 0 | E4: 0 | F4: 3.1733378e+09 | G4: 1.9845863e+09 | H4: 2.4608871e+09 | I4: 4.8644183e+09 | J4: 5.6532429e+09 | K4: 6.4420675e+09 | L4: 7.2625011e+09 | M4: 8.0829347e+09 | N4: 11486070654
B5: Total | C5: - | D5: - | E5: - | F5: =F3+F4 -> 8.6396655e+09 | G5: =G3+G4 -> 8.817496e+09 | H5: =H3+H4 -> 1.0933695e+10 | I5: =I3+I4 -> 1.4977125e+10 | J5: =J3+J4 -> 1.7405848e+10 | K5: =K3+K4 -> 2.343457e+10 | L5: =L3+L4 -> 2.6012038e+10 | M5: =M3+M4 -> 2.8589505e+10 | N5: =N3+N4 -> 36084545412

Sheet Ane V
B1: ANEXO V - RP 8 Emendas Comissão Fontes Tesouro (R$ unidades)
B2: Órgãos/Unidades | C2: Até Jan | D2: Até Fev | E2: Até Mar | F2: Até Abr | G2: Até Mai | H2: Até Jun | I2: Até Jul | J2: Até Ago | K2: Até Set | L2: Até Out | M2: Até Nov | N2: Até Dez
A3: =LEFT(B3,7) -> Emendas | B3: Emendas de Comissão | C3: 0 | D3: 0 | E3: 0 | F3: 2.5555556e+09 | G3: 2.7944444e+09 | H3: 3.0344444e+09 | I3: 3.1454444e+09 | J3: 3.4241778e+09 | K3: 3.9568111e+09 | L3: 4.6320183e+09 | M3: 5.3072254e+09 | N3: 9452900000
A4: =LEFT(B4,5) -> Total | B4: Total | C4: - | D4: - | E4: - | F4: =F3 -> 2.5555556e+09 | G4: =G3 -> 2.7944444e+09 | H4: =H3 -> 3.0344444e+09 | I4: =I3 -> 3.1454444e+09 | J4: =J3 -> 3.4241778e+09 | K4: =K3 -> 3.9568111e+09 | L4: =L3 -> 4.6320183e+09 | M4: =M3 -> 5.3072254e+09 | N4: =N3 -> 9452900000

Sheet Ane VI
B1: ANEXO VI - RP 1 OBRIGATÓRIAS FONTES TESOURO (R$ unidades)
B2: Órgãos/Unidades | C2: Até Jan | D2: Até Fev | E2: Até Mar | F2: Até Abr | G2: Até Mai | H2: Até Jun | I2: Até Jul | J2: Até Ago | K2: Até Set | L2: Até Out | M2: Até Nov | N2: Até Dez
A3: =LEFT(B3,5) -> 20000 | B3: 20000 Presidência da República | C3: 0 | D3: 0 | E3: 0 | F3: 41770826 | G3: 52213532 | H3: 64115431 | I3: 76017330 | J3: 87919229 | K3: 99821128 | L3: 1.1267814e+08 | M3: 1.2553515e+08 | N3: 138392156
A4: =LEFT(B4,5) -> 22000 | B4: 22000 Ministério da Agricultura e Pecuária | C4: 0 | D4: 0 | E4: 0 | F4: 1.018267e+08 | G4: 1.2728337e+08 | H4: 1.6649782e+08 | I4: 1.9588528e+08 | J4: 2.3607991e+08 | K4: 2.7257454e+08 | L4: 3.2036917e+08 | M4: 3.603638e+08 | N4: 3.9043145e+08
A5: =LEFT(B5,5) -> 24000 | B5: 24000 Ministério da Ciência, Tecnologia e Inovação | C5: 0 | D5: 0 | E5: 0 | F5: 32135073 | G5: 40168842 | H5: 49332804 | I5: 58496766 | J5: 66395149 | K5: 75402975 | L5: 84338771 | M5: 93274568 | N5: 1.0221036e+08
A6: =LEFT(B6,5) -> 25000 | B6: 25000 Ministério da Fazenda | C6: 0 | D6: 0 | E6: 0 | F6: 2.1489802e+08 | G6: 2.6862253e+08 | H6: 3.3631157e+08 | I6: 4.0400062e+08 | J6: 4.7168966e+08 | K6: 5.3937871e+08 | L6: 6.0706775e+08 | M6: 6.7475679e+08 | N6: 7.4244584e+08
A7: =LEFT(B7,5) -> 26000 | B7: 26000 Ministério da Educação | C7: 0 | D7: 0 | E7: 0 | F7: 4.6060439e+09 | G7: 6.2575549e+09 | H7: 7.3715022e+09 | I7: 8.4854496e+09 | J7: 1.0099397e+10 | K7: 1.1713344e+10 | L7: 1.2540523e+10 | M7: 1.3317702e+10 | N7: 1.4094881e+10
A8: =LEFT(B8,5) -> 28000 | B8: 28000 Ministério do Desenvolvimento, Indústria, Comércio e Serviços | C8: 0 | D8: 0 | E8: 0 | F8: 8963854.3 | G8: 11204818 | H8: 13679853 | I8: 16398712 | J8: 18873747 | K8: 21348782 | L8: 23845484 | M8: 26222186 | N8: 28595063
A9: =LEFT(B9,5) -> 30000 | B9: 30000 Ministério da Justiça e Segurança Pública | C9: 0 | D9: 0 | E9: 0 | F9: 9.4616976e+08 | G9: 1.1827122e+09 | H9: 1.4623218e+09 | I9: 1.6815592e+09 | J9: 1.9946752e+09 | K9: 2.3077912e+09 | L9: 2.5618636e+09 | M9: 2.815936e+09 | N9: 3.0700084e+09
A10: =LEFT(B10,5) -> 30211 | B10: 30211 Conselho Administrativo de Defesa Econômica | C10: 0 | D10: 0 | E10: 0 | F10: 379193.33 | G10: 473991.67 | H10: 621245.86 | I10: 768500.05 | J10: 915754.24 | K10: 1063008.4 | L10: 1218596 | M10: 1374183.5 | N10: 1529771
A11: =LEFT(B11,5) -> 30212 | B11: 30212 Agência Nacional de Proteção de Dados | F11: 0 | G11: 0 | H11: 0 | I11: 0 | J11: 0 | K11: 153461.25 | L11: 170512.5 | M11: 187563.75 | N11: 204615
A12: =LEFT(B12,5) -> 32000 | B12: 32000 Ministério de Minas e Energia | C12: 0 | D12: 0 | E12: 0 | F12: 36367163 | G12: 45458954 | H12: 55698474 | I12: 65937993 | J12: 76177513 | K12: 86417033 | L12: 1.0189637e+08 | M12: 1.173757e+08 | N12: 132855031
A13: =LEFT(B13,5) -> 32265 | B13: 32265 Agência Nacional do Petróleo, Gás Natural e Biocombustíveis | C13: 0 | D13: 0 | E13: 0 | F13: 4910646.3 | G13: 6138307.9 | H13: 8175460.5 | I13: 10212613 | J13: 12249766 | K13: 14286918 | L13: 16324071 | M13: 18361223 | N13: 20398376
A14: =LEFT(B14,5) -> 32266 | B14: 32266 Agência Nacional de Energia Elétrica | C14: 0 | D14: 0 | E14: 0 | F14: 3327105 | G14: 4158881.2 | H14: 4990657.5 | I14: 5822433.8 | J14: 6654210 | K14: 7485986.2 | L14: 8317762.5 | M14: 9149538.8 | N14: 9981315
A15: =LEFT(B15,5) -> 32396 | B15: 32396 Agência Nacional de Mineração | C15: 0 | D15: 0 | E15: 0 | F15: 6790974.3 | G15: 8488717.9 | H15: 10186462 | I15: 11884205 | J15: 13581949 | K15: 15279692 | L15: 16977436 | M15: 18675179 | N15: 20372923
A16: =LEFT(B16,5) -> 33000 | B16: 33000 Ministério da Previdência Social | C16: 0 | D16: 0 | E16: 0 | F16: 20824308 | G16: 26030385 | H16: 49667704 | I16: 55305022 | J16: 60942341 | K16: 66579660 | L16: 77255136 | M16: 87930613 | N16: 98606089
A17: =LEFT(B17,5) -> 35000 | B17: 35000 Ministério das Relações Exteriores | C17: 0 | D17: 0 | E17: 0 | F17: 2.4959907e+08 | G17: 3.1199884e+08 | H17: 3.8025138e+08 | I17: 4.4850393e+08 | J17: 5.1675647e+08 | K17: 5.8500901e+08 | L17: 6.8418021e+08 | M17: 7.8335141e+08 | N17: 882522608
A18: =LEFT(B18,5) -> 36000 | B18: 36000 Ministério da Saúde | C18: 0 | D18: 0 | E18: 0 | F18: 5.4669877e+10 | G18: 6.8337346e+10 | H18: 8.5084705e+10 | I18: 9.8832065e+10 | J18: 1.1254142e+11 | K18: 1.2625078e+11 | L18: 1.4034475e+11 | M18: 1.5443871e+11 | N18: 1.6553268e+11
A19: =LEFT(B19,5) -> 36212 | B19: 36212 Agência Nacional de Vigilância Sanitária | C19: 0 | D19: 0 | E19: 0 | F19: 8157473.7 | G19: 10196842 | H19: 12382563 | I19: 14568284 | J19: 16754005 | K19: 18939726 | L19: 21199165 | M19: 23458605 | N19: 25718044
A20: =LEFT(B20,5) -> 36213 | B20: 36213 Agência Nacional de Saúde Suplementar | C20: 0 | D20: 0 | E20: 0 | F20: 3212299.3 | G20: 4015374.2 | H20: 4818449 | I20: 5621523.8 | J20: 6424598.7 | K20: 7227673.5 | L20: 8030748.3 | M20: 8833823.2 | N20: 9636898
A21: =LEFT(B21,5) -> 37000 | B21: 37000 Controladoria-Geral da União | C21: 0 | D21: 0 | E21: 0 | F21: 12216961 | G21: 15271201 | H21: 18325442 | I21: 21379682 | J21: 24433922 | K21: 27488162 | L21: 30542402 | M21: 33596643 | N21: 36650883
A22: =LEFT(B22,5) -> 39000 | B22: 39000 Ministério dos Transportes | C22: 0 | D22: 0 | E22: 0 | F22: 25086088 | G22: 31357610 | H22: 37657846 | I22: 43958083 | J22: 50258319 | K22: 56558555 | L22: 61358791 | M22: 66159028 | N22: 70959264
A23: =LEFT(B23,5) -> 39250 | B23: 39250 Agência Nacional de Transportes Terrestres | C23: 0 | D23: 0 | E23: 0 | F23: 4961939 | G23: 6202423.8 | H23: 7442908.5 | I23: 8683393.2 | J23: 9923878 | K23: 11164363 | L23: 12584949 | M23: 14005536 | N23: 15426122
... A51: =LEFT(B51,5) -> 84000 | B51: 84000 Ministério dos Povos Indígenas | C51: 0 | D51: 0 | E51: 0 | F51: 7878287 | G51: 9847858.8 | H51: 12301440 | I51: 14755022 | J51: 17208603 | K51: 19662185 | L51: 22799099 | M51: 25936014 | N51: 29072929
A52: =LEFT(B52,5) -> Total | B52: Total | C52: 0 | D52: 0 | E52: 0 | F52: =SUM(F3:F51) -> 1.2185901e+11 | G52: =SUM(G3:G51) -> 1.5167764e+11 | H52: =SUM(H3:H51) -> 1.843988e+11 | I52: =SUM(I3:I51) -> 2.1368806e+11 | J52: =SUM(J3:J51) -> 2.4404319e+11 | K52: =SUM(K3:K51) -> 2.741583e+11 | L52: =SUM(L3:L51) -> 3.0309e+11 | M52: =SUM(M3:M51) -> 3.3196674e+11 | N52: =SUM(N3:N51) -> 3.5778255e+11

Sheet Ane VII
B1: ANEXO VII - RP 1 OBRIGATÓRIAS FONTES PRÓPRIAS (R$ unidades)
B2: Órgãos/Unidades | C2: Até Jan | D2: Até Fev | E2: Até Mar | F2: Até Abr | G2: Até Mai | H2: Até Jun | I2: Até Jul | J2: Até Ago | K2: Até Set | L2: Até Out | M2: Até Nov | N2: Até Dez
A3: =LEFT(B3,5) -> 20000 | B3: 20000 Presidência da República | C3: 0 | D3: 0 | E3: 0 | F3: 0 | G3: 0 | H3: 0 | I3: 0 | J3: 0 | K3: 0 | L3: 0 | M3: 0 | N3: 0
A4: =LEFT(B4,5) -> 22000 | B4: 22000 Ministério da Agricultura e Pecuária | C4: 0 | D4: 0 | E4: 0 | F4: 0 | G4: 0 | H4: 0 | I4: 0 | J4: 0 | K4: 0 | L4: 0 | M4: 0 | N4: 0
A5: =LEFT(B5,5) -> 24000 | B5: 24000 Ministério da Ciência, Tecnologia e Inovação | C5: 0 | D5: 0 | E5: 0 | F5: 0 | G5: 0 | H5: 0 | I5: 0 | J5: 0 | K5: 0 | L5: 0 | M5: 0 | N5: 0
A6: =LEFT(B6,5) -> 25000 | B6: 25000 Ministério da Fazenda | C6: 0 | D6: 0 | E6: 0 | F6: 0 | G6: 0 | H6: 0 | I6: 0 | J6: 0 | K6: 0 | L6: 0 | M6: 0 | N6: 0
A7: =LEFT(B7,5) -> 26000 | B7: 26000 Ministério da Educação | C7: 0 | D7: 0 | E7: 0 | F7: 12125549 | G7: 15156936 | H7: 18188324 | I7: 21219711 | J7: 24251098 | K7: 27282485 | L7: 30313872 | M7: 33345260 | N7: 36376647
A8: =LEFT(B8,5) -> 28000 | B8: 28000 Ministério do Desenvolvimento, Indústria, Comércio e Serviços | C8: 0 | D8: 0 | E8: 0 | F8: 5013728.3 | G8: 6267160.4 | H8: 7520592.5 | I8: 8774024.6 | J8: 10027457 | K8: 11280889 | L8: 12534321 | M8: 13787753 | N8: 15041185
A9: =LEFT(B9,5) -> 30000 | B9: 30000 Ministério da Justiça e Segurança Pública | C9: 0 | D9: 0 | E9: 0 | F9: 1.4354657e+08 | G9: 1.6997916e+08 | H9: 1.8291175e+08 | I9: 2.5621649e+08 | J9: 2.6914908e+08 | K9: 2.8208167e+08 | L9: 4.4823756e+08 | M9: 4.7222628e+08 | N9: 4.9621501e+08
A10: =LEFT(B10,5) -> 30211 | B10: 30211 Conselho Administrativo de Defesa Econômica | C10: 0 | D10: 0 | E10: 0 | F10: 0 | G10: 0 | H10: 0 | I10: 0 | J10: 0 | K10: 0 | L10: 0 | M10: 0 | N10: 0
A11: =LEFT(B11,5) -> 30212 | B11: 30212 Agência Nacional de Proteção de Dados | F11: 0 | G11: 0 | H11: 0 | I11: 0 | J11: 0 | K11: 0 | L11: 0 | M11: 0 | N11: 0
A12: =LEFT(B12,5) -> 32000 | B12: 32000 Ministério de Minas e Energia | C12: 0 | D12: 0 | E12: 0 | F12: 0 | G12: 0 | H12: 0 | I12: 0 | J12: 0 | K12: 0 | L12: 0 | M12: 0 | N12: 0
A13: =LEFT(B13,5) -> 32265 | B13: 32265 Agência Nacional do Petróleo, Gás Natural e Biocombustíveis | C13: 0 | D13: 0 | E13: 0 | F13: 0 | G13: 0 | H13: 0 | I13: 0 | J13: 0 | K13: 0 | L13: 0 | M13: 0 | N13: 0
A14: =LEFT(B14,5) -> 32266 | B14: 32266 Agência Nacional de Energia Elétrica | C14: 0 | D14: 0 | E14: 0 | F14: 0 | G14: 0 | H14: 0 | I14: 0 | J14: 0 | K14: 0 | L14: 0 | M14: 0 | N14: 0
A15: =LEFT(B15,5) -> 32396 | B15: 32396 Agência Nacional de Mineração | C15: 0 | D15: 0 | E15: 0 | F15: 0 | G15: 0 | H15: 0 | I15: 0 | J15: 0 | K15: 0 | L15: 0 | M15: 0 | N15: 0
A16: =LEFT(B16,5) -> 33000 | B16: 33000 Ministério da Previdência Social | C16: 0 | D16: 0 | E16: 0 | F16: 1.4215246e+08 | G16: 1.7769058e+08 | H16: 1.952287e+08 | I16: 2.3076681e+08 | J16: 2.6630493e+08 | K16: 3.0184305e+08 | L16: 3.3738116e+08 | M16: 3.7291928e+08 | N16: 408457394
A17: =LEFT(B17,5) -> 35000 | B17: 35000 Ministério das Relações Exteriores | C17: 0 | D17: 0 | E17: 0 | F17: 0 | G17: 0 | H17: 0 | I17: 0 | J17: 0 | K17: 0 | L17: 0 | M17: 0 | N17: 0
A18: =LEFT(B18,5) -> 36000 | B18: 36000 Ministério da Saúde | C18: 0 | D18: 0 | E18: 0 | F18: 98659436 | G18: 1.233243e+08 | H18: 1.4798915e+08 | I18: 1.7265401e+08 | J18: 2.0731887e+08 | K18: 2.3198373e+08 | L18: 2.5664859e+08 | M18: 2.8131345e+08 | N18: 2.9597831e+08
A19: =LEFT(B19,5) -> 36212 | B19: 36212 Agência Nacional de Vigilância Sanitária | C19: 0 | D19: 0 | E19: 0 | F19: 0 | G19: 0 | H19: 0 | I19: 0 | J19: 0 | K19: 0 | L19: 0 | M19: 0 | N19: 0
A20: =LEFT(B20,5) -> 36213 | B20: 36213 Agência Nacional de Saúde Suplementar | C20: 0 | D20: 0 | E20: 0 | F20: 0 | G20: 0 | H20: 0 | I20: 0 | J20: 0 | K20: 0 | L20: 0 | M20: 0 | N20: 0
A21: =LEFT(B21,5) -> 37000 | B21: 37000 Controladoria-Geral da União | C21: 0 | D21: 0 | E21: 0 | F21: 0 | G21: 0 | H21: 0 | I21: 0 | J21: 0 | K21: 0 | L21: 0 | M21: 0 | N21: 0
A22: =LEFT(B22,5) -> 39000 | B22: 39000 Ministério dos Transportes | C22: 0 | D22: 0 | E22: 0 | F22: 0 | G22: 0 | H22: 0 | I22: 0 | J22: 0 | K22: 0 | L22: 0 | M22: 0 | N22: 0
A23: =LEFT(B23,5) -> 39250 | B23: 39250 Agência Nacional de Transportes Terrestres | C23: 0 | D23: 0 | E23: 0 | F23: 0 | G23: 0 | H23: 0 | I23: 0 | J23: 0 | K23: 0 | L23: 0 | M23: 0 | N23: 0
... A51: =LEFT(B51,5) -> 84000 | B51: 84000 Ministério dos Povos Indígenas | C51: 0 | D51: 0 | E51: 0 | F51: 0 | G51: 0 | H51: 0 | I51: 0 | J51: 0 | K51: 0 | L51: 0 | M51: 0 | N51: 0
A52: =LEFT(B52,5) -> Total | B52: Total | C52: 0 | D52: 0 | E52: 0 | F52: =SUM(F3:F51) -> 2262903240 | G52: =SUM(G3:G51) -> 2.7460267e+09 | H52: =SUM(H3:H51) -> 3.3077664e+09 | I52: =SUM(I3:I51) -> 3.7609104e+09 | J52: =SUM(J3:J51) -> 4.3736821e+09 | K52: =SUM(K3:K51) -> 4.8664539e+09 | L52: =SUM(L3:L51) -> 5.6368317e+09 | M52: =SUM(M3:M51) -> 6.1965584e+09 | N52: =SUM(N3:N51) -> 6.836285e+09
