Workbook
Name data: [1]banco!$B$2

Sheet JAN
A3: MINISTÉRIO DA FAZENDA - MF
A4: SECRETARIA DO TESOURO NACIONAL - STN
A5: COORDENAÇÃO-GERAL DE ANÁLISE, INFORMAÇÕES EXECUÇÃO DAS TRANSFERÊNCIAS FINANCEIRAS INTERGOVERNAMENTAIS - COINT
A8: DEMONSTRATIVO DAS TRANSFERÊNCIAS DAS RECEITAS FEDERAIS AOS ESTADOS, DF E MUNICÍPIOS
A9: E AOS FUNDOS CONSTITUCIONAIS DO NORTE, NORDESTE E CENTRO-OESTE
A10: 45658
G11: R$ Mil
A12: RECEITAS | B12: DEMONSTRATIVO DA BASE DE CÁLCULO
B13: ARRECADAÇÃO | C13: DEDUÇÃO | D13: DEDUÇÃO | E13: INCENTIVOS | F13: RESTITUIÇÃO | G13: ARRECADAÇÃO
B14: BRUTA | C14: PIN | D14: PROTERRA | E14: FISCAIS | G14: LÍQUIDA
B15: (A) | C15: (B) | D15: (C) | E15: (D) | F15: (E) | G15: (F = A-B-C-D-E)
A17: Imposto de Renda de Pessoa Física | B17: 3689862.4 | C17: 0 | D17: 0 | E17: 0 | F17: 26746.466 | G17: =B17-C17-D17-E17-F17 -> 3663116
A18: Imposto de Renda de Pessoa Jurídica | B18: 17922581 | C18: 0 | D18: 0 | E18: 0 | F18: 2928956.8 | G18: =B18-C18-D18-E18-F18 -> 14993624
A19: Imposto de Renda Retido na Fonte | B19: 53792155 | C19: 0 | D19: 0 | E19: 0 | F19: 485640.58 | G19: =B19-C19-D19-E19-F19 -> 53306514
A20: Multas e Juros (I.R.) | B20: 1088921.6 | C20: 0 | D20: 0 | E20: 0 | F20: 124.6725 | G20: =B20-C20-D20-E20-F20 -> 1088796.9
A21: SUBTOTAL | B21: =SUM(B17:B20) -> 76493520 | C21: =SUM(C17:C20) -> 0 | D21: =SUM(D17:D20) -> 0 | E21: =SUM(E17:E20) -> 0 | F21: =SUM(F17:F20) -> 3441468.5 | G21: =SUM(G17:G20) -> 73052051
A22: Imposto sobre Produtos Industrializados | B22: 6570570.3 | C22: 0 | D22: 0 | E22: 0 | F22: 575023.74 | G22: =B22-C22-D22-E22-F22 -> 5995546.5
A23: Multas e Juros (IPI) | B23: 78142.22 | C23: 0 | D23: 0 | E23: 0 | F23: 0 | G23: =B23-C23-D23-E23-F23 -> 78142.22
A24: SUBTOTAL | B24: =SUM(B22:B23) -> 6648712.5 | C24: =SUM(C22:C23) -> 0 | D24: =SUM(D22:D23) -> 0 | E24: =SUM(E22:E23) -> 0 | F24: =SUM(F22:F23) -> 575023.74 | G24: =SUM(G22:G23) -> 6073688.7
A26: TOTAL | B26: =SUM(B24,B21) -> 83142232 | C26: =SUM(C24,C21) -> 0 | D26: =SUM(D24,D21) -> 0 | E26: =SUM(E24,E21) -> 0 | F26: =SUM(F24,F21) -> 4016492.2 | G26: =SUM(G24,G21) -> 79125740
G28: R$ Mil
A29: RECEITAS | B29: DEMONSTRATIVO DA BASE DE CÁLCULO
B30: MUNICÍPIOS | C30: ESTADOS | E30: REGIÕES
B31: FPM | C31: FPE | D31: IPI-EXP | E31: FNE | F31: FNO | G31: FCO
B32: (22,5% x (F)) | C32: (21,5% x (F)) | D32: (10% x (F)) | E32: (1,8% x (F)) | F32: (0,6% x (F)) | G32: (0,6% x (F))
A34: Imposto de Renda de Pessoa Física | B34: =22.5%*$G17 -> 824201.09 | C34: =21.5%*$G17 -> 787569.93 | E34: =1.8%*$G17 -> 65936.087 | F34: =0.6%*$G17 -> 21978.696 | G34: =0.6%*$G17 -> 21978.696
A35: Imposto de Renda de Pessoa Jurídica | B35: =22.5%*$G18 -> 3373565.5 | C35: =21.5%*$G18 -> 3223629.3 | E35: =1.8%*$G18 -> 269885.24 | F35: =0.6%*$G18 -> 89961.747 | G35: =0.6%*$G18 -> 89961.747
A36: Imposto de Renda Retido na Fonte | B36: =22.5%*$G19 -> 11993966 | C36: =21.5%*$G19 -> 11460901 | E36: =1.8%*$G19 -> 959517.25 | F36: =0.6%*$G19 -> 319839.08 | G36: =0.6%*$G19 -> 319839.08
A37: Multas e Juros (I.R.) | B37: =22.5%*$G20 -> 244979.3 | C37: =21.5%*($G20) -> 234091.33 | E37: =1.8%*($G20) -> 19598.344 | F37: =0.6%*($G20) -> 6532.7814 | G37: =0.6%*($G20) -> 6532.7814
A38: SUBTOTAL | B38: =SUM(B34:B37) -> 16436712 | C38: =SUM(C34:C37) -> 15706191 | E38: =SUM(E34:E37) -> 1314936.9 | F38: =SUM(F34:F37) -> 438312.31 | G38: =SUM(G34:G37) -> 438312.31
A39: Imposto sobre Produtos Industrializados | B39: =22.5%*$G22 -> 1348998 | C39: =21.5%*$G22 -> 1289042.5 | D39: =10%*$G22 -> 599554.65 | E39: =1.8%*$G22 -> 107919.84 | F39: =0.6%*$G22 -> 35973.279 | G39: =0.6%*$G22 -> 35973.279
A40: Multas e Juros (IPI) | B40: =22.5%*$G23 -> 17581.999 | C40: =21.5%*$G23 -> 16800.577 | D40: =10%*$G23 -> 7814.222 | E40: =1.8%*$G23 -> 1406.56 | F40: =0.6%*$G23 -> 468.85332 | G40: =0.6%*$G23 -> 468.85332
A41: SUBTOTAL | B41: =SUM(B39:B40) -> 1366580 | C41: =SUM(C39:C40) -> 1305843.1 | D41: =SUM(D39:D40) -> 607368.87 | E41: =SUM(E39:E40) -> 109326.4 | F41: =SUM(F39:F40) -> 36442.132 | G41: =SUM(G39:G40) -> 36442.132
A43: Retenção para transferência ao Fundeb (20%) | B43: =(B38+B41)*0.2 -> 3560658.3 | C43: =(C38+C41)*0.2 -> 3402406.8 | D43: =(D38+D41)*0.2 -> 121473.77
A45: TOTAL | B45: =B38+B41-B43 -> 14242633 | C45: =C38+C41-C43 -> 13609627 | D45: =D38+D41-D43 -> 485895.1 | E45: =E38+E41-E43 -> 1424263.3 | F45: =F38+F41-F43 -> 474754.44 | G45: =G38+G41-G43 -> 474754.44
A46: Observações:
A47: Receita classificada referente ao período de 21/12/2024 a 20/01/2025
A48: Na arrecadação bruta do IRPJ estão incluídos os incentivos fiscais e o PIN/PROTERRA.

Sheet FEV
A3: MINISTÉRIO DA FAZENDA - MF
A4: SECRETARIA DO TESOURO NACIONAL - STN
A5: COORDENAÇÃO-GERAL DE ANÁLISE, INFORMAÇÕES EXECUÇÃO DAS TRANSFERÊNCIAS FINANCEIRAS INTERGOVERNAMENTAIS - COINT
A8: DEMONSTRATIVO DAS TRANSFERÊNCIAS DAS RECEITAS FEDERAIS AOS ESTADOS, DF E MUNICÍPIOS
A9: E AOS FUNDOS CONSTITUCIONAIS DO NORTE, NORDESTE E CENTRO-OESTE
A10: 45689
G11: R$ Mil
A12: RECEITAS | B12: DEMONSTRATIVO DA BASE DE CÁLCULO
B13: ARRECADAÇÃO | C13: DEDUÇÃO | D13: DEDUÇÃO | E13: INCENTIVOS | F13: RESTITUIÇÃO | G13: ARRECADAÇÃO
B14: BRUTA | C14: PIN | D14: PROTERRA | E14: FISCAIS | G14: LÍQUIDA
B15: (A) | C15: (B) | D15: (C) | E15: (D) | F15: (E) | G15: (F = A-B-C-D-E)
A17: Imposto de Renda de Pessoa Física | B17: 2423653.5 | C17: 0 | D17: 0 | E17: 0 | F17: 56491.286 | G17: =B17-C17-D17-E17-F17 -> 2367162.2
A18: Imposto de Renda de Pessoa Jurídica | B18: 62146391 | C18: 0 | D18: 0 | E18: 0 | F18: 647325.74 | G18: =B18-C18-D18-E18-F18 -> 61499066
A19: Imposto de Renda Retido na Fonte | B19: 35183441 | C19: 0 | D19: 0 | E19: 0 | F19: 893497.63 | G19: =B19-C19-D19-E19-F19 -> 34289943
A20: Multas e Juros (I.R.) | B20: 1146048.4 | C20: 0 | D20: 0 | E20: 0 | F20: 68.69558 | G20: =B20-C20-D20-E20-F20 -> 1145979.7
A21: SUBTOTAL | B21: =SUM(B17:B20) -> 1.0089953e+08 | C21: =SUM(C17:C20) -> 0 | D21: =SUM(D17:D20) -> 0 | E21: =SUM(E17:E20) -> 0 | F21: =SUM(F17:F20) -> 1597383.4 | G21: =SUM(G17:G20) -> 99302150
A22: Imposto sobre Produtos Industrializados | B22: 7334114.9 | C22: 0 | D22: 0 | E22: 0 | F22: 572219.15 | G22: =B22-C22-D22-E22-F22 -> 6761895.8
A23: Multas e Juros (IPI) | B23: 113561.75 | C23: 0 | D23: 0 | E23: 0 | F23: 1.40442 | G23: =B23-C23-D23-E23-F23 -> 113560.34
A24: SUBTOTAL | B24: =SUM(B22:B23) -> 7447676.7 | C24: =SUM(C22:C23) -> 0 | D24: =SUM(D22:D23) -> 0 | E24: =SUM(E22:E23) -> 0 | F24: =SUM(F22:F23) -> 572220.56 | G24: =SUM(G22:G23) -> 6875456.1
A26: TOTAL | B26: =SUM(B24,B21) -> 1.0834721e+08 | C26: =SUM(C24,C21) -> 0 | D26: =SUM(D24,D21) -> 0 | E26: =SUM(E24,E21) -> 0 | F26: =SUM(F24,F21) -> 2169603.9 | G26: =SUM(G24,G21) -> 1.0617761e+08
G28: R$ Mil
A29: RECEITAS | B29: DEMONSTRATIVO DA BASE DE CÁLCULO
B30: MUNICÍPIOS | C30: ESTADOS | E30: REGIÕES
B31: FPM | C31: FPE | D31: IPI-EXP | E31: FNE | F31: FNO | G31: FCO
B32: (22,5% x (F)) | C32: (21,5% x (F)) | D32: (10% x (F)) | E32: (1,8% x (F)) | F32: (0,6% x (F)) | G32: (0,6% x (F))
A34: Imposto de Renda de Pessoa Física | B34: =22.5%*$G17 -> 532611.5 | C34: =21.5%*$G17 -> 508939.87 | E34: =1.8%*$G17 -> 42608.92 | F34: =0.6%*$G17 -> 14202.973 | G34: =0.6%*$G17 -> 14202.973
A35: Imposto de Renda de Pessoa Jurídica | B35: =22.5%*$G18 -> 13837290 | C35: =21.5%*$G18 -> 13222299 | E35: =1.8%*$G18 -> 1106983.2 | F35: =0.6%*$G18 -> 368994.39 | G35: =0.6%*$G18 -> 368994.39
A36: Imposto de Renda Retido na Fonte | B36: =22.5%*$G19 -> 7715237.2 | C36: =21.5%*$G19 -> 7372337.7 | E36: =1.8%*$G19 -> 617218.97 | F36: =0.6%*$G19 -> 205739.66 | G36: =0.6%*$G19 -> 205739.66
A37: Multas e Juros (I.R.) | B37: =22.5%*$G20 -> 257845.42 | C37: =21.5%*($G20) -> 246385.63 | E37: =1.8%*($G20) -> 20627.634 | F37: =0.6%*($G20) -> 6875.878 | G37: =0.6%*($G20) -> 6875.878
A38: SUBTOTAL | B38: =SUM(B34:B37) -> 22342984 | C38: =SUM(C34:C37) -> 21349962 | E38: =SUM(E34:E37) -> 1787438.7 | F38: =SUM(F34:F37) -> 595812.9 | G38: =SUM(G34:G37) -> 595812.9
A39: Imposto sobre Produtos Industrializados | B39: =22.5%*$G22 -> 1521426.5 | C39: =21.5%*$G22 -> 1453807.6 | D39: =10%*$G22 -> 676189.58 | E39: =1.8%*$G22 -> 121714.12 | F39: =0.6%*$G22 -> 40571.375 | G39: =0.6%*$G22 -> 40571.375
A40: Multas e Juros (IPI) | B40: =22.5%*$G23 -> 25551.077 | C40: =21.5%*$G23 -> 24415.474 | D40: =10%*$G23 -> 11356.034 | E40: =1.8%*$G23 -> 2044.0862 | F40: =0.6%*$G23 -> 681.36206 | G40: =0.6%*$G23 -> 681.36206
A41: SUBTOTAL | B41: =22.5%*$G24 -> 1546977.6 | C41: =SUM(C39:C40) -> 1478223.1 | D41: =SUM(D39:D40) -> 687545.61 | E41: =SUM(E39:E40) -> 123758.21 | F41: =SUM(F39:F40) -> 41252.737 | G41: =SUM(G39:G40) -> 41252.737
A43: Retenção para transferência ao Fundeb (20%) | B43: =(B38+B41)*0.2 -> 4777992.3 | C43: =(C38+C41)*0.2 -> 4565637.1 | D43: =(D38+D41)*0.2 -> 137509.12
A45: TOTAL | B45: =B38+B41-B43 -> 19111969 | C45: =C38+C41-C43 -> 18262548 | D45: =D38+D41-D43 -> 550036.49 | E45: =E38+E41-E43 -> 1911196.9 | F45: =F38+F41-F43 -> 637065.64 | G45: =G38+G41-G43 -> 637065.64
A46: Observações:
A47: Receita classificada referente ao período de 21/01/2025 a 20/02/2025
A48: Na arrecadação bruta do IRPJ estão incluídos os incentivos fiscais e o PIN/PROTERRA.

Sheet MAR
A3: MINISTÉRIO DA FAZENDA - MF
A4: SECRETARIA DO TESOURO NACIONAL - STN
A5: COORDENAÇÃO-GERAL DE ANÁLISE, INFORMAÇÕES EXECUÇÃO DAS TRANSFERÊNCIAS FINANCEIRAS INTERGOVERNAMENTAIS - COINT
A8: DEMONSTRATIVO DAS TRANSFERÊNCIAS DAS RECEITAS FEDERAIS AOS ESTADOS, DF E MUNICÍPIOS
A9: E AOS FUNDOS CONSTITUCIONAIS DO NORTE, NORDESTE E CENTRO-OESTE
A10: 45717
G11: R$ Mil
A12: RECEITAS | B12: DEMONSTRATIVO DA BASE DE CÁLCULO
B13: ARRECADAÇÃO | C13: DEDUÇÃO | D13: DEDUÇÃO | E13: INCENTIVOS | F13: RESTITUIÇÃO | G13: ARRECADAÇÃO
B14: BRUTA | C14: PIN | D14: PROTERRA | E14: FISCAIS | G14: LÍQUIDA
B15: (A) | C15: (B) | D15: (C) | E15: (D) | F15: (E) | G15: (F = A-B-C-D-E)
A17: Imposto de Renda de Pessoa Física | B17: 2368326.2 | C17: 0 | D17: 0 | E17: 0 | F17: 22550.947 | G17: =B17-C17-D17-E17-F17 -> 2345775.2
A18: Imposto de Renda de Pessoa Jurídica | B18: 23134894 | C18: 0 | D18: 0 | E18: 0 | F18: 5582169.9 | G18: =B18-C18-D18-E18-F18 -> 17552725
A19: Imposto de Renda Retido na Fonte | B19: 41864611 | C19: 0 | D19: 0 | E19: 0 | F19: 370992.97 | G19: =B19-C19-D19-E19-F19 -> 41493618
A20: Multas e Juros (I.R.) | B20: 1043605.2 | C20: 0 | D20: 0 | E20: 0 | F20: 457.40601 | G20: =B20-C20-D20-E20-F20 -> 1043147.8
A21: SUBTOTAL | B21: =SUM(B17:B20) -> 68411437 | C21: =SUM(C17:C20) -> 0 | D21: =SUM(D17:D20) -> 0 | E21: =SUM(E17:E20) -> 0 | F21: =SUM(F17:F20) -> 5976171.2 | G21: =SUM(G17:G20) -> 62435265
A22: Imposto sobre Produtos Industrializados | B22: 7551627.4 | C22: 0 | D22: 0 | E22: 0 | F22: 164836.24 | G22: =B22-C22-D22-E22-F22 -> 7386791.1
A23: Multas e Juros (IPI) | B23: 100782.68 | C23: 0 | D23: 0 | E23: 0 | F23: 0.56469 | G23: =B23-C23-D23-E23-F23 -> 100782.11
A24: SUBTOTAL | B24: =SUM(B22:B23) -> 7652410 | C24: =SUM(C22:C23) -> 0 | D24: =SUM(D22:D23) -> 0 | E24: =SUM(E22:E23) -> 0 | F24: =SUM(F22:F23) -> 164836.8 | G24: =SUM(G22:G23) -> 7487573.2
A26: TOTAL | B26: =SUM(B24,B21) -> 76063847 | C26: =SUM(C24,C21) -> 0 | D26: =SUM(D24,D21) -> 0 | E26: =SUM(E24,E21) -> 0 | F26: =SUM(F24,F21) -> 6141008 | G26: =SUM(G24,G21) -> 69922839
G28: R$ Mil
A29: RECEITAS | B29: DEMONSTRATIVO DA BASE DE CÁLCULO
B30: MUNICÍPIOS | C30: ESTADOS | E30: REGIÕES
B31: FPM | C31: FPE | D31: IPI-EXP | E31: FNE | F31: FNO | G31: FCO
B32: (22,5% x (F)) | C32: (21,5% x (F)) | D32: (10% x (F)) | E32: (1,8% x (F)) | F32: (0,6% x (F)) | G32: (0,6% x (F))
A34: Imposto de Renda de Pessoa Física | B34: =22.5%*$G17 -> 527799.43 | C34: =21.5%*$G17 -> 504341.68 | E34: =1.8%*$G17 -> 42223.954 | F34: =0.6%*$G17 -> 14074.651 | G34: =0.6%*$G17 -> 14074.651
A35: Imposto de Renda de Pessoa Jurídica | B35: =22.5%*$G18 -> 3949363 | C35: =21.5%*$G18 -> 3773835.8 | E35: =1.8%*$G18 -> 315949.04 | F35: =0.6%*$G18 -> 105316.35 | G35: =0.6%*$G18 -> 105316.35
A36: Imposto de Renda Retido na Fonte | B36: =22.5%*$G19 -> 9336064 | C36: =21.5%*$G19 -> 8921127.8 | E36: =1.8%*$G19 -> 746885.12 | F36: =0.6%*$G19 -> 248961.71 | G36: =0.6%*$G19 -> 248961.71
A37: Multas e Juros (I.R.) | B37: =22.5%*$G20 -> 234708.26 | C37: =21.5%*($G20) -> 224276.79 | E37: =1.8%*($G20) -> 18776.661 | F37: =0.6%*($G20) -> 6258.887 | G37: =0.6%*($G20) -> 6258.887
A38: SUBTOTAL | B38: =SUM(B34:B37) -> 14047935 | C38: =SUM(C34:C37) -> 13423582 | E38: =SUM(E34:E37) -> 1123834.8 | F38: =SUM(F34:F37) -> 374611.59 | G38: =SUM(G34:G37) -> 374611.59
A39: Imposto sobre Produtos Industrializados | B39: =22.5%*$G22 -> 1662028 | C39: =21.5%*$G22 -> 1588160.1 | D39: =10%*$G22 -> 738679.11 | E39: =1.8%*$G22 -> 132962.24 | F39: =0.6%*$G22 -> 44320.747 | G39: =0.6%*$G22 -> 44320.747
A40: Multas e Juros (IPI) | B40: =22.5%*$G23 -> 22675.976 | C40: =21.5%*$G23 -> 21668.155 | D40: =10%*$G23 -> 10078.211 | E40: =1.8%*$G23 -> 1814.0781 | F40: =0.6%*$G23 -> 604.69268 | G40: =0.6%*$G23 -> 604.69268
A41: SUBTOTAL | B41: =22.5%*$G24 -> 1684704 | C41: =SUM(C39:C40) -> 1609828.2 | D41: =SUM(D39:D40) -> 748757.32 | E41: =SUM(E39:E40) -> 134776.32 | F41: =SUM(F39:F40) -> 44925.439 | G41: =SUM(G39:G40) -> 44925.439
A43: Retenção para transferência ao Fundeb (20%) | B43: =(B38+B41)*0.2 -> 3146527.7 | C43: =(C38+C41)*0.2 -> 3006682.1 | D43: =(D38+D41)*0.2 -> 149751.46
A45: TOTAL | B45: =B38+B41-B43 -> 12586111 | C45: =C38+C41-C43 -> 12026728 | D45: =D38+D41-D43 -> 599005.86 | E45: =E38+E41-E43 -> 1258611.1 | F45: =F38+F41-F43 -> 419537.03 | G45: =G38+G41-G43 -> 419537.03
A46: Observações:
A47: Receita classificada referente ao período de 21/02/2025 a 20/03/2025
A48: Na arrecadação bruta do IRPJ estão incluídos os incentivos fiscais e o PIN/PROTERRA.

Sheet ABR
A3: MINISTÉRIO DA FAZENDA - MF
A4: SECRETARIA DO TESOURO NACIONAL - STN
A5: COORDENAÇÃO-GERAL DE ANÁLISE, INFORMAÇÕES EXECUÇÃO DAS TRANSFERÊNCIAS FINANCEIRAS INTERGOVERNAMENTAIS - COINT
A8: DEMONSTRATIVO DAS TRANSFERÊNCIAS DAS RECEITAS FEDERAIS AOS ESTADOS, DF E MUNICÍPIOS
A9: E AOS FUNDOS CONSTITUCIONAIS DO NORTE, NORDESTE E CENTRO-OESTE
A10: 45748
G11: R$ Mil
A12: RECEITAS | B12: DEMONSTRATIVO DA BASE DE CÁLCULO
B13: ARRECADAÇÃO | C13: DEDUÇÃO | D13: DEDUÇÃO | E13: INCENTIVOS | F13: RESTITUIÇÃO | G13: ARRECADAÇÃO
B14: BRUTA | C14: PIN | D14: PROTERRA | E14: FISCAIS | G14: LÍQUIDA
B15: (A) | C15: (B) | D15: (C) | E15: (D) | F15: (E) | G15: (F = A-B-C-D-E)
A17: Imposto de Renda de Pessoa Física | B17: 2582288.5 | C17: 0 | D17: 0 | E17: 0 | F17: 47705.788 | G17: =B17-C17-D17-E17-F17 -> 2534582.7
A18: Imposto de Renda de Pessoa Jurídica | B18: 24592335 | C18: 0 | D18: 0 | E18: 1445.533 | F18: 4180630.4 | G18: =B18-C18-D18-E18-F18 -> 20410259
A19: Imposto de Renda Retido na Fonte | B19: 40506405 | C19: 0 | D19: 0 | E19: 0 | F19: 469939.69 | G19: =B19-C19-D19-E19-F19 -> 40036465
A20: Multas e Juros (I.R.) | B20: 1081735.5 | C20: 0 | D20: 0 | E20: 0 | F20: 39469.211 | G20: =B20-C20-D20-E20-F20 -> 1042266.3
A21: SUBTOTAL | B21: =SUM(B17:B20) -> 68762764 | C21: =SUM(C17:C20) -> 0 | D21: =SUM(D17:D20) -> 0 | E21: =SUM(E17:E20) -> 1445.533 | F21: =SUM(F17:F20) -> 4737745.1 | G21: =SUM(G17:G20) -> 64023573
A22: Imposto sobre Produtos Industrializados | B22: 7214451.9 | C22: 0 | D22: 0 | E22: 0 | F22: 293189.76 | G22: =B22-C22-D22-E22-F22 -> 6921262.1
A23: Multas e Juros (IPI) | B23: 109916.54 | C23: 0 | D23: 0 | E23: 0 | F23: 1215.8395 | G23: =B23-C23-D23-E23-F23 -> 108700.7
A24: SUBTOTAL | B24: =SUM(B22:B23) -> 7324368.4 | C24: =SUM(C22:C23) -> 0 | D24: =SUM(D22:D23) -> 0 | E24: =SUM(E22:E23) -> 0 | F24: =SUM(F22:F23) -> 294405.6 | G24: =SUM(G22:G23) -> 7029962.8
A26: TOTAL | B26: =SUM(B24,B21) -> 76087132 | C26: =SUM(C24,C21) -> 0 | D26: =SUM(D24,D21) -> 0 | E26: =SUM(E24,E21) -> 1445.533 | F26: =SUM(F24,F21) -> 5032150.7 | G26: =SUM(G24,G21) -> 71053536
G28: R$ Mil
A29: RECEITAS | B29: DEMONSTRATIVO DA BASE DE CÁLCULO
B30: MUNICÍPIOS | C30: ESTADOS | E30: REGIÕES
B31: FPM | C31: FPE | D31: IPI-EXP | E31: FNE | F31: FNO | G31: FCO
B32: (22,5% x (F)) | C32: (21,5% x (F)) | D32: (10% x (F)) | E32: (1,8% x (F)) | F32: (0,6% x (F)) | G32: (0,6% x (F))
A34: Imposto de Renda de Pessoa Física | B34: =22.5%*$G17 -> 570281.11 | C34: =21.5%*$G17 -> 544935.28 | E34: =1.8%*$G17 -> 45622.488 | F34: =0.6%*$G17 -> 15207.496 | G34: =0.6%*$G17 -> 15207.496
A35: Imposto de Renda de Pessoa Jurídica | B35: =22.5%*$G18 -> 4592308.2 | C35: =21.5%*$G18 -> 4388205.6 | E35: =1.8%*$G18 -> 367384.66 | F35: =0.6%*$G18 -> 122461.55 | G35: =0.6%*$G18 -> 122461.55
A36: Imposto de Renda Retido na Fonte | B36: =22.5%*$G19 -> 9008204.6 | C36: =21.5%*$G19 -> 8607840 | E36: =1.8%*$G19 -> 720656.37 | F36: =0.6%*$G19 -> 240218.79 | G36: =0.6%*$G19 -> 240218.79
A37: Multas e Juros (I.R.) | B37: =22.5%*$G20 -> 234509.91 | C37: =21.5%*($G20) -> 224087.25 | E37: =1.8%*($G20) -> 18760.793 | F37: =0.6%*($G20) -> 6253.5976 | G37: =0.6%*($G20) -> 6253.5976
A38: SUBTOTAL | B38: =SUM(B34:B37) -> 14405304 | C38: =SUM(C34:C37) -> 13765068 | E38: =SUM(E34:E37) -> 1152424.3 | F38: =SUM(F34:F37) -> 384141.44 | G38: =SUM(G34:G37) -> 384141.44
A39: Imposto sobre Produtos Industrializados | B39: =22.5%*$G22 -> 1557284 | C39: =21.5%*$G22 -> 1488071.3 | D39: =10%*$G22 -> 692126.21 | E39: =1.8%*$G22 -> 124582.72 | F39: =0.6%*$G22 -> 41527.573 | G39: =0.6%*$G22 -> 41527.573
A40: Multas e Juros (IPI) | B40: =22.5%*$G23 -> 24457.658 | C40: =21.5%*$G23 -> 23370.651 | D40: =10%*$G23 -> 10870.07 | E40: =1.8%*$G23 -> 1956.6127 | F40: =0.6%*$G23 -> 652.20422 | G40: =0.6%*$G23 -> 652.20422
A41: SUBTOTAL | B41: =22.5%*$G24 -> 1581741.6 | C41: =SUM(C39:C40) -> 1511442 | D41: =SUM(D39:D40) -> 702996.28 | E41: =SUM(E39:E40) -> 126539.33 | F41: =SUM(F39:F40) -> 42179.777 | G41: =SUM(G39:G40) -> 42179.777
A43: Retenção para transferência ao Fundeb (20%) | B43: =(B38+B41)*0.2 -> 3197409.1 | C43: =(C38+C41)*0.2 -> 3055302 | D43: =(D38+D41)*0.2 -> 140599.26
A45: TOTAL | B45: =B38+B41-B43 -> 12789636 | C45: =C38+C41-C43 -> 12221208 | D45: =D38+D41-D43 -> 562397.02 | E45: =E38+E41-E43 -> 1278963.6 | F45: =F38+F41-F43 -> 426321.21 | G45: =G38+G41-G43 -> 426321.21
A46: Observações:
A47: Receita classificada referente ao período de 21/03/2025 a 20/04/2025
A48: Na arrecadação bruta do IRPJ estão incluídos os incentivos fiscais e o PIN/PROTERRA.

Sheet MAI
A3: MINISTÉRIO DA FAZENDA - MF
A4: SECRETARIA DO TESOURO NACIONAL - STN
A5: COORDENAÇÃO-GERAL DE ANÁLISE, INFORMAÇÕES EXECUÇÃO DAS TRANSFERÊNCIAS FINANCEIRAS INTERGOVERNAMENTAIS - COINT
A8: DEMONSTRATIVO DAS TRANSFERÊNCIAS DAS RECEITAS FEDERAIS AOS ESTADOS, DF E MUNICÍPIOS
A9: E AOS FUNDOS CONSTITUCIONAIS DO NORTE, NORDESTE E CENTRO-OESTE
A10: 45778
G11: R$ Mil
A12: RECEITAS | B12: DEMONSTRATIVO DA BASE DE CÁLCULO
B13: ARRECADAÇÃO | C13: DEDUÇÃO | D13: DEDUÇÃO | E13: INCENTIVOS | F13: RESTITUIÇÃO | G13: ARRECADAÇÃO
B14: BRUTA | C14: PIN | D14: PROTERRA | E14: FISCAIS | G14: LÍQUIDA
B15: (A) | C15: (B) | D15: (C) | E15: (D) | F15: (E) | G15: (F = A-B-C-D-E)
A17: Imposto de Renda de Pessoa Física | B17: 4660987 | C17: 0 | D17: 0 | E17: 0 | F17: 38804.22 | G17: =B17-C17-D17-E17-F17 -> 4622182.8
A18: Imposto de Renda de Pessoa Jurídica | B18: 40634298 | C18: 0 | D18: 0 | E18: 0 | F18: 3921572.4 | G18: =B18-C18-D18-E18-F18 -> 36712725
A19: Imposto de Renda Retido na Fonte | B19: 41800675 | C19: 0 | D19: 0 | E19: 0 | F19: 374614.71 | G19: =B19-C19-D19-E19-F19 -> 41426061
A20: Multas e Juros (I.R.) | B20: 1048193.7 | C20: 0 | D20: 0 | E20: 0 | F20: 50.85256 | G20: =B20-C20-D20-E20-F20 -> 1048142.9
A21: SUBTOTAL | B21: =SUM(B17:B20) -> 88144154 | C21: =SUM(C17:C20) -> 0 | D21: =SUM(D17:D20) -> 0 | E21: =SUM(E17:E20) -> 0 | F21: =SUM(F17:F20) -> 4335042.2 | G21: =SUM(G17:G20) -> 83809111
A22: Imposto sobre Produtos Industrializados | B22: 7017181.3 | C22: 0 | D22: 0 | E22: 0 | F22: 283322.48 | G22: =B22-C22-D22-E22-F22 -> 6733858.9
A23: Multas e Juros (IPI) | B23: 95890.193 | C23: 0 | D23: 0 | E23: 0 | F23: 1.29335 | G23: =B23-C23-D23-E23-F23 -> 95888.899
A24: SUBTOTAL | B24: =SUM(B22:B23) -> 7113071.5 | C24: =SUM(C22:C23) -> 0 | D24: =SUM(D22:D23) -> 0 | E24: =SUM(E22:E23) -> 0 | F24: =SUM(F22:F23) -> 283323.77 | G24: =SUM(G22:G23) -> 6829747.8
A26: TOTAL | B26: =SUM(B24,B21) -> 95257225 | C26: =SUM(C24,C21) -> 0 | D26: =SUM(D24,D21) -> 0 | E26: =SUM(E24,E21) -> 0 | F26: =SUM(F24,F21) -> 4618366 | G26: =SUM(G24,G21) -> 90638859
G28: R$ Mil
A29: RECEITAS | B29: DEMONSTRATIVO DA BASE DE CÁLCULO
B30: MUNICÍPIOS | C30: ESTADOS | E30: REGIÕES
B31: FPM | C31: FPE | D31: IPI-EXP | E31: FNE | F31: FNO | G31: FCO
B32: (22,5% x (F)) | C32: (21,5% x (F)) | D32: (10% x (F)) | E32: (1,8% x (F)) | F32: (0,6% x (F)) | G32: (0,6% x (F))
A34: Imposto de Renda de Pessoa Física | B34: =22.5%*$G17 -> 1039991.1 | C34: =21.5%*$G17 -> 993769.29 | E34: =1.8%*$G17 -> 83199.29 | F34: =0.6%*$G17 -> 27733.097 | G34: =0.6%*$G17 -> 27733.097
A35: Imposto de Renda de Pessoa Jurídica | B35: =22.5%*$G18 -> 8260363.2 | C35: =21.5%*$G18 -> 7893235.9 | E35: =1.8%*$G18 -> 660829.05 | F35: =0.6%*$G18 -> 220276.35 | G35: =0.6%*$G18 -> 220276.35
A36: Imposto de Renda Retido na Fonte | B36: =22.5%*$G19 -> 9320863.7 | C36: =21.5%*$G19 -> 8906603 | E36: =1.8%*$G19 -> 745669.09 | F36: =0.6%*$G19 -> 248556.36 | G36: =0.6%*$G19 -> 248556.36
A37: Multas e Juros (I.R.) | B37: =22.5%*$G20 -> 235832.15 | C37: =21.5%*($G20) -> 225350.72 | E37: =1.8%*($G20) -> 18866.572 | F37: =0.6%*($G20) -> 6288.8573 | G37: =0.6%*($G20) -> 6288.8573
A38: SUBTOTAL | B38: =SUM(B34:B37) -> 18857050 | C38: =SUM(C34:C37) -> 18018959 | E38: =SUM(E34:E37) -> 1508564 | F38: =SUM(F34:F37) -> 502854.67 | G38: =SUM(G34:G37) -> 502854.67
A39: Imposto sobre Produtos Industrializados | B39: =22.5%*$G22 -> 1515118.2 | C39: =21.5%*$G22 -> 1447779.7 | D39: =10%*$G22 -> 673385.89 | E39: =1.8%*$G22 -> 121209.46 | F39: =0.6%*$G22 -> 40403.153 | G39: =0.6%*$G22 -> 40403.153
A40: Multas e Juros (IPI) | B40: =22.5%*$G23 -> 21575.002 | C40: =21.5%*$G23 -> 20616.113 | D40: =10%*$G23 -> 9588.8899 | E40: =1.8%*$G23 -> 1726.0002 | F40: =0.6%*$G23 -> 575.3334 | G40: =0.6%*$G23 -> 575.3334
A41: SUBTOTAL | B41: =22.5%*$G24 -> 1536693.2 | C41: =SUM(C39:C40) -> 1468395.8 | D41: =SUM(D39:D40) -> 682974.78 | E41: =SUM(E39:E40) -> 122935.46 | F41: =SUM(F39:F40) -> 40978.487 | G41: =SUM(G39:G40) -> 40978.487
A43: Retenção para transferência ao Fundeb (20%) | B43: =(B38+B41)*0.2 -> 4078748.7 | C43: =(C38+C41)*0.2 -> 3897470.9 | D43: =(D38+D41)*0.2 -> 136594.96
A45: TOTAL | B45: =B38+B41-B43 -> 16314995 | C45: =C38+C41-C43 -> 15589884 | D45: =D38+D41-D43 -> 546379.82 | E45: =E38+E41-E43 -> 1631499.5 | F45: =F38+F41-F43 -> 543833.16 | G45: =G38+G41-G43 -> 543833.16
A46: Observações:
A47: Receita classificada referente ao período de 21/04/2025 a 20/05/2025
A48: Na arrecadação bruta do IRPJ estão incluídos os incentivos fiscais e o PIN/PROTERRA.

Sheet JUN
A3: MINISTÉRIO DA FAZENDA - MF
A4: SECRETARIA DO TESOURO NACIONAL - STN
A5: COORDENAÇÃO-GERAL DE ANÁLISE, INFORMAÇÕES EXECUÇÃO DAS TRANSFERÊNCIAS FINANCEIRAS INTERGOVERNAMENTAIS - COINT
A8: DEMONSTRATIVO DAS TRANSFERÊNCIAS DAS RECEITAS FEDERAIS AOS ESTADOS, DF E MUNICÍPIOS
A9: E AOS FUNDOS CONSTITUCIONAIS DO NORTE, NORDESTE E CENTRO-OESTE
A10: 45809
G11: R$ Mil
A12: RECEITAS | B12: DEMONSTRATIVO DA BASE DE CÁLCULO
B13: ARRECADAÇÃO | C13: DEDUÇÃO | D13: DEDUÇÃO | E13: INCENTIVOS | F13: RESTITUIÇÃO | G13: ARRECADAÇÃO
B14: BRUTA | C14: PIN | D14: PROTERRA | E14: FISCAIS | G14: LÍQUIDA
B15: (A) | C15: (B) | D15: (C) | E15: (D) | F15: (E) | G15: (F = A-B-C-D-E)
A17: Imposto de Renda de Pessoa Física | B17: 24134380 | C17: 0 | D17: 0 | E17: 0 | F17: 64409.009 | G17: =B17-C17-D17-E17-F17 -> 24069971
A18: Imposto de Renda de Pessoa Jurídica | B18: 18286533 | C18: 0 | D18: 0 | E18: 0 | F18: 4396271.5 | G18: =B18-C18-D18-E18-F18 -> 13890262
A19: Imposto de Renda Retido na Fonte | B19: 56740673 | C19: 0 | D19: 0 | E19: 0 | F19: 11199758 | G19: =B19-C19-D19-E19-F19 -> 45540915
A20: Multas e Juros (I.R.) | B20: 1822716.1 | C20: 0 | D20: 0 | E20: 0 | F20: 425.72614 | G20: =B20-C20-D20-E20-F20 -> 1822290.3
A21: SUBTOTAL | B21: =SUM(B17:B20) -> 1.009843e+08 | C21: =SUM(C17:C20) -> 0 | D21: =SUM(D17:D20) -> 0 | E21: =SUM(E17:E20) -> 0 | F21: =SUM(F17:F20) -> 15660864 | G21: =SUM(G17:G20) -> 85323437
A22: Imposto sobre Produtos Industrializados | B22: 7708968.9 | C22: 0 | D22: 0 | E22: 0 | F22: 233134.72 | G22: =B22-C22-D22-E22-F22 -> 7475834.2
A23: Multas e Juros (IPI) | B23: 299290 | C23: 0 | D23: 0 | E23: 0 | F23: 1e-05 | G23: =B23-C23-D23-E23-F23 -> 299290
A24: SUBTOTAL | B24: =SUM(B22:B23) -> 8008258.9 | C24: =SUM(C22:C23) -> 0 | D24: =SUM(D22:D23) -> 0 | E24: =SUM(E22:E23) -> 0 | F24: =SUM(F22:F23) -> 233134.72 | G24: =SUM(G22:G23) -> 7775124.2
A26: TOTAL | B26: =SUM(B24,B21) -> 1.0899256e+08 | C26: =SUM(C24,C21) -> 0 | D26: =SUM(D24,D21) -> 0 | E26: =SUM(E24,E21) -> 0 | F26: =SUM(F24,F21) -> 15893999 | G26: =SUM(G24,G21) -> 93098562
G28: R$ Mil
A29: RECEITAS | B29: DEMONSTRATIVO DA BASE DE CÁLCULO
B30: MUNICÍPIOS | C30: ESTADOS | E30: REGIÕES
B31: FPM | C31: FPE | D31: IPI-EXP | E31: FNE | F31: FNO | G31: FCO
B32: (22,5% x (F)) | C32: (21,5% x (F)) | D32: (10% x (F)) | E32: (1,8% x (F)) | F32: (0,6% x (F)) | G32: (0,6% x (F))
A34: Imposto de Renda de Pessoa Física | B34: =22.5%*$G17 -> 5415743.5 | C34: =21.5%*$G17 -> 5175043.8 | E34: =1.8%*$G17 -> 433259.48 | F34: =0.6%*$G17 -> 144419.83 | G34: =0.6%*$G17 -> 144419.83
A35: Imposto de Renda de Pessoa Jurídica | B35: =22.5%*$G18 -> 3125308.9 | C35: =21.5%*$G18 -> 2986406.2 | E35: =1.8%*$G18 -> 250024.71 | F35: =0.6%*$G18 -> 83341.569 | G35: =0.6%*$G18 -> 83341.569
A36: Imposto de Renda Retido na Fonte | B36: =22.5%*$G19 -> 10246706 | C36: =21.5%*$G19 -> 9791296.6 | E36: =1.8%*$G19 -> 819736.46 | F36: =0.6%*$G19 -> 273245.49 | G36: =0.6%*$G19 -> 273245.49
A37: Multas e Juros (I.R.) | B37: =22.5%*$G20 -> 410015.32 | C37: =21.5%*($G20) -> 391792.42 | E37: =1.8%*($G20) -> 32801.226 | F37: =0.6%*($G20) -> 10933.742 | G37: =0.6%*($G20) -> 10933.742
A38: SUBTOTAL | B38: =SUM(B34:B37) -> 19197773 | C38: =SUM(C34:C37) -> 18344539 | E38: =SUM(E34:E37) -> 1535821.9 | F38: =SUM(F34:F37) -> 511940.62 | G38: =SUM(G34:G37) -> 511940.62
A39: Imposto sobre Produtos Industrializados | B39: =22.5%*$G22 -> 1682062.7 | C39: =21.5%*$G22 -> 1607304.3 | D39: =10%*$G22 -> 747583.42 | E39: =1.8%*$G22 -> 134565.01 | F39: =0.6%*$G22 -> 44855.005 | G39: =0.6%*$G22 -> 44855.005
A40: Multas e Juros (IPI) | B40: =22.5%*$G23 -> 67340.249 | C40: =21.5%*$G23 -> 64347.349 | D40: =10%*$G23 -> 29929 | E40: =1.8%*$G23 -> 5387.2199 | F40: =0.6%*$G23 -> 1795.74 | G40: =0.6%*$G23 -> 1795.74
A41: SUBTOTAL | B41: =22.5%*$G24 -> 1749402.9 | C41: =SUM(C39:C40) -> 1671651.7 | D41: =SUM(D39:D40) -> 777512.42 | E41: =SUM(E39:E40) -> 139952.23 | F41: =SUM(F39:F40) -> 46650.745 | G41: =SUM(G39:G40) -> 46650.745
A43: Retenção para transferência ao Fundeb (20%) | B43: =(B38+B41)*0.2 -> 4189435.3 | C43: =(C38+C41)*0.2 -> 4003238.2 | D43: =(D38+D41)*0.2 -> 155502.48
A45: TOTAL | B45: =B38+B41-B43 -> 16757741 | C45: =C38+C41-C43 -> 16012953 | D45: =D38+D41-D43 -> 622009.93 | E45: =E38+E41-E43 -> 1675774.1 | F45: =F38+F41-F43 -> 558591.37 | G45: =G38+G41-G43 -> 558591.37
A46: Observações:
A47: Receita classificada referente ao período de 21/05/2025 a 20/06/2025
A48: Na arrecadação bruta do IRPJ estão incluídos os incentivos fiscais e o PIN/PROTERRA.

Sheet JUL
A3: MINISTÉRIO DA FAZENDA - MF
A4: SECRETARIA DO TESOURO NACIONAL - STN
A5: COORDENAÇÃO-GERAL DE ANÁLISE, INFORMAÇÕES EXECUÇÃO DAS TRANSFERÊNCIAS FINANCEIRAS INTERGOVERNAMENTAIS - COINT
A8: DEMONSTRATIVO DAS TRANSFERÊNCIAS DAS RECEITAS FEDERAIS AOS ESTADOS, DF E MUNICÍPIOS
A9: E AOS FUNDOS CONSTITUCIONAIS DO NORTE, NORDESTE E CENTRO-OESTE
A10: 45839
G11: R$ Mil
A12: RECEITAS | B12: DEMONSTRATIVO DA BASE DE CÁLCULO
B13: ARRECADAÇÃO | C13: DEDUÇÃO | D13: DEDUÇÃO | E13: INCENTIVOS | F13: RESTITUIÇÃO | G13: ARRECADAÇÃO
B14: BRUTA | C14: PIN | D14: PROTERRA | E14: FISCAIS | G14: LÍQUIDA
B15: (A) | C15: (B) | D15: (C) | E15: (D) | F15: (E) | G15: (F = A-B-C-D-E)
A17: Imposto de Renda de Pessoa Física | G17: =B17-C17-D17-E17-F17 -> 0
A18: Imposto de Renda de Pessoa Jurídica | G18: =B18-C18-D18-E18-F18 -> 0
A19: Imposto de Renda Retido na Fonte | G19: =B19-C19-D19-E19-F19 -> 0
A20: Multas e Juros (I.R.) | G20: =B20-C20-D20-E20-F20 -> 0
A21: SUBTOTAL | B21: =SUM(B17:B20) -> 0 | C21: =SUM(C17:C20) -> 0 | D21: =SUM(D17:D20) -> 0 | E21: =SUM(E17:E20) -> 0 | F21: =SUM(F17:F20) -> 0 | G21: =SUM(G17:G20) -> 0
A22: Imposto sobre Produtos Industrializados | G22: =B22-C22-D22-E22-F22 -> 0
A23: Multas e Juros (IPI) | G23: =B23-C23-D23-E23-F23 -> 0
A24: SUBTOTAL | B24: =SUM(B22:B23) -> 0 | C24: =SUM(C22:C23) -> 0 | D24: =SUM(D22:D23) -> 0 | E24: =SUM(E22:E23) -> 0 | F24: =SUM(F22:F23) -> 0 | G24: =SUM(G22:G23) -> 0
A26: TOTAL | B26: =SUM(B24,B21) -> 0 | C26: =SUM(C24,C21) -> 0 | D26: =SUM(D24,D21) -> 0 | E26: =SUM(E24,E21) -> 0 | F26: =SUM(F24,F21) -> 0 | G26: =SUM(G24,G21) -> 0
G28: R$ Mil
A29: RECEITAS | B29: DEMONSTRATIVO DA BASE DE CÁLCULO
B30: MUNICÍPIOS | C30: ESTADOS | E30: REGIÕES
B31: FPM | C31: FPE | D31: IPI-EXP | E31: FNE | F31: FNO | G31: FCO
B32: (22,5% x (F)) | C32: (21,5% x (F)) | D32: (10% x (F)) | E32: (1,8% x (F)) | F32: (0,6% x (F)) | G32: (0,6% x (F))
A34: Imposto de Renda de Pessoa Física | B34: =22.5%*$G17 -> 0 | C34: =21.5%*$G17 -> 0 | E34: =1.8%*$G17 -> 0 | F34: =0.6%*$G17 -> 0 | G34: =0.6%*$G17 -> 0
A35: Imposto de Renda de Pessoa Jurídica | B35: =22.5%*$G18 -> 0 | C35: =21.5%*$G18 -> 0 | E35: =1.8%*$G18 -> 0 | F35: =0.6%*$G18 -> 0 | G35: =0.6%*$G18 -> 0
A36: Imposto de Renda Retido na Fonte | B36: =22.5%*$G19 -> 0 | C36: =21.5%*$G19 -> 0 | E36: =1.8%*$G19 -> 0 | F36: =0.6%*$G19 -> 0 | G36: =0.6%*$G19 -> 0
A37: Multas e Juros (I.R.) | B37: =22.5%*$G20 -> 0 | C37: =21.5%*($G20) -> 0 | E37: =1.8%*($G20) -> 0 | F37: =0.6%*($G20) -> 0 | G37: =0.6%*($G20) -> 0
A38: SUBTOTAL | B38: =SUM(B34:B37) -> 0 | C38: =SUM(C34:C37) -> 0 | E38: =SUM(E34:E37) -> 0 | F38: =SUM(F34:F37) -> 0 | G38: =SUM(G34:G37) -> 0
A39: Imposto sobre Produtos Industrializados | B39: =22.5%*$G22 -> 0 | C39: =21.5%*$G22 -> 0 | D39: =10%*$G22 -> 0 | E39: =1.8%*$G22 -> 0 | F39: =0.6%*$G22 -> 0 | G39: =0.6%*$G22 -> 0
A40: Multas e Juros (IPI) | B40: =22.5%*$G23 -> 0 | C40: =21.5%*$G23 -> 0 | D40: =10%*$G23 -> 0 | E40: =1.8%*$G23 -> 0 | F40: =0.6%*$G23 -> 0 | G40: =0.6%*$G23 -> 0
A41: SUBTOTAL | B41: =22.5%*$G24 -> 0 | C41: =SUM(C39:C40) -> 0 | D41: =SUM(D39:D40) -> 0 | E41: =SUM(E39:E40) -> 0 | F41: =SUM(F39:F40) -> 0 | G41: =SUM(G39:G40) -> 0
A43: Retenção para transferência ao Fundeb (20%) | B43: =(B38+B41)*0.2 -> 0 | C43: =(C38+C41)*0.2 -> 0 | D43: =(D38+D41)*0.2 -> 0
A45: TOTAL | B45: =B38+B41-B43 -> 0 | C45: =C38+C41-C43 -> 0 | D45: =D38+D41-D43 -> 0 | E45: =E38+E41-E43 -> 0 | F45: =F38+F41-F43 -> 0 | G45: =G38+G41-G43 -> 0
A46: Observações:
A47: Receita classificada referente ao período de 21/06/2025 a 20/07/2025
A48: Na arrecadação bruta do IRPJ estão incluídos os incentivos fiscais e o PIN/PROTERRA.
A53: EMENDA CONSTITUCIONAL 84/2014
A54: Arrecadação acumulada de julho/2024 a junho/2025.
...

Sheet AGO
A3: MINISTÉRIO DA FAZENDA - MF
A4: SECRETARIA DO TESOURO NACIONAL - STN
A5: COORDENAÇÃO-GERAL DE ANÁLISE, INFORMAÇÕES EXECUÇÃO DAS TRANSFERÊNCIAS FINANCEIRAS INTERGOVERNAMENTAIS - COINT
A8: DEMONSTRATIVO DAS TRANSFERÊNCIAS DAS RECEITAS FEDERAIS AOS ESTADOS, DF E MUNICÍPIOS
A9: E AOS FUNDOS CONSTITUCIONAIS DO NORTE, NORDESTE E CENTRO-OESTE
A10: 45870
G11: R$ Mil
A12: RECEITAS | B12: DEMONSTRATIVO DA BASE DE CÁLCULO
B13: ARRECADAÇÃO | C13: DEDUÇÃO | D13: DEDUÇÃO | E13: INCENTIVOS | F13: RESTITUIÇÃO | G13: ARRECADAÇÃO
B14: BRUTA | C14: PIN | D14: PROTERRA | E14: FISCAIS | G14: LÍQUIDA
B15: (A) | C15: (B) | D15: (C) | E15: (D) | F15: (E) | G15: (F = A-B-C-D-E)
A17: Imposto de Renda de Pessoa Física | G17: =B17-C17-D17-E17-F17 -> 0
A18: Imposto de Renda de Pessoa Jurídica | G18: =B18-C18-D18-E18-F18 -> 0
A19: Imposto de Renda Retido na Fonte | G19: =B19-C19-D19-E19-F19 -> 0
A20: Multas e Juros (I.R.) | G20: =B20-C20-D20-E20-F20 -> 0
A21: SUBTOTAL | B21: =SUM(B17:B20) -> 0 | C21: =SUM(C17:C20) -> 0 | D21: =SUM(D17:D20) -> 0 | E21: =SUM(E17:E20) -> 0 | F21: =SUM(F17:F20) -> 0 | G21: =SUM(G17:G20) -> 0
A22: Imposto sobre Produtos Industrializados | G22: =B22-C22-D22-E22-F22 -> 0
A23: Multas e Juros (IPI) | G23: =B23-C23-D23-E23-F23 -> 0
A24: SUBTOTAL | B24: =SUM(B22:B23) -> 0 | C24: =SUM(C22:C23) -> 0 | D24: =SUM(D22:D23) -> 0 | E24: =SUM(E22:E23) -> 0 | F24: =SUM(F22:F23) -> 0 | G24: =SUM(G22:G23) -> 0
A26: TOTAL | B26: =SUM(B24,B21) -> 0 | C26: =SUM(C24,C21) -> 0 | D26: =SUM(D24,D21) -> 0 | E26: =SUM(E24,E21) -> 0 | F26: =SUM(F24,F21) -> 0 | G26: =SUM(G24,G21) -> 0
G28: R$ Mil
A29: RECEITAS | B29: DEMONSTRATIVO DA BASE DE CÁLCULO
B30: MUNICÍPIOS | C30: ESTADOS | E30: REGIÕES
B31: FPM | C31: FPE | D31: IPI-EXP | E31: FNE | F31: FNO | G31: FCO
B32: (22,5% x (F)) | C32: (21,5% x (F)) | D32: (10% x (F)) | E32: (1,8% x (F)) | F32: (0,6% x (F)) | G32: (0,6% x (F))
A34: Imposto de Renda de Pessoa Física | B34: =22.5%*$G17 -> 0 | C34: =21.5%*$G17 -> 0 | E34: =1.8%*$G17 -> 0 | F34: =0.6%*$G17 -> 0 | G34: =0.6%*$G17 -> 0
A35: Imposto de Renda de Pessoa Jurídica | B35: =22.5%*$G18 -> 0 | C35: =21.5%*$G18 -> 0 | E35: =1.8%*$G18 -> 0 | F35: =0.6%*$G18 -> 0 | G35: =0.6%*$G18 -> 0
A36: Imposto de Renda Retido na Fonte | B36: =22.5%*$G19 -> 0 | C36: =21.5%*$G19 -> 0 | E36: =1.8%*$G19 -> 0 | F36: =0.6%*$G19 -> 0 | G36: =0.6%*$G19 -> 0
A37: Multas e Juros (I.R.) | B37: =22.5%*$G20 -> 0 | C37: =21.5%*($G20) -> 0 | E37: =1.8%*($G20) -> 0 | F37: =0.6%*($G20) -> 0 | G37: =0.6%*($G20) -> 0
A38: SUBTOTAL | B38: =SUM(B34:B37) -> 0 | C38: =SUM(C34:C37) -> 0 | E38: =SUM(E34:E37) -> 0 | F38: =SUM(F34:F37) -> 0 | G38: =SUM(G34:G37) -> 0
A39: Imposto sobre Produtos Industrializados | B39: =22.5%*$G22 -> 0 | C39: =21.5%*$G22 -> 0 | D39: =10%*$G22 -> 0 | E39: =1.8%*$G22 -> 0 | F39: =0.6%*$G22 -> 0 | G39: =0.6%*$G22 -> 0
A40: Multas e Juros (IPI) | B40: =22.5%*$G23 -> 0 | C40: =21.5%*$G23 -> 0 | D40: =10%*$G23 -> 0 | E40: =1.8%*$G23 -> 0 | F40: =0.6%*$G23 -> 0 | G40: =0.6%*$G23 -> 0
A41: SUBTOTAL | B41: =22.5%*$G24 -> 0 | C41: =SUM(C39:C40) -> 0 | D41: =SUM(D39:D40) -> 0 | E41: =SUM(E39:E40) -> 0 | F41: =SUM(F39:F40) -> 0 | G41: =SUM(G39:G40) -> 0
A43: Retenção para transferência ao Fundeb (20%) | B43: =(B38+B41)*0.2 -> 0 | C43: =(C38+C41)*0.2 -> 0 | D43: =(D38+D41)*0.2 -> 0
A45: TOTAL | B45: =B38+B41-B43 -> 0 | C45: =C38+C41-C43 -> 0 | D45: =D38+D41-D43 -> 0 | E45: =E38+E41-E43 -> 0 | F45: =F38+F41-F43 -> 0 | G45: =G38+G41-G43 -> 0
A46: Observações:
A47: Receita classificada referente ao período de 21/07/2025 a 20/08/2025
A48: Na arrecadação bruta do IRPJ estão incluídos os incentivos fiscais e o PIN/PROTERRA.

Sheet SET
A3: MINISTÉRIO DA FAZENDA - MF
A4: SECRETARIA DO TESOURO NACIONAL - STN
A5: COORDENAÇÃO-GERAL DE ANÁLISE, INFORMAÇÕES EXECUÇÃO DAS TRANSFERÊNCIAS FINANCEIRAS INTERGOVERNAMENTAIS - COINT
A8: DEMONSTRATIVO DAS TRANSFERÊNCIAS DAS RECEITAS FEDERAIS AOS ESTADOS, DF E MUNICÍPIOS
A9: E AOS FUNDOS CONSTITUCIONAIS DO NORTE, NORDESTE E CENTRO-OESTE
A10: 45901
G11: R$ Mil
A12: RECEITAS | B12: DEMONSTRATIVO DA BASE DE CÁLCULO
B13: ARRECADAÇÃO | C13: DEDUÇÃO | D13: DEDUÇÃO | E13: INCENTIVOS | F13: RESTITUIÇÃO | G13: ARRECADAÇÃO
B14: BRUTA | C14: PIN | D14: PROTERRA | E14: FISCAIS | G14: LÍQUIDA
B15: (A) | C15: (B) | D15: (C) | E15: (D) | F15: (E) | G15: (F = A-B-C-D-E)
A17: Imposto de Renda de Pessoa Física | G17: =B17-C17-D17-E17-F17 -> 0
A18: Imposto de Renda de Pessoa Jurídica | G18: =B18-C18-D18-E18-F18 -> 0
A19: Imposto de Renda Retido na Fonte | G19: =B19-C19-D19-E19-F19 -> 0
A20: Multas e Juros (I.R.) | G20: =B20-C20-D20-E20-F20 -> 0
A21: SUBTOTAL | B21: =SUM(B17:B20) -> 0 | C21: =SUM(C17:C20) -> 0 | D21: =SUM(D17:D20) -> 0 | E21: =SUM(E17:E20) -> 0 | F21: =SUM(F17:F20) -> 0 | G21: =SUM(G17:G20) -> 0
A22: Imposto sobre Produtos Industrializados | G22: =B22-C22-D22-E22-F22 -> 0
A23: Multas e Juros (IPI) | G23: =B23-C23-D23-E23-F23 -> 0
A24: SUBTOTAL | B24: =SUM(B22:B23) -> 0 | C24: =SUM(C22:C23) -> 0 | D24: =SUM(D22:D23) -> 0 | E24: =SUM(E22:E23) -> 0 | F24: =SUM(F22:F23) -> 0 | G24: =SUM(G22:G23) -> 0
A26: TOTAL | B26: =SUM(B24,B21) -> 0 | C26: =SUM(C24,C21) -> 0 | D26: =SUM(D24,D21) -> 0 | E26: =SUM(E24,E21) -> 0 | F26: =SUM(F24,F21) -> 0 | G26: =SUM(G24,G21) -> 0
G28: R$ Mil
A29: RECEITAS | B29: DEMONSTRATIVO DA BASE DE CÁLCULO
B30: MUNICÍPIOS | C30: ESTADOS | E30: REGIÕES
B31: FPM | C31: FPE | D31: IPI-EXP | E31: FNE | F31: FNO | G31: FCO
B32: (22,5% x (F)) | C32: (21,5% x (F)) | D32: (10% x (F)) | E32: (1,8% x (F)) | F32: (0,6% x (F)) | G32: (0,6% x (F))
A34: Imposto de Renda de Pessoa Física | B34: =22.5%*$G17 -> 0 | C34: =21.5%*$G17 -> 0 | E34: =1.8%*$G17 -> 0 | F34: =0.6%*$G17 -> 0 | G34: =0.6%*$G17 -> 0
A35: Imposto de Renda de Pessoa Jurídica | B35: =22.5%*$G18 -> 0 | C35: =21.5%*$G18 -> 0 | E35: =1.8%*$G18 -> 0 | F35: =0.6%*$G18 -> 0 | G35: =0.6%*$G18 -> 0
A36: Imposto de Renda Retido na Fonte | B36: =22.5%*$G19 -> 0 | C36: =21.5%*$G19 -> 0 | E36: =1.8%*$G19 -> 0 | F36: =0.6%*$G19 -> 0 | G36: =0.6%*$G19 -> 0
A37: Multas e Juros (I.R.) | B37: =22.5%*$G20 -> 0 | C37: =21.5%*($G20) -> 0 | E37: =1.8%*($G20) -> 0 | F37: =0.6%*($G20) -> 0 | G37: =0.6%*($G20) -> 0
A38: SUBTOTAL | B38: =SUM(B34:B37) -> 0 | C38: =SUM(C34:C37) -> 0 | E38: =SUM(E34:E37) -> 0 | F38: =SUM(F34:F37) -> 0 | G38: =SUM(G34:G37) -> 0
A39: Imposto sobre Produtos Industrializados | B39: =22.5%*$G22 -> 0 | C39: =21.5%*$G22 -> 0 | D39: =10%*$G22 -> 0 | E39: =1.8%*$G22 -> 0 | F39: =0.6%*$G22 -> 0 | G39: =0.6%*$G22 -> 0
A40: Multas e Juros (IPI) | B40: =22.5%*$G23 -> 0 | C40: =21.5%*$G23 -> 0 | D40: =10%*$G23 -> 0 | E40: =1.8%*$G23 -> 0 | F40: =0.6%*$G23 -> 0 | G40: =0.6%*$G23 -> 0
A41: SUBTOTAL | B41: =22.5%*$G24 -> 0 | C41: =SUM(C39:C40) -> 0 | D41: =SUM(D39:D40) -> 0 | E41: =SUM(E39:E40) -> 0 | F41: =SUM(F39:F40) -> 0 | G41: =SUM(G39:G40) -> 0
A43: Retenção para transferência ao Fundeb (20%) | B43: =(B38+B41)*0.2 -> 0 | C43: =(C38+C41)*0.2 -> 0 | D43: =(D38+D41)*0.2 -> 0
A45: TOTAL | B45: =B38+B41-B43 -> 0 | C45: =C38+C41-C43 -> 0 | D45: =D38+D41-D43 -> 0 | E45: =E38+E41-E43 -> 0 | F45: =F38+F41-F43 -> 0 | G45: =G38+G41-G43 -> 0
A46: Observações:
A47: Receita classificada referente ao período de 21/08/2025 a 20/09/2025
A48: Na arrecadação bruta do IRPJ estão incluídos os incentivos fiscais e o PIN/PROTERRA.
A53: EMENDA CONSTITUCIONAL 112/2021
A54: Arrecadação acumulada de setembro/2024 até dezembro/2024
...

Sheet OUT
A3: MINISTÉRIO DA FAZENDA - MF
A4: SECRETARIA DO TESOURO NACIONAL - STN
A5: COORDENAÇÃO-GERAL DE ANÁLISE, INFORMAÇÕES EXECUÇÃO DAS TRANSFERÊNCIAS FINANCEIRAS INTERGOVERNAMENTAIS - COINT
A8: DEMONSTRATIVO DAS TRANSFERÊNCIAS DAS RECEITAS FEDERAIS AOS ESTADOS, DF E MUNICÍPIOS
A9: E AOS FUNDOS CONSTITUCIONAIS DO NORTE, NORDESTE E CENTRO-OESTE
A10: 45931
G11: R$ Mil
A12: RECEITAS | B12: DEMONSTRATIVO DA BASE DE CÁLCULO
B13: ARRECADAÇÃO | C13: DEDUÇÃO | D13: DEDUÇÃO | E13: INCENTIVOS | F13: RESTITUIÇÃO | G13: ARRECADAÇÃO
B14: BRUTA | C14: PIN | D14: PROTERRA | E14: FISCAIS | G14: LÍQUIDA
B15: (A) | C15: (B) | D15: (C) | E15: (D) | F15: (E) | G15: (F = A-B-C-D-E)
A17: Imposto de Renda de Pessoa Física | G17: =B17-C17-D17-E17-F17 -> 0
A18: Imposto de Renda de Pessoa Jurídica | G18: =B18-C18-D18-E18-F18 -> 0
A19: Imposto de Renda Retido na Fonte | G19: =B19-C19-D19-E19-F19 -> 0
A20: Multas e Juros (I.R.) | G20: =B20-C20-D20-E20-F20 -> 0
A21: SUBTOTAL | B21: =SUM(B17:B20) -> 0 | C21: =SUM(C17:C20) -> 0 | D21: =SUM(D17:D20) -> 0 | E21: =SUM(E17:E20) -> 0 | F21: =SUM(F17:F20) -> 0 | G21: =SUM(G17:G20) -> 0
A22: Imposto sobre Produtos Industrializados | G22: =B22-C22-D22-E22-F22 -> 0
A23: Multas e Juros (IPI) | G23: =B23-C23-D23-E23-F23 -> 0
A24: SUBTOTAL | B24: =SUM(B22:B23) -> 0 | C24: =SUM(C22:C23) -> 0 | D24: =SUM(D22:D23) -> 0 | E24: =SUM(E22:E23) -> 0 | F24: =SUM(F22:F23) -> 0 | G24: =SUM(G22:G23) -> 0
A26: TOTAL | B26: =SUM(B24,B21) -> 0 | C26: =SUM(C24,C21) -> 0 | D26: =SUM(D24,D21) -> 0 | E26: =SUM(E24,E21) -> 0 | F26: =SUM(F24,F21) -> 0 | G26: =SUM(G24,G21) -> 0
G28: R$ Mil
A29: RECEITAS | B29: DEMONSTRATIVO DA BASE DE CÁLCULO
B30: MUNICÍPIOS | C30: ESTADOS | E30: REGIÕES
B31: FPM | C31: FPE | D31: IPI-EXP | E31: FNE | F31: FNO | G31: FCO
B32: (22,5% x (F)) | C32: (21,5% x (F)) | D32: (10% x (F)) | E32: (1,8% x (F)) | F32: (0,6% x (F)) | G32: (0,6% x (F))
A34: Imposto de Renda de Pessoa Física | B34: =22.5%*$G17 -> 0 | C34: =21.5%*$G17 -> 0 | E34: =1.8%*$G17 -> 0 | F34: =0.6%*$G17 -> 0 | G34: =0.6%*$G17 -> 0
A35: Imposto de Renda de Pessoa Jurídica | B35: =22.5%*$G18 -> 0 | C35: =21.5%*$G18 -> 0 | E35: =1.8%*$G18 -> 0 | F35: =0.6%*$G18 -> 0 | G35: =0.6%*$G18 -> 0
A36: Imposto de Renda Retido na Fonte | B36: =22.5%*$G19 -> 0 | C36: =21.5%*$G19 -> 0 | E36: =1.8%*$G19 -> 0 | F36: =0.6%*$G19 -> 0 | G36: =0.6%*$G19 -> 0
A37: Multas e Juros (I.R.) | B37: =22.5%*$G20 -> 0 | C37: =21.5%*($G20) -> 0 | E37: =1.8%*($G20) -> 0 | F37: =0.6%*($G20) -> 0 | G37: =0.6%*($G20) -> 0
A38: SUBTOTAL | B38: =SUM(B34:B37) -> 0 | C38: =SUM(C34:C37) -> 0 | E38: =SUM(E34:E37) -> 0 | F38: =SUM(F34:F37) -> 0 | G38: =SUM(G34:G37) -> 0
A39: Imposto sobre Produtos Industrializados | B39: =22.5%*$G22 -> 0 | C39: =21.5%*$G22 -> 0 | D39: =10%*$G22 -> 0 | E39: =1.8%*$G22 -> 0 | F39: =0.6%*$G22 -> 0 | G39: =0.6%*$G22 -> 0
A40: Multas e Juros (IPI) | B40: =22.5%*$G23 -> 0 | C40: =21.5%*$G23 -> 0 | D40: =10%*$G23 -> 0 | E40: =1.8%*$G23 -> 0 | F40: =0.6%*$G23 -> 0 | G40: =0.6%*$G23 -> 0
A41: SUBTOTAL | B41: =22.5%*$G24 -> 0 | C41: =SUM(C39:C40) -> 0 | D41: =SUM(D39:D40) -> 0 | E41: =SUM(E39:E40) -> 0 | F41: =SUM(F39:F40) -> 0 | G41: =SUM(G39:G40) -> 0
A43: Retenção para transferência ao Fundeb (20%) | B43: =(B38+B41)*0.2 -> 0 | C43: =(C38+C41)*0.2 -> 0 | D43: =(D38+D41)*0.2 -> 0
A45: TOTAL | B45: =B38+B41-B43 -> 0 | C45: =C38+C41-C43 -> 0 | D45: =D38+D41-D43 -> 0 | E45: =E38+E41-E43 -> 0 | F45: =F38+F41-F43 -> 0 | G45: =G38+G41-G43 -> 0
A46: Observações:
A47: Receita classificada referente ao período de 21/09/2025 a 20/10/2025
A48: Na arrecadação bruta do IRPJ estão incluídos os incentivos fiscais e o PIN/PROTERRA.

Sheet NOV
A3: MINISTÉRIO DA FAZENDA - MF
A4: SECRETARIA DO TESOURO NACIONAL - STN
A5: COORDENAÇÃO-GERAL DE ANÁLISE, INFORMAÇÕES EXECUÇÃO DAS TRANSFERÊNCIAS FINANCEIRAS INTERGOVERNAMENTAIS - COINT
A8: DEMONSTRATIVO DAS TRANSFERÊNCIAS DAS RECEITAS FEDERAIS AOS ESTADOS, DF E MUNICÍPIOS
A9: E AOS FUNDOS CONSTITUCIONAIS DO NORTE, NORDESTE E CENTRO-OESTE
A10: 45962
G11: R$ Mil
A12: RECEITAS | B12: DEMONSTRATIVO DA BASE DE CÁLCULO
B13: ARRECADAÇÃO | C13: DEDUÇÃO | D13: DEDUÇÃO | E13: INCENTIVOS | F13: RESTITUIÇÃO | G13: ARRECADAÇÃO
B14: BRUTA | C14: PIN | D14: PROTERRA | E14: FISCAIS | G14: LÍQUIDA
B15: (A) | C15: (B) | D15: (C) | E15: (D) | F15: (E) | G15: (F = A-B-C-D-E)
A17: Imposto de Renda de Pessoa Física | G17: =B17-C17-D17-E17-F17 -> 0
A18: Imposto de Renda de Pessoa Jurídica | G18: =B18-C18-D18-E18-F18 -> 0
A19: Imposto de Renda Retido na Fonte | G19: =B19-C19-D19-E19-F19 -> 0
A20: Multas e Juros (I.R.) | G20: =B20-C20-D20-E20-F20 -> 0
A21: SUBTOTAL | B21: =SUM(B17:B20) -> 0 | C21: =SUM(C17:C20) -> 0 | D21: =SUM(D17:D20) -> 0 | E21: =SUM(E17:E20) -> 0 | F21: =SUM(F17:F20) -> 0 | G21: =SUM(G17:G20) -> 0
A22: Imposto sobre Produtos Industrializados | G22: =B22-C22-D22-E22-F22 -> 0
A23: Multas e Juros (IPI) | G23: =B23-C23-D23-E23-F23 -> 0
A24: SUBTOTAL | B24: =SUM(B22:B23) -> 0 | C24: =SUM(C22:C23) -> 0 | D24: =SUM(D22:D23) -> 0 | E24: =SUM(E22:E23) -> 0 | F24: =SUM(F22:F23) -> 0 | G24: =SUM(G22:G23) -> 0
A26: TOTAL | B26: =SUM(B24,B21) -> 0 | C26: =SUM(C24,C21) -> 0 | D26: =SUM(D24,D21) -> 0 | E26: =SUM(E24,E21) -> 0 | F26: =SUM(F24,F21) -> 0 | G26: =SUM(G24,G21) -> 0
G28: R$ Mil
A29: RECEITAS | B29: DEMONSTRATIVO DA BASE DE CÁLCULO
B30: MUNICÍPIOS | C30: ESTADOS | E30: REGIÕES
B31: FPM | C31: FPE | D31: IPI-EXP | E31: FNE | F31: FNO | G31: FCO
B32: (22,5% x (F)) | C32: (21,5% x (F)) | D32: (10% x (F)) | E32: (1,8% x (F)) | F32: (0,6% x (F)) | G32: (0,6% x (F))
A34: Imposto de Renda de Pessoa Física | B34: =22.5%*$G17 -> 0 | C34: =21.5%*$G17 -> 0 | E34: =1.8%*$G17 -> 0 | F34: =0.6%*$G17 -> 0 | G34: =0.6%*$G17 -> 0
A35: Imposto de Renda de Pessoa Jurídica | B35: =22.5%*$G18 -> 0 | C35: =21.5%*$G18 -> 0 | E35: =1.8%*$G18 -> 0 | F35: =0.6%*$G18 -> 0 | G35: =0.6%*$G18 -> 0
A36: Imposto de Renda Retido na Fonte | B36: =22.5%*$G19 -> 0 | C36: =21.5%*$G19 -> 0 | E36: =1.8%*$G19 -> 0 | F36: =0.6%*$G19 -> 0 | G36: =0.6%*$G19 -> 0
A37: Multas e Juros (I.R.) | B37: =22.5%*$G20 -> 0 | C37: =21.5%*($G20) -> 0 | E37: =1.8%*($G20) -> 0 | F37: =0.6%*($G20) -> 0 | G37: =0.6%*($G20) -> 0
A38: SUBTOTAL | B38: =SUM(B34:B37) -> 0 | C38: =SUM(C34:C37) -> 0 | E38: =SUM(E34:E37) -> 0 | F38: =SUM(F34:F37) -> 0 | G38: =SUM(G34:G37) -> 0
A39: Imposto sobre Produtos Industrializados | B39: =22.5%*$G22 -> 0 | C39: =21.5%*$G22 -> 0 | D39: =10%*$G22 -> 0 | E39: =1.8%*$G22 -> 0 | F39: =0.6%*$G22 -> 0 | G39: =0.6%*$G22 -> 0
A40: Multas e Juros (IPI) | B40: =22.5%*$G23 -> 0 | C40: =21.5%*$G23 -> 0 | D40: =10%*$G23 -> 0 | E40: =1.8%*$G23 -> 0 | F40: =0.6%*$G23 -> 0 | G40: =0.6%*$G23 -> 0
A41: SUBTOTAL | B41: =22.5%*$G24 -> 0 | C41: =SUM(C39:C40) -> 0 | D41: =SUM(D39:D40) -> 0 | E41: =SUM(E39:E40) -> 0 | F41: =SUM(F39:F40) -> 0 | G41: =SUM(G39:G40) -> 0
A43: Retenção para transferência ao Fundeb (20%) | B43: =(B38+B41)*0.2 -> 0 | C43: =(C38+C41)*0.2 -> 0 | D43: =(D38+D41)*0.2 -> 0
A45: TOTAL | B45: =B38+B41-B43 -> 0 | C45: =C38+C41-C43 -> 0 | D45: =D38+D41-D43 -> 0 | E45: =E38+E41-E43 -> 0 | F45: =F38+F41-F43 -> 0 | G45: =G38+G41-G43 -> 0
A46: Observações:
A47: Receita classificada referente ao período de 21/10/2025 a 20/11/2025
A48: Na arrecadação bruta do IRPJ estão incluídos os incentivos fiscais e o PIN/PROTERRA.

Sheet DEZ
A3: MINISTÉRIO DA FAZENDA - MF
A4: SECRETARIA DO TESOURO NACIONAL - STN
A5: COORDENAÇÃO-GERAL DE ANÁLISE, INFORMAÇÕES EXECUÇÃO DAS TRANSFERÊNCIAS FINANCEIRAS INTERGOVERNAMENTAIS - COINT
A8: DEMONSTRATIVO DAS TRANSFERÊNCIAS DAS RECEITAS FEDERAIS AOS ESTADOS, DF E MUNICÍPIOS
A9: E AOS FUNDOS CONSTITUCIONAIS DO NORTE, NORDESTE E CENTRO-OESTE
A10: 45992
G11: R$ Mil
A12: RECEITAS | B12: DEMONSTRATIVO DA BASE DE CÁLCULO
B13: ARRECADAÇÃO | C13: DEDUÇÃO | D13: DEDUÇÃO | E13: INCENTIVOS | F13: RESTITUIÇÃO | G13: ARRECADAÇÃO
B14: BRUTA | C14: PIN | D14: PROTERRA | E14: FISCAIS | G14: LÍQUIDA
B15: (A) | C15: (B) | D15: (C) | E15: (D) | F15: (E) | G15: (F = A-B-C-D-E)
A17: Imposto de Renda de Pessoa Física | G17: =B17-C17-D17-E17-F17 -> 0
A18: Imposto de Renda de Pessoa Jurídica | G18: =B18-C18-D18-E18-F18 -> 0
A19: Imposto de Renda Retido na Fonte | G19: =B19-C19-D19-E19-F19 -> 0
A20: Multas e Juros (I.R.)* | G20: =B20-C20-D20-E20-F20 -> 0
A21: SUBTOTAL | B21: =SUM(B17:B20) -> 0 | C21: =SUM(C17:C20) -> 0 | D21: =SUM(D17:D20) -> 0 | E21: =SUM(E17:E20) -> 0 | F21: =SUM(F17:F20) -> 0 | G21: =SUM(G17:G20) -> 0
A22: Imposto sobre Produtos Industrializados | G22: =B22-C22-D22-E22-F22 -> 0
A23: Multas e Juros (IPI) | G23: =B23-C23-D23-E23-F23 -> 0
A24: SUBTOTAL | B24: =SUM(B22:B23) -> 0 | C24: =SUM(C22:C23) -> 0 | D24: =SUM(D22:D23) -> 0 | E24: =SUM(E22:E23) -> 0 | F24: =SUM(F22:F23) -> 0 | G24: =SUM(G22:G23) -> 0
A26: TOTAL | B26: =SUM(B24,B21) -> 0 | C26: =SUM(C24,C21) -> 0 | D26: =SUM(D24,D21) -> 0 | E26: =SUM(E24,E21) -> 0 | F26: =SUM(F24,F21) -> 0 | G26: =SUM(G24,G21) -> 0
G28: R$ Mil
A29: RECEITAS | B29: DEMONSTRATIVO DA BASE DE CÁLCULO
B30: MUNICÍPIOS | C30: ESTADOS | E30: REGIÕES
B31: FPM | C31: FPE | D31: IPI-EXP | E31: FNE | F31: FNO | G31: FCO
B32: (22,5% x (F)) | C32: (21,5% x (F)) | D32: (10% x (F)) | E32: (1,8% x (F)) | F32: (0,6% x (F)) | G32: (0,6% x (F))
A34: Imposto de Renda de Pessoa Física | B34: =22.5%*$G17 -> 0 | C34: =21.5%*$G17 -> 0 | E34: =1.8%*$G17 -> 0 | F34: =0.6%*$G17 -> 0 | G34: =0.6%*$G17 -> 0
A35: Imposto de Renda de Pessoa Jurídica | B35: =22.5%*$G18 -> 0 | C35: =21.5%*$G18 -> 0 | E35: =1.8%*$G18 -> 0 | F35: =0.6%*$G18 -> 0 | G35: =0.6%*$G18 -> 0
A36: Imposto de Renda Retido na Fonte | B36: =22.5%*$G19 -> 0 | C36: =21.5%*$G19 -> 0 | E36: =1.8%*$G19 -> 0 | F36: =0.6%*$G19 -> 0 | G36: =0.6%*$G19 -> 0
A37: Multas e Juros (I.R.) | B37: =22.5%*$G20 -> 0 | C37: =21.5%*($G20) -> 0 | E37: =1.8%*($G20) -> 0 | F37: =0.6%*($G20) -> 0 | G37: =0.6%*($G20) -> 0
A38: SUBTOTAL | B38: =SUM(B34:B37) -> 0 | C38: =SUM(C34:C37) -> 0 | E38: =SUM(E34:E37) -> 0 | F38: =SUM(F34:F37) -> 0 | G38: =SUM(G34:G37) -> 0
A39: Imposto sobre Produtos Industrializados | B39: =22.5%*$G22 -> 0 | C39: =21.5%*$G22 -> 0 | D39: =10%*$G22 -> 0 | E39: =1.8%*$G22 -> 0 | F39: =0.6%*$G22 -> 0 | G39: =0.6%*$G22 -> 0
A40: Multas e Juros (IPI) | B40: =22.5%*$G23 -> 0 | C40: =21.5%*$G23 -> 0 | D40: =10%*$G23 -> 0 | E40: =1.8%*$G23 -> 0 | F40: =0.6%*$G23 -> 0 | G40: =0.6%*$G23 -> 0
A41: SUBTOTAL | B41: =22.5%*$G24 -> 0 | C41: =SUM(C39:C40) -> 0 | D41: =SUM(D39:D40) -> 0 | E41: =SUM(E39:E40) -> 0 | F41: =SUM(F39:F40) -> 0 | G41: =SUM(G39:G40) -> 0
A43: Retenção para transferência ao Fundeb (20%) | B43: =(B38+B41)*0.2 -> 0 | C43: =(C38+C41)*0.2 -> 0 | D43: =(D38+D41)*0.2 -> 0
A45: TOTAL | B45: =B38+B41-B43 -> 0 | C45: =C38+C41-C43 -> 0 | D45: =D38+D41-D43 -> 0 | E45: =E38+E41-E43 -> 0 | F45: =F38+F41-F43 -> 0 | G45: =G38+G41-G43 -> 0
A46: Observações:
A47: Receita classificada referente ao período de 21/11/2025 a 20/12/2025
A48: Na arrecadação bruta do IRPJ estão incluídos os incentivos fiscais e o PIN/PROTERRA.
A53: EMENDA CONSTITUCIONAL 55/2007
A54: Arrecadação acumulada de dezembro/2024 até novembro/2025.
...

Sheet 2025 Acumulado
A3: MINISTÉRIO DA FAZENDA - MF
A4: SECRETARIA DO TESOURO NACIONAL - STN
A5: COORDENAÇÃO-GERAL DE ANÁLISE, INFORMAÇÕES EXECUÇÃO DAS TRANSFERÊNCIAS FINANCEIRAS INTERGOVERNAMENTAIS - COINT
A8: DEMONSTRATIVO DAS TRANSFERÊNCIAS DAS RECEITAS FEDERAIS AOS ESTADOS, DF E MUNICÍPIOS
A9: E AOS FUNDOS CONSTITUCIONAIS DO NORTE, NORDESTE E CENTRO-OESTE
A10: 2025
G11: R$ Mil
A12: RECEITAS | B12: DEMONSTRATIVO DA BASE DE CÁLCULO
B13: ARRECADAÇÃO | C13: DEDUÇÃO | D13: DEDUÇÃO | E13: INCENTIVOS | F13: RESTITUIÇÃO | G13: ARRECADAÇÃO
B14: BRUTA | C14: PIN | D14: PROTERRA | E14: FISCAIS | G14: LÍQUIDA
B15: (A) | C15: (B) | D15: (C) | E15: (D) | F15: (E) | G15: (F = A-B-C-D-E)
A17: Imposto de Renda de Pessoa Física | B17: =JAN!B17+FEV!B17+MAR!B17+ABR!B17+MAI!B17+JUN!B17+JUL!B17+AGO!B17+SET!B17+OUT!B17+NOV!B17+DEZ!B17 -> 39859498 | C17: =JAN!C17+FEV!C17+MAR!C17+ABR!C17+MAI!C17+JUN!C17+JUL!C17+AGO!C17+SET!C17+OUT!C17+NOV!C17+DEZ!C17 -> 0 | D17: =JAN!D17+FEV!D17+MAR!D17+ABR!D17+MAI!D17+JUN!D17+JUL!D17+AGO!D17+SET!D17+OUT!D17+NOV!D17+DEZ!D17 -> 0 | E17: =JAN!E17+FEV!E17+MAR!E17+ABR!E17+MAI!E17+JUN!E17+JUL!E17+AGO!E17+SET!E17+OUT!E17+NOV!E17+DEZ!E17 -> 0 | F17: =JAN!F17+FEV!F17+MAR!F17+ABR!F17+MAI!F17+JUN!F17+JUL!F17+AGO!F17+SET!F17+OUT!F17+NOV!F17+DEZ!F17 -> 256707.72 | G17: =JAN!G17+FEV!G17+MAR!G17+ABR!G17+MAI!G17+JUN!G17+JUL!G17+AGO!G17+SET!G17+OUT!G17+NOV!G17+DEZ!G17 -> 39602790
A18: Imposto de Renda de Pessoa Jurídica | B18: =JAN!B18+FEV!B18+MAR!B18+ABR!B18+MAI!B18+JUN!B18+JUL!B18+AGO!B18+SET!B18+OUT!B18+NOV!B18+DEZ!B18 -> 1.8671703e+08 | C18: =JAN!C18+FEV!C18+MAR!C18+ABR!C18+MAI!C18+JUN!C18+JUL!C18+AGO!C18+SET!C18+OUT!C18+NOV!C18+DEZ!C18 -> 0 | D18: =JAN!D18+FEV!D18+MAR!D18+ABR!D18+MAI!D18+JUN!D18+JUL!D18+AGO!D18+SET!D18+OUT!D18+NOV!D18+DEZ!D18 -> 0 | E18: =JAN!E18+FEV!E18+MAR!E18+ABR!E18+MAI!E18+JUN!E18+JUL!E18+AGO!E18+SET!E18+OUT!E18+NOV!E18+DEZ!E18 -> 1445.533 | F18: =JAN!F18+FEV!F18+MAR!F18+ABR!F18+MAI!F18+JUN!F18+JUL!F18+AGO!F18+SET!F18+OUT!F18+NOV!F18+DEZ!F18 -> 21656927 | G18: =JAN!G18+FEV!G18+MAR!G18+ABR!G18+MAI!G18+JUN!G18+JUL!G18+AGO!G18+SET!G18+OUT!G18+NOV!G18+DEZ!G18 -> 1.6505866e+08
A19: Imposto de Renda Retido na Fonte | B19: =JAN!B19+FEV!B19+MAR!B19+ABR!B19+MAI!B19+JUN!B19+JUL!B19+AGO!B19+SET!B19+OUT!B19+NOV!B19+DEZ!B19 -> 2.6988796e+08 | C19: =JAN!C19+FEV!C19+MAR!C19+ABR!C19+MAI!C19+JUN!C19+JUL!C19+AGO!C19+SET!C19+OUT!C19+NOV!C19+DEZ!C19 -> 0 | D19: =JAN!D19+FEV!D19+MAR!D19+ABR!D19+MAI!D19+JUN!D19+JUL!D19+AGO!D19+SET!D19+OUT!D19+NOV!D19+DEZ!D19 -> 0 | E19: =JAN!E19+FEV!E19+MAR!E19+ABR!E19+MAI!E19+JUN!E19+JUL!E19+AGO!E19+SET!E19+OUT!E19+NOV!E19+DEZ!E19 -> 0 | F19: =JAN!F19+FEV!F19+MAR!F19+ABR!F19+MAI!F19+JUN!F19+JUL!F19+AGO!F19+SET!F19+OUT!F19+NOV!F19+DEZ!F19 -> 13794444 | G19: =JAN!G19+FEV!G19+MAR!G19+ABR!G19+MAI!G19+JUN!G19+JUL!G19+AGO!G19+SET!G19+OUT!G19+NOV!G19+DEZ!G19 -> 2.5609352e+08
A20: Multas e Juros (I.R.) | B20: =JAN!B20+FEV!B20+MAR!B20+ABR!B20+MAI!B20+JUN!B20+JUL!B20+AGO!B20+SET!B20+OUT!B20+NOV!B20+DEZ!B20 -> 7231220.5 | C20: =JAN!C20+FEV!C20+MAR!C20+ABR!C20+MAI!C20+JUN!C20+JUL!C20+AGO!C20+SET!C20+OUT!C20+NOV!C20+DEZ!C20 -> 0 | D20: =JAN!D20+FEV!D20+MAR!D20+ABR!D20+MAI!D20+JUN!D20+JUL!D20+AGO!D20+SET!D20+OUT!D20+NOV!D20+DEZ!D20 -> 0 | E20: =JAN!E20+FEV!E20+MAR!E20+ABR!E20+MAI!E20+JUN!E20+JUL!E20+AGO!E20+SET!E20+OUT!E20+NOV!E20+DEZ!E20 -> 0 | F20: =JAN!F20+FEV!F20+MAR!F20+ABR!F20+MAI!F20+JUN!F20+JUL!F20+AGO!F20+SET!F20+OUT!F20+NOV!F20+DEZ!F20 -> 40596.564 | G20: =JAN!G20+FEV!G20+MAR!G20+ABR!G20+MAI!G20+JUN!G20+JUL!G20+AGO!G20+SET!G20+OUT!G20+NOV!G20+DEZ!G20 -> 7190623.9
A21: SUBTOTAL | B21: =SUM(B17:B20) -> 5.0369571e+08 | C21: =SUM(C17:C20) -> 0 | D21: =SUM(D17:D20) -> 0 | E21: =SUM(E17:E20) -> 1445.533 | F21: =SUM(F17:F20) -> 35748675 | G21: =JAN!G21+FEV!G21+MAR!G21+ABR!G21+MAI!G21+JUN!G21+JUL!G21+AGO!G21+SET!G21+OUT!G21+NOV!G21+DEZ!G21 -> 4.6794559e+08
A22: Imposto sobre Produtos Industrializados | B22: =JAN!B22+FEV!B22+MAR!B22+ABR!B22+MAI!B22+JUN!B22+JUL!B22+AGO!B22+SET!B22+OUT!B22+NOV!B22+DEZ!B22 -> 43396915 | C22: =JAN!C22+FEV!C22+MAR!C22+ABR!C22+MAI!C22+JUN!C22+JUL!C22+AGO!C22+SET!C22+OUT!C22+NOV!C22+DEZ!C22 -> 0 | D22: =JAN!D22+FEV!D22+MAR!D22+ABR!D22+MAI!D22+JUN!D22+JUL!D22+AGO!D22+SET!D22+OUT!D22+NOV!D22+DEZ!D22 -> 0 | E22: =JAN!E22+FEV!E22+MAR!E22+ABR!E22+MAI!E22+JUN!E22+JUL!E22+AGO!E22+SET!E22+OUT!E22+NOV!E22+DEZ!E22 -> 0 | F22: =JAN!F22+FEV!F22+MAR!F22+ABR!F22+MAI!F22+JUN!F22+JUL!F22+AGO!F22+SET!F22+OUT!F22+NOV!F22+DEZ!F22 -> 2121726.1 | G22: =JAN!G22+FEV!G22+MAR!G22+ABR!G22+MAI!G22+JUN!G22+JUL!G22+AGO!G22+SET!G22+OUT!G22+NOV!G22+DEZ!G22 -> 41275189
A23: Multas e Juros (IPI) | B23: =JAN!B23+FEV!B23+MAR!B23+ABR!B23+MAI!B23+JUN!B23+JUL!B23+AGO!B23+SET!B23+OUT!B23+NOV!B23+DEZ!B23 -> 797583.38 | C23: =JAN!C23+FEV!C23+MAR!C23+ABR!C23+MAI!C23+JUN!C23+JUL!C23+AGO!C23+SET!C23+OUT!C23+NOV!C23+DEZ!C23 -> 0 | D23: =JAN!D23+FEV!D23+MAR!D23+ABR!D23+MAI!D23+JUN!D23+JUL!D23+AGO!D23+SET!D23+OUT!D23+NOV!D23+DEZ!D23 -> 0 | E23: =JAN!E23+FEV!E23+MAR!E23+ABR!E23+MAI!E23+JUN!E23+JUL!E23+AGO!E23+SET!E23+OUT!E23+NOV!E23+DEZ!E23 -> 0 | F23: =JAN!F23+FEV!F23+MAR!F23+ABR!F23+MAI!F23+JUN!F23+JUL!F23+AGO!F23+SET!F23+OUT!F23+NOV!F23+DEZ!F23 -> 1219.1019 | G23: =JAN!G23+FEV!G23+MAR!G23+ABR!G23+MAI!G23+JUN!G23+JUL!G23+AGO!G23+SET!G23+OUT!G23+NOV!G23+DEZ!G23 -> 796364.28
A24: SUBTOTAL | B24: =SUM(B22:B23) -> 44194498 | C24: =JAN!C24+FEV!C24+MAR!C24+ABR!C24+MAI!C24+JUN!C24+JUL!C24+AGO!C24+SET!C24+OUT!C24+NOV!C24+DEZ!C24 -> 0 | D24: =JAN!D24+FEV!D24+MAR!D24+ABR!D24+MAI!D24+JUN!D24+JUL!D24+AGO!D24+SET!D24+OUT!D24+NOV!D24+DEZ!D24 -> 0 | E24: =JAN!E24+FEV!E24+MAR!E24+ABR!E24+MAI!E24+JUN!E24+JUL!E24+AGO!E24+SET!E24+OUT!E24+NOV!E24+DEZ!E24 -> 0 | F24: =JAN!F24+FEV!F24+MAR!F24+ABR!F24+MAI!F24+JUN!F24+JUL!F24+AGO!F24+SET!F24+OUT!F24+NOV!F24+DEZ!F24 -> 2122945.2 | G24: =JAN!G24+FEV!G24+MAR!G24+ABR!G24+MAI!G24+JUN!G24+JUL!G24+AGO!G24+SET!G24+OUT!G24+NOV!G24+DEZ!G24 -> 42071553
B25: =JAN!B25+FEV!B25+MAR!B25+ABR!B25+MAI!B25+JUN!B25+JUL!B25+AGO!B25+SET!B25+OUT!B25+NOV!B25+DEZ!B25 -> 0 | C25: =JAN!C25+FEV!C25+MAR!C25+ABR!C25+MAI!C25+JUN!C25+JUL!C25+AGO!C25+SET!C25+OUT!C25+NOV!C25+DEZ!C25 -> 0 | D25: =JAN!D25+FEV!D25+MAR!D25+ABR!D25+MAI!D25+JUN!D25+JUL!D25+AGO!D25+SET!D25+OUT!D25+NOV!D25+DEZ!D25 -> 0 | E25: =JAN!E25+FEV!E25+MAR!E25+ABR!E25+MAI!E25+JUN!E25+JUL!E25+AGO!E25+SET!E25+OUT!E25+NOV!E25+DEZ!E25 -> 0 | F25: =JAN!F25+FEV!F25+MAR!F25+ABR!F25+MAI!F25+JUN!F25+JUL!F25+AGO!F25+SET!F25+OUT!F25+NOV!F25+DEZ!F25 -> 0 | G25: =JAN!G25+FEV!G25+MAR!G25+ABR!G25+MAI!G25+JUN!G25+JUL!G25+AGO!G25+SET!G25+OUT!G25+NOV!G25+DEZ!G25 -> 0
A26: TOTAL | B26: =B24+B21 -> 5.4789021e+08 | C26: =C24+C21 -> 0 | D26: =D24+D21 -> 0 | E26: =E24+E21 -> 1445.533 | F26: =F24+F21 -> 37871620 | G26: =JAN!G26+FEV!G26+MAR!G26+ABR!G26+MAI!G26+JUN!G26+JUL!G26+AGO!G26+SET!G26+OUT!G26+NOV!G26+DEZ!G26 -> 5.1001714e+08
G28: R$ Mil
A29: RECEITAS | B29: DEMONSTRATIVO DA BASE DE CÁLCULO
B30: MUNICÍPIOS | C30: ESTADOS | E30: REGIÕES
B31: FPM | C31: FPE | D31: IPI-EXP | E31: FNE | F31: FNO | G31: FCO
B32: (22,5% x (F)) | C32: (21,5% x (F)) | D32: (10% x (F)) | E32: (1,8% x (F)) | F32: (0,6% x (F)) | G32: (0,6% x (F))
A34: Imposto de Renda de Pessoa Física | B34: =JAN!B34+FEV!B34+MAR!B34+ABR!B34+MAI!B34+JUN!B34+JUL!B34+AGO!B34+SET!B34+OUT!B34+NOV!B34+DEZ!B34 -> 8910627.7 | C34: =JAN!C34+FEV!C34+MAR!C34+ABR!C34+MAI!C34+JUN!C34+JUL!C34+AGO!C34+SET!C34+OUT!C34+NOV!C34+DEZ!C34 -> 8514599.8 | D34: =JAN!D34+FEV!D34+MAR!D34+ABR!D34+MAI!D34+JUN!D34+JUL!D34+AGO!D34+SET!D34+OUT!D34+NOV!D34+DEZ!D34 -> 0 | E34: =JAN!E34+FEV!E34+MAR!E34+ABR!E34+MAI!E34+JUN!E34+JUL!E34+AGO!E34+SET!E34+OUT!E34+NOV!E34+DEZ!E34 -> 712850.22 | F34: =JAN!F34+FEV!F34+MAR!F34+ABR!F34+MAI!F34+JUN!F34+JUL!F34+AGO!F34+SET!F34+OUT!F34+NOV!F34+DEZ!F34 -> 237616.74 | G34: =JAN!G34+FEV!G34+MAR!G34+ABR!G34+MAI!G34+JUN!G34+JUL!G34+AGO!G34+SET!G34+OUT!G34+NOV!G34+DEZ!G34 -> 237616.74
A35: Imposto de Renda de Pessoa Jurídica | B35: =JAN!B35+FEV!B35+MAR!B35+ABR!B35+MAI!B35+JUN!B35+JUL!B35+AGO!B35+SET!B35+OUT!B35+NOV!B35+DEZ!B35 -> 37138199 | C35: =JAN!C35+FEV!C35+MAR!C35+ABR!C35+MAI!C35+JUN!C35+JUL!C35+AGO!C35+SET!C35+OUT!C35+NOV!C35+DEZ!C35 -> 35487612 | D35: =JAN!D35+FEV!D35+MAR!D35+ABR!D35+MAI!D35+JUN!D35+JUL!D35+AGO!D35+SET!D35+OUT!D35+NOV!D35+DEZ!D35 -> 0 | E35: =JAN!E35+FEV!E35+MAR!E35+ABR!E35+MAI!E35+JUN!E35+JUL!E35+AGO!E35+SET!E35+OUT!E35+NOV!E35+DEZ!E35 -> 2971055.9 | F35: =JAN!F35+FEV!F35+MAR!F35+ABR!F35+MAI!F35+JUN!F35+JUL!F35+AGO!F35+SET!F35+OUT!F35+NOV!F35+DEZ!F35 -> 990351.96 | G35: =JAN!G35+FEV!G35+MAR!G35+ABR!G35+MAI!G35+JUN!G35+JUL!G35+AGO!G35+SET!G35+OUT!G35+NOV!G35+DEZ!G35 -> 990351.96
A36: Imposto de Renda Retido na Fonte | B36: =JAN!B36+FEV!B36+MAR!B36+ABR!B36+MAI!B36+JUN!B36+JUL!B36+AGO!B36+SET!B36+OUT!B36+NOV!B36+DEZ!B36 -> 57621041 | C36: =JAN!C36+FEV!C36+MAR!C36+ABR!C36+MAI!C36+JUN!C36+JUL!C36+AGO!C36+SET!C36+OUT!C36+NOV!C36+DEZ!C36 -> 55060106 | D36: =JAN!D36+FEV!D36+MAR!D36+ABR!D36+MAI!D36+JUN!D36+JUL!D36+AGO!D36+SET!D36+OUT!D36+NOV!D36+DEZ!D36 -> 0 | E36: =JAN!E36+FEV!E36+MAR!E36+ABR!E36+MAI!E36+JUN!E36+JUL!E36+AGO!E36+SET!E36+OUT!E36+NOV!E36+DEZ!E36 -> 4609683.3 | F36: =JAN!F36+FEV!F36+MAR!F36+ABR!F36+MAI!F36+JUN!F36+JUL!F36+AGO!F36+SET!F36+OUT!F36+NOV!F36+DEZ!F36 -> 1536561.1 | G36: =JAN!G36+FEV!G36+MAR!G36+ABR!G36+MAI!G36+JUN!G36+JUL!G36+AGO!G36+SET!G36+OUT!G36+NOV!G36+DEZ!G36 -> 1536561.1
A37: Multas e Juros (I.R.) | B37: =JAN!B37+FEV!B37+MAR!B37+ABR!B37+MAI!B37+JUN!B37+JUL!B37+AGO!B37+SET!B37+OUT!B37+NOV!B37+DEZ!B37 -> 1617890.4 | C37: =JAN!C37+FEV!C37+MAR!C37+ABR!C37+MAI!C37+JUN!C37+JUL!C37+AGO!C37+SET!C37+OUT!C37+NOV!C37+DEZ!C37 -> 1545984.1 | D37: =JAN!D37+FEV!D37+MAR!D37+ABR!D37+MAI!D37+JUN!D37+JUL!D37+AGO!D37+SET!D37+OUT!D37+NOV!D37+DEZ!D37 -> 0 | E37: =JAN!E37+FEV!E37+MAR!E37+ABR!E37+MAI!E37+JUN!E37+JUL!E37+AGO!E37+SET!E37+OUT!E37+NOV!E37+DEZ!E37 -> 129431.23 | F37: =JAN!F37+FEV!F37+MAR!F37+ABR!F37+MAI!F37+JUN!F37+JUL!F37+AGO!F37+SET!F37+OUT!F37+NOV!F37+DEZ!F37 -> 43143.743 | G37: =JAN!G37+FEV!G37+MAR!G37+ABR!G37+MAI!G37+JUN!G37+JUL!G37+AGO!G37+SET!G37+OUT!G37+NOV!G37+DEZ!G37 -> 43143.743
